{"text_format":"1","workbook":"xlsx","n_sheets":33,"sheets":["00_0_LogIn","00_1_Model Progress","00_2_Master Data Field List","00_3_Drop Down","00_4_Reference Tables","00_5_LIHTC Data","00_6_Instruction","00_7_Instruction_RIH","SD_Dropdowns","Mapping","01_1_General Data","02_1_INCOME","02_2_EXPENSE","02_3_SOURCES","02_4_USES","02_5_LIHTC Proceeds","02_6_AVERAGE INCOME TEST","03_1_Construction Cost","03_2_Construction Cashflow","03_3_Amortizations","03_4_NH-Assisted Living Data","04_1_Pro Forma","04_2_Pre-Stabilization","04_3_Reserves","06_1_Summary Printout","06_2_Credit Committee","06_3_UWChecklist","06_4_Scoring","06_5_Subsidy Layer","06_6_S&U","06_7_SLR","06 _8_Operating Subsidy","07_1_HOME_Standard"],"not_rendered":{"charts":2,"images":2,"macros":1,"external_links":0,"defined_names":3520,"comments":9,"pivot_tables":0},"unopened":[],"bounds":{"document_bytes":16777216,"sheet_cells":100000,"rows_first":2000,"rows_last":500,"rows_between":2000,"halvings":0,"cell_chars":16384,"cell_head_chars":4096},"cells_cut":0,"cells_raw":0,"read":"whole","date_system":"1900"}

{"sheet":"00_0_LogIn","index":0,"n_rows":13,"n_cols":6,"rows_kept":13,"cut":false,"hidden":false,"merged":[[8,7,8,11],[12,7,12,8]]}
[]
[]
[]
[]
[]
[]
[]
[]
[]
["RHODE ISLAND HOUSING"]
["UNDERWRITING MODEL"]
[]
["Sign-in page",null,null,null,null,"Password:"]

{"sheet":"00_1_Model Progress","index":1,"n_rows":39,"n_cols":7,"rows_kept":39,"cut":false,"hidden":true,"merged":[]}
[]
[null,"Rhode Island Housing Underwriting Model"]
[]
[null,{"$f":"\"Project: \"&'01_1_General Data'!C11","v":"Project: "}]
[null,{"$f":"\"City: \"&'01_1_General Data'!C13","v":"City: "}]
[]
[null,"Stage of Progress (Describe Stage, e.g. Initial Submittal to Committee, etc.)","Person Responsible","Date of Progress /\nLast Edit"]
[null,"",""]
[null,"",""]
[null,"",""]
[null,"",""]
[null,"",""]
[null,"",""]
[null,"",""]
[null,"",""]
[null,"",""]
[null,"",""]
[null,"",""]
[null,"",""]
[null,"",""]
[null,"",""]
[null,"",""]
[null,"","",null,null,null,"Nov 2016 Changes"]
[null,null,"",null,null,null,"Page 3 - deleted preservation as option "]
[null,"","",null,null,null,"Page 4 -Corrected cell D30"]
[null,"","",null,null,null,"Page 7 -Updated rent tables"]
[null,"","",null,null,null,"Page 14 - Expanded Operating Categories to match HUD chart of accounts"]
[null,"","",null,null,null,"Page 14A - Added comparable OPEX for new deals with no operating history "]
[null,"","",null,null,null,"Page 16 - cashflow extends to 42 yrs"]
[null,"","",null,null,null,"Page 19 - Calculates operating deficits prior to stabilization if filled out"]
[null,"","",null,null,null,"Page 20 - Simplified inputs"]
[null,"","",null,null,null,"Page 23 - Revised construction cash flow to more accurately calculate interest draws"]
[null,"Latest",null,{"$f":"SUBTOTAL(104,tbl00ModelProgress[Date of Progress /\nLast Edit])","v":"00:00:00"},null,null,"Page 25 - Extended amortization tables to 40 years"]
[]
[null,null,null,null,null,null,"Additional sheets for RIH internal Review"]
[null,null,null,null,null,null,"CC Summary for credit committee & Sources-Uses for RFAs"]
[null,null,null,null,null,null,"HOME - Per unit and Square Ft calculations"]
[null,null,null,null,null,null,"HOME - Maximum subsidy amounts"]
[null,null,null,null,null,null,"Subsidy layering "]

{"sheet":"00_2_Master Data Field List","index":2,"n_rows":187,"n_cols":7,"rows_kept":187,"cut":false,"hidden":true,"merged":[[3,2,3,4],[4,2,4,4],[5,2,5,4]]}
["Master Data Field List"]
[{"$f":"IF(rng01_ProjectName=\"\",\"[Project Name]\", rng01_ProjectName)","v":"[Project Name]"}]
[]
[null,"File Name"]
[null,"Location"]
[null,"Description"]
[]
[null,"Data Field Main Category","Data Field Description","Data Field Value","Data Field Name Range/Reference"]
[null,"Current File Information","File Description",{"$f":"rng00_SaveFileDescription","v":0},{"$f":"RIGHT(_xlfn.FORMULATEXT(tblMasterDataFieldList[[#This Row],[Data Field Value]]), LEN(_xlfn.FORMULATEXT(tblMasterDataFieldList[[#This Row],[Data Field Value]]))-1)","v":"rng00_SaveFileDescription"}]
[null,"Project Information","Project Name",{"$f":"rng01_ProjectName","v":0},{"$f":"RIGHT(_xlfn.FORMULATEXT(tblMasterDataFieldList[[#This Row],[Data Field Value]]), LEN(_xlfn.FORMULATEXT(tblMasterDataFieldList[[#This Row],[Data Field Value]]))-1)","v":"rng01_ProjectName"}]
[null,"Project Information","Project ID",101]
[null,"Project Information","Street Address 1",{"$f":"rng01_Address1","v":0},{"$f":"RIGHT(_xlfn.FORMULATEXT(tblMasterDataFieldList[[#This Row],[Data Field Value]]), LEN(_xlfn.FORMULATEXT(tblMasterDataFieldList[[#This Row],[Data Field Value]]))-1)","v":"rng01_Address1"}]
[null,"Project Information","City 1",{"$f":"rng01_City1","v":0},{"$f":"RIGHT(_xlfn.FORMULATEXT(tblMasterDataFieldList[[#This Row],[Data Field Value]]), LEN(_xlfn.FORMULATEXT(tblMasterDataFieldList[[#This Row],[Data Field Value]]))-1)","v":"rng01_City1"}]
[null,"Project Information","Zip Code",{"$f":"rng01_Zip1","v":0},{"$f":"RIGHT(_xlfn.FORMULATEXT(tblMasterDataFieldList[[#This Row],[Data Field Value]]), LEN(_xlfn.FORMULATEXT(tblMasterDataFieldList[[#This Row],[Data Field Value]]))-1)","v":"rng01_Zip1"}]
[null,"Project Information","Property Type",{"$f":"rng01_PropertyType","v":0},{"$f":"RIGHT(_xlfn.FORMULATEXT(tblMasterDataFieldList[[#This Row],[Data Field Value]]), LEN(_xlfn.FORMULATEXT(tblMasterDataFieldList[[#This Row],[Data Field Value]]))-1)","v":"rng01_PropertyType"}]
[null,"Project Information","Program Type",{"$f":"rng01_ProgramType","v":0},{"$f":"RIGHT(_xlfn.FORMULATEXT(tblMasterDataFieldList[[#This Row],[Data Field Value]]), LEN(_xlfn.FORMULATEXT(tblMasterDataFieldList[[#This Row],[Data Field Value]]))-1)","v":"rng01_ProgramType"}]
[null,"Project Information","Set Aside",{"$f":"rng01_SetAside","v":0},{"$f":"RIGHT(_xlfn.FORMULATEXT(tblMasterDataFieldList[[#This Row],[Data Field Value]]), LEN(_xlfn.FORMULATEXT(tblMasterDataFieldList[[#This Row],[Data Field Value]]))-1)","v":"rng01_SetAside"}]
[null,"Project Information","Development Type",{"$f":"rng01_DevelopmentType","v":0},{"$f":"RIGHT(_xlfn.FORMULATEXT(tblMasterDataFieldList[[#This Row],[Data Field Value]]), LEN(_xlfn.FORMULATEXT(tblMasterDataFieldList[[#This Row],[Data Field Value]]))-1)","v":"rng01_DevelopmentType"}]
[null,"Project Information","Tenancy Type",{"$f":"rng01_TenancyType","v":0},{"$f":"RIGHT(_xlfn.FORMULATEXT(tblMasterDataFieldList[[#This Row],[Data Field Value]]), LEN(_xlfn.FORMULATEXT(tblMasterDataFieldList[[#This Row],[Data Field Value]]))-1)","v":"rng01_TenancyType"}]
[null,"Project Information","Credit Type",{"$f":"rng01_CreditType","v":0},{"$f":"RIGHT(_xlfn.FORMULATEXT(tblMasterDataFieldList[[#This Row],[Data Field Value]]), LEN(_xlfn.FORMULATEXT(tblMasterDataFieldList[[#This Row],[Data Field Value]]))-1)","v":"rng01_CreditType"}]
[null,"Project Information","Construction Loan",{"$f":"rng01_ConstructionLoan","v":0},{"$f":"RIGHT(_xlfn.FORMULATEXT(tblMasterDataFieldList[[#This Row],[Data Field Value]]), LEN(_xlfn.FORMULATEXT(tblMasterDataFieldList[[#This Row],[Data Field Value]]))-1)","v":"rng01_ConstructionLoan"}]
[null,"Project Information","Construction Loan Interest",{"$f":"rng01_ConstructionLoanInterest","v":0},{"$f":"RIGHT(_xlfn.FORMULATEXT(tblMasterDataFieldList[[#This Row],[Data Field Value]]), LEN(_xlfn.FORMULATEXT(tblMasterDataFieldList[[#This Row],[Data Field Value]]))-1)","v":"rng01_ConstructionLoanInterest"}]
[null,"Project Information","Project Type",{"$f":"rng01_ProjectType","v":0},{"$f":"RIGHT(_xlfn.FORMULATEXT(tblMasterDataFieldList[[#This Row],[Data Field Value]]), LEN(_xlfn.FORMULATEXT(tblMasterDataFieldList[[#This Row],[Data Field Value]]))-1)","v":"rng01_ProjectType"}]
[null,"Project Information","Construction Type",{"$f":"rng01_ConstructionType","v":0},{"$f":"RIGHT(_xlfn.FORMULATEXT(tblMasterDataFieldList[[#This Row],[Data Field Value]]), LEN(_xlfn.FORMULATEXT(tblMasterDataFieldList[[#This Row],[Data Field Value]]))-1)","v":"rng01_ConstructionType"}]
[null,"Project Information","Financing Type",{"$f":"rng01_FinancingType","v":0},{"$f":"RIGHT(_xlfn.FORMULATEXT(tblMasterDataFieldList[[#This Row],[Data Field Value]]), LEN(_xlfn.FORMULATEXT(tblMasterDataFieldList[[#This Row],[Data Field Value]]))-1)","v":"rng01_FinancingType"}]
[null,"Income","Number of Units",{"$f":"rng02_TotalUnit","v":0},{"$f":"RIGHT(_xlfn.FORMULATEXT(tblMasterDataFieldList[[#This Row],[Data Field Value]]), LEN(_xlfn.FORMULATEXT(tblMasterDataFieldList[[#This Row],[Data Field Value]]))-1)","v":"rng02_TotalUnit"}]
[null,"Income","Number of LIHTC Units",{"$f":"rng02_TotalUnits_LIHTC","v":0},{"$f":"RIGHT(_xlfn.FORMULATEXT(tblMasterDataFieldList[[#This Row],[Data Field Value]]), LEN(_xlfn.FORMULATEXT(tblMasterDataFieldList[[#This Row],[Data Field Value]]))-1)","v":"rng02_TotalUnits_LIHTC"}]
[null,"Income","Number of Market Rate Units",{"$f":"rng02_TotalUnits_Market","v":0},{"$f":"RIGHT(_xlfn.FORMULATEXT(tblMasterDataFieldList[[#This Row],[Data Field Value]]), LEN(_xlfn.FORMULATEXT(tblMasterDataFieldList[[#This Row],[Data Field Value]]))-1)","v":"rng02_TotalUnits_Market"}]
[null,"Expense","Operating Expense Per Unit Underwritten",{"$f":"'02_2_EXPENSE'!$E$91","v":0},{"$f":"RIGHT(_xlfn.FORMULATEXT(tblMasterDataFieldList[[#This Row],[Data Field Value]]), LEN(_xlfn.FORMULATEXT(tblMasterDataFieldList[[#This Row],[Data Field Value]]))-1)","v":"'02_2_EXPENSE'!$E$91"}]
[null,"Sources","First Mortgage Amount",{"$f":"'02_3_SOURCES'!$K$9","v":0},{"$f":"RIGHT(_xlfn.FORMULATEXT(tblMasterDataFieldList[[#This Row],[Data Field Value]]), LEN(_xlfn.FORMULATEXT(tblMasterDataFieldList[[#This Row],[Data Field Value]]))-1)","v":"'02_3_SOURCES'!$K$9"}]
[null,"Sources","First Mortgage Interest Rate",{"$f":"'02_3_SOURCES'!$D$9","v":0},{"$f":"RIGHT(_xlfn.FORMULATEXT(tblMasterDataFieldList[[#This Row],[Data Field Value]]), LEN(_xlfn.FORMULATEXT(tblMasterDataFieldList[[#This Row],[Data Field Value]]))-1)","v":"'02_3_SOURCES'!$D$9"}]
[null,"Sources","Project Equity",{"$f":"'01_1_General Data'!$D$103","v":0},{"$f":"RIGHT(_xlfn.FORMULATEXT(tblMasterDataFieldList[[#This Row],[Data Field Value]]), LEN(_xlfn.FORMULATEXT(tblMasterDataFieldList[[#This Row],[Data Field Value]]))-1)","v":"'01_1_General Data'!$D$103"}]
[null,"Sources","LIHTC Proceeds",{"$f":"'02_3_SOURCES'!F27","v":0},{"$f":"RIGHT(_xlfn.FORMULATEXT(tblMasterDataFieldList[[#This Row],[Data Field Value]]), LEN(_xlfn.FORMULATEXT(tblMasterDataFieldList[[#This Row],[Data Field Value]]))-1)","v":"'02_3_SOURCES'!F27"}]
[null,"Project Information","Nonprofit Sponsor",{"$f":"rng01_NonProfit","v":0},{"$f":"RIGHT(_xlfn.FORMULATEXT(tblMasterDataFieldList[[#This Row],[Data Field Value]]), LEN(_xlfn.FORMULATEXT(tblMasterDataFieldList[[#This Row],[Data Field Value]]))-1)","v":"rng01_NonProfit"}]
[null,"Project Information","Closing Date",{"$f":"rng01_ClosingDate","v":"00:00:00"},{"$f":"RIGHT(_xlfn.FORMULATEXT(tblMasterDataFieldList[[#This Row],[Data Field Value]]), LEN(_xlfn.FORMULATEXT(tblMasterDataFieldList[[#This Row],[Data Field Value]]))-1)","v":"rng01_ClosingDate"}]
[null,"Uses","Total Dev Cost",{"$f":"'02_4_USES'!F90","v":0},{"$f":"RIGHT(_xlfn.FORMULATEXT(tblMasterDataFieldList[[#This Row],[Data Field Value]]), LEN(_xlfn.FORMULATEXT(tblMasterDataFieldList[[#This Row],[Data Field Value]]))-1)","v":"'02_4_USES'!F90"}]
[null,"Uses","Cost per unit",{"$f":"'02_4_USES'!E100","v":0},{"$f":"RIGHT(_xlfn.FORMULATEXT(tblMasterDataFieldList[[#This Row],[Data Field Value]]), LEN(_xlfn.FORMULATEXT(tblMasterDataFieldList[[#This Row],[Data Field Value]]))-1)","v":"'02_4_USES'!E100"}]
[null,"LIHTC Proceeds","LIHTC allocation per unit",{"$f":"'02_5_LIHTC Proceeds'!D19/rng02_TotalUnit","v":{"$error":"#DIV/0!"}},{"$f":"RIGHT(_xlfn.FORMULATEXT(tblMasterDataFieldList[[#This Row],[Data Field Value]]), LEN(_xlfn.FORMULATEXT(tblMasterDataFieldList[[#This Row],[Data Field Value]]))-1)","v":"'02_5_LIHTC Proceeds'!D19/rng02_TotalUnit"}]
[null,"Uses","Developer Fee per unit",{"$f":"'02_4_USES'!F88/rng02_TotalUnit","v":{"$error":"#DIV/0!"}},{"$f":"RIGHT(_xlfn.FORMULATEXT(tblMasterDataFieldList[[#This Row],[Data Field Value]]), LEN(_xlfn.FORMULATEXT(tblMasterDataFieldList[[#This Row],[Data Field Value]]))-1)","v":"'02_4_USES'!F88/rng02_TotalUnit"}]
[null,"Uses","Construction Cost per Unit",{"$f":"'02_4_USES'!F28/rng02_TotalUnit","v":{"$error":"#DIV/0!"}},{"$f":"RIGHT(_xlfn.FORMULATEXT(tblMasterDataFieldList[[#This Row],[Data Field Value]]), LEN(_xlfn.FORMULATEXT(tblMasterDataFieldList[[#This Row],[Data Field Value]]))-1)","v":"'02_4_USES'!F28/rng02_TotalUnit"}]
[null,"Uses","Construction Cost per Square Foot",{"$f":"'02_4_USES'!F28/'01_1_General Data'!G65","v":{"$error":"#DIV/0!"}},{"$f":"RIGHT(_xlfn.FORMULATEXT(tblMasterDataFieldList[[#This Row],[Data Field Value]]), LEN(_xlfn.FORMULATEXT(tblMasterDataFieldList[[#This Row],[Data Field Value]]))-1)","v":"'02_4_USES'!F28/'01_1_General Data'!G65"}]
[null,"Uses","Acquisition per unit",{"$f":"'02_4_USES'!F15/rng02_TotalUnit","v":{"$error":"#DIV/0!"}},{"$f":"RIGHT(_xlfn.FORMULATEXT(tblMasterDataFieldList[[#This Row],[Data Field Value]]), LEN(_xlfn.FORMULATEXT(tblMasterDataFieldList[[#This Row],[Data Field Value]]))-1)","v":"'02_4_USES'!F15/rng02_TotalUnit"}]
[null,"Uses","Soft Costs per unit",{"$f":"'02_4_USES'!F59/rng02_TotalUnit","v":{"$error":"#DIV/0!"}},{"$f":"RIGHT(_xlfn.FORMULATEXT(tblMasterDataFieldList[[#This Row],[Data Field Value]]), LEN(_xlfn.FORMULATEXT(tblMasterDataFieldList[[#This Row],[Data Field Value]]))-1)","v":"'02_4_USES'!F59/rng02_TotalUnit"}]
[null,"Uses","Acquisition",{"$f":"'02_4_USES'!F15","v":0},{"$f":"RIGHT(_xlfn.FORMULATEXT(tblMasterDataFieldList[[#This Row],[Data Field Value]]), LEN(_xlfn.FORMULATEXT(tblMasterDataFieldList[[#This Row],[Data Field Value]]))-1)","v":"'02_4_USES'!F15"}]
[null,"Uses","Dev Fee as % of TDC",{"$f":"'02_4_USES'!F88/'02_4_USES'!F90","v":{"$error":"#DIV/0!"}},{"$f":"RIGHT(_xlfn.FORMULATEXT(tblMasterDataFieldList[[#This Row],[Data Field Value]]), LEN(_xlfn.FORMULATEXT(tblMasterDataFieldList[[#This Row],[Data Field Value]]))-1)","v":"'02_4_USES'!F88/'02_4_USES'!F90"}]
[null,"Uses","Construction Cost (w/out contingency)",{"$f":"'02_4_USES'!F26","v":0},{"$f":"RIGHT(_xlfn.FORMULATEXT(tblMasterDataFieldList[[#This Row],[Data Field Value]]), LEN(_xlfn.FORMULATEXT(tblMasterDataFieldList[[#This Row],[Data Field Value]]))-1)","v":"'02_4_USES'!F26"}]
[null,"Uses","Contingency",{"$f":"'02_4_USES'!F28","v":0},{"$f":"RIGHT(_xlfn.FORMULATEXT(tblMasterDataFieldList[[#This Row],[Data Field Value]]), LEN(_xlfn.FORMULATEXT(tblMasterDataFieldList[[#This Row],[Data Field Value]]))-1)","v":"'02_4_USES'!F28"}]
[null,"Uses","Soft Costs",{"$f":"'02_4_USES'!F59","v":0},{"$f":"RIGHT(_xlfn.FORMULATEXT(tblMasterDataFieldList[[#This Row],[Data Field Value]]), LEN(_xlfn.FORMULATEXT(tblMasterDataFieldList[[#This Row],[Data Field Value]]))-1)","v":"'02_4_USES'!F59"}]
[null,"Uses","Reserves",{"$f":"'02_4_USES'!F83","v":0},{"$f":"RIGHT(_xlfn.FORMULATEXT(tblMasterDataFieldList[[#This Row],[Data Field Value]]), LEN(_xlfn.FORMULATEXT(tblMasterDataFieldList[[#This Row],[Data Field Value]]))-1)","v":"'02_4_USES'!F83"}]
[null,"Uses","Developer Fee",{"$f":"'02_4_USES'!F88","v":0},{"$f":"RIGHT(_xlfn.FORMULATEXT(tblMasterDataFieldList[[#This Row],[Data Field Value]]), LEN(_xlfn.FORMULATEXT(tblMasterDataFieldList[[#This Row],[Data Field Value]]))-1)","v":"'02_4_USES'!F88"}]
[null,"Sources",{"$f":"'00_3_Drop Down'!V12","v":"Acquisition Revialization Program (ARP)"},{"$f":"_xlfn.IFNA(VLOOKUP(tblMasterDataFieldList[[#This Row],[Data Field Description]],'02_3_SOURCES'!$B$9:$K$16,10,FALSE), 0)","v":0},{"$f":"IFERROR(\"'02_3_SOURCES'!$K$\"&CELL(\"row\",INDEX('02_3_SOURCES'!$B$9:$K$16,MATCH(tblMasterDataFieldList[[#This Row],[Data Field Description]],'02_3_SOURCES'!$B$9:$B$16,0),10)),\"\")","v":""}]
[null,"Sources",{"$f":"'00_3_Drop Down'!V13","v":"Building Homes Rhode Island"},{"$f":"'02_3_SOURCES'!$K$10","v":0},{"$f":"IFERROR(\"'02_3_SOURCES'!$K$\"&CELL(\"row\",INDEX('02_3_SOURCES'!$B$9:$K$16,MATCH(tblMasterDataFieldList[[#This Row],[Data Field Description]],'02_3_SOURCES'!$B$9:$B$16,0),10)),\"\")","v":""}]
[null,"Sources",{"$f":"'00_3_Drop Down'!V14","v":"Capital Magnet Fund"},{"$f":"_xlfn.IFNA(VLOOKUP(tblMasterDataFieldList[[#This Row],[Data Field Description]],'02_3_SOURCES'!$B$9:$K$16,10,FALSE), 0)","v":0},{"$f":"IFERROR(\"'02_3_SOURCES'!$K$\"&CELL(\"row\",INDEX('02_3_SOURCES'!$B$9:$K$16,MATCH(tblMasterDataFieldList[[#This Row],[Data Field Description]],'02_3_SOURCES'!$B$9:$B$16,0),10)),\"\")","v":""}]
[null,"Sources",{"$f":"'00_3_Drop Down'!V15","v":"Construction Financing"},{"$f":"_xlfn.IFNA(VLOOKUP(tblMasterDataFieldList[[#This Row],[Data Field Description]],'02_3_SOURCES'!$B$9:$K$16,10,FALSE), 0)","v":0},{"$f":"IFERROR(\"'02_3_SOURCES'!$K$\"&CELL(\"row\",INDEX('02_3_SOURCES'!$B$9:$K$16,MATCH(tblMasterDataFieldList[[#This Row],[Data Field Description]],'02_3_SOURCES'!$B$9:$B$16,0),10)),\"\")","v":""}]
[null,"Sources",{"$f":"'00_3_Drop Down'!V16","v":"HOME"},{"$f":"_xlfn.IFNA(VLOOKUP(tblMasterDataFieldList[[#This Row],[Data Field Description]],'02_3_SOURCES'!$B$9:$K$16,10,FALSE), 0)","v":0},{"$f":"IFERROR(\"'02_3_SOURCES'!$K$\"&CELL(\"row\",INDEX('02_3_SOURCES'!$B$9:$K$16,MATCH(tblMasterDataFieldList[[#This Row],[Data Field Description]],'02_3_SOURCES'!$B$9:$B$16,0),10)),\"\")","v":""}]
[null,"Sources",{"$f":"'00_3_Drop Down'!V17","v":"HOME-ARP"},{"$f":"_xlfn.IFNA(VLOOKUP(tblMasterDataFieldList[[#This Row],[Data Field Description]],'02_3_SOURCES'!$B$9:$K$16,10,FALSE), 0)","v":0},{"$f":"IFERROR(\"'02_3_SOURCES'!$K$\"&CELL(\"row\",INDEX('02_3_SOURCES'!$B$9:$K$16,MATCH(tblMasterDataFieldList[[#This Row],[Data Field Description]],'02_3_SOURCES'!$B$9:$B$16,0),10)),\"\")","v":""}]
[null,"Sources",{"$f":"'00_3_Drop Down'!V18","v":"Housing Production Fund"},{"$f":"_xlfn.IFNA(VLOOKUP(tblMasterDataFieldList[[#This Row],[Data Field Description]],'02_3_SOURCES'!$B$9:$K$16,10,FALSE), 0)","v":0},{"$f":"IFERROR(\"'02_3_SOURCES'!$K$\"&CELL(\"row\",INDEX('02_3_SOURCES'!$B$9:$K$16,MATCH(tblMasterDataFieldList[[#This Row],[Data Field Description]],'02_3_SOURCES'!$B$9:$B$16,0),10)),\"\")","v":""}]
[null,"Sources",{"$f":"'00_3_Drop Down'!V19","v":"Housing Trust Fund"},{"$f":"_xlfn.IFNA(VLOOKUP(tblMasterDataFieldList[[#This Row],[Data Field Description]],'02_3_SOURCES'!$B$9:$K$16,10,FALSE), 0)","v":0},{"$f":"IFERROR(\"'02_3_SOURCES'!$K$\"&CELL(\"row\",INDEX('02_3_SOURCES'!$B$9:$K$16,MATCH(tblMasterDataFieldList[[#This Row],[Data Field Description]],'02_3_SOURCES'!$B$9:$B$16,0),10)),\"\")","v":""}]
[null,"Sources",{"$f":"'00_3_Drop Down'!V20","v":"Permanent Financing"},{"$f":"_xlfn.IFNA(VLOOKUP(tblMasterDataFieldList[[#This Row],[Data Field Description]],'02_3_SOURCES'!$B$9:$K$16,10,FALSE), 0)","v":0},{"$f":"IFERROR(\"'02_3_SOURCES'!$K$\"&CELL(\"row\",INDEX('02_3_SOURCES'!$B$9:$K$16,MATCH(tblMasterDataFieldList[[#This Row],[Data Field Description]],'02_3_SOURCES'!$B$9:$B$16,0),10)),\"\")","v":""}]
[null,"Sources",{"$f":"'00_3_Drop Down'!V21","v":"Preservation Loan Fund Program"},{"$f":"_xlfn.IFNA(VLOOKUP(tblMasterDataFieldList[[#This Row],[Data Field Description]],'02_3_SOURCES'!$B$9:$K$16,10,FALSE), 0)","v":0},{"$f":"IFERROR(\"'02_3_SOURCES'!$K$\"&CELL(\"row\",INDEX('02_3_SOURCES'!$B$9:$K$16,MATCH(tblMasterDataFieldList[[#This Row],[Data Field Description]],'02_3_SOURCES'!$B$9:$B$16,0),10)),\"\")","v":""}]
[null,"Sources",{"$f":"'00_3_Drop Down'!V22","v":"Preservation Revitalization Deferred Loan Program (CIP)"},{"$f":"_xlfn.IFNA(VLOOKUP(tblMasterDataFieldList[[#This Row],[Data Field Description]],'02_3_SOURCES'!$B$9:$K$16,10,FALSE), 0)","v":0},{"$f":"IFERROR(\"'02_3_SOURCES'!$K$\"&CELL(\"row\",INDEX('02_3_SOURCES'!$B$9:$K$16,MATCH(tblMasterDataFieldList[[#This Row],[Data Field Description]],'02_3_SOURCES'!$B$9:$B$16,0),10)),\"\")","v":""}]
[null,"Sources",{"$f":"'00_3_Drop Down'!V23","v":"State ARPA"},{"$f":"_xlfn.IFNA(VLOOKUP(tblMasterDataFieldList[[#This Row],[Data Field Description]],'02_3_SOURCES'!$B$9:$K$16,10,FALSE), 0)","v":0},{"$f":"IFERROR(\"'02_3_SOURCES'!$K$\"&CELL(\"row\",INDEX('02_3_SOURCES'!$B$9:$K$16,MATCH(tblMasterDataFieldList[[#This Row],[Data Field Description]],'02_3_SOURCES'!$B$9:$B$16,0),10)),\"\")","v":""}]
[null,"Sources",{"$f":"'00_3_Drop Down'!V24","v":"Tax Exempt Bonds"},{"$f":"_xlfn.IFNA(VLOOKUP(tblMasterDataFieldList[[#This Row],[Data Field Description]],'02_3_SOURCES'!$B$9:$K$16,10,FALSE), 0)","v":0},{"$f":"IFERROR(\"'02_3_SOURCES'!$K$\"&CELL(\"row\",INDEX('02_3_SOURCES'!$B$9:$K$16,MATCH(tblMasterDataFieldList[[#This Row],[Data Field Description]],'02_3_SOURCES'!$B$9:$B$16,0),10)),\"\")","v":""}]
[null,"Sources",{"$f":"'00_3_Drop Down'!V25","v":"Workforce Housing Fund"},{"$f":"_xlfn.IFNA(VLOOKUP(tblMasterDataFieldList[[#This Row],[Data Field Description]],'02_3_SOURCES'!$B$9:$K$16,10,FALSE), 0)","v":0},{"$f":"IFERROR(\"'02_3_SOURCES'!$K$\"&CELL(\"row\",INDEX('02_3_SOURCES'!$B$9:$K$16,MATCH(tblMasterDataFieldList[[#This Row],[Data Field Description]],'02_3_SOURCES'!$B$9:$B$16,0),10)),\"\")","v":""}]
[null,"Sources",{"$f":"'00_3_Drop Down'!V26","v":"Community Development Block Grant"},{"$f":"_xlfn.IFNA(VLOOKUP(tblMasterDataFieldList[[#This Row],[Data Field Description]],'02_3_SOURCES'!$B$9:$K$16,10,FALSE), 0)","v":0},{"$f":"IFERROR(\"'02_3_SOURCES'!$K$\"&CELL(\"row\",INDEX('02_3_SOURCES'!$B$9:$K$16,MATCH(tblMasterDataFieldList[[#This Row],[Data Field Description]],'02_3_SOURCES'!$B$9:$B$16,0),10)),\"\")","v":""}]
[null,"Sources",{"$f":"'00_3_Drop Down'!V27","v":"FHLB Affordable Housing Program"},{"$f":"_xlfn.IFNA(VLOOKUP(tblMasterDataFieldList[[#This Row],[Data Field Description]],'02_3_SOURCES'!$B$9:$K$16,10,FALSE), 0)","v":0},{"$f":"IFERROR(\"'02_3_SOURCES'!$K$\"&CELL(\"row\",INDEX('02_3_SOURCES'!$B$9:$K$16,MATCH(tblMasterDataFieldList[[#This Row],[Data Field Description]],'02_3_SOURCES'!$B$9:$B$16,0),10)),\"\")","v":""}]
[null,"Sources",{"$f":"'00_3_Drop Down'!V28","v":"Lead Loan"},{"$f":"_xlfn.IFNA(VLOOKUP(tblMasterDataFieldList[[#This Row],[Data Field Description]],'02_3_SOURCES'!$B$9:$K$16,10,FALSE), 0)","v":0},{"$f":"IFERROR(\"'02_3_SOURCES'!$K$\"&CELL(\"row\",INDEX('02_3_SOURCES'!$B$9:$K$16,MATCH(tblMasterDataFieldList[[#This Row],[Data Field Description]],'02_3_SOURCES'!$B$9:$B$16,0),10)),\"\")","v":""}]
[null,"Sources",{"$f":"'00_3_Drop Down'!V29","v":"Rollover Debt"},{"$f":"_xlfn.IFNA(VLOOKUP(tblMasterDataFieldList[[#This Row],[Data Field Description]],'02_3_SOURCES'!$B$9:$K$16,10,FALSE), 0)","v":0},{"$f":"IFERROR(\"'02_3_SOURCES'!$K$\"&CELL(\"row\",INDEX('02_3_SOURCES'!$B$9:$K$16,MATCH(tblMasterDataFieldList[[#This Row],[Data Field Description]],'02_3_SOURCES'!$B$9:$B$16,0),10)),\"\")","v":""}]
[null,"Sources",{"$f":"'00_3_Drop Down'!V30","v":"Seller Loan"},{"$f":"_xlfn.IFNA(VLOOKUP(tblMasterDataFieldList[[#This Row],[Data Field Description]],'02_3_SOURCES'!$B$9:$K$16,10,FALSE), 0)","v":0},{"$f":"IFERROR(\"'02_3_SOURCES'!$K$\"&CELL(\"row\",INDEX('02_3_SOURCES'!$B$9:$K$16,MATCH(tblMasterDataFieldList[[#This Row],[Data Field Description]],'02_3_SOURCES'!$B$9:$B$16,0),10)),\"\")","v":""}]
[null,"Sources",{"$f":"'00_3_Drop Down'!V31","v":"Other"},{"$f":"_xlfn.IFNA(VLOOKUP(tblMasterDataFieldList[[#This Row],[Data Field Description]],'02_3_SOURCES'!$B$9:$K$16,10,FALSE), 0)","v":0},{"$f":"IFERROR(\"'02_3_SOURCES'!$K$\"&CELL(\"row\",INDEX('02_3_SOURCES'!$B$9:$K$16,MATCH(tblMasterDataFieldList[[#This Row],[Data Field Description]],'02_3_SOURCES'!$B$9:$B$16,0),10)),\"\")","v":""}]
[null,"Sources",{"$f":"'00_3_Drop Down'!V32","v":"ARPA Production Fund"},{"$f":"_xlfn.IFNA(VLOOKUP(tblMasterDataFieldList[[#This Row],[Data Field Description]],'02_3_SOURCES'!$B$9:$K$16,10,FALSE), 0)","v":0},{"$f":"IFERROR(\"'02_3_SOURCES'!$K$\"&CELL(\"row\",INDEX('02_3_SOURCES'!$B$9:$K$16,MATCH(tblMasterDataFieldList[[#This Row],[Data Field Description]],'02_3_SOURCES'!$B$9:$B$16,0),10)),\"\")","v":""}]
[null,"Sources",{"$f":"'00_3_Drop Down'!V33","v":"Middle Income Program"},{"$f":"_xlfn.IFNA(VLOOKUP(tblMasterDataFieldList[[#This Row],[Data Field Description]],'02_3_SOURCES'!$B$9:$K$16,10,FALSE), 0)","v":0},{"$f":"IFERROR(\"'02_3_SOURCES'!$K$\"&CELL(\"row\",INDEX('02_3_SOURCES'!$B$9:$K$16,MATCH(tblMasterDataFieldList[[#This Row],[Data Field Description]],'02_3_SOURCES'!$B$9:$B$16,0),10)),\"\")","v":""}]
[null,"Sources",{"$f":"'00_3_Drop Down'!V34","v":"NOP"},{"$f":"_xlfn.IFNA(VLOOKUP(tblMasterDataFieldList[[#This Row],[Data Field Description]],'02_3_SOURCES'!$B$9:$K$16,10,FALSE), 0)","v":0},{"$f":"IFERROR(\"'02_3_SOURCES'!$K$\"&CELL(\"row\",INDEX('02_3_SOURCES'!$B$9:$K$16,MATCH(tblMasterDataFieldList[[#This Row],[Data Field Description]],'02_3_SOURCES'!$B$9:$B$16,0),10)),\"\")","v":""}]
[null,"Sources",{"$f":"'00_3_Drop Down'!V35","v":"811"},{"$f":"_xlfn.IFNA(VLOOKUP(tblMasterDataFieldList[[#This Row],[Data Field Description]],'02_3_SOURCES'!$B$9:$K$16,10,FALSE), 0)","v":0},{"$f":"IFERROR(\"'02_3_SOURCES'!$K$\"&CELL(\"row\",INDEX('02_3_SOURCES'!$B$9:$K$16,MATCH(tblMasterDataFieldList[[#This Row],[Data Field Description]],'02_3_SOURCES'!$B$9:$B$16,0),10)),\"\")","v":""}]
[null,"Sources",{"$f":"'00_3_Drop Down'!V36","v":"Community Revitalization"},{"$f":"_xlfn.IFNA(VLOOKUP(tblMasterDataFieldList[[#This Row],[Data Field Description]],'02_3_SOURCES'!$B$9:$K$16,10,FALSE), 0)","v":0},{"$f":"IFERROR(\"'02_3_SOURCES'!$K$\"&CELL(\"row\",INDEX('02_3_SOURCES'!$B$9:$K$16,MATCH(tblMasterDataFieldList[[#This Row],[Data Field Description]],'02_3_SOURCES'!$B$9:$B$16,0),10)),\"\")","v":""}]
[null,"Sources",{"$f":"'00_3_Drop Down'!V37","v":"Thresholds"},{"$f":"_xlfn.IFNA(VLOOKUP(tblMasterDataFieldList[[#This Row],[Data Field Description]],'02_3_SOURCES'!$B$9:$K$16,10,FALSE), 0)","v":0},{"$f":"IFERROR(\"'02_3_SOURCES'!$K$\"&CELL(\"row\",INDEX('02_3_SOURCES'!$B$9:$K$16,MATCH(tblMasterDataFieldList[[#This Row],[Data Field Description]],'02_3_SOURCES'!$B$9:$B$16,0),10)),\"\")","v":""}]
[null,"Sources",{"$f":"'00_3_Drop Down'!V38","v":"Sponsor Loan"},{"$f":"_xlfn.IFNA(VLOOKUP(tblMasterDataFieldList[[#This Row],[Data Field Description]],'02_3_SOURCES'!$B$9:$K$16,10,FALSE), 0)","v":0},{"$f":"IFERROR(\"'02_3_SOURCES'!$K$\"&CELL(\"row\",INDEX('02_3_SOURCES'!$B$9:$K$16,MATCH(tblMasterDataFieldList[[#This Row],[Data Field Description]],'02_3_SOURCES'!$B$9:$B$16,0),10)),\"\")","v":""}]
[null,"Sources",{"$f":"'00_3_Drop Down'!V39","v":"Affordable Housing Trust"},{"$f":"_xlfn.IFNA(VLOOKUP(tblMasterDataFieldList[[#This Row],[Data Field Description]],'02_3_SOURCES'!$B$9:$K$16,10,FALSE), 0)","v":0},{"$f":"IFERROR(\"'02_3_SOURCES'!$K$\"&CELL(\"row\",INDEX('02_3_SOURCES'!$B$9:$K$16,MATCH(tblMasterDataFieldList[[#This Row],[Data Field Description]],'02_3_SOURCES'!$B$9:$B$16,0),10)),\"\")","v":""}]
[null,"Sources",{"$f":"'00_3_Drop Down'!V40","v":"Neighborhood Stabilization Program (NSP)"},{"$f":"_xlfn.IFNA(VLOOKUP(tblMasterDataFieldList[[#This Row],[Data Field Description]],'02_3_SOURCES'!$B$9:$K$16,10,FALSE), 0)","v":0},{"$f":"IFERROR(\"'02_3_SOURCES'!$K$\"&CELL(\"row\",INDEX('02_3_SOURCES'!$B$9:$K$16,MATCH(tblMasterDataFieldList[[#This Row],[Data Field Description]],'02_3_SOURCES'!$B$9:$B$16,0),10)),\"\")","v":""}]
[null,"Sources",{"$f":"'00_3_Drop Down'!V41","v":"Assumed Debt (Rollover)"},{"$f":"_xlfn.IFNA(VLOOKUP(tblMasterDataFieldList[[#This Row],[Data Field Description]],'02_3_SOURCES'!$B$9:$K$16,10,FALSE), 0)","v":0},{"$f":"IFERROR(\"'02_3_SOURCES'!$K$\"&CELL(\"row\",INDEX('02_3_SOURCES'!$B$9:$K$16,MATCH(tblMasterDataFieldList[[#This Row],[Data Field Description]],'02_3_SOURCES'!$B$9:$B$16,0),10)),\"\")","v":""}]
[null,"Sources",{"$f":"'00_3_Drop Down'!V42","v":"RIH First Mortgage"},{"$f":"_xlfn.IFNA(VLOOKUP(tblMasterDataFieldList[[#This Row],[Data Field Description]],'02_3_SOURCES'!$B$9:$K$16,10,FALSE), 0)","v":0},{"$f":"IFERROR(\"'02_3_SOURCES'!$K$\"&CELL(\"row\",INDEX('02_3_SOURCES'!$B$9:$K$16,MATCH(tblMasterDataFieldList[[#This Row],[Data Field Description]],'02_3_SOURCES'!$B$9:$B$16,0),10)),\"\")","v":""}]
[null,"Sources",{"$f":"'00_3_Drop Down'!V43","v":"RIH Second Mortgage"},{"$f":"_xlfn.IFNA(VLOOKUP(tblMasterDataFieldList[[#This Row],[Data Field Description]],'02_3_SOURCES'!$B$9:$K$16,10,FALSE), 0)","v":0},{"$f":"IFERROR(\"'02_3_SOURCES'!$K$\"&CELL(\"row\",INDEX('02_3_SOURCES'!$B$9:$K$16,MATCH(tblMasterDataFieldList[[#This Row],[Data Field Description]],'02_3_SOURCES'!$B$9:$B$16,0),10)),\"\")","v":"'02_3_SOURCES'!$K$10"}]
[null,"Sources",{"$f":"'00_3_Drop Down'!V44","v":"RIH HOME Loan"},{"$f":"_xlfn.IFNA(VLOOKUP(tblMasterDataFieldList[[#This Row],[Data Field Description]],'02_3_SOURCES'!$B$9:$K$16,10,FALSE), 0)","v":0},{"$f":"IFERROR(\"'02_3_SOURCES'!$K$\"&CELL(\"row\",INDEX('02_3_SOURCES'!$B$9:$K$16,MATCH(tblMasterDataFieldList[[#This Row],[Data Field Description]],'02_3_SOURCES'!$B$9:$B$16,0),10)),\"\")","v":""}]
[null,"Sources",{"$f":"'00_3_Drop Down'!V45","v":"Rhode Island Rebounds"},{"$f":"_xlfn.IFNA(VLOOKUP(tblMasterDataFieldList[[#This Row],[Data Field Description]],'02_3_SOURCES'!$B$9:$K$16,10,FALSE), 0)","v":0},{"$f":"IFERROR(\"'02_3_SOURCES'!$K$\"&CELL(\"row\",INDEX('02_3_SOURCES'!$B$9:$K$16,MATCH(tblMasterDataFieldList[[#This Row],[Data Field Description]],'02_3_SOURCES'!$B$9:$B$16,0),10)),\"\")","v":""}]
[null,"Sources",{"$f":"'00_3_Drop Down'!V46","v":"LIHTC Proceeds"},{"$f":"_xlfn.IFNA(VLOOKUP(tblMasterDataFieldList[[#This Row],[Data Field Description]],'02_3_SOURCES'!$B$9:$K$16,10,FALSE), 0)","v":0},{"$f":"IFERROR(\"'02_3_SOURCES'!$K$\"&CELL(\"row\",INDEX('02_3_SOURCES'!$B$9:$K$16,MATCH(tblMasterDataFieldList[[#This Row],[Data Field Description]],'02_3_SOURCES'!$B$9:$B$16,0),10)),\"\")","v":""}]
[null,"Sources",{"$f":"'00_3_Drop Down'!V47","v":"Fed. Historic Tax Credit Proceeds"},{"$f":"_xlfn.IFNA(VLOOKUP(tblMasterDataFieldList[[#This Row],[Data Field Description]],'02_3_SOURCES'!$B$9:$K$16,10,FALSE), 0)","v":0},{"$f":"IFERROR(\"'02_3_SOURCES'!$K$\"&CELL(\"row\",INDEX('02_3_SOURCES'!$B$9:$K$16,MATCH(tblMasterDataFieldList[[#This Row],[Data Field Description]],'02_3_SOURCES'!$B$9:$B$16,0),10)),\"\")","v":""}]
[null,"Sources",{"$f":"'00_3_Drop Down'!V48","v":"General Partner Capital"},{"$f":"_xlfn.IFNA(VLOOKUP(tblMasterDataFieldList[[#This Row],[Data Field Description]],'02_3_SOURCES'!$B$9:$K$16,10,FALSE), 0)","v":0},{"$f":"IFERROR(\"'02_3_SOURCES'!$K$\"&CELL(\"row\",INDEX('02_3_SOURCES'!$B$9:$K$16,MATCH(tblMasterDataFieldList[[#This Row],[Data Field Description]],'02_3_SOURCES'!$B$9:$B$16,0),10)),\"\")","v":""}]
[null,"Sources",{"$f":"'00_3_Drop Down'!V49","v":"State Historic TC Proceeds"},{"$f":"_xlfn.IFNA(VLOOKUP(tblMasterDataFieldList[[#This Row],[Data Field Description]],'02_3_SOURCES'!$B$9:$K$16,10,FALSE), 0)","v":0},{"$f":"IFERROR(\"'02_3_SOURCES'!$K$\"&CELL(\"row\",INDEX('02_3_SOURCES'!$B$9:$K$16,MATCH(tblMasterDataFieldList[[#This Row],[Data Field Description]],'02_3_SOURCES'!$B$9:$B$16,0),10)),\"\")","v":""}]
[null,"Sources",{"$f":"'00_3_Drop Down'!V50","v":"Other Equity"},{"$f":"_xlfn.IFNA(VLOOKUP(tblMasterDataFieldList[[#This Row],[Data Field Description]],'02_3_SOURCES'!$B$9:$K$16,10,FALSE), 0)","v":0},{"$f":"IFERROR(\"'02_3_SOURCES'!$K$\"&CELL(\"row\",INDEX('02_3_SOURCES'!$B$9:$K$16,MATCH(tblMasterDataFieldList[[#This Row],[Data Field Description]],'02_3_SOURCES'!$B$9:$B$16,0),10)),\"\")","v":""}]
[null,"Sources",{"$f":"'00_3_Drop Down'!V51","v":"Deferred Development Fee"},{"$f":"_xlfn.IFNA(VLOOKUP(tblMasterDataFieldList[[#This Row],[Data Field Description]],'02_3_SOURCES'!$B$9:$K$16,10,FALSE), 0)","v":0},{"$f":"IFERROR(\"'02_3_SOURCES'!$K$\"&CELL(\"row\",INDEX('02_3_SOURCES'!$B$9:$K$16,MATCH(tblMasterDataFieldList[[#This Row],[Data Field Description]],'02_3_SOURCES'!$B$9:$B$16,0),10)),\"\")","v":""}]
[null,"Sources",{"$f":"'00_3_Drop Down'!V52","v":"Other Source 2"},{"$f":"_xlfn.IFNA(VLOOKUP(tblMasterDataFieldList[[#This Row],[Data Field Description]],'02_3_SOURCES'!$B$9:$K$16,10,FALSE), 0)","v":0},{"$f":"IFERROR(\"'02_3_SOURCES'!$K$\"&CELL(\"row\",INDEX('02_3_SOURCES'!$B$9:$K$16,MATCH(tblMasterDataFieldList[[#This Row],[Data Field Description]],'02_3_SOURCES'!$B$9:$B$16,0),10)),\"\")","v":""}]
[null,"Sources",{"$f":"'00_3_Drop Down'!V53","v":"Other Source 3"},{"$f":"_xlfn.IFNA(VLOOKUP(tblMasterDataFieldList[[#This Row],[Data Field Description]],'02_3_SOURCES'!$B$9:$K$16,10,FALSE), 0)","v":0},{"$f":"IFERROR(\"'02_3_SOURCES'!$K$\"&CELL(\"row\",INDEX('02_3_SOURCES'!$B$9:$K$16,MATCH(tblMasterDataFieldList[[#This Row],[Data Field Description]],'02_3_SOURCES'!$B$9:$B$16,0),10)),\"\")","v":""}]
[null,"Sources",{"$f":"'00_3_Drop Down'!V54","v":"Other Source 4"},{"$f":"_xlfn.IFNA(VLOOKUP(tblMasterDataFieldList[[#This Row],[Data Field Description]],'02_3_SOURCES'!$B$9:$K$16,10,FALSE), 0)","v":0},{"$f":"IFERROR(\"'02_3_SOURCES'!$K$\"&CELL(\"row\",INDEX('02_3_SOURCES'!$B$9:$K$16,MATCH(tblMasterDataFieldList[[#This Row],[Data Field Description]],'02_3_SOURCES'!$B$9:$B$16,0),10)),\"\")","v":""}]
[null,"Sources",{"$f":"'00_3_Drop Down'!V55","v":"Other Source 5"},{"$f":"_xlfn.IFNA(VLOOKUP(tblMasterDataFieldList[[#This Row],[Data Field Description]],'02_3_SOURCES'!$B$9:$K$16,10,FALSE), 0)","v":0},{"$f":"IFERROR(\"'02_3_SOURCES'!$K$\"&CELL(\"row\",INDEX('02_3_SOURCES'!$B$9:$K$16,MATCH(tblMasterDataFieldList[[#This Row],[Data Field Description]],'02_3_SOURCES'!$B$9:$B$16,0),10)),\"\")","v":""}]
[null,"Sources",{"$f":"'00_3_Drop Down'!V56","v":"ERA 2"},{"$f":"_xlfn.IFNA(VLOOKUP(tblMasterDataFieldList[[#This Row],[Data Field Description]],'02_3_SOURCES'!$B$9:$K$16,10,FALSE), 0)","v":0},{"$f":"IFERROR(\"'02_3_SOURCES'!$K$\"&CELL(\"row\",INDEX('02_3_SOURCES'!$B$9:$K$16,MATCH(tblMasterDataFieldList[[#This Row],[Data Field Description]],'02_3_SOURCES'!$B$9:$B$16,0),10)),\"\")","v":""}]
[null,"Sources",{"$f":"'00_3_Drop Down'!V57","v":"TOD Fund"},{"$f":"_xlfn.IFNA(VLOOKUP(tblMasterDataFieldList[[#This Row],[Data Field Description]],'02_3_SOURCES'!$B$9:$K$16,10,FALSE), 0)","v":0},{"$f":"IFERROR(\"'02_3_SOURCES'!$K$\"&CELL(\"row\",INDEX('02_3_SOURCES'!$B$9:$K$16,MATCH(tblMasterDataFieldList[[#This Row],[Data Field Description]],'02_3_SOURCES'!$B$9:$B$16,0),10)),\"\")","v":""}]
[null,"Sources",{"$f":"'00_3_Drop Down'!V58","v":"Priority Projects Fund"},{"$f":"_xlfn.IFNA(VLOOKUP(tblMasterDataFieldList[[#This Row],[Data Field Description]],'02_3_SOURCES'!$B$9:$K$16,10,FALSE), 0)","v":0},{"$f":"IFERROR(\"'02_3_SOURCES'!$K$\"&CELL(\"row\",INDEX('02_3_SOURCES'!$B$9:$K$16,MATCH(tblMasterDataFieldList[[#This Row],[Data Field Description]],'02_3_SOURCES'!$B$9:$B$16,0),10)),\"\")","v":""}]
[null,"Sources",{"$f":"'00_3_Drop Down'!V59","v":"State 4% LIHTC"},{"$f":"_xlfn.IFNA(VLOOKUP(tblMasterDataFieldList[[#This Row],[Data Field Description]],'02_3_SOURCES'!$B$9:$K$16,10,FALSE), 0)","v":0},{"$f":"IFERROR(\"'02_3_SOURCES'!$K$\"&CELL(\"row\",INDEX('02_3_SOURCES'!$B$9:$K$16,MATCH(tblMasterDataFieldList[[#This Row],[Data Field Description]],'02_3_SOURCES'!$B$9:$B$16,0),10)),\"\")","v":""}]
[null,"Sources",{"$f":"'00_3_Drop Down'!V60","v":0},{"$f":"_xlfn.IFNA(VLOOKUP(tblMasterDataFieldList[[#This Row],[Data Field Description]],'02_3_SOURCES'!$B$9:$K$16,10,FALSE), 0)","v":0},{"$f":"IFERROR(\"'02_3_SOURCES'!$K$\"&CELL(\"row\",INDEX('02_3_SOURCES'!$B$9:$K$16,MATCH(tblMasterDataFieldList[[#This Row],[Data Field Description]],'02_3_SOURCES'!$B$9:$B$16,0),10)),\"\")","v":""}]
[null,"Sources",{"$f":"'00_3_Drop Down'!V61","v":0},{"$f":"_xlfn.IFNA(VLOOKUP(tblMasterDataFieldList[[#This Row],[Data Field Description]],'02_3_SOURCES'!$B$9:$K$16,10,FALSE), 0)","v":0},{"$f":"IFERROR(\"'02_3_SOURCES'!$K$\"&CELL(\"row\",INDEX('02_3_SOURCES'!$B$9:$K$16,MATCH(tblMasterDataFieldList[[#This Row],[Data Field Description]],'02_3_SOURCES'!$B$9:$B$16,0),10)),\"\")","v":""}]
[null,"Sources",{"$f":"'00_3_Drop Down'!V62","v":0},{"$f":"_xlfn.IFNA(VLOOKUP(tblMasterDataFieldList[[#This Row],[Data Field Description]],'02_3_SOURCES'!$B$9:$K$16,10,FALSE), 0)","v":0},{"$f":"IFERROR(\"'02_3_SOURCES'!$K$\"&CELL(\"row\",INDEX('02_3_SOURCES'!$B$9:$K$16,MATCH(tblMasterDataFieldList[[#This Row],[Data Field Description]],'02_3_SOURCES'!$B$9:$B$16,0),10)),\"\")","v":""}]
[null,"Sources",{"$f":"'00_3_Drop Down'!V63","v":0},{"$f":"_xlfn.IFNA(VLOOKUP(tblMasterDataFieldList[[#This Row],[Data Field Description]],'02_3_SOURCES'!$B$9:$K$16,10,FALSE), 0)","v":0},{"$f":"IFERROR(\"'02_3_SOURCES'!$K$\"&CELL(\"row\",INDEX('02_3_SOURCES'!$B$9:$K$16,MATCH(tblMasterDataFieldList[[#This Row],[Data Field Description]],'02_3_SOURCES'!$B$9:$B$16,0),10)),\"\")","v":""}]
[null,"Sources",{"$f":"'00_3_Drop Down'!V64","v":0},{"$f":"_xlfn.IFNA(VLOOKUP(tblMasterDataFieldList[[#This Row],[Data Field Description]],'02_3_SOURCES'!$B$9:$K$16,10,FALSE), 0)","v":0},{"$f":"IFERROR(\"'02_3_SOURCES'!$K$\"&CELL(\"row\",INDEX('02_3_SOURCES'!$B$9:$K$16,MATCH(tblMasterDataFieldList[[#This Row],[Data Field Description]],'02_3_SOURCES'!$B$9:$B$16,0),10)),\"\")","v":""}]
[null,"Sources",{"$f":"'00_3_Drop Down'!V65","v":0},{"$f":"_xlfn.IFNA(VLOOKUP(tblMasterDataFieldList[[#This Row],[Data Field Description]],'02_3_SOURCES'!$B$9:$K$16,10,FALSE), 0)","v":0},{"$f":"IFERROR(\"'02_3_SOURCES'!$K$\"&CELL(\"row\",INDEX('02_3_SOURCES'!$B$9:$K$16,MATCH(tblMasterDataFieldList[[#This Row],[Data Field Description]],'02_3_SOURCES'!$B$9:$B$16,0),10)),\"\")","v":""}]
[]
[]
[null,"Project ID","Address","City","Zip Code","County","Tract"]
[null,{"$f":"$D$11","v":101},{"$f":"'01_1_General Data'!B223","v":""},{"$f":"'01_1_General Data'!E223","v":""},{"$f":"'01_1_General Data'!F223","v":""},{"$f":"VLOOKUP(D108,'00_4_Reference Tables'!$C$7:$AH$45,32,FALSE)","v":{"$error":"#N/A"}},{"$f":"'01_1_General Data'!G223","v":0}]
[null,101,{"$f":"'01_1_General Data'!B224","v":0},{"$f":"'01_1_General Data'!E224","v":0},{"$f":"'01_1_General Data'!F224","v":0},{"$f":"VLOOKUP(D109,'00_4_Reference Tables'!$C$7:$AH$45,32,FALSE)","v":{"$error":"#N/A"}},{"$f":"'01_1_General Data'!G224","v":0}]
[null,101,{"$f":"'01_1_General Data'!B225","v":0},{"$f":"'01_1_General Data'!E225","v":0},{"$f":"'01_1_General Data'!F225","v":0},{"$f":"VLOOKUP(D110,'00_4_Reference Tables'!$C$7:$AH$45,32,FALSE)","v":{"$error":"#N/A"}},{"$f":"'01_1_General Data'!G225","v":0}]
[null,101,{"$f":"'01_1_General Data'!B226","v":0},{"$f":"'01_1_General Data'!E226","v":0},{"$f":"'01_1_General Data'!F226","v":0},{"$f":"VLOOKUP(D111,'00_4_Reference Tables'!$C$7:$AH$45,32,FALSE)","v":{"$error":"#N/A"}},{"$f":"'01_1_General Data'!G226","v":0}]
[null,101,{"$f":"'01_1_General Data'!B227","v":0},{"$f":"'01_1_General Data'!E227","v":0},{"$f":"'01_1_General Data'!F227","v":0},{"$f":"VLOOKUP(D112,'00_4_Reference Tables'!$C$7:$AH$45,32,FALSE)","v":{"$error":"#N/A"}},{"$f":"'01_1_General Data'!G227","v":0}]
[null,101,{"$f":"'01_1_General Data'!B228","v":0},{"$f":"'01_1_General Data'!E228","v":0},{"$f":"'01_1_General Data'!F228","v":0},{"$f":"VLOOKUP(D113,'00_4_Reference Tables'!$C$7:$AH$45,32,FALSE)","v":{"$error":"#N/A"}},{"$f":"'01_1_General Data'!G228","v":0}]
[null,101,{"$f":"'01_1_General Data'!B229","v":0},{"$f":"'01_1_General Data'!E229","v":0},{"$f":"'01_1_General Data'!F229","v":0},{"$f":"VLOOKUP(D114,'00_4_Reference Tables'!$C$7:$AH$45,32,FALSE)","v":{"$error":"#N/A"}},{"$f":"'01_1_General Data'!G229","v":0}]
[null,101,{"$f":"'01_1_General Data'!B230","v":0},{"$f":"'01_1_General Data'!E230","v":0},{"$f":"'01_1_General Data'!F230","v":0},{"$f":"VLOOKUP(D115,'00_4_Reference Tables'!$C$7:$AH$45,32,FALSE)","v":{"$error":"#N/A"}},{"$f":"'01_1_General Data'!G230","v":0}]
[null,101,{"$f":"'01_1_General Data'!B231","v":0},{"$f":"'01_1_General Data'!E231","v":0},{"$f":"'01_1_General Data'!F231","v":0},{"$f":"VLOOKUP(D116,'00_4_Reference Tables'!$C$7:$AH$45,32,FALSE)","v":{"$error":"#N/A"}},{"$f":"'01_1_General Data'!G231","v":0}]
[null,101,{"$f":"'01_1_General Data'!B232","v":0},{"$f":"'01_1_General Data'!E232","v":0},{"$f":"'01_1_General Data'!F232","v":0},{"$f":"VLOOKUP(D117,'00_4_Reference Tables'!$C$7:$AH$45,32,FALSE)","v":{"$error":"#N/A"}},{"$f":"'01_1_General Data'!G232","v":0}]
[null,101,{"$f":"'01_1_General Data'!B233","v":0},{"$f":"'01_1_General Data'!E233","v":0},{"$f":"'01_1_General Data'!F233","v":0},{"$f":"VLOOKUP(D118,'00_4_Reference Tables'!$C$7:$AH$45,32,FALSE)","v":{"$error":"#N/A"}},{"$f":"'01_1_General Data'!G233","v":0}]
[null,101,{"$f":"'01_1_General Data'!B234","v":0},{"$f":"'01_1_General Data'!E234","v":0},{"$f":"'01_1_General Data'!F234","v":0},{"$f":"VLOOKUP(D119,'00_4_Reference Tables'!$C$7:$AH$45,32,FALSE)","v":{"$error":"#N/A"}},{"$f":"'01_1_General Data'!G234","v":0}]
[null,101,{"$f":"'01_1_General Data'!B235","v":0},{"$f":"'01_1_General Data'!E235","v":0},{"$f":"'01_1_General Data'!F235","v":0},{"$f":"VLOOKUP(D120,'00_4_Reference Tables'!$C$7:$AH$45,32,FALSE)","v":{"$error":"#N/A"}},{"$f":"'01_1_General Data'!G235","v":0}]
[null,101,{"$f":"'01_1_General Data'!B236","v":0},{"$f":"'01_1_General Data'!E236","v":0},{"$f":"'01_1_General Data'!F236","v":0},{"$f":"VLOOKUP(D121,'00_4_Reference Tables'!$C$7:$AH$45,32,FALSE)","v":{"$error":"#N/A"}},{"$f":"'01_1_General Data'!G236","v":0}]
[null,101,{"$f":"'01_1_General Data'!B237","v":0},{"$f":"'01_1_General Data'!E237","v":0},{"$f":"'01_1_General Data'!F237","v":0},{"$f":"VLOOKUP(D122,'00_4_Reference Tables'!$C$7:$AH$45,32,FALSE)","v":{"$error":"#N/A"}},{"$f":"'01_1_General Data'!G237","v":0}]
[null,101,{"$f":"'01_1_General Data'!B238","v":0},{"$f":"'01_1_General Data'!E238","v":0},{"$f":"'01_1_General Data'!F238","v":0},{"$f":"VLOOKUP(D123,'00_4_Reference Tables'!$C$7:$AH$45,32,FALSE)","v":{"$error":"#N/A"}},{"$f":"'01_1_General Data'!G238","v":0}]
[null,101,{"$f":"'01_1_General Data'!B239","v":0},{"$f":"'01_1_General Data'!E239","v":0},{"$f":"'01_1_General Data'!F239","v":0},{"$f":"VLOOKUP(D124,'00_4_Reference Tables'!$C$7:$AH$45,32,FALSE)","v":{"$error":"#N/A"}},{"$f":"'01_1_General Data'!G239","v":0}]
[null,101,{"$f":"'01_1_General Data'!B240","v":0},{"$f":"'01_1_General Data'!E240","v":0},{"$f":"'01_1_General Data'!F240","v":0},{"$f":"VLOOKUP(D125,'00_4_Reference Tables'!$C$7:$AH$45,32,FALSE)","v":{"$error":"#N/A"}},{"$f":"'01_1_General Data'!G240","v":0}]
[null,101,{"$f":"'01_1_General Data'!B241","v":0},{"$f":"'01_1_General Data'!E241","v":0},{"$f":"'01_1_General Data'!F241","v":0},{"$f":"VLOOKUP(D126,'00_4_Reference Tables'!$C$7:$AH$45,32,FALSE)","v":{"$error":"#N/A"}},{"$f":"'01_1_General Data'!G241","v":0}]
[null,101,{"$f":"'01_1_General Data'!B242","v":0},{"$f":"'01_1_General Data'!E242","v":0},{"$f":"'01_1_General Data'!F242","v":0},{"$f":"VLOOKUP(D127,'00_4_Reference Tables'!$C$7:$AH$45,32,FALSE)","v":{"$error":"#N/A"}},{"$f":"'01_1_General Data'!G242","v":0}]
[null,101,{"$f":"'01_1_General Data'!B243","v":0},{"$f":"'01_1_General Data'!E243","v":0},{"$f":"'01_1_General Data'!F243","v":0},{"$f":"VLOOKUP(D128,'00_4_Reference Tables'!$C$7:$AH$45,32,FALSE)","v":{"$error":"#N/A"}},{"$f":"'01_1_General Data'!G243","v":0}]
[null,101,{"$f":"'01_1_General Data'!B244","v":0},{"$f":"'01_1_General Data'!E244","v":0},{"$f":"'01_1_General Data'!F244","v":0},{"$f":"VLOOKUP(D129,'00_4_Reference Tables'!$C$7:$AH$45,32,FALSE)","v":{"$error":"#N/A"}},{"$f":"'01_1_General Data'!G244","v":0}]
[null,101,{"$f":"'01_1_General Data'!B245","v":0},{"$f":"'01_1_General Data'!E245","v":0},{"$f":"'01_1_General Data'!F245","v":0},{"$f":"VLOOKUP(D130,'00_4_Reference Tables'!$C$7:$AH$45,32,FALSE)","v":{"$error":"#N/A"}},{"$f":"'01_1_General Data'!G245","v":0}]
[null,101,{"$f":"'01_1_General Data'!B246","v":0},{"$f":"'01_1_General Data'!E246","v":0},{"$f":"'01_1_General Data'!F246","v":0},{"$f":"VLOOKUP(D131,'00_4_Reference Tables'!$C$7:$AH$45,32,FALSE)","v":{"$error":"#N/A"}},{"$f":"'01_1_General Data'!G246","v":0}]
[null,101,{"$f":"'01_1_General Data'!B247","v":0},{"$f":"'01_1_General Data'!E247","v":0},{"$f":"'01_1_General Data'!F247","v":0},{"$f":"VLOOKUP(D132,'00_4_Reference Tables'!$C$7:$AH$45,32,FALSE)","v":{"$error":"#N/A"}},{"$f":"'01_1_General Data'!G247","v":0}]
[null,101,{"$f":"'01_1_General Data'!B248","v":0},{"$f":"'01_1_General Data'!E248","v":0},{"$f":"'01_1_General Data'!F248","v":0},{"$f":"VLOOKUP(D133,'00_4_Reference Tables'!$C$7:$AH$45,32,FALSE)","v":{"$error":"#N/A"}},{"$f":"'01_1_General Data'!G248","v":0}]
[null,101,{"$f":"'01_1_General Data'!B249","v":0},{"$f":"'01_1_General Data'!E249","v":0},{"$f":"'01_1_General Data'!F249","v":0},{"$f":"VLOOKUP(D134,'00_4_Reference Tables'!$C$7:$AH$45,32,FALSE)","v":{"$error":"#N/A"}},{"$f":"'01_1_General Data'!G249","v":0}]
[null,101,{"$f":"'01_1_General Data'!B250","v":0},{"$f":"'01_1_General Data'!E250","v":0},{"$f":"'01_1_General Data'!F250","v":0},{"$f":"VLOOKUP(D135,'00_4_Reference Tables'!$C$7:$AH$45,32,FALSE)","v":{"$error":"#N/A"}},{"$f":"'01_1_General Data'!G250","v":0}]
[null,101,{"$f":"'01_1_General Data'!B251","v":0},{"$f":"'01_1_General Data'!E251","v":0},{"$f":"'01_1_General Data'!F251","v":0},{"$f":"VLOOKUP(D136,'00_4_Reference Tables'!$C$7:$AH$45,32,FALSE)","v":{"$error":"#N/A"}},{"$f":"'01_1_General Data'!G251","v":0}]
[null,101,{"$f":"'01_1_General Data'!B252","v":0},{"$f":"'01_1_General Data'!E252","v":0},{"$f":"'01_1_General Data'!F252","v":0},{"$f":"VLOOKUP(D137,'00_4_Reference Tables'!$C$7:$AH$45,32,FALSE)","v":{"$error":"#N/A"}},{"$f":"'01_1_General Data'!G252","v":0}]
[null,101,{"$f":"'01_1_General Data'!B253","v":0},{"$f":"'01_1_General Data'!E253","v":0},{"$f":"'01_1_General Data'!F253","v":0},{"$f":"VLOOKUP(D138,'00_4_Reference Tables'!$C$7:$AH$45,32,FALSE)","v":{"$error":"#N/A"}},{"$f":"'01_1_General Data'!G253","v":0}]
[null,101,{"$f":"'01_1_General Data'!B254","v":0},{"$f":"'01_1_General Data'!E254","v":0},{"$f":"'01_1_General Data'!F254","v":0},{"$f":"VLOOKUP(D139,'00_4_Reference Tables'!$C$7:$AH$45,32,FALSE)","v":{"$error":"#N/A"}},{"$f":"'01_1_General Data'!G254","v":0}]
[null,{"$f":"$D$11","v":101},{"$f":"'01_1_General Data'!B255","v":0},{"$f":"'01_1_General Data'!E255","v":0},{"$f":"'01_1_General Data'!F255","v":0},{"$f":"VLOOKUP(D140,'00_4_Reference Tables'!$C$7:$AH$45,32,FALSE)","v":{"$error":"#N/A"}},{"$f":"'01_1_General Data'!G255","v":0}]
[null,101,{"$f":"'01_1_General Data'!B256","v":0},{"$f":"'01_1_General Data'!E256","v":0},{"$f":"'01_1_General Data'!F256","v":0},{"$f":"VLOOKUP(D141,'00_4_Reference Tables'!$C$7:$AH$45,32,FALSE)","v":{"$error":"#N/A"}},{"$f":"'01_1_General Data'!G256","v":0}]
[null,101,{"$f":"'01_1_General Data'!B257","v":0},{"$f":"'01_1_General Data'!E257","v":0},{"$f":"'01_1_General Data'!F257","v":0},{"$f":"VLOOKUP(D142,'00_4_Reference Tables'!$C$7:$AH$45,32,FALSE)","v":{"$error":"#N/A"}},{"$f":"'01_1_General Data'!G257","v":0}]
[null,101,{"$f":"'01_1_General Data'!B258","v":0},{"$f":"'01_1_General Data'!E258","v":0},{"$f":"'01_1_General Data'!F258","v":0},{"$f":"VLOOKUP(D143,'00_4_Reference Tables'!$C$7:$AH$45,32,FALSE)","v":{"$error":"#N/A"}},{"$f":"'01_1_General Data'!G258","v":0}]
[null,101,{"$f":"'01_1_General Data'!B259","v":0},{"$f":"'01_1_General Data'!E259","v":0},{"$f":"'01_1_General Data'!F259","v":0},{"$f":"VLOOKUP(D144,'00_4_Reference Tables'!$C$7:$AH$45,32,FALSE)","v":{"$error":"#N/A"}},{"$f":"'01_1_General Data'!G259","v":0}]
[null,101,{"$f":"'01_1_General Data'!B260","v":0},{"$f":"'01_1_General Data'!E260","v":0},{"$f":"'01_1_General Data'!F260","v":0},{"$f":"VLOOKUP(D145,'00_4_Reference Tables'!$C$7:$AH$45,32,FALSE)","v":{"$error":"#N/A"}},{"$f":"'01_1_General Data'!G260","v":0}]
[null,101,{"$f":"'01_1_General Data'!B261","v":0},{"$f":"'01_1_General Data'!E261","v":0},{"$f":"'01_1_General Data'!F261","v":0},{"$f":"VLOOKUP(D146,'00_4_Reference Tables'!$C$7:$AH$45,32,FALSE)","v":{"$error":"#N/A"}},{"$f":"'01_1_General Data'!G261","v":0}]
[null,101,{"$f":"'01_1_General Data'!B262","v":0},{"$f":"'01_1_General Data'!E262","v":0},{"$f":"'01_1_General Data'!F262","v":0},{"$f":"VLOOKUP(D147,'00_4_Reference Tables'!$C$7:$AH$45,32,FALSE)","v":{"$error":"#N/A"}},{"$f":"'01_1_General Data'!G262","v":0}]
[null,101,{"$f":"'01_1_General Data'!B263","v":0},{"$f":"'01_1_General Data'!E263","v":0},{"$f":"'01_1_General Data'!F263","v":0},{"$f":"VLOOKUP(D148,'00_4_Reference Tables'!$C$7:$AH$45,32,FALSE)","v":{"$error":"#N/A"}},{"$f":"'01_1_General Data'!G263","v":0}]
[null,101,{"$f":"'01_1_General Data'!B264","v":0},{"$f":"'01_1_General Data'!E264","v":0},{"$f":"'01_1_General Data'!F264","v":0},{"$f":"VLOOKUP(D149,'00_4_Reference Tables'!$C$7:$AH$45,32,FALSE)","v":{"$error":"#N/A"}},{"$f":"'01_1_General Data'!G264","v":0}]
[null,101,{"$f":"'01_1_General Data'!B265","v":0},{"$f":"'01_1_General Data'!E265","v":0},{"$f":"'01_1_General Data'!F265","v":0},{"$f":"VLOOKUP(D150,'00_4_Reference Tables'!$C$7:$AH$45,32,FALSE)","v":{"$error":"#N/A"}},{"$f":"'01_1_General Data'!G265","v":0}]
[null,101,{"$f":"'01_1_General Data'!B266","v":0},{"$f":"'01_1_General Data'!E266","v":0},{"$f":"'01_1_General Data'!F266","v":0},{"$f":"VLOOKUP(D151,'00_4_Reference Tables'!$C$7:$AH$45,32,FALSE)","v":{"$error":"#N/A"}},{"$f":"'01_1_General Data'!G266","v":0}]
[null,101,{"$f":"'01_1_General Data'!B267","v":0},{"$f":"'01_1_General Data'!E267","v":0},{"$f":"'01_1_General Data'!F267","v":0},{"$f":"VLOOKUP(D152,'00_4_Reference Tables'!$C$7:$AH$45,32,FALSE)","v":{"$error":"#N/A"}},{"$f":"'01_1_General Data'!G267","v":0}]
[null,101,{"$f":"'01_1_General Data'!B268","v":0},{"$f":"'01_1_General Data'!E268","v":0},{"$f":"'01_1_General Data'!F268","v":0},{"$f":"VLOOKUP(D153,'00_4_Reference Tables'!$C$7:$AH$45,32,FALSE)","v":{"$error":"#N/A"}},{"$f":"'01_1_General Data'!G268","v":0}]
[null,101,{"$f":"'01_1_General Data'!B269","v":0},{"$f":"'01_1_General Data'!E269","v":0},{"$f":"'01_1_General Data'!F269","v":0},{"$f":"VLOOKUP(D154,'00_4_Reference Tables'!$C$7:$AH$45,32,FALSE)","v":{"$error":"#N/A"}},{"$f":"'01_1_General Data'!G269","v":0}]
[null,101,{"$f":"'01_1_General Data'!B270","v":0},{"$f":"'01_1_General Data'!E270","v":0},{"$f":"'01_1_General Data'!F270","v":0},{"$f":"VLOOKUP(D155,'00_4_Reference Tables'!$C$7:$AH$45,32,FALSE)","v":{"$error":"#N/A"}},{"$f":"'01_1_General Data'!G270","v":0}]
[null,101,{"$f":"'01_1_General Data'!B271","v":0},{"$f":"'01_1_General Data'!E271","v":0},{"$f":"'01_1_General Data'!F271","v":0},{"$f":"VLOOKUP(D156,'00_4_Reference Tables'!$C$7:$AH$45,32,FALSE)","v":{"$error":"#N/A"}},{"$f":"'01_1_General Data'!G271","v":0}]
[null,101,{"$f":"'01_1_General Data'!B272","v":0},{"$f":"'01_1_General Data'!E272","v":0},{"$f":"'01_1_General Data'!F272","v":0},{"$f":"VLOOKUP(D157,'00_4_Reference Tables'!$C$7:$AH$45,32,FALSE)","v":{"$error":"#N/A"}},{"$f":"'01_1_General Data'!G272","v":0}]
[null,101,{"$f":"'01_1_General Data'!B273","v":0},{"$f":"'01_1_General Data'!E273","v":0},{"$f":"'01_1_General Data'!F273","v":0},{"$f":"VLOOKUP(D158,'00_4_Reference Tables'!$C$7:$AH$45,32,FALSE)","v":{"$error":"#N/A"}},{"$f":"'01_1_General Data'!G273","v":0}]
[null,101,{"$f":"'01_1_General Data'!B274","v":0},{"$f":"'01_1_General Data'!E274","v":0},{"$f":"'01_1_General Data'!F274","v":0},{"$f":"VLOOKUP(D159,'00_4_Reference Tables'!$C$7:$AH$45,32,FALSE)","v":{"$error":"#N/A"}},{"$f":"'01_1_General Data'!G274","v":0}]
[null,101,{"$f":"'01_1_General Data'!B275","v":0},{"$f":"'01_1_General Data'!E275","v":0},{"$f":"'01_1_General Data'!F275","v":0},{"$f":"VLOOKUP(D160,'00_4_Reference Tables'!$C$7:$AH$45,32,FALSE)","v":{"$error":"#N/A"}},{"$f":"'01_1_General Data'!G275","v":0}]
[null,101,{"$f":"'01_1_General Data'!B276","v":0},{"$f":"'01_1_General Data'!E276","v":0},{"$f":"'01_1_General Data'!F276","v":0},{"$f":"VLOOKUP(D161,'00_4_Reference Tables'!$C$7:$AH$45,32,FALSE)","v":{"$error":"#N/A"}},{"$f":"'01_1_General Data'!G276","v":0}]
[null,101,{"$f":"'01_1_General Data'!B277","v":0},{"$f":"'01_1_General Data'!E277","v":0},{"$f":"'01_1_General Data'!F277","v":0},{"$f":"VLOOKUP(D162,'00_4_Reference Tables'!$C$7:$AH$45,32,FALSE)","v":{"$error":"#N/A"}},{"$f":"'01_1_General Data'!G277","v":0}]
[null,101,{"$f":"'01_1_General Data'!B278","v":0},{"$f":"'01_1_General Data'!E278","v":0},{"$f":"'01_1_General Data'!F278","v":0},{"$f":"VLOOKUP(D163,'00_4_Reference Tables'!$C$7:$AH$45,32,FALSE)","v":{"$error":"#N/A"}},{"$f":"'01_1_General Data'!G278","v":0}]
[null,101,{"$f":"'01_1_General Data'!B279","v":0},{"$f":"'01_1_General Data'!E279","v":0},{"$f":"'01_1_General Data'!F279","v":0},{"$f":"VLOOKUP(D164,'00_4_Reference Tables'!$C$7:$AH$45,32,FALSE)","v":{"$error":"#N/A"}},{"$f":"'01_1_General Data'!G279","v":0}]
[null,101,{"$f":"'01_1_General Data'!B280","v":0},{"$f":"'01_1_General Data'!E280","v":0},{"$f":"'01_1_General Data'!F280","v":0},{"$f":"VLOOKUP(D165,'00_4_Reference Tables'!$C$7:$AH$45,32,FALSE)","v":{"$error":"#N/A"}},{"$f":"'01_1_General Data'!G280","v":0}]
[null,101,{"$f":"'01_1_General Data'!B281","v":0},{"$f":"'01_1_General Data'!E281","v":0},{"$f":"'01_1_General Data'!F281","v":0},{"$f":"VLOOKUP(D166,'00_4_Reference Tables'!$C$7:$AH$45,32,FALSE)","v":{"$error":"#N/A"}},{"$f":"'01_1_General Data'!G281","v":0}]
[null,101,{"$f":"'01_1_General Data'!B282","v":0},{"$f":"'01_1_General Data'!E282","v":0},{"$f":"'01_1_General Data'!F282","v":0},{"$f":"VLOOKUP(D167,'00_4_Reference Tables'!$C$7:$AH$45,32,FALSE)","v":{"$error":"#N/A"}},{"$f":"'01_1_General Data'!G282","v":0}]
[null,101,{"$f":"'01_1_General Data'!B283","v":0},{"$f":"'01_1_General Data'!E283","v":0},{"$f":"'01_1_General Data'!F283","v":0},{"$f":"VLOOKUP(D168,'00_4_Reference Tables'!$C$7:$AH$45,32,FALSE)","v":{"$error":"#N/A"}},{"$f":"'01_1_General Data'!G283","v":0}]
[null,101,{"$f":"'01_1_General Data'!B284","v":0},{"$f":"'01_1_General Data'!E284","v":0},{"$f":"'01_1_General Data'!F284","v":0},{"$f":"VLOOKUP(D169,'00_4_Reference Tables'!$C$7:$AH$45,32,FALSE)","v":{"$error":"#N/A"}},{"$f":"'01_1_General Data'!G284","v":0}]
[null,101,{"$f":"'01_1_General Data'!B285","v":0},{"$f":"'01_1_General Data'!E285","v":0},{"$f":"'01_1_General Data'!F285","v":0},{"$f":"VLOOKUP(D170,'00_4_Reference Tables'!$C$7:$AH$45,32,FALSE)","v":{"$error":"#N/A"}},{"$f":"'01_1_General Data'!G285","v":0}]
[null,101,{"$f":"'01_1_General Data'!B286","v":0},{"$f":"'01_1_General Data'!E286","v":0},{"$f":"'01_1_General Data'!F286","v":0},{"$f":"VLOOKUP(D171,'00_4_Reference Tables'!$C$7:$AH$45,32,FALSE)","v":{"$error":"#N/A"}},{"$f":"'01_1_General Data'!G286","v":0}]
[null,{"$f":"$D$11","v":101},{"$f":"'01_1_General Data'!B287","v":0},{"$f":"'01_1_General Data'!E287","v":0},{"$f":"'01_1_General Data'!F287","v":0},{"$f":"VLOOKUP(D172,'00_4_Reference Tables'!$C$7:$AH$45,32,FALSE)","v":{"$error":"#N/A"}},{"$f":"'01_1_General Data'!G287","v":0}]
[null,101,{"$f":"'01_1_General Data'!B288","v":0},{"$f":"'01_1_General Data'!E288","v":0},{"$f":"'01_1_General Data'!F288","v":0},{"$f":"VLOOKUP(D173,'00_4_Reference Tables'!$C$7:$AH$45,32,FALSE)","v":{"$error":"#N/A"}},{"$f":"'01_1_General Data'!G288","v":0}]
[null,101,{"$f":"'01_1_General Data'!B289","v":0},{"$f":"'01_1_General Data'!E289","v":0},{"$f":"'01_1_General Data'!F289","v":0},{"$f":"VLOOKUP(D174,'00_4_Reference Tables'!$C$7:$AH$45,32,FALSE)","v":{"$error":"#N/A"}},{"$f":"'01_1_General Data'!G289","v":0}]
[null,101,{"$f":"'01_1_General Data'!B290","v":0},{"$f":"'01_1_General Data'!E290","v":0},{"$f":"'01_1_General Data'!F290","v":0},{"$f":"VLOOKUP(D175,'00_4_Reference Tables'!$C$7:$AH$45,32,FALSE)","v":{"$error":"#N/A"}},{"$f":"'01_1_General Data'!G290","v":0}]
[null,101,{"$f":"'01_1_General Data'!B291","v":0},{"$f":"'01_1_General Data'!E291","v":0},{"$f":"'01_1_General Data'!F291","v":0},{"$f":"VLOOKUP(D176,'00_4_Reference Tables'!$C$7:$AH$45,32,FALSE)","v":{"$error":"#N/A"}},{"$f":"'01_1_General Data'!G291","v":0}]
[null,101,{"$f":"'01_1_General Data'!B292","v":0},{"$f":"'01_1_General Data'!E292","v":0},{"$f":"'01_1_General Data'!F292","v":0},{"$f":"VLOOKUP(D177,'00_4_Reference Tables'!$C$7:$AH$45,32,FALSE)","v":{"$error":"#N/A"}},{"$f":"'01_1_General Data'!G292","v":0}]
[null,101,{"$f":"'01_1_General Data'!B293","v":0},{"$f":"'01_1_General Data'!E293","v":0},{"$f":"'01_1_General Data'!F293","v":0},{"$f":"VLOOKUP(D178,'00_4_Reference Tables'!$C$7:$AH$45,32,FALSE)","v":{"$error":"#N/A"}},{"$f":"'01_1_General Data'!G293","v":0}]
[null,101,{"$f":"'01_1_General Data'!B294","v":0},{"$f":"'01_1_General Data'!E294","v":0},{"$f":"'01_1_General Data'!F294","v":0},{"$f":"VLOOKUP(D179,'00_4_Reference Tables'!$C$7:$AH$45,32,FALSE)","v":{"$error":"#N/A"}},{"$f":"'01_1_General Data'!G294","v":0}]
[null,101,{"$f":"'01_1_General Data'!B295","v":0},{"$f":"'01_1_General Data'!E295","v":0},{"$f":"'01_1_General Data'!F295","v":0},{"$f":"VLOOKUP(D180,'00_4_Reference Tables'!$C$7:$AH$45,32,FALSE)","v":{"$error":"#N/A"}},{"$f":"'01_1_General Data'!G295","v":0}]
[null,101,{"$f":"'01_1_General Data'!B296","v":0},{"$f":"'01_1_General Data'!E296","v":0},{"$f":"'01_1_General Data'!F296","v":0},{"$f":"VLOOKUP(D181,'00_4_Reference Tables'!$C$7:$AH$45,32,FALSE)","v":{"$error":"#N/A"}},{"$f":"'01_1_General Data'!G296","v":0}]
[null,101,{"$f":"'01_1_General Data'!B297","v":0},{"$f":"'01_1_General Data'!E297","v":0},{"$f":"'01_1_General Data'!F297","v":0},{"$f":"VLOOKUP(D182,'00_4_Reference Tables'!$C$7:$AH$45,32,FALSE)","v":{"$error":"#N/A"}},{"$f":"'01_1_General Data'!G297","v":0}]
[null,101,{"$f":"'01_1_General Data'!B298","v":0},{"$f":"'01_1_General Data'!E298","v":0},{"$f":"'01_1_General Data'!F298","v":0},{"$f":"VLOOKUP(D183,'00_4_Reference Tables'!$C$7:$AH$45,32,FALSE)","v":{"$error":"#N/A"}},{"$f":"'01_1_General Data'!G298","v":0}]
[null,101,{"$f":"'01_1_General Data'!B299","v":0},{"$f":"'01_1_General Data'!E299","v":0},{"$f":"'01_1_General Data'!F299","v":0},{"$f":"VLOOKUP(D184,'00_4_Reference Tables'!$C$7:$AH$45,32,FALSE)","v":{"$error":"#N/A"}},{"$f":"'01_1_General Data'!G299","v":0}]
[null,101,{"$f":"'01_1_General Data'!B300","v":0},{"$f":"'01_1_General Data'!E300","v":0},{"$f":"'01_1_General Data'!F300","v":0},{"$f":"VLOOKUP(D185,'00_4_Reference Tables'!$C$7:$AH$45,32,FALSE)","v":{"$error":"#N/A"}},{"$f":"'01_1_General Data'!G300","v":0}]
[null,101,{"$f":"'01_1_General Data'!B301","v":0},{"$f":"'01_1_General Data'!E301","v":0},{"$f":"'01_1_General Data'!F301","v":0},{"$f":"VLOOKUP(D186,'00_4_Reference Tables'!$C$7:$AH$45,32,FALSE)","v":{"$error":"#N/A"}},{"$f":"'01_1_General Data'!G301","v":0}]
[null,101,{"$f":"'01_1_General Data'!B302","v":0},{"$f":"'01_1_General Data'!E302","v":0},{"$f":"'01_1_General Data'!F302","v":0},{"$f":"VLOOKUP(D187,'00_4_Reference Tables'!$C$7:$AH$45,32,FALSE)","v":{"$error":"#N/A"}},{"$f":"'01_1_General Data'!G302","v":0}]

{"sheet":"00_3_Drop Down","index":3,"n_rows":59,"n_cols":34,"rows_kept":59,"cut":false,"hidden":true,"merged":[]}
[]
[null,"Rhode Island Housing Underwriting Model - drop down"]
[]
[null,"INSTRUCTION:"]
[null,"1. Add a drop down item: go to the desired table, navigate to the last row, and press Tab button. There will be a row added to the end of the table - fill out the new drop down in this row."]
[null,"2. Remove a drop down item: navigate to the desired drop down line in the table, and click Ctrl+\"-\" (minus sign)."]
[]
[null,"NAVIGATE TO A DROP DOWN:",null,"Project Based Subsidy"]
[]
[]
[null,"Program Type","Property Type","Other Assistance Type","Low Income Set Aside","Zoning Status","Project Type","Borrowing Entity","Energy Type","Structural System","Bedroom Type","AMI","Month","Affordable/Market","Years","MSA","Commercial Type","New/Rehab","Other Income Type","Utilities Type","Operating Expense","Loan Type","Project Amenities","Development Type","Heat System","Existing Debt","Tenancy Type","Construction Type Details","Credit Type","Census Tract Factor","Building Type","Project Based Subsidy","Construction Type Individual","Tenant Status"]
[null,"Rental Production","Multifamily","State RAP","20%/50%","Legal Conforming","Scattered Site","General Partnership","Natural Gas","Wood Frame","SRO","20%",0,"Affordable",2002,"Providence","Retail","New Construction","Garage & Parking Spaces","Gas","Comparable","Acquisition Revialization Program (ARP)","Basketball Court","Residential - New Construction","Hydronic Baseboard Heat (gas/propane)","1st Mortgage","Family","Urban (includes scattered site and urban in-fill)","4%",1,"Hi-rise","Section 8","New Construction","Tenants in Units at Closing"]
[null,"Refinancing","Multifamily/Retail","NOP","40%/60%","Legal Non-Conforming","Single Site","Limited Partnership","Bottled Gas","Steel Frame","EFF","30%",1,"Market",{"$f":"O12+1","v":2003},"Newport","Office","Rehabilitation","Laundry","Electric","Historical","Building Homes Rhode Island","Community Room","Residential - Rehabilitation","Air Sourced Heat Pump/Mini-splits (electric)","RIH Targeted Loan","Senior (55+)","Historic Mill Conversion","9%",1.3,"Low-rise","Project Based Vouchers","Rehabilitation","Tenants Not in Units at Closing"]
[null,"Preservation","Multifamily/Office","Rural Development",1,"Other","Other","Corporation","Oil","Masonry",1,"40%",2,null,2004,"Washington","Retail & Office","New Construction and Rehab.","Other Income","Water",null,"Capital Magnet Fund","Laundry: Common Area","Commercial","VRF Systems","HOME - RIH","Senior (62+)","Suburban/Rural Cluster Subdivision (buildings contain less than 8 units per building)","4% and 9%",null,null,"HPF-ELI"]
[null,"Other","Congregate Care","Project Based Section 8 (Non-HAP)","Income Averaging",null,null,"Limited Liability Company","Electric","Other",2,"50%",3,null,2005,null,"Other",null,null,"Other Utilities",null,"Construction Financing","Playground",null,"Hydronic Heat Pump (gas/propane)","HOME - other","Special Needs","Garden style apartment up to 3 stories (no elevator)","Historic",null,null,"RIH-ELI"]
[null,null,"Assisted Living","Other","Other",null,null,"Trust","Other",null,3,"60%",4,null,2006,null,null,null,null,null,null,"HOME","Pool",null,"Electric Heat Pumps","Seller Loan","Mixed Tenancy","Up to 4 Story building with elevator","LIHTC and Historic",null,null,"Other"]
[null,null,"Nursing Home",null,null,null,null,"Limited Liability Partnership",null,null,4,"70%",5,null,2007,null,null,null,null,null,null,"HOME-ARP","Tennis Court",null,"Forced Hot Air Heating","Sponsor Loan","Mixed Use","4 or 5 Story Stick built on Podium Parking","No Credit"]
[null,null,"Other",null,null,null,null,"Sole Proprietorship",null,null,5,"80% LIHTC",6,null,2008,null,null,null,null,null,null,"Housing Production Fund","Other (Comment)",null,"Forced Hot Air Split System with AC","Other",null,"Preservation Units"]
[null,null,null,null,null,null,null,"Individual(s)",null,null,null,"80% Non-LIHTC",7,null,2009,null,null,null,null,null,null,"Housing Trust Fund",null,null,"Electric Resistant Baseboard"]
[null,null,null,null,null,null,null,"Other",null,null,null,"100%",8,null,2010,null,null,null,null,null,null,"Permanent Financing",null,null,"Other"]
[null,null,null,null,null,null,null,null,null,null,null,"120%",9,null,2011,null,null,null,null,null,null,"Preservation Loan Fund Program"]
[null,null,null,null,null,null,null,null,null,null,null,"Over 120%",10,null,2012,null,null,null,null,null,null,"Preservation Revitalization Deferred Loan Program (CIP)"]
[null,null,null,null,null,null,null,null,null,null,null,null,11,null,2013,null,null,null,null,null,null,"State ARPA"]
[null,null,null,null,null,null,null,null,null,null,null,null,12,null,2014,null,null,null,null,null,null,"Tax Exempt Bonds"]
[null,null,null,null,null,null,null,null,null,null,null,null,null,null,2015,null,null,null,null,null,null,"Workforce Housing Fund"]
[null,null,null,null,null,null,null,null,null,null,null,null,null,null,2016,null,null,null,null,null,null,"Community Development Block Grant"]
[null,null,null,null,null,null,null,null,null,null,null,null,null,null,2017,null,null,null,null,null,null,"FHLB Affordable Housing Program"]
[null,null,null,null,null,null,null,null,null,null,null,null,null,null,2018,null,null,null,null,null,null,"Lead Loan"]
[null,null,null,null,null,null,null,null,null,null,null,null,null,null,2019,null,null,null,null,null,null,"Rollover Debt"]
[null,null,null,null,null,null,null,null,null,null,null,null,null,null,2020,null,null,null,null,null,null,"Seller Loan"]
[null,null,null,null,null,null,null,null,null,null,null,null,null,null,2021,null,null,null,null,null,null,"Other"]
[null,null,null,null,null,null,null,null,null,null,null,null,null,null,2022,null,null,null,null,null,null,"ARPA Production Fund"]
[null,null,null,null,null,null,null,null,null,null,null,null,null,null,2023,null,null,null,null,null,null,"Middle Income Program"]
[null,null,null,null,null,null,null,null,null,null,null,null,null,null,2024,null,null,null,null,null,null,"NOP"]
[null,null,null,null,null,null,null,null,null,null,null,null,null,null,2025,null,null,null,null,null,null,"811"]
[null,null,null,null,null,null,null,null,null,null,null,null,null,null,2026,null,null,null,null,null,null,"Community Revitalization"]
[null,null,null,null,null,null,null,null,null,null,null,null,null,null,2027,null,null,null,null,null,null,"Thresholds"]
[null,null,null,null,null,null,null,null,null,null,null,null,null,null,2028,null,null,null,null,null,null,"Sponsor Loan"]
[null,null,null,null,null,null,null,null,null,null,null,null,null,null,2029,null,null,null,null,null,null,"Affordable Housing Trust"]
[null,null,null,null,null,null,null,null,null,null,null,null,null,null,2030,null,null,null,null,null,null,"Neighborhood Stabilization Program (NSP)"]
[null,null,null,null,null,null,null,null,null,null,null,null,null,null,2031,null,null,null,null,null,null,"Assumed Debt (Rollover)"]
[null,null,null,null,null,null,null,null,null,null,null,null,null,null,null,null,null,null,null,null,null,"RIH First Mortgage"]
[null,null,null,null,null,null,null,null,null,null,null,null,null,null,null,null,null,null,null,null,null,"RIH Second Mortgage"]
[null,null,null,null,null,null,null,null,null,null,null,null,null,null,null,null,null,null,null,null,null,"RIH HOME Loan"]
[null,null,null,null,null,null,null,null,null,null,null,null,null,null,null,null,null,null,null,null,null,"Rhode Island Rebounds"]
[null,null,null,null,null,null,null,null,null,null,null,null,null,null,null,null,null,null,null,null,null,"LIHTC Proceeds"]
[null,null,null,null,null,null,null,null,null,null,null,null,null,null,null,null,null,null,null,null,null,"Fed. Historic Tax Credit Proceeds"]
[null,null,null,null,null,null,null,null,null,null,null,null,null,null,null,null,null,null,null,null,null,"General Partner Capital"]
[null,null,null,null,null,null,null,null,null,null,null,null,null,null,null,null,null,null,null,null,null,"State Historic TC Proceeds"]
[null,null,null,null,null,null,null,null,null,null,null,null,null,null,null,null,null,null,null,null,null,"Other Equity"]
[null,null,null,null,null,null,null,null,null,null,null,null,null,null,null,null,null,null,null,null,null,"Deferred Development Fee"]
[null,null,null,null,null,null,null,null,null,null,null,null,null,null,null,null,null,null,null,null,null,"Other Source 2"]
[null,null,null,null,null,null,null,null,null,null,null,null,null,null,null,null,null,null,null,null,null,"Other Source 3"]
[null,null,null,null,null,null,null,null,null,null,null,null,null,null,null,null,null,null,null,null,null,"Other Source 4"]
[null,null,null,null,null,null,null,null,null,null,null,null,null,null,null,null,null,null,null,null,null,"Other Source 5"]
[null,null,null,null,null,null,null,null,null,null,null,null,null,null,null,null,null,null,null,null,null,"ERA 2"]
[null,null,null,null,null,null,null,null,null,null,null,null,null,null,null,null,null,null,null,null,null,"TOD Fund"]
[null,null,null,null,null,null,null,null,null,null,null,null,null,null,null,null,null,null,null,null,null,"Priority Projects Fund"]
[null,null,null,null,null,null,null,null,null,null,null,null,null,null,null,null,null,null,null,null,null,"State 4% LIHTC"]

{"sheet":"00_4_Reference Tables","index":4,"n_rows":322,"n_cols":41,"rows_kept":322,"cut":false,"hidden":true,"merged":[]}
["Rent Limit, QCT/DDA and Opportunity Zone References"]
[{"$f":"IF(rng01_ProjectName=\"\",\"[Project Name]\", rng01_ProjectName)","v":"[Project Name]"},null,null,null,null,null,"Current Model Progress Date:",{"$f":"tbl00ModelProgress[[#Totals],[Date of Progress /\nLast Edit]]","v":"00:00:00"}]
[]
[null,"Income Limits"]
[]
[null,"Order","Location","Studio","S FMR","S LOW HOME","s HIGH HOME","S tc50","S tc60","1bed","1fmr","1 LOW HOME","1 HIGH HOME","1tc50","1tc60","2bed","2fmr","2 LOW HOME","2 HIGH HOME","2tc50","2tc60","3bed","3fmr","3 LOW HOME","3 HIGH HOME","3tc50","3tc60","4bed","4fmr","4 LOW HOME","4 HIGH HOME","4tc50","4tc60","County","MedInc","%Assist","Burden","Dilapidated","Crime","Population","MTSP Lim50_18p4"]
[null,1,"Barrington",null,1289,983,1259,983,1180,null,1398,1054,1350,1054,1265,null,1693,1265,1622,1265,1518,null,2047,1461,1865,1461,1753,null,2536,1630,2061,1630,1956,"Bristol",49800,1.5599999999999999E-2,0.35,1.0800000000000001E-2,0.02,16819,56200]
[null,2,"Bristol",null,1289,983,1259,983,1180,null,1398,1054,1350,1054,1265,null,1693,1265,1622,1265,1518,null,2047,1461,1865,1461,1753,null,2536,1630,2061,1630,1956,"Bristol",49800,1.5599999999999999E-2,0.35,1.0800000000000001E-2,0.02,16819,56200]
[null,3,"Burrillville",null,1289,983,1259,983,1180,null,1398,1054,1350,1054,1265,null,1693,1265,1622,1265,1518,null,2047,1461,1865,1461,1753,null,2536,1630,2061,1630,1956,"Bristol",49800,1.5599999999999999E-2,0.35,1.0800000000000001E-2,0.02,16819,56200]
[null,4,"Central Falls",null,1289,983,1259,983,1180,null,1398,1054,1350,1054,1265,null,1693,1265,1622,1265,1518,null,2047,1461,1865,1461,1753,null,2536,1630,2061,1630,1956,"Bristol",49800,1.5599999999999999E-2,0.35,1.0800000000000001E-2,0.02,16819,56200]
[null,5,"Charlestown",null,1289,983,1259,983,1180,null,1398,1054,1350,1054,1265,null,1693,1265,1622,1265,1518,null,2047,1461,1865,1461,1753,null,2536,1630,2061,1630,1956,"Bristol",49800,1.5599999999999999E-2,0.35,1.0800000000000001E-2,0.02,16819,56200]
[null,6,"Coventry",null,1289,983,1259,983,1180,null,1398,1054,1350,1054,1265,null,1693,1265,1622,1265,1518,null,2047,1461,1865,1461,1753,null,2536,1630,2061,1630,1956,"Bristol",49800,1.5599999999999999E-2,0.35,1.0800000000000001E-2,0.02,16819,56200]
[null,7,"Cranston",null,1289,983,1259,983,1180,null,1398,1054,1350,1054,1265,null,1693,1265,1622,1265,1518,null,2047,1461,1865,1461,1753,null,2536,1630,2061,1630,1956,"Bristol",49800,1.5599999999999999E-2,0.35,1.0800000000000001E-2,0.02,16819,56200]
[null,8,"Cumberland",null,1289,983,1259,983,1180,null,1398,1054,1350,1054,1265,null,1693,1265,1622,1265,1518,null,2047,1461,1865,1461,1753,null,2536,1630,2061,1630,1956,"Bristol",49800,1.5599999999999999E-2,0.35,1.0800000000000001E-2,0.02,16819,56200]
[null,9,"East Greenwich",null,1289,983,1259,983,1180,null,1398,1054,1350,1054,1265,null,1693,1265,1622,1265,1518,null,2047,1461,1865,1461,1753,null,2536,1630,2061,1630,1956,"Bristol",49800,1.5599999999999999E-2,0.35,1.0800000000000001E-2,0.02,16819,56200]
[null,10,"East Providence",null,1289,983,1259,983,1180,null,1398,1054,1350,1054,1265,null,1693,1265,1622,1265,1518,null,2047,1461,1865,1461,1753,null,2536,1630,2061,1630,1956,"Bristol",49800,1.5599999999999999E-2,0.35,1.0800000000000001E-2,0.02,16819,56200]
[null,11,"Exeter",null,1289,983,1259,983,1180,null,1398,1054,1350,1054,1265,null,1693,1265,1622,1265,1518,null,2047,1461,1865,1461,1753,null,2536,1630,2061,1630,1956,"Bristol",49800,1.5599999999999999E-2,0.35,1.0800000000000001E-2,0.02,16819,56200]
[null,12,"Foster",null,1289,983,1259,983,1180,null,1398,1054,1350,1054,1265,null,1693,1265,1622,1265,1518,null,2047,1461,1865,1461,1753,null,2536,1630,2061,1630,1956,"Bristol",49800,1.5599999999999999E-2,0.35,1.0800000000000001E-2,0.02,16819,56200]
[null,13,"Glocester",null,1289,983,1259,983,1180,null,1398,1054,1350,1054,1265,null,1693,1265,1622,1265,1518,null,2047,1461,1865,1461,1753,null,2536,1630,2061,1630,1956,"Bristol",49800,1.5599999999999999E-2,0.35,1.0800000000000001E-2,0.02,16819,56200]
[null,14,"Hopkinton",null,1332,1031,1320,1031,1237,null,1340,1105,1340,1105,1326,null,1610,1326,1610,1326,1591,null,2059,1531,1957,1531,1838,null,2732,1708,2163,1708,2050,"Washington",54500,5.67E-2,0.28000000000000003,5.7099999999999998E-2,1.9E-2,7836,58900]
[null,15,"Jamestown",null,1289,983,1259,983,1180,null,1398,1054,1350,1054,1265,null,1693,1265,1622,1265,1518,null,2047,1461,1865,1461,1753,null,2536,1630,2061,1630,1956,"Bristol",49800,1.5599999999999999E-2,0.35,1.0800000000000001E-2,0.02,16819,56200]
[null,16,"Johnston",null,1289,983,1259,983,1180,null,1398,1054,1350,1054,1265,null,1693,1265,1622,1265,1518,null,2047,1461,1865,1461,1753,null,2536,1630,2061,1630,1956,"Bristol",49800,1.5599999999999999E-2,0.35,1.0800000000000001E-2,0.02,16819,56200]
[null,17,"Lincoln",null,1289,983,1259,983,1180,null,1398,1054,1350,1054,1265,null,1693,1265,1622,1265,1518,null,2047,1461,1865,1461,1753,null,2536,1630,2061,1630,1956,"Bristol",49800,1.5599999999999999E-2,0.35,1.0800000000000001E-2,0.02,16819,56200]
[null,18,"Little Compton",null,1289,983,1259,983,1180,null,1398,1054,1350,1054,1265,null,1693,1265,1622,1265,1518,null,2047,1461,1865,1461,1753,null,2536,1630,2061,1630,1956,"Bristol",49800,1.5599999999999999E-2,0.35,1.0800000000000001E-2,0.02,16819,56200]
[null,19,"Middletown",null,1716,1158,1485,1158,1390,null,1728,1241,1593,1241,1489,null,2270,1488,1913,1488,1786,null,2999,1720,2202,1720,2064,null,3593,1918,2438,1918,2302,"Newport",51900,0.12039999999999999,0.28000000000000003,1.4500000000000001E-2,1.6E-2,17334,66150]
[null,20,"Narragansett",null,1289,983,1259,983,1180,null,1398,1054,1350,1054,1265,null,1693,1265,1622,1265,1518,null,2047,1461,1865,1461,1753,null,2536,1630,2061,1630,1956,"Bristol",49800,1.5599999999999999E-2,0.35,1.0800000000000001E-2,0.02,16819,56200]
[null,21,"New Shoreham",null,1332,1031,1320,1031,1237,null,1340,1105,1340,1105,1326,null,1610,1326,1610,1326,1591,null,2059,1531,1957,1531,1838,null,2732,1708,2163,1708,2050,"Washington",53500,1.2699999999999999E-2,0,0,0.161,1010,58900]
[null,22,"Newport",null,1716,1158,1485,1158,1390,null,1728,1241,1593,1241,1489,null,2270,1488,1913,1488,1786,null,2999,1720,2202,1720,2064,null,3593,1918,2438,1918,2302,"Newport",51900,0.16209999999999999,0.3,2.0400000000000001E-2,7.6999999999999999E-2,26475,66150]
[null,23,"North Kingstown",null,1289,983,1259,983,1180,null,1398,1054,1350,1054,1265,null,1693,1265,1622,1265,1518,null,2047,1461,1865,1461,1753,null,2536,1630,2061,1630,1956,"Bristol",49800,1.5599999999999999E-2,0.35,1.0800000000000001E-2,0.02,16819,56200]
[null,24,"North Providence",null,1289,983,1259,983,1180,null,1398,1054,1350,1054,1265,null,1693,1265,1622,1265,1518,null,2047,1461,1865,1461,1753,null,2536,1630,2061,1630,1956,"Bristol",49800,1.5599999999999999E-2,0.35,1.0800000000000001E-2,0.02,16819,56200]
[null,25,"North Smithfield",null,1289,983,1259,983,1180,null,1398,1054,1350,1054,1265,null,1693,1265,1622,1265,1518,null,2047,1461,1865,1461,1753,null,2536,1630,2061,1630,1956,"Bristol",49800,1.5599999999999999E-2,0.35,1.0800000000000001E-2,0.02,16819,56200]
[null,26,"Pawtucket",null,1289,983,1259,983,1180,null,1398,1054,1350,1054,1265,null,1693,1265,1622,1265,1518,null,2047,1461,1865,1461,1753,null,2536,1630,2061,1630,1956,"Bristol",49800,1.5599999999999999E-2,0.35,1.0800000000000001E-2,0.02,16819,56200]
[null,27,"Portsmouth",null,1716,1158,1485,1158,1390,null,1728,1241,1593,1241,1489,null,2270,1488,1913,1488,1786,null,2999,1720,2202,1720,2064,null,3593,1918,2438,1918,2302,"Newport",51900,2.3099999999999999E-2,0.31,1.9900000000000001E-2,1.6E-2,17149,66150]
[null,28,"Providence",null,1289,983,1259,983,1180,null,1398,1054,1350,1054,1265,null,1693,1265,1622,1265,1518,null,2047,1461,1865,1461,1753,null,2536,1630,2061,1630,1956,"Bristol",49800,1.5599999999999999E-2,0.35,1.0800000000000001E-2,0.02,16819,56200]
[null,29,"Richmond",null,1289,983,1259,983,1180,null,1398,1054,1350,1054,1265,null,1693,1265,1622,1265,1518,null,2047,1461,1865,1461,1753,null,2536,1630,2061,1630,1956,"Bristol",49800,1.5599999999999999E-2,0.35,1.0800000000000001E-2,0.02,16819,56200]
[null,30,"Scituate",null,1289,983,1259,983,1180,null,1398,1054,1350,1054,1265,null,1693,1265,1622,1265,1518,null,2047,1461,1865,1461,1753,null,2536,1630,2061,1630,1956,"Bristol",49800,1.5599999999999999E-2,0.35,1.0800000000000001E-2,0.02,16819,56200]
[null,31,"Smithfield",null,1289,983,1259,983,1180,null,1398,1054,1350,1054,1265,null,1693,1265,1622,1265,1518,null,2047,1461,1865,1461,1753,null,2536,1630,2061,1630,1956,"Bristol",49800,1.5599999999999999E-2,0.35,1.0800000000000001E-2,0.02,16819,56200]
[null,32,"South Kingstown",null,1289,983,1259,983,1180,null,1398,1054,1350,1054,1265,null,1693,1265,1622,1265,1518,null,2047,1461,1865,1461,1753,null,2536,1630,2061,1630,1956,"Bristol",49800,1.5599999999999999E-2,0.35,1.0800000000000001E-2,0.02,16819,56200]
[null,33,"Tiverton",null,1289,983,1259,983,1180,null,1398,1054,1350,1054,1265,null,1693,1265,1622,1265,1518,null,2047,1461,1865,1461,1753,null,2536,1630,2061,1630,1956,"Bristol",49800,1.5599999999999999E-2,0.35,1.0800000000000001E-2,0.02,16819,56200]
[null,34,"Warren",null,1289,983,1259,983,1180,null,1398,1054,1350,1054,1265,null,1693,1265,1622,1265,1518,null,2047,1461,1865,1461,1753,null,2536,1630,2061,1630,1956,"Bristol",49800,1.5599999999999999E-2,0.35,1.0800000000000001E-2,0.02,16819,56200]
[null,35,"Warwick",null,1289,983,1259,983,1180,null,1398,1054,1350,1054,1265,null,1693,1265,1622,1265,1518,null,2047,1461,1865,1461,1753,null,2536,1630,2061,1630,1956,"Bristol",49800,1.5599999999999999E-2,0.35,1.0800000000000001E-2,0.02,16819,56200]
[null,36,"West Warwick",null,1289,983,1259,983,1180,null,1398,1054,1350,1054,1265,null,1693,1265,1622,1265,1518,null,2047,1461,1865,1461,1753,null,2536,1630,2061,1630,1956,"Bristol",49800,1.5599999999999999E-2,0.35,1.0800000000000001E-2,0.02,16819,56200]
[null,37,"West Greenwich",null,1289,983,1259,983,1180,null,1398,1054,1350,1054,1265,null,1693,1265,1622,1265,1518,null,2047,1461,1865,1461,1753,null,2536,1630,2061,1630,1956,"Bristol",49800,1.5599999999999999E-2,0.35,1.0800000000000001E-2,0.02,16819,56200]
[null,38,"Westerly",null,1332,1031,1320,1031,1237,null,1340,1105,1340,1105,1326,null,1610,1326,1610,1326,1591,null,2059,1531,1957,1531,1838,null,2732,1708,2163,1708,2050,"Washington",54500,5.0299999999999997E-2,0.28000000000000003,2.81E-2,1.7000000000000001E-2,22966,58900]
[null,39,"Woonsocket",null,1289,983,1259,983,1180,null,1398,1054,1350,1054,1265,null,1693,1265,1622,1265,1518,null,2047,1461,1865,1461,1753,null,2536,1630,2061,1630,1956,"Bristol",49800,1.5599999999999999E-2,0.35,1.0800000000000001E-2,0.02,16819,56200]
[]
[]
[null,"Income, Rents, Occupancy"]
[]
[null,"TABLE 2: INCOME","1 person",null,"2 person",null,"3 person",null,"4 person",null,"5 person",null,"6 person",null,"7 person",null,"8 person"]
[null,null,"VL","L","VL","L","VL","L","VL","L","VL","L","VL","L","VL","L","VL","L"]
[null,"New London",29050,46480,33200,53120,37350,59760,41500,66400,44850,71760,48150,77040,51500,82400,54800,87680]
[null,"Newport",46350,74160,52950,84720,59550,95280,66150,105840,71450,114320,76750,122800,82050,131280,87350,139760]
[null,"Providence",39350,62960,45000,72000,50600,80960,56200,89920,60700,97120,65200,104320,69700,111520,74200,118720]
[null,"Washington",41250,66000,47150,75440,53050,84880,58900,94240,63650,101840,68350,109360,73050,116880,77750,124400]
[]
[null,"TABLE 3: RENTS","VL","L","VL","L","VL","L","VL","L","VL","L","VL","L","VL","L","VL","L"]
[null,"Newport",{"$f":"(C53/12)*30%","v":1158.75},1854,1323.75,2118,1488.75,2382,1653.75,2646,1786.25,2857.9999999999995,1918.7499999999998,3070,2051.25,3282,2183.75,3493.9999999999995]
[null,"Providence",983.74999999999989,1574,1125,1800,{"$f":"(G54/12)*30%","v":1265},{"$f":"(H54/12)*30%","v":2024},1404.9999999999998,2248,1517.4999999999998,2428,1629.9999999999998,2608,1742.4999999999998,2788,1854.9999999999998,2968]
[null,"Washington",1031.25,1650,1178.75,1886,1326.2499999999998,2122,1472.4999999999998,2356,1591.25,2545.9999999999995,1708.7499999999998,2734,1826.25,2922,1943.75,3109.9999999999995]
[]
[null,"TABLE 4: OCCUPANCY",null,null,{"$f":"'00_5_LIHTC Data'!B10","v":0}]
[null,1,{"$f":"ROUND(B63*1.5,0)","v":2},1,{"$f":"LOOKUP($E$62,$B$52:$B$55,C52:C55)","v":{"$error":"#N/A"}},{"$f":"LOOKUP($E$62,$B$58:$B$60,C58:C60)","v":{"$error":"#N/A"}},{"$f":"LOOKUP($E$62,$B$52:$B$55,D52:D55)","v":{"$error":"#N/A"}},{"$f":"LOOKUP($E$62,$B$58:$B$60,D58:D60)","v":{"$error":"#N/A"}}]
[null,2,{"$f":"ROUND(B64*1.5,0)","v":3},2,{"$f":"LOOKUP($E$62,$B$52:$B$55,E52:E55)","v":{"$error":"#N/A"}},{"$f":"LOOKUP($E$62,$B$58:$B$60,E58:E60)","v":{"$error":"#N/A"}},{"$f":"LOOKUP($E$62,$B$52:$B$55,F52:F55)","v":{"$error":"#N/A"}},{"$f":"LOOKUP($E$62,$B$58:$B$60,F58:F60)","v":{"$error":"#N/A"}}]
[null,3,{"$f":"ROUND(B65*1.5,0)","v":5},3,{"$f":"LOOKUP($E$62,$B$52:$B$55,G52:G55)","v":{"$error":"#N/A"}},{"$f":"LOOKUP($E$62,$B$58:$B$60,G58:G60)","v":{"$error":"#N/A"}},{"$f":"LOOKUP($E$62,$B$52:$B$55,H52:H55)","v":{"$error":"#N/A"}},{"$f":"LOOKUP($E$62,$B$58:$B$60,H58:H60)","v":{"$error":"#N/A"}}]
[null,4,{"$f":"ROUND(B66*1.5,0)","v":6},4,{"$f":"LOOKUP($E$62,$B$52:$B$55,I52:I55)","v":{"$error":"#N/A"}},{"$f":"LOOKUP($E$62,$B$58:$B$60,I58:I60)","v":{"$error":"#N/A"}},{"$f":"LOOKUP($E$62,$B$52:$B$55,J52:J55)","v":{"$error":"#N/A"}},{"$f":"LOOKUP($E$62,$B$58:$B$60,J58:J60)","v":{"$error":"#N/A"}}]
[null,5,{"$f":"ROUND(B67*1.5,0)","v":8},5,{"$f":"LOOKUP($E$62,$B$52:$B$55,K52:K55)","v":{"$error":"#N/A"}},{"$f":"LOOKUP($E$62,$B$58:$B$60,K58:K60)","v":{"$error":"#N/A"}},{"$f":"LOOKUP($E$62,$B$52:$B$55,L52:L55)","v":{"$error":"#N/A"}},{"$f":"LOOKUP($E$62,$B$58:$B$60,L58:L60)","v":{"$error":"#N/A"}}]
[null,null,null,6,{"$f":"LOOKUP($E$62,$B$52:$B$55,M52:M55)","v":{"$error":"#N/A"}},{"$f":"LOOKUP($E$62,$B$58:$B$60,M58:M60)","v":{"$error":"#N/A"}},{"$f":"LOOKUP($E$62,$B$52:$B$55,N52:N55)","v":{"$error":"#N/A"}},{"$f":"LOOKUP($E$62,$B$58:$B$60,N58:N60)","v":{"$error":"#N/A"}}]
[]
[]
[null,"FOR CURRENT UTILITY ALLOWANCES PLEASE GO TO WWW.RIHOUSING.COM OR CONTACT THE DEVELOPMENT DIVISION"]
[]
[null,"THE LIHTC RENTS ARE FOR DEVELOPMENTS PLACED IN SERVICE AFTER 5/14/2010.  IF UNITS WERE PIS PRIOR THIS DATE CONTACT RHODE ISLAND HOUSING FOR ALTERNATIVE RENTS"]
[]
[]
[null,"QCT/DDA and Opportunity Zone Identifier"]
[]
[null,"GEOID","COUNTY","COUNTY Code","Census Tract","Concatenate (for calculation)","QCT","Ozone"]
[null,44003980000,"Kent",3,9800,"Kent9800","No","No"]
[null,44001030300,"Bristol",1,303,"Bristol303","No","No"]
[null,44001030400,"Bristol",1,304,"Bristol304","No","No"]
[null,44007001900,"Providence",7,19,"Providence19","Yes","Yes"]
[null,44007012702,"Providence",7,127.02,"Providence127.02","No","No"]
[null,44007012801,"Providence",7,128.01,"Providence128.01","No","No"]
[null,44007013600,"Providence",7,136,"Providence136","No","No"]
[null,44007018400,"Providence",7,184,"Providence184","No","No"]
[null,44003020200,"Kent",3,202,"Kent202","No","Yes"]
[null,44005041200,"Newport",5,412,"Newport412","No","No"]
[null,44007003500,"Providence",7,35,"Providence35","No","No"]
[null,44007013800,"Providence",7,138,"Providence138","No","No"]
[null,44009050301,"Washington",9,503.01,"Washington503.01","No","No"]
[null,44003020701,"Kent",3,207.01,"Kent207.01","No","No"]
[null,44005990000,"Newport",5,9900,"Newport9900","No","No"]
[null,44007014501,"Providence",7,145.01,"Providence145.01","No","No"]
[null,44007014502,"Providence",7,145.02000000000001,"Providence145.02","No","No"]
[null,44007014600,"Providence",7,146,"Providence146","No","No"]
[null,44003021401,"Kent",3,214.01,"Kent214.01","No","No"]
[null,44003021402,"Kent",3,214.02,"Kent214.02","No","No"]
[null,44005040302,"Newport",5,403.02,"Newport403.02","No","No"]
[null,44007011200,"Providence",7,112,"Providence112","No","Yes"]
[null,44007011302,"Providence",7,113.02,"Providence113.02","No","No"]
[null,44007011401,"Providence",7,114.01,"Providence114.01","No","No"]
[null,44007015600,"Providence",7,156,"Providence156","No","No"]
[null,44007015800,"Providence",7,158,"Providence158","No","No"]
[null,44009051400,"Washington",9,514,"Washington514","No","Yes"]
[null,44009051502,"Washington",9,515.02,"Washington515.02","No","No"]
[null,44003020800,"Kent",3,208,"Kent208","No","No"]
[null,44007013400,"Providence",7,134,"Providence134","No","No"]
[null,44007013500,"Providence",7,135,"Providence135","No","No"]
[null,44009041500,"Washington",9,415,"Washington415","No","No"]
[null,44009050102,"Washington",9,501.02,"Washington501.02","No","No"]
[null,44003021100,"Kent",3,211,"Kent211","No","No"]
[null,44003021300,"Kent",3,213,"Kent213","No","No"]
[null,44003022202,"Kent",3,222.02,"Kent222.02","No","No"]
[null,44003022300,"Kent",3,223,"Kent223","No","No"]
[null,44005040500,"Newport",5,405,"Newport405","Yes","Yes"]
[null,44005040600,"Newport",5,406,"Newport406","No","No"]
[null,44007000800,"Providence",7,8,"Providence8","Yes","Yes"]
[null,44007000900,"Providence",7,9,"Providence9","Yes","No"]
[null,44007002700,"Providence",7,27,"Providence27","Yes","No"]
[null,44007002800,"Providence",7,28,"Providence28","Yes","No"]
[null,44007011100,"Providence",7,111,"Providence111","Yes","Yes"]
[null,44007012103,"Providence",7,121.03,"Providence121.03","No","No"]
[null,44007012104,"Providence",7,121.04,"Providence121.04","No","No"]
[null,44007015500,"Providence",7,155,"Providence155","No","No"]
[null,44007013202,"Providence",7,132.02000000000001,"Providence132.02","No","No"]
[null,44007013300,"Providence",7,133,"Providence133","No","No"]
[null,44007015700,"Providence",7,157,"Providence157","No","No"]
[null,44007017300,"Providence",7,173,"Providence173","No","No"]
[null,44007017400,"Providence",7,174,"Providence174","Yes","No"]
[null,44009051302,"Washington",9,513.02,"Washington513.02","No","No"]
[null,44009051304,"Washington",9,513.04,"Washington513.04","No","No"]
[null,44009051306,"Washington",9,513.05999999999995,"Washington513.06","No","No"]
[null,44003020904,"Kent",3,209.04,"Kent209.04","No","No"]
[null,44003021001,"Kent",3,210.01,"Kent210.01","No","No"]
[null,44003021002,"Kent",3,210.02,"Kent210.02","No","No"]
[null,44003021200,"Kent",3,212,"Kent212","No","No"]
[null,44003022100,"Kent",3,221,"Kent221","No","No"]
[null,44003022201,"Kent",3,222.01,"Kent222.01","No","No"]
[null,44007000600,"Providence",7,6,"Providence6","Yes","Yes"]
[null,44007000700,"Providence",7,7,"Providence7","Yes","No"]
[null,44007010800,"Providence",7,108,"Providence108","Yes","No"]
[null,44007010900,"Providence",7,109,"Providence109","Yes","No"]
[null,44007011000,"Providence",7,110,"Providence110","Yes","No"]
[null,44007011301,"Providence",7,113.01,"Providence113.01","No","No"]
[null,44007012000,"Providence",7,120,"Providence120","No","No"]
[null,44007012102,"Providence",7,121.02,"Providence121.02","No","No"]
[null,44007015200,"Providence",7,152,"Providence152","Yes","Yes"]
[null,44007015300,"Providence",7,153,"Providence153","Yes","No"]
[null,44007015400,"Providence",7,154,"Providence154","No","No"]
[null,44007017000,"Providence",7,170,"Providence170","No","No"]
[null,44007017100,"Providence",7,171,"Providence171","Yes","No"]
[null,44009051201,"Washington",9,512.01,"Washington512.01","No","No"]
[null,44009051202,"Washington",9,512.02,"Washington512.02","No","No"]
[null,44009051305,"Washington",9,513.04999999999995,"Washington513.05","No","No"]
[null,44003020903,"Kent",3,209.03,"Kent209.03","No","No"]
[null,44003021903,"Kent",3,219.03,"Kent219.03","No","No"]
[null,44003022000,"Kent",3,220,"Kent220","No","No"]
[null,44007000400,"Providence",7,4,"Providence4","Yes","No"]
[null,44007000500,"Providence",7,5,"Providence5","Yes","No"]
[null,44007010702,"Providence",7,107.02,"Providence107.02","No","No"]
[null,44007011901,"Providence",7,119.01,"Providence119.01","No","No"]
[null,44007011902,"Providence",7,119.02,"Providence119.02","No","No"]
[null,44007015100,"Providence",7,151,"Providence151","Yes","Yes"]
[null,44007016800,"Providence",7,168,"Providence168","No","No"]
[null,44007016900,"Providence",7,169,"Providence169","No","No"]
[null,44009051102,"Washington",9,511.02,"Washington511.02","No","No"]
[null,44001030100,"Bristol",1,301,"Bristol301","No","No"]
[null,44001030200,"Bristol",1,302,"Bristol302","No","No"]
[null,44003022400,"Kent",3,224,"Kent224","No","No"]
[null,44007001000,"Providence",7,10,"Providence10","Yes","No"]
[null,44007001100,"Providence",7,11,"Providence11","Yes","No"]
[null,44007001200,"Providence",7,12,"Providence12","Yes","No"]
[null,44007001300,"Providence",7,13,"Providence13","Yes","No"]
[null,44007001400,"Providence",7,14,"Providence14","Yes","No"]
[null,44007001500,"Providence",7,15,"Providence15","No","No"]
[null,44007001600,"Providence",7,16,"Providence16","Yes","No"]
[null,44007001700,"Providence",7,17,"Providence17","Yes","No"]
[null,44007001800,"Providence",7,18,"Providence18","Yes","No"]
[null,44007012200,"Providence",7,122,"Providence122","No","No"]
[null,44007012300,"Providence",7,123,"Providence123","No","No"]
[null,44007012401,"Providence",7,124.01,"Providence124.01","No","No"]
[null,44007012402,"Providence",7,124.02,"Providence124.02","No","No"]
[null,44007012500,"Providence",7,125,"Providence125","Yes","No"]
[null,44007012601,"Providence",7,126.01,"Providence126.01","No","No"]
[null,44007012602,"Providence",7,126.02,"Providence126.02","No","No"]
[null,44007012701,"Providence",7,127.01,"Providence127.01","No","No"]
[null,44007017500,"Providence",7,175,"Providence175","No","No"]
[null,44007017600,"Providence",7,176,"Providence176","Yes","No"]
[null,44007017700,"Providence",7,177,"Providence177","No","No"]
[null,44007017800,"Providence",7,178,"Providence178","Yes","No"]
[null,44007017900,"Providence",7,179,"Providence179","Yes","Yes"]
[null,44007018000,"Providence",7,180,"Providence180","Yes","Yes"]
[null,44007018100,"Providence",7,181,"Providence181","Yes","No"]
[null,44007018200,"Providence",7,182,"Providence182","No","No"]
[null,44007018300,"Providence",7,183,"Providence183","Yes","No"]
[null,44003021501,"Kent",3,215.01,"Kent215.01","No","No"]
[null,44003021502,"Kent",3,215.02,"Kent215.02","No","No"]
[null,44003021600,"Kent",3,216,"Kent216","No","No"]
[null,44003021700,"Kent",3,217,"Kent217","No","No"]
[null,44003021800,"Kent",3,218,"Kent218","No","No"]
[null,44003021902,"Kent",3,219.02,"Kent219.02","No","No"]
[null,44007000101,"Providence",7,1.01,"Providence1.01","Yes","Yes"]
[null,44007000102,"Providence",7,1.02,"Providence1.02","Yes","No"]
[null,44007000200,"Providence",7,2,"Providence2","Yes","Yes"]
[null,44007000300,"Providence",7,3,"Providence3","Yes","No"]
[null,44007011402,"Providence",7,114.02,"Providence114.02","No","No"]
[null,44007011403,"Providence",7,114.03,"Providence114.03","No","No"]
[null,44007011500,"Providence",7,115,"Providence115","No","No"]
[null,44007011600,"Providence",7,116,"Providence116","No","No"]
[null,44007011701,"Providence",7,117.01,"Providence117.01","No","No"]
[null,44007011800,"Providence",7,118,"Providence118","No","Yes"]
[null,44007015900,"Providence",7,159,"Providence159","No","No"]
[null,44007016000,"Providence",7,160,"Providence160","Yes","No"]
[null,44007016100,"Providence",7,161,"Providence161","Yes","Yes"]
[null,44007016300,"Providence",7,163,"Providence163","No","No"]
[null,44007016400,"Providence",7,164,"Providence164","Yes","No"]
[null,44007016500,"Providence",7,165,"Providence165","No","No"]
[null,44007016600,"Providence",7,166,"Providence166","Yes","No"]
[null,44007016700,"Providence",7,167,"Providence167","Yes","Yes"]
[null,44009051503,"Washington",9,515.03,"Washington515.03","No","No"]
[null,44009051504,"Washington",9,515.04,"Washington515.04","No","Yes"]
[null,44009990100,"Washington",9,9901,"Washington9901","No","No"]
[null,44009990200,"Washington",9,9902,"Washington9902","No","No"]
[null,44003020901,"Kent",3,209.01,"Kent209.01","No","No"]
[null,44007010701,"Providence",7,107.01,"Providence107.01","No","No"]
[null,44007015000,"Providence",7,150,"Providence150","No","No"]
[null,44003020101,"Kent",3,201.01,"Kent201.01","No","No"]
[null,44003020102,"Kent",3,201.02,"Kent201.02","No","No"]
[null,44005041000,"Newport",5,410,"Newport410","No","No"]
[null,44005041100,"Newport",5,411,"Newport411","No","No"]
[null,44007003300,"Providence",7,33,"Providence33","No","No"]
[null,44007003400,"Providence",7,34,"Providence34","No","No"]
[null,44007013701,"Providence",7,137.01,"Providence137.01","No","No"]
[null,44007013702,"Providence",7,137.02000000000001,"Providence137.02","No","No"]
[null,44009050103,"Washington",9,501.03,"Washington501.03","No","No"]
[null,44009050104,"Washington",9,501.04,"Washington501.04","No","No"]
[null,44001030500,"Bristol",1,305,"Bristol305","No","Yes"]
[null,44001030601,"Bristol",1,306.01,"Bristol306.01","No","No"]
[null,44001030602,"Bristol",1,306.02,"Bristol306.02","No","No"]
[null,44001030700,"Bristol",1,307,"Bristol307","No","Yes"]
[null,44005040101,"Newport",5,401.01,"Newport401.01","No","No"]
[null,44005040102,"Newport",5,401.02,"Newport401.02","No","No"]
[null,44005040103,"Newport",5,401.03,"Newport401.03","No","No"]
[null,44005040200,"Newport",5,402,"Newport402","No","No"]
[null,44007002000,"Providence",7,20,"Providence20","Yes","No"]
[null,44007002101,"Providence",7,21.01,"Providence21.01","No","No"]
[null,44007002102,"Providence",7,21.02,"Providence21.02","No","No"]
[null,44007002200,"Providence",7,22,"Providence22","Yes","No"]
[null,44007012802,"Providence",7,128.02000000000001,"Providence128.02","No","No"]
[null,44007012803,"Providence",7,128.03,"Providence128.03","No","No"]
[null,44007012900,"Providence",7,129,"Providence129","No","No"]
[null,44007013001,"Providence",7,130.01,"Providence130.01","No","No"]
[null,44007013002,"Providence",7,130.02000000000001,"Providence130.02","No","No"]
[null,44007018500,"Providence",7,185,"Providence185","No","Yes"]
[null,44003021901,"Kent",3,219.01,"Kent219.01","No","No"]
[null,44005040900,"Newport",5,409,"Newport409","No","No"]
[null,44007003200,"Providence",7,32,"Providence32","No","No"]
[null,44007011702,"Providence",7,117.02,"Providence117.02","No","No"]
[null,44003020300,"Kent",3,203,"Kent203","Yes","No"]
[null,44003020400,"Kent",3,204,"Kent204","No","No"]
[null,44003020500,"Kent",3,205,"Kent205","No","No"]
[null,44005041300,"Newport",5,413,"Newport413","No","No"]
[null,44005041400,"Newport",5,414,"Newport414","No","No"]
[null,44005041601,"Newport",5,416.01,"Newport416.01","No","No"]
[null,44007003601,"Providence",7,36.01,"Providence36.01","Yes","No"]
[null,44007003602,"Providence",7,36.020000000000003,"Providence36.02","No","No"]
[null,44007003700,"Providence",7,37,"Providence37","Yes","No"]
[null,44007013900,"Providence",7,139,"Providence139","No","No"]
[null,44007014000,"Providence",7,140,"Providence140","No","No"]
[null,44007014100,"Providence",7,141,"Providence141","Yes","No"]
[null,44009050302,"Washington",9,503.02,"Washington503.02","No","No"]
[null,44009050401,"Washington",9,504.01,"Washington504.01","No","No"]
[null,44009050402,"Washington",9,504.02,"Washington504.02","No","No"]
[null,44003020604,"Kent",3,206.04,"Kent206.04","No","No"]
[null,44003020702,"Kent",3,207.02,"Kent207.02","No","No"]
[null,44003020703,"Kent",3,207.03,"Kent207.03","No","No"]
[null,44007010400,"Providence",7,104,"Providence104","No","Yes"]
[null,44007010501,"Providence",7,105.01,"Providence105.01","No","No"]
[null,44007010502,"Providence",7,105.02,"Providence105.02","No","No"]
[null,44007010600,"Providence",7,106,"Providence106","No","No"]
[null,44007014700,"Providence",7,147,"Providence147","No","Yes"]
[null,44007014800,"Providence",7,148,"Providence148","No","No"]
[null,44009050802,"Washington",9,508.02,"Washington508.02","No","No"]
[null,44009050901,"Washington",9,509.01,"Washington509.01","No","No"]
[null,44009050902,"Washington",9,509.02,"Washington509.02","No","No"]
[null,44009051000,"Washington",9,510,"Washington510","No","No"]
[null,44009051101,"Washington",9,511.01,"Washington511.01","No","No"]
[null,44001030800,"Bristol",1,308,"Bristol308","No","No"]
[null,44003020601,"Kent",3,206.01,"Kent206.01","No","No"]
[null,44003020602,"Kent",3,206.02,"Kent206.02","No","No"]
[null,44003020603,"Kent",3,206.03,"Kent206.03","No","No"]
[null,44005040303,"Newport",5,403.03,"Newport403.03","No","No"]
[null,44005041602,"Newport",5,416.02,"Newport416.02","No","No"]
[null,44005041701,"Newport",5,417.01,"Newport417.01","No","No"]
[null,44005041702,"Newport",5,417.02,"Newport417.02","No","No"]
[null,44007002300,"Providence",7,23,"Providence23","No","No"]
[null,44007002400,"Providence",7,24,"Providence24","No","No"]
[null,44007010101,"Providence",7,101.01,"Providence101.01","No","No"]
[null,44007010102,"Providence",7,101.02,"Providence101.02","No","No"]
[null,44007010200,"Providence",7,102,"Providence102","No","No"]
[null,44007010300,"Providence",7,103,"Providence103","No","No"]
[null,44007014200,"Providence",7,142,"Providence142","No","No"]
[null,44007014300,"Providence",7,143,"Providence143","No","No"]
[null,44007014400,"Providence",7,144,"Providence144","No","No"]
[null,44009050500,"Washington",9,505,"Washington505","No","No"]
[null,44009050600,"Washington",9,506,"Washington506","No","No"]
[null,44009050700,"Washington",9,507,"Washington507","No","No"]
[null,44009050801,"Washington",9,508.01,"Washington508.01","No","Yes"]
[null,44005040700,"Newport",5,407,"Newport407","No","No"]
[null,44005040800,"Newport",5,408,"Newport408","No","No"]
[null,44007002900,"Providence",7,29,"Providence29","Yes","No"]
[null,44007003100,"Providence",7,31,"Providence31","No","No"]
[null,44001030901,"Bristol",1,309.01,"Bristol309.01","No","No"]
[null,44001030902,"Bristol",1,309.02,"Bristol309.02","No","No"]
[null,44005040304,"Newport",5,403.04,"Newport403.04","No","No"]
[null,44005040400,"Newport",5,404,"Newport404","No","No"]
[null,44007002500,"Providence",7,25,"Providence25","No","Yes"]
[null,44007002600,"Providence",7,26,"Providence26","Yes","No"]
[null,44007013101,"Providence",7,131.01,"Providence131.01","No","No"]
[null,44007013102,"Providence",7,131.02000000000001,"Providence131.02","No","No"]
[null,44007013201,"Providence",7,132.01,"Providence132.01","No","No"]

{"sheet":"00_5_LIHTC Data","index":5,"n_rows":36,"n_cols":11,"rows_kept":36,"cut":false,"hidden":true,"merged":[[29,2,29,6]]}
[{"$f":"\"Income Limits, Rents, and Utility Allowances for City/Town: \"&'01_1_General Data'!C13&\", MSA: \"&B10","v":"Income Limits, Rents, and Utility Allowances for City/Town: , MSA: 0"}]
[{"$f":"IF(rng01_ProjectName=\"\",\"[Project Name]\", rng01_ProjectName)","v":"[Project Name]"},null,null,null,null,null,"Current Model Progress Date:",{"$f":"tbl00ModelProgress[[#Totals],[Date of Progress /\nLast Edit]]","v":"00:00:00"}]
[]
[null,"Note: These income and rent limits are not the official limits calcluated by RI Housing. Please verify against the annually released income and rent limits"]
[]
[null,"Maximum Income Limits"]
[]
[null,"Tenants","% Median","1 Person","2 Person","3 Person","4 Person","5 Person","6 Person","7 Person","8 Person"]
[null,"Percentage",null,0.7,0.8,0.9,1,1.08,1.1599999999999999,1.24,1.32]
[null,{"$f":"rng01_City1","v":0},0.2,{"$f":"D$13*$C10/$C$13","v":{"$error":"#N/A"}},{"$error":"#N/A"},{"$error":"#N/A"},{"$f":"G$13*$C10/$C$13","v":{"$error":"#N/A"}},{"$f":"H$13*$C10/$C$13","v":{"$error":"#N/A"}},{"$error":"#N/A"},{"$error":"#N/A"},{"$error":"#N/A"}]
[null,null,0.3,{"$f":"D$13*$C11/$C$13","v":{"$error":"#N/A"}},{"$f":"E$13*$C11/$C$13","v":{"$error":"#N/A"}},{"$f":"F$13*$C11/$C$13","v":{"$error":"#N/A"}},{"$f":"G$13*$C11/$C$13","v":{"$error":"#N/A"}},{"$f":"H$13*$C11/$C$13","v":{"$error":"#N/A"}},{"$f":"I$13*$C11/$C$13","v":{"$error":"#N/A"}},{"$f":"J$13*$C11/$C$13","v":{"$error":"#N/A"}},{"$f":"K$13*$C11/$C$13","v":{"$error":"#N/A"}}]
[null,null,0.4,{"$error":"#N/A"},{"$error":"#N/A"},{"$error":"#N/A"},{"$f":"G$13*$C12/$C$13","v":{"$error":"#N/A"}},{"$error":"#N/A"},{"$error":"#N/A"},{"$error":"#N/A"},{"$error":"#N/A"}]
[null,null,0.5,{"$f":"ROUNDUP(($G13*D$9)/50,0)*50","v":{"$error":"#N/A"}},{"$f":"ROUNDUP(($G13*E$9)/50,0)*50","v":{"$error":"#N/A"}},{"$f":"ROUNDUP(($G13*F$9)/50,0)*50","v":{"$error":"#N/A"}},{"$f":"VLOOKUP(B10,'00_4_Reference Tables'!$C$7:$AO$45, 39, FALSE)","v":{"$error":"#N/A"}},{"$f":"ROUNDUP(($G13*H$9)/50,0)*50","v":{"$error":"#N/A"}},{"$f":"ROUNDUP(($G13*I$9)/50,0)*50","v":{"$error":"#N/A"}},{"$f":"ROUNDUP(($G13*J$9)/50,0)*50","v":{"$error":"#N/A"}},{"$f":"ROUNDUP(($G13*K$9)/50,0)*50","v":{"$error":"#N/A"}}]
[null,null,0.6,{"$f":"D$13*$C14/$C$13","v":{"$error":"#N/A"}},{"$error":"#N/A"},{"$error":"#N/A"},{"$error":"#N/A"},{"$error":"#N/A"},{"$error":"#N/A"},{"$error":"#N/A"},{"$error":"#N/A"}]
[null,null,0.7,{"$f":"D$13*$C15/$C$13","v":{"$error":"#N/A"}},{"$f":"E$13*$C15/$C$13","v":{"$error":"#N/A"}},{"$error":"#N/A"},{"$error":"#N/A"},{"$error":"#N/A"},{"$error":"#N/A"},{"$error":"#N/A"},{"$error":"#N/A"}]
[null,null,0.8,{"$f":"D$13*$C16/$C$13","v":{"$error":"#N/A"}},{"$error":"#N/A"},{"$error":"#N/A"},{"$error":"#N/A"},{"$error":"#N/A"},{"$error":"#N/A"},{"$error":"#N/A"},{"$error":"#N/A"}]
[]
[null,"Bedroom Type","% Median","SRO","EFF",1,2,3,4,5]
[null,"Approximate tenant count",null,"1 person","1 person","1.5 person","3 people","4.5 people","6 people","7.5 people"]
[null,{"$f":"B10","v":0},0.2,{"$f":"ROUNDDOWN(D10/12*0.3, 0)","v":{"$error":"#N/A"}},{"$f":"ROUNDDOWN(D10/12*0.3, 0)","v":{"$error":"#N/A"}},{"$f":"ROUNDDOWN(AVERAGE(D10:E10)/12*30%, 0)","v":{"$error":"#N/A"}},{"$f":"ROUNDDOWN(F10/12*0.3, 0)","v":{"$error":"#N/A"}},{"$f":"ROUNDDOWN(AVERAGE(G10:H10)/12*30%, 0)","v":{"$error":"#N/A"}},{"$f":"ROUNDDOWN(I10/12*0.3, 0)","v":{"$error":"#N/A"}},{"$f":"ROUNDDOWN(AVERAGE(J10:K10)/12*30%, 0)","v":{"$error":"#N/A"}}]
[null,null,0.3,{"$f":"ROUNDDOWN(D11/12*0.3, 0)","v":{"$error":"#N/A"}},{"$f":"ROUNDDOWN(D11/12*0.3, 0)","v":{"$error":"#N/A"}},{"$f":"ROUNDDOWN(AVERAGE(D11:E11)/12*30%, 0)","v":{"$error":"#N/A"}},{"$f":"ROUNDDOWN(F11/12*0.3, 0)","v":{"$error":"#N/A"}},{"$f":"ROUNDDOWN(AVERAGE(G11:H11)/12*30%, 0)","v":{"$error":"#N/A"}},{"$f":"ROUNDDOWN(I11/12*0.3, 0)","v":{"$error":"#N/A"}},{"$f":"ROUNDDOWN(AVERAGE(J11:K11)/12*30%, 0)","v":{"$error":"#N/A"}}]
[null,null,0.4,{"$error":"#N/A"},{"$error":"#N/A"},{"$error":"#N/A"},{"$error":"#N/A"},{"$error":"#N/A"},{"$error":"#N/A"},{"$error":"#N/A"}]
[null,null,0.5,{"$error":"#N/A"},{"$error":"#N/A"},{"$error":"#N/A"},{"$error":"#N/A"},{"$error":"#N/A"},{"$error":"#N/A"},{"$error":"#N/A"}]
[null,null,0.6,{"$error":"#N/A"},{"$error":"#N/A"},{"$error":"#N/A"},{"$error":"#N/A"},{"$error":"#N/A"},{"$error":"#N/A"},{"$error":"#N/A"}]
[null,null,0.7,{"$error":"#N/A"},{"$error":"#N/A"},{"$error":"#N/A"},{"$error":"#N/A"},{"$error":"#N/A"},{"$error":"#N/A"},{"$error":"#N/A"}]
[null,null,0.8,{"$error":"#N/A"},{"$error":"#N/A"},{"$error":"#N/A"},{"$error":"#N/A"},{"$error":"#N/A"},{"$error":"#N/A"},{"$error":"#N/A"}]
[]
[]
[null,"Rent Limits"]
[null,null,"Bedrooms"]
[null,"Rent Determinant","SRO/EFF",1,2,3,4]
[null,"Low HOME",{"$f":"VLOOKUP('01_1_General Data'!$C$13,'00_4_Reference Tables'!$C$7:$AG$45,C35,FALSE)","v":{"$error":"#N/A"}},{"$f":"VLOOKUP('01_1_General Data'!$C$13,'00_4_Reference Tables'!$C$7:$AG$45,D35,FALSE)","v":{"$error":"#N/A"}},{"$f":"VLOOKUP('01_1_General Data'!$C$13,'00_4_Reference Tables'!$C$7:$AG$45,E35,FALSE)","v":{"$error":"#N/A"}},{"$f":"VLOOKUP('01_1_General Data'!$C$13,'00_4_Reference Tables'!$C$7:$AG$45,F35,FALSE)","v":{"$error":"#N/A"}},{"$f":"VLOOKUP('01_1_General Data'!$C$13,'00_4_Reference Tables'!$C$7:$AG$45,G35,FALSE)","v":{"$error":"#N/A"}}]
[null,"High HOME",{"$f":"VLOOKUP('01_1_General Data'!$C$13,'00_4_Reference Tables'!$C$7:$AG$45,C36,FALSE)","v":{"$error":"#N/A"}},{"$f":"VLOOKUP('01_1_General Data'!$C$13,'00_4_Reference Tables'!$C$7:$AG$45,D36,FALSE)","v":{"$error":"#N/A"}},{"$f":"VLOOKUP('01_1_General Data'!$C$13,'00_4_Reference Tables'!$C$7:$AG$45,E36,FALSE)","v":{"$error":"#N/A"}},{"$f":"VLOOKUP('01_1_General Data'!$C$13,'00_4_Reference Tables'!$C$7:$AG$45,F36,FALSE)","v":{"$error":"#N/A"}},{"$f":"VLOOKUP('01_1_General Data'!$C$13,'00_4_Reference Tables'!$C$7:$AG$45,G36,FALSE)","v":{"$error":"#N/A"}}]
[]
[null,null,4,{"$f":"C35+6","v":10},16,22,28]
[null,null,5,11,17,23,29]

{"sheet":"00_6_Instruction","index":6,"n_rows":95,"n_cols":11,"rows_kept":95,"cut":false,"hidden":true,"merged":[]}
["Instruction"]
[{"$f":"IF(rng01_ProjectName=\"\",\"[Project Name]\", rng01_ProjectName)","v":"[Project Name]"},null,null,null,null,null,null,null,null,"Current Model Progress Date:",{"$f":"tbl00ModelProgress[[#Totals],[Date of Progress /\nLast Edit]]","v":"00:00:00"}]
[]
[null,"Input"]
[]
[null,null,"01_1_General Data: General Project information, including:"]
[null,null,null,"*Note: users can navigate through the sheet using the buttons on top of the page."]
[null,null,null,"1. General Data: project information, property information, first mortgage, construction loan, owner/borrower information."]
[null,null,null,null,"a. Please fill out MIP in cell K16 as \"0%\" if there is no MIP."]
[null,null,null,null,"b. If there is more than 1 address, please enter a \"primary\" address in this section and the rest in the \"Acquisition\" section."]
[null,null,null,"2. Building Information/Configuration: number of buildings, amenities, square footage summary, utilities."]
[null,null,null,"3. Equity Pay-in: project milestone dates, together with the equity pay-in schedule"]
[null,null,null,null,"a. Please fill out all the expected dates of the milestones even if an equity payment is not associated with the milestone. These dates will trigger calculations throughout the model."]
[null,null,null,"4. Trending Assumption: input income and expense trend percentages as well as vacancy rates for underwriting"]
[null,null,null,null,"a. If it is necessary to modify the trending assumption differently for individual years (rather than using the same trending rate), please use the button \"Modify Yearly Trending Assumption\"."]
[null,null,null,"5. Absorption Schedule: units occupied in the lease-up / pre-stabilization period, commercial and other income occupied percentage"]
[null,null,null,null,"a. Please note that in the first year, the months before lease up date will be automatically grayed out."]
[null,null,null,null,"b. Please enter the total expected affordable / market units count for each month."]
[null,null,null,"6. Development Team Information: input development team information"]
[null,null,null,"7. Acquisition: building/address list, census tract, QCT/Opportunity Zone identification, information on existing debt"]
[null,null,null,"8. Throughout the model, Construction Loan and Bridge Loan is the same thing."]
[]
[null,null,"02_1_Income: input rental, commercial and other income information"]
[null,null,null,"1. Rental income: bedroom type, number of units, targeted AMI, net rent"]
[null,null,null,"2. Commercial, other income: units, net square footage"]
[null,null,null,"3. Utilities table: enter different utility types, cost per each bedroom type and utilities data year"]
[]
[null,null,"02_2_Expense: input projected expenses and comparable / historical expenses"]
[null,null,null,"1. Projected expenses: input expenses to be used in underwriting. Input expenses from the Appraisal"]
[null,null,null,"2. For other projections, first choose between \"Historical\" and \"Comparable\" in the drop down.  For existing properties, you will want to input their historical expenses."]
[null,null,null,null,"a. Please fill out all information - property name, number of units, projection year"]
[null,null,null,null,"b. The Revenue and Net Income/Debt service section will not require an input for comparable data."]
[null,null,null,null,"c. Use button \"Add a Projection\" in order to add additional columns as needed."]
[null,null,null,"3. Section \"Comparison\" utilizes the average of Comparable/Historical projections."]
[null,null,null,null,"a. The \"Historical\" comparison section will appear if \"Rehabilitation\" or \"New Construction and Rehabilitation\" is chosen for Development Type in the General Data page."]
[null,null,null,null,"b. All comparison will be trended to the Underwritten year."]
[]
[null,null,"02_3_Sources: input fund sources for the project"]
[null,null,null,"1. In the \"Debt\" section, the first two lines is defaulted to be RIH First Mortgage and RIH Second Mortgage."]
[null,null,null,"2. When listing each Debt, please use the drop down, identify whether if it's debt service / cash flow, and what is the percentage of cash flow going to that certain debt."]
[]
[null,null,"02_4_Uses: input all development costs for the project"]
[null,null,null,"1. Please make sure to choose a Construction type using the drop down. For projects with only one construction type, only one column will be populated."]
[null,null,null,"2. Please enter Residential and Commercial uses in separate columns."]
[null,null,null,"3. Columns allow the user to identify which costs are eligible for Acquisition Credits, for New Construction / Rehab Credits, HOME eligible basis, and for tax-exempt bond deals, the aggregate basis plus land."]
[null,null,null,"4. Note that the Construction Costs will flow from the detailed schedules on tab \"03_1_Construction Cost\""]
[]
[null,null,"02_5_LIHTC Proceeds: input calculation for total LIHTC Proceeds"]
[null,null,null,"1. Total Eligible Uses will automatically flow from tab \"02_4_Uses\""]
[null,null,null,"2. Select the appropriate Census Tract factor of 100% or 130% using the drop down."]
[null,null,null,"3. Tax Credit Percentage will be automatically 9% for New/Rehab credit if 9% is chosen in the General data tab. Otherwise, it will be a manual input."]
[null,null,null,"4. Enter investor percentage (i.e. 99.99%) and price per credit accordingly."]
[]
[null,null,"03_1_Construction Cost: input each line item under construction cost"]
[null,null,null,"1. Different construction types come directly from uses page.  For projects with only one construction type, only one column will be populated."]
[]
[null,null,"03_2_Construction Schedule: input construction draw schedule during the Construction period, including each sources and expense line items"]
[null,null,null,"1. Enter the expected Construction period (in months) and click the \"Show Construction months timeline\" button."]
[null,null,null,"2. Button \"Compact Schedule\" is to hide the rows that are not necessary. Button \"Decompact Schedule\" is to show all the rows."]
[null,null,null,null,"a. For example, not all Sources line items are filled out, or not all Expenses line items will be filled out. These could be hidden to compact the schedule."]
[]
[null,null,"03_3_Amortizations"]
[null,null,null,"1. This tab is used to calculate amortization for each loan."]
[null,null,null,"2. Please fill out the first payment date for each applicable loan."]
[]
[null,null,"03_4_NH-Assisted Living Data: input income / expense for Nursing home / Assisted living as applicable"]
[null,null,null,"1. This tab will only appear when \"Nursing Home\", \"Assisted Living\" or \"Congregate Care\" is chosen in General data tab."]
[]
[null,null,"04_2_Pre-Stabilization"]
[null,null,null,"1.  Fill out expected expenses for each month during the pre-stabilization period."]
[null,null,null,null,"a. The button \"Paste Monthly trending PAR\" is used to auto-populate the Expense as a guideline."]
[null,null,null,null,"b. The default model will have formulas for all Expense line items. However, the user can overwrite those formulas if need be."]
[]
[null,null,"04_3_Reserves"]
[null,null,null,"1.  Fill out inflated annual needs from Capital Needs Assessment"]
[]
[null,"Output"]
[]
[null,null,"04_1_Pro Forma"]
[null,null,null,"1. The pro forma projects DSCR and cash flow over a 40-year term."]
[null,null,null,"2. The first year of the pro forma will be the first full stabilized year."]
[]
[null,null,"04_2_Pre-Stabilization"]
[null,null,null,"1. This is a pro forma to serve the pre-stabilization period to assist in calculating the cash flow generated during this period. "]
[null,null,null,"2. This pro forma runs from the beginning of lease-up and can continue up to three years. "]
[null,null,null,"3. Rental Income and vacancy reflected on this tab flow from the Absorption schedule in the General Data tab."]
[]
[null,null,"04_3_Reserves"]
[null,null,null,"1. This page tracks the reserve balance each year and measures the reserve balance against projected annual repairs. "]
[]
[null,null,"06_1_Summary Printout"]
[null,null,null,"1. One page summary on a selection of relevant information about the project"]
[]
[null,null,"06_4_Scoring"]
[null,null,null,"1. Weighted Average Total development cost scoring for the deal."]

{"sheet":"00_7_Instruction_RIH","index":7,"n_rows":62,"n_cols":11,"rows_kept":62,"cut":false,"hidden":true,"merged":[]}
["Instruction - for Rhode Island Housing users"]
[{"$f":"IF(rng01_ProjectName=\"\",\"[Project Name]\", rng01_ProjectName)","v":"[Project Name]"},null,null,null,null,null,null,null,null,"Current Model Progress Date:",{"$f":"tbl00ModelProgress[[#Totals],[Date of Progress /\nLast Edit]]","v":"00:00:00"}]
[]
[null,"Controlling / Using output tabs"]
[]
[null,null,"00_2_Master Data Field List"]
[null,null,null,"1. Fill out cell D6 for each deal. That will be the Project ID for each project."]
[]
[null,null,"00_3_Drop Down"]
[null,null,null,"1. To navigate to a drop down, choose among the items in the list and click \"Go to drop down\" button."]
[]
[null,null,"06_2_Credit Committee:"]
[null,null,null,"1. Use the \"Hide\" and \"Show\" line items to navigate between different summary levels."]
[null,null,null,null,"a. Section 1: Default is all Revenue and Income line items. Hide the line items to show only from Net Operating Income"]
[null,null,null,null,"b. Section 3: Default is all Sources and Uses lines. Hiding the $0 lines will omit the unused Sources or Uses line items."]
[null,null,null,null,"c. Section 5: Default is all Unit types line items. Hide the blank lines so that the report only contains the lines that are filled out."]
[null,null,null,"2. \"Lock down Preliminary\": this button is used to lock down the Preliminary sources and usese."]
[null,null,null,null,"a. Please make sure to lock down Preliminary before going to the next phase."]
[null,null,null,null,"b. After locking down, if a change is necessary, the RIH user will need to unlock the page and manually make the necessary change."]
[]
[null,null,"06_3_UWChecklist"]
[null,null,null,"1. Use the \"All\", \"GU\" and \"CC\" buttons to apply desired filters."]
[null,null,null,null,"a. \"All\" will show all underwriting criterias"]
[null,null,null,null,"b. \"GU\" will show all underwriting criterias that are applicable for general underwriting"]
[null,null,null,null,"c. \"CC\" will show all underwriting criterias that are applicable for credit committee"]
[null,null,null,"2. If there are exceptions to the criterias, please fill out exceptions justifications."]
[]
[null,"Database intake suggestion"]
[]
[null,null,"00_2_Master Data Field List"]
[null,null,null,"1. All necessary information on a project has been listed out in the Project Description table, in field \"Data Field Value\"."]
[null,null,null,"2. Use Project ID to identify the information related to that property."]
[null,null,null,null,"a. Please make sure Project ID is filled out, and is unique."]
[null,null,null,"3. For the addresses, since a Project might have several addresses, it is suggested that there is a \"PropertyAddress\" table in your database. The layout of the table can be something like so:"]
[null,null,null,null,"ID","ProjectID","Adress Count","City","Zip Cide","County","Tract"]
[null,null,null,null,1,101,1,"Sample","Sample","Sample","Sample"]
[null,null,null,null,2,101,2,"Sample","Sample","Sample","Sample"]
[null,null,null,null,3,102,1,"Sample","Sample","Sample","Sample"]
[null,null,null,null,"a. The database manager can intake the address like so: \"Address <> 0\" - meaning only take in the rows that have been filled out."]
[]
[null,"Updating"]
[]
[null,null,"00_2_Master Data Field List"]
[null,null,null,"1. To add a data point into the list, please unprotect the sheet and add a line at the end of the table."]
[null,null,null,null,"a. Please make sure the data point being added will correspond with your database intake procedure."]
[]
[null,null,"00_3_Drop Down"]
[null,null,null,"1. The instruction on how to update a drop down is right on the drop down page."]
[null,null,null,null,"a. This should help the drop downs to be updated automatically"]
[null,null,null,null,"b. When updating Loan Type, plese only add an extra row instead of rearranging the rows; since these might affect the Master Data Field list."]
[]
[null,null,"00_4_Reference Tables"]
[null,null,null,"1. Please update the Income limits table every year. Match the income limits by county."]
[null,null,null,"2. Please update the QCT Identification every year. Match and update by Census tracts."]
[]
[null,null,"06_3_UWChecklist"]
[null,null,null,"1. If there is an update to a certain category, please use the \"Program Bulletin / Underwriting Criteria Update\" section."]
[null,null,null,null,"a. Update criteria accordingly based on each categories. "]
[null,null,null,null,"b. The updates will automatically flow through to the criteria checklist."]
[]
[null,null,"VBA Window"]
[null,null,null,"1. The VBA Window is locked using the same RIH's password. In case there is any needs to change the code, please use the RIH password to unlock VBA modules."]

{"sheet":"SD_Dropdowns","index":8,"n_rows":58,"n_cols":49,"rows_kept":58,"cut":false,"hidden":true,"merged":[]}
[null,null,"State",null,null,null,"AMI"]
[null,null,null,null,null,null,null,"4%",1,"Bottled Gas",12,"Bottled Gas",4,"Bottled Gas",5,"100%",9,"Efficiency",5,"AK",1,"Assisted Living",5,"Tenants in Units at Closing",1,"2 P/12NC",13,"Energy Grant",1,"4% LIHTC",1,"Family",1,"New Construction",1,"Permanent",1,"Efficiency",1,"1 BR",3,"Multiple Buildings",3,"4 or 5 story building with elevator",6,"Company",1,"AM Special Activity",27]
[null,null,null,null,null,null,null,"4% and 9%",3,"Electric",11,"Oil",5,"Other",4,"120%",10,"SRO",38,"AL",2,"Congregate Care",4,"Tenants Not in Units at Closing",2,"4 or 5 Story Stick Built on Podium Parking",19,"Grant",2,"811",26,"Mixed Tenancy",5,"Rehabilitation",2,"Subsidized Funding",2,"SRO",2,"2 BR",4,"Scattered Site",1,"4 or 5 Story Stick built on Podium Parking",19,"Individual",2,"Applicant",-1]
[null,null,null,null,null,null,null,"9%",2,"Electric Resistant Baseboard",7,"Electric",1,"Electric",1,"20%",1,"Bed",6,"AR",3,"Multifamily",1,null,null,"Garden Style Apartment Up to 3 Stories (no elevator)",17,"HOME",3,"9% LIHTC",2,"Mixed Use",6,"Acquisition/Rehab",3,"Grant",3,"Bed",3,"3 BR",5,"Single Building",2,"Garden style apartment up to 3 stories (no elevator)",4,null,null,"Auditor",6]
[null,null,null,null,null,null,null,"Historic",4,"Electronic Heat Pumps",4,"Natural Gas",2,"Natural Gas",2,"30%",2,"1BR, 1BA",7,"AZ",4,"Multifamily/Office",3,null,null,"Historic Mill Conversion",15,"Housing Fund",4,"Acquisition Revialization Program (ARP)",3,"Senior (55+)",2,"Existing",4,null,null,"1BR, 1BA",4,"4 BR",6,"Single Site",4,"Historic Mill Conversion",2,null,null,"Business Relationship",7]
[null,null,null,null,null,null,null,"LIHTC and Historic",5,"Forced Hot Air Heating",5,"Other",3,"Oil",3,"40%",3,"1BR, 1.5BA",8,"CA",5,"Multifamily/Retail",2,null,null,"New Construction",7,"Housing Program",5,"Affordable Housing Trust",30,"Senior (62+)",3,"Adaptive Reuse",5,null,null,"1BR, 1.5BA",5,"5 BR",7,null,null,"New Construction and Preservation",20,null,null,"Construction Inspector",8]
[null,null,null,null,null,null,null,"No Credit",6,"Forced Hot Split System with AC",6,null,null,null,null,"50%",4,"1BR, 2BA",9,"CO",6,"Nursing Home",6,null,null,"New Construction and Rehab.",11,"Loan Program",6,"ARPA Production Fund",23,"Special Needs",4,"New Construction and Rehab.",6,null,null,"1BR, 2BA",6,"Efficiency",2,null,null,"New Construction and Rehab.",17,null,null,"Consultant",30]
[null,null,null,null,null,null,null,null,null,"Hydronic Baseboard Heat (gas/propane)",1,null,null,null,null,"60%",5,"2BR, 1BA",10,"CT",7,"Other",7,null,null,"New Production - NC",3,"NONE",7,"Assumed Debt (Rollover)",32,null,null,"New Construction/Adaptive Reuse",7,null,null,"2BR, 1BA",7,"SRO",1,null,null,"Other",11,null,null,"Contractor",33]
[null,null,null,null,null,null,null,null,null,"Hydronic Heat Pump (gas/propane)",3,null,null,null,null,"70%",6,"2BR, 1.5BA",11,"DC",8,null,null,null,null,"New Production - Rehab",2,"Other Programs",8,"Building Homes Rhode Island",4,null,null,null,null,null,null,"2BR, 1.5BA",8,null,null,null,null,"Suburban/Rural Cluster Subdivision (buildings contain less than 8 units per building)",3,null,null,"Co-Sponsor",29]
[null,null,null,null,null,null,null,null,null,"Natural Gas",9,null,null,null,null,"80% LIHTC",7,"2BR, 2BA",12,"DE",9,null,null,null,null,"NOAH",20,"Special Programs",9,"Capital Magnet Fund",5,null,null,null,null,null,null,"2BR, 2BA",9,null,null,null,null,"Up to 4 story building with elevator",5,null,null,"General Contractor",9]
[null,null,null,null,null,null,null,null,null,"Oil",10,null,null,null,null,"80% Non-LIHTC",8,"2BR, 2.5BA",13,"FL",10,null,null,null,null,"Preservation",1,"Subsidy Program",10,"Cashflow from Operations",56,null,null,null,null,null,null,"2BR, 2.5BA",10,null,null,null,null,"Urban",1,null,null,"Insurance Broker",24]
[null,null,null,null,null,null,null,null,null,"Other",8,null,null,null,null,"Over 120%",11,"2BR, 3BA",34,"GA",11,null,null,null,null,"Preservation (FFB)",5,null,null,"Community Development Block Grant",17,null,null,null,null,null,null,"2BR, 3BA",11,null,null,null,null,"Urban (includes scattered site and urban in-fill)",18,null,null,"Insurance Carrier",23]
[null,null,null,null,null,null,null,null,null,"VRF Systems",2,null,null,null,null,null,null,"2BR, 3.5BA",36,"HI",12,null,null,null,null,"Preservation/NC",4,null,null,"Community Revitalization",27,null,null,null,null,null,null,"2BR, 3.5BA",12,null,null,null,null,null,null,null,null,"Landlord",10]
[null,null,null,null,null,null,null,null,null,null,null,null,null,null,null,null,null,"3BR, 1BA",14,"IA",13,null,null,null,null,"Rehab",8,null,null,"Construction Financing",6,null,null,null,null,null,null,"3BR, 1BA",13,null,null,null,null,null,null,null,null,"Law Firm",11]
[null,null,null,null,null,null,null,null,null,null,null,null,null,null,null,null,null,"3BR, 1.5BA",15,"ID",14,null,null,null,null,"Rehabilitation",12,null,null,"DAH-2",48,null,null,null,null,null,null,"3BR, 1.5BA",14,null,null,null,null,null,null,null,null,"Legal",34]
[null,null,null,null,null,null,null,null,null,null,null,null,null,null,null,null,null,"3BR, 2BA",16,"IL",15,null,null,null,null,"Rental Production",6,null,null,"Deferred Development Fee",38,null,null,null,null,null,null,"3BR, 2BA",15,null,null,null,null,null,null,null,null,"LIHTC Legal",32]
[null,null,null,null,null,null,null,null,null,null,null,null,null,null,null,null,null,"3BR, 2.5BA",17,"IN",16,null,null,null,null,"Single Family Homeownership",10,null,null,"ERA 2",54,null,null,null,null,null,null,"3BR, 2.5BA",16,null,null,null,null,null,null,null,null,"Manager",31]
[null,null,null,null,null,null,null,null,null,null,null,null,null,null,null,null,null,"3BR, 3BA",18,"KS",17,null,null,null,null,"Small Rental",9,null,null,"Fed. Historic Tax Credit Proceeds",39,null,null,null,null,null,null,"3BR, 3BA",17,null,null,null,null,null,null,null,null,"Mortgagor",3]
[null,null,null,null,null,null,null,null,null,null,null,null,null,null,null,null,null,"3BR, 3.5BA",37,"KY",18,null,null,null,null,"Suburban/Rural Cluster Subdivision (buildings contain less than 8 units per building)",16,null,null,"Federal Earmark",55,null,null,null,null,null,null,"3BR, 3.5BA",18,null,null,null,null,null,null,null,null,"Other",15]
[null,null,null,null,null,null,null,null,null,null,null,null,null,null,null,null,null,"4BR, 1BA",19,"LA",19,null,null,null,null,"Up to 4 Story Building with Elevator",18,null,null,"FHLB Affordable Housing Program",18,null,null,null,null,null,null,"4BR, 1BA",19,null,null,null,null,null,null,null,null,"Partner",25]
[null,null,null,null,null,null,null,null,null,null,null,null,null,null,null,null,null,"4BR, 1.5BA",20,"MA",20,null,null,null,null,"Urban (includes scattered site and urban in-fill)",14,null,null,"General Partner Capital",40,null,null,null,null,null,null,"4BR, 1.5BA",20,null,null,null,null,null,null,null,null,"Site Management",19]
[null,null,null,null,null,null,null,null,null,null,null,null,null,null,null,null,null,"4BR, 2BA",21,"MD",21,null,null,null,null,null,null,null,null,"HOME",7,null,null,null,null,null,null,"4BR, 2BA",21,null,null,null,null,null,null,null,null,"Sponsor",26]
[null,null,null,null,null,null,null,null,null,null,null,null,null,null,null,null,null,"4BR, 2.5BA",22,"ME",22,null,null,null,null,null,null,null,null,"HOME-ARP",8,null,null,null,null,null,null,"4BR, 2.5BA",22,null,null,null,null,null,null,null,null,"Syndicator",22]
[null,null,null,null,null,null,null,null,null,null,null,null,null,null,null,null,null,"4BR, 3.5BA",35,"MI",23,null,null,null,null,null,null,null,null,"Housing Production Fund",9,null,null,null,null,null,null,"4BR, 3.5BA",23,null,null,null,null,null,null,null,null,"Title Company",21]
[null,null,null,null,null,null,null,null,null,null,null,null,null,null,null,null,null,"4BR, 3BA",23,"MN",24,null,null,null,null,null,null,null,null,"Housing Trust Fund",10,null,null,null,null,null,null,"4BR, 3BA",24,null,null,null,null,null,null,null,null,"Voucher/TRACS",28]
[null,null,null,null,null,null,null,null,null,null,null,null,null,null,null,null,null,"4BR, 4BA",33,"MO",25,null,null,null,null,null,null,null,null,"HPF-ELI",51,null,null,null,null,null,null,"4BR, 4BA",25,null,null,null,null,null,null,null,null,"Developer",1]
[null,null,null,null,null,null,null,null,null,null,null,null,null,null,null,null,null,"5BR, 1BA",24,"MS",26,null,null,null,null,null,null,null,null,"Lead Loan",19,null,null,null,null,null,null,"5BR, 1BA",26,null,null,null,null,null,null,null,null,"Management Agent",14]
[null,null,null,null,null,null,null,null,null,null,null,null,null,null,null,null,null,"5BR, 1.5BA",25,"MT",27,null,null,null,null,null,null,null,null,"LIHTC Proceeds",41,null,null,null,null,null,null,"5BR, 1.5BA",27,null,null,null,null,null,null,null,null,"Owner",16]
[null,null,null,null,null,null,null,null,null,null,null,null,null,null,null,null,null,"5BR, 2BA",26,"NC",28,null,null,null,null,null,null,null,null,"Middle Income Program",24,null,null,null,null,null,null,"5BR, 2BA",28,null,null,null,null,null,null,null,null,"Accountant",4]
[null,null,null,null,null,null,null,null,null,null,null,null,null,null,null,null,null,"5BR, 2.5BA",27,"ND",29,null,null,null,null,null,null,null,null,"Neighborhood Stabilization Program (NSP)",31,null,null,null,null,null,null,"5BR, 2.5BA",29,null,null,null,null,null,null,null,null,"Architect",5]
[null,null,null,null,null,null,null,null,null,null,null,null,null,null,null,null,null,"5BR, 3.5BA",29,"NE",30,null,null,null,null,null,null,null,null,"NOP",25,null,null,null,null,null,null,"5BR, 3.5BA",30,null,null,null,null,null,null,null,null,"Lender",12]
[null,null,null,null,null,null,null,null,null,null,null,null,null,null,null,null,null,"5BR, 3BA",28,"NH",31,null,null,null,null,null,null,null,null,"Other",22,null,null,null,null,null,null,"5BR, 3BA",31,null,null,null,null,null,null,null,null,"Management Entity",13]
[null,null,null,null,null,null,null,null,null,null,null,null,null,null,null,null,null,"6BR or More",39,"NJ",32,null,null,null,null,null,null,null,null,"Other Equity",42,null,null,null,null,null,null,"6BR or More",32,null,null,null,null,null,null,null,null,"Mortgage Banker",2]
[null,null,null,null,null,null,null,null,null,null,null,null,null,null,null,null,null,null,null,"NM",33,null,null,null,null,null,null,null,null,"Other Source 2",43,null,null,null,null,null,null,null,null,null,null,null,null,null,null,null,null,"Partnership",18]
[null,null,null,null,null,null,null,null,null,null,null,null,null,null,null,null,null,null,null,"NV",34,null,null,null,null,null,null,null,null,"Other Source 3",44]
[null,null,null,null,null,null,null,null,null,null,null,null,null,null,null,null,null,null,null,"NY",35,null,null,null,null,null,null,null,null,"Other Source 4",45]
[null,null,null,null,null,null,null,null,null,null,null,null,null,null,null,null,null,null,null,"OH",36,null,null,null,null,null,null,null,null,"Other Source 5",46]
[null,null,null,null,null,null,null,null,null,null,null,null,null,null,null,null,null,null,null,"OK",37,null,null,null,null,null,null,null,null,"Permanent Financing",11]
[null,null,null,null,null,null,null,null,null,null,null,null,null,null,null,null,null,null,null,"OR",38,null,null,null,null,null,null,null,null,"PHA Production Fund",49]
[null,null,null,null,null,null,null,null,null,null,null,null,null,null,null,null,null,null,null,"PA",39,null,null,null,null,null,null,null,null,"Preservation Loan Fund Program",12]
[null,null,null,null,null,null,null,null,null,null,null,null,null,null,null,null,null,null,null,"RI",40,null,null,null,null,null,null,null,null,"Preservation Revitalization Deferred Loan Program (CIP)",13]
[null,null,null,null,null,null,null,null,null,null,null,null,null,null,null,null,null,null,null,"SC",41,null,null,null,null,null,null,null,null,"Priority Projects Fund",53]
[null,null,null,null,null,null,null,null,null,null,null,null,null,null,null,null,null,null,null,"SD",42,null,null,null,null,null,null,null,null,"Rhode Island Rebounds",37]
[null,null,null,null,null,null,null,null,null,null,null,null,null,null,null,null,null,null,null,"TN",43,null,null,null,null,null,null,null,null,"RI Rebuild ",36]
[null,null,null,null,null,null,null,null,null,null,null,null,null,null,null,null,null,null,null,"TX",44,null,null,null,null,null,null,null,null,"RIH First Mortgage",33]
[null,null,null,null,null,null,null,null,null,null,null,null,null,null,null,null,null,null,null,"UT",45,null,null,null,null,null,null,null,null,"RIH HOME Loan",35]
[null,null,null,null,null,null,null,null,null,null,null,null,null,null,null,null,null,null,null,"VA",46,null,null,null,null,null,null,null,null,"RIH Second Mortgage",34]
[null,null,null,null,null,null,null,null,null,null,null,null,null,null,null,null,null,null,null,"VT",47,null,null,null,null,null,null,null,null,"Rollover Debt",20]
[null,null,null,null,null,null,null,null,null,null,null,null,null,null,null,null,null,null,null,"WA",48,null,null,null,null,null,null,null,null,"Seller Loan",21]
[null,null,null,null,null,null,null,null,null,null,null,null,null,null,null,null,null,null,null,"WI",49,null,null,null,null,null,null,null,null,"Sponsor Loan",29]
[null,null,null,null,null,null,null,null,null,null,null,null,null,null,null,null,null,null,null,"WV",50,null,null,null,null,null,null,null,null,"State ARPA",14]
[null,null,null,null,null,null,null,null,null,null,null,null,null,null,null,null,null,null,null,"WY",51,null,null,null,null,null,null,null,null,"State Historic TC Proceeds",47]
[null,null,null,null,null,null,null,null,null,null,null,null,null,null,null,null,null,null,null,null,null,null,null,null,null,null,null,null,null,"State LIHTC",57]
[null,null,null,null,null,null,null,null,null,null,null,null,null,null,null,null,null,null,null,null,null,null,null,null,null,null,null,null,null,"Tax Exempt Bonds",15]
[null,null,null,null,null,null,null,null,null,null,null,null,null,null,null,null,null,null,null,null,null,null,null,null,null,null,null,null,null,"Third Party Senior Lender",50]
[null,null,null,null,null,null,null,null,null,null,null,null,null,null,null,null,null,null,null,null,null,null,null,null,null,null,null,null,null,"Thresholds",28]
[null,null,null,null,null,null,null,null,null,null,null,null,null,null,null,null,null,null,null,null,null,null,null,null,null,null,null,null,null,"TOD Fund",52]
[null,null,null,null,null,null,null,null,null,null,null,null,null,null,null,null,null,null,null,null,null,null,null,null,null,null,null,null,null,"Workforce Housing Fund",16]

{"sheet":"Mapping","index":9,"n_rows":726,"n_cols":81,"rows_kept":726,"cut":false,"hidden":true,"merged":[]}
["ProLink Mapping Tab"]
["Deal Name:",null,"TCATrigger",{"$f":"IF(rng01_CreditType=\"\",\"No\",\"Yes\")","v":"No"}]
["HFA Number:"]
["DEV Deal Number:"]
["TCA Deal Number:"]
[]
["Tab","Section","Sub-Section","Sub-Section","Notes","Possible ProLinkHFA Field Name","Field Name","Mapping",null,"Mapping","Mapping","Mapping","Mapping","Mapping","Mapping","Mapping","Mapping","Mapping","Mapping","Mapping","Mapping","Mapping","Mapping","Mapping","Mapping","Mapping","Mapping",null,null,null,null,"Tab","Section","Sub-Section","Sub-Section","Notes","Possible ProLinkHFA Field Name","Field Name","Mapping","Mapping","Mapping","Mapping","Mapping","Mapping","Mapping","Mapping","Mapping","Mapping","Mapping","Mapping","Mapping","Mapping","Mapping","Mapping","Mapping","Mapping","Mapping"]
["01_1_General Data","General Information","Project Information",null,null,null,"[Project Name]",{"$f":"IF(rng01_ProjectName=\"\",\"\",rng01_ProjectName)","v":""},{"$f":"IF(rng01_ProjectName=\"\",\"\",rng01_ProjectName)","v":""},null,null,null,null,null,null,null,null,null,null,null,null,null,null,null,null,null,null,null,null,null,null,"01_1_General Data","General Information","Project Information",null,null,null,"[Project Name]",{"$f":"IF(TCATrigger=\"No\",\"\",IF(rng01_ProjectName=\"\",\"\",rng01_ProjectName))","v":""},"unmap"]
[null,null,null,null,null,null,"Current Model Progress Date:",{"$f":"IF(rng01_ProjectCurrModProgressDate=\"\",\"\",rng01_ProjectCurrModProgressDate)","v":0},null,null,null,null,null,null,null,null,null,null,null,null,null,null,null,null,null,null,null,null,null,null,null,null,null,null,null,null,null,"Current Model Prgress Date:",{"$f":"IF(TCATrigger=\"No\",\"\",IF(rng01_ProjectCurrModProgressDate=\"\",\"\",rng01_ProjectCurrModProgressDate))","v":""}]
[]
[]
["01_1_General Data","General Information","Project Information",null,null,null,"Project Name",{"$f":"IF(rng01_ProjectName=\"\",\"\",rng01_ProjectName)","v":""},null,null,null,null,null,null,null,null,null,null,null,null,null,null,null,null,null,null,null,null,null,null,null,"01_1_General Data","General Information","Project Information",null,null,null,"Project Name",{"$f":"IF(TCATrigger=\"No\",\"\",IF(rng01_ProjectName=\"\",\"\",rng01_ProjectName))","v":""}]
[null,null,null,null,null,null,"Primary Address",{"$f":"IF(rng01_Address1=\"\",\"\",rng01_Address1)","v":""},null,null,null,null,null,null,null,null,null,null,null,null,null,null,null,null,null,null,null,null,null,null,null,null,null,null,null,null,null,"Primary Address",{"$f":"IF(TCATrigger=\"No\",\"\",IF(rng01_Address1=\"\",\"\",rng01_Address1))","v":""}]
[null,null,null,null,null,null,"City ",{"$f":"IF(rng01_City1=\"\",\"\",rng01_City1)","v":""},null,null,null,null,null,null,null,null,null,null,null,null,null,null,null,null,null,null,null,null,null,null,null,null,"Look at TC Current stage node when mappiong",null,null,null,null,"City ",{"$f":"IF(TCATrigger=\"No\",\"\",IF(rng01_City1=\"\",\"\",rng01_City1))","v":""}]
[null,null,null,null,null,null,"County",{"$f":"IF(OR(rng01_City1=\"Barrington\",rng01_City1=\"Bristol\",rng01_City1=\"Warren\"),\"Bristol County\",IF(OR(rng01_City1=\"Coventry\",rng01_City1=\"East Greenwich\",rng01_City1=\"Warwick\",rng01_City1=\"West Greenwich\",rng01_City1=\"West Warwick\"),\"Kent County\", IF(OR(rng01_City1=\"Jamestown\", rng01_City1=\"Little Compton\", rng01_City1=\"Middletown\", rng01_City1=\"Newport\", rng01_City1=\"Portsmouth\", rng01_City1=\"Tiverton\"), \"Newport County\", IF(OR(rng01_City1=\"Burrillville\", rng01_City1=\"Central Falls\",rng01_City1=\"Cranston\", rng01_City1=\"Cumberland\", rng01_City1=\"East Providence\", rng01_City1=\"Foster\", rng01_City1=\"Glocester\", rng01_City1=\"Johnston\", rng01_City1=\"Lincoln\", rng01_City1=\"North Providence\", rng01_City1=\"North Smithfield\", rng01_City1=\"Pawtucket\",rng01_City1=\"Providence\", rng01_City1=\"Scituate\", rng01_City1=\"Smithfield\", rng01_City1=\"Woonsocket\"), \"Providence County\", IF(OR(rng01_City1=\"Charlestown\", rng01_City1=\"Exeter\", rng01_City1=\"Hopkinton\", rng01_City1=\"Narragansett\", rng01_City1=\"New Shoreham\", rng01_City1=\"North Kingstown\", rng01_City1=\"Richmond\", rng01_City1=\"South Kingstown\", rng01_City1=\"Westerly\"), \"Washington County\",\"\")))))","v":""},null,null,null,null,null,null,null,null,null,null,null,null,null,null,null,null,null,null,null,null,null,null,null,null,null,null,null,null,null,"County",{"$f":"H15","v":""}]
[null,null,null,null,null,null,"State","RI",null,null,null,null,null,null,null,null,null,null,null,null,null,null,null,null,null,null,null,null,null,null,null,null,null,null,null,null,null,"State",{"$f":"IF(TCATrigger=\"No\",\"\",IF(rng01_State=\"\",\"\",rng01_State))","v":""}]
[null,null,null,null,null,null,"Zip Code",{"$f":"IF(rng01_Zip1=\"\",\"\",rng01_Zip1)","v":""},null,null,null,null,null,null,null,null,null,null,null,null,null,null,null,null,null,null,null,null,null,null,null,null,null,null,null,null,null,"Zip Code",{"$f":"IF(TCATrigger=\"No\",\"\",IF(rng01_Zip1=\"\",\"\",rng01_Zip1))","v":""}]
[null,null,null,null,null,null,"Census Tract",null,null,null,null,null,null,null,null,null,null,null,null,null,null,null,null,null,null,null,null,null,null,null,null,null,null,null,null,null,null,"Census Tract",null,null,"Current Stage - Census Tract"]
[null,null,null,null,null,"Property Use on Edit Dev Property","Property Type",{"$f":"IF(rng01_PropertyType=\"\",\"\",rng01_PropertyType)","v":""},null,null,null,null,null,null,null,null,null,null,null,null,null,null,null,null,null,null,null,null,null,null,null,null,null,null,null,null,"Property Use on Edit Dev Property","Property Type",{"$f":"IF(TCATrigger=\"No\",\"\",IF(rng01_PropertyType=\"\",\"\",rng01_PropertyType))","v":""}]
[null,null,null,null,null,null,"Development Type",{"$f":"IF(rng01_DevelopmentType=\"\",\"\",rng01_DevelopmentType)","v":""},null,null,null,null,null,null,null,null,null,null,null,null,null,null,null,null,null,null,null,null,null,null,null,null,null,null,null,null,null,"Development Type",{"$f":"IF(TCATrigger=\"No\",\"\",IF(rng01_DevelopmentType=\"\",\"\",rng01_DevelopmentType))","v":""},null,"Current Stage - Bldg Alloc Type"]
[null,null,null,null,null,null,"Tenancy Type",{"$f":"IF(rng01_TenancyType=\"\",\"\",rng01_TenancyType)","v":""},null,null,null,null,null,null,null,null,null,null,null,null,null,null,null,null,null,null,null,null,null,null,null,null,null,null,null,null,null,"Tenancy Type",{"$f":"IF(TCATrigger=\"No\",\"\",IF(rng01_TenancyType=\"\",\"\",rng01_TenancyType))","v":""},null,"Current Stage - Target Type"]
[null,null,null,null,null,null,"Tenant Status",{"$f":"IF(ISBLANK(rng01_TenantStatus), \"\", rng01_TenantStatus)","v":""},null,null,null,null,null,null,null,null,null,null,null,null,null,null,null,null,null,null,null,null,null,null,null,null,null,null,null,null,null,"Tenant Status"]
[null,null,null,null,null,null,"Credit Type",{"$f":"IF(rng01_CreditType=\"\",\"\",rng01_CreditType)","v":""},null,null,null,null,null,null,null,null,null,null,null,null,null,null,null,null,null,null,null,null,null,null,null,null,null,null,null,null,null,"Credit Type",{"$f":"IF(TCATrigger=\"No\",\"\",IF(rng01_CreditType=\"\",\"\",rng01_CreditType))","v":""}]
[null,null,null,null,null,null,"Construction Type",{"$f":"IF(rng01_ConstructionType=\"\",\"\",rng01_ConstructionType)","v":""},null,null,null,null,null,null,null,null,null,null,null,null,null,null,null,null,null,null,null,null,null,null,null,null,null,null,null,null,null,"Construction Type",{"$f":"IF(TCATrigger=\"No\",\"\",IF(rng01_ConstructionType=\"\",\"\",rng01_ConstructionType))","v":""},null,null,null,null,"Current Stage - Construction Type"]
[null,null,null,null,null,null,"RIH Underwriter",{"$f":"IF(rng01_RIH_Underwriter=\"\",\"\",rng01_RIH_Underwriter)","v":""},null,null,null,null,null,null,null,null,null,null,null,null,null,null,null,null,null,null,null,null,null,null,null,null,null,null,null,null,null,"RIH Underwriter",{"$f":"IF(TCATrigger=\"No\",\"\",IF(rng01_RIH_Underwriter=\"\",\"\",rng01_RIH_Underwriter))","v":""}]
[null,null,null,null,null,null,"Model Revision Date",{"$f":"IF(rng01_Mod_Rev_Date=\"\",\"\",rng01_Mod_Rev_Date)","v":"2024-11-25"},null,null,null,null,null,null,null,null,null,null,null,null,null,null,null,null,null,null,null,null,null,null,null,null,null,null,null,null,null,"Model Revision Date",{"$f":"IF(TCATrigger=\"No\",\"\",IF(rng01_Mod_Rev_Date=\"\",\"\",rng01_Mod_Rev_Date))","v":""}]
[null,null,null,null,null,null,"Model Version number",{"$f":"IF(rng01_Mod_Ver_Num=\"\",\"\",rng01_Mod_Ver_Num)","v":"v12.1m"},null,null,null,null,null,null,null,null,null,null,null,null,null,null,null,null,null,null,null,null,null,null,null,null,null,null,null,null,null,"Model Version number",{"$f":"IF(TCATrigger=\"No\",\"\",IF(rng01_Mod_Ver_Num=\"\",\"\",rng01_Mod_Ver_Num))","v":""}]
[]
[]
["01_1_General Data","General Information","Property Information",null,null,null,"Date Acquired",{"$f":"IF(rng01_Date_Acquired=\"\",\"\",rng01_Date_Acquired)","v":""},null,null,null,null,null,null,null,null,null,null,null,null,null,null,null,null,null,null,null,null,null,null,null,"01_1_General Data","General Information","Property Information",null,null,null,"Date Acquired",{"$f":"IF(TCATrigger=\"No\",\"\",IF(rng01_Date_Acquired=\"\",\"\",rng01_Date_Acquired))","v":""}]
[null,null,null,null,null,null,"Total Land Area (sf)",{"$f":"IF(rng01_TLA_sf=\"\",\"\",rng01_TLA_sf)","v":""},null,null,null,null,null,null,null,null,null,null,null,null,null,null,null,null,null,null,null,null,null,null,null,null,null,null,null,null,null,"Total Land Area (sf)",{"$f":"IF(TCATrigger=\"No\",\"\",IF(rng01_TLA_sf=\"\",\"\",rng01_TLA_sf))","v":""}]
[null,null,null,null,null,null,"Zoning Status",{"$f":"IF(rng01_Zoning_Status=\"\",\"\",rng01_Zoning_Status)","v":""},null,null,null,null,null,null,null,null,null,null,null,null,null,null,null,null,null,null,null,null,null,null,null,null,null,null,null,null,null,"Zoning Status",{"$f":"IF(TCATrigger=\"No\",\"\",IF(rng01_Zoning_Status=\"\",\"\",rng01_Zoning_Status))","v":""}]
[null,null,null,null,null,null,"Ground Lease/Fee/Other",{"$f":"IF(rng01_Ground_Lease_Fee_Other=\"\",\"\",rng01_Ground_Lease_Fee_Other)","v":""},null,null,null,null,null,null,null,null,null,null,null,null,null,null,null,null,null,null,null,null,null,null,null,null,null,null,null,null,null,"Ground Lease/Fee/Other",{"$f":"IF(TCATrigger=\"No\",\"\",IF(rng01_Ground_Lease_Fee_Other=\"\",\"\",rng01_Ground_Lease_Fee_Other))","v":""}]
[null,null,null,null,null,null,"Brownfield Site (Yes/No)?",{"$f":"IF(rng01_Brownfield_Site=\"\",\"\",rng01_Brownfield_Site)","v":""},null,null,null,null,null,null,null,null,null,null,null,null,null,null,null,null,null,null,null,null,null,null,null,null,null,null,null,null,null,"Brownfield Site (Yes/No)?",{"$f":"IF(TCATrigger=\"No\",\"\",IF(rng01_Brownfield_Site=\"\",\"\",rng01_Brownfield_Site))","v":""}]
[null,null,null,null,null,null,"Historic Credit (Yes/No)?",{"$f":"IF(rng01_Historic_Credit=\"\",\"\",rng01_Historic_Credit)","v":""},null,null,null,null,null,null,null,null,null,null,null,null,null,null,null,null,null,null,null,null,null,null,null,null,null,null,null,null,null,"Historic Credit (Yes/No)?",{"$f":"IF(TCATrigger=\"No\",\"\",IF(rng01_Historic_Credit=\"\",\"\",rng01_Historic_Credit))","v":""}]
[null,null,null,null,null,null,"Public Water (Yes/No)?",{"$f":"IF(rng01_Public_Water=\"\",\"\",rng01_Public_Water)","v":""},null,null,null,null,null,null,null,null,null,null,null,null,null,null,null,null,null,null,null,null,null,null,null,null,null,null,null,null,null,"Public Water (Yes/No)?",{"$f":"IF(TCATrigger=\"No\",\"\",IF(rng01_Public_Water=\"\",\"\",rng01_Public_Water))","v":""}]
[null,null,null,null,null,null,"Public Sewer (Yes/No)?",{"$f":"IF(rng01_Public_Sewer=\"\",\"\",rng01_Public_Sewer)","v":""},null,null,null,null,null,null,null,null,null,null,null,null,null,null,null,null,null,null,null,null,null,null,null,null,null,null,null,null,null,"Public Sewer (Yes/No)?",{"$f":"IF(TCATrigger=\"No\",\"\",IF(rng01_Public_Sewer=\"\",\"\",rng01_Public_Sewer))","v":""}]
[null,null,null,null,null,null,"Year Built",{"$f":"IF(rng01_Yr_Built=\"\",\"\",rng01_Yr_Built)","v":""},null,null,null,null,null,null,null,null,null,null,null,null,null,null,null,null,null,null,null,null,null,null,null,null,null,null,null,null,null,"Year Built",{"$f":"IF(TCATrigger=\"No\",\"\",IF(rng01_Yr_Built=\"\",\"\",rng01_Yr_Built))","v":""}]
[null,null,null,null,"UDF for this?\nScattered Site\nSingle Site\nOther",null,"Type of Project",{"$f":"IF(rng01_ProjectType=\"\",\"\",rng01_ProjectType)","v":""},null,null,null,null,null,null,null,null,null,null,null,null,null,null,null,null,null,null,null,null,null,null,null,null,null,null,null,null,null,"Type of Project",{"$f":"IF(TCATrigger=\"No\",\"\",IF(rng01_ProjectType=\"\",\"\",rng01_ProjectType))","v":""},"UDF for this?\nScattered Site\nSingle Site\nOther",null,null,"Current Stage - Building Type"]
[null,null,null,null,"Sum of Residential Buildings only. Is this right?",null,"Number of Buildings",{"$f":"IF(rng01_NumOfBuildings=0,\"\",rng01_NumOfBuildings)","v":""},null,null,null,null,null,null,null,null,null,null,null,null,null,null,null,null,null,null,null,null,null,null,null,null,null,null,null,null,null,"Number of Buildings",{"$f":"IF(OR(TCATrigger=\"No\",rng01_NumOfBuildings=\"\",rng01_NumOfBuildings=0),\"\",rng01_NumOfBuildings)","v":""},"Sum of Residential Buildings only. Is this right?",null,null,"Current Stage - Num Buildings"]
[null,null,null,null,null,null,"Number of Elevators",{"$f":"IF(rng01_Num_Elevators=\"\",\"\",rng01_Num_Elevators)","v":""},null,null,null,null,null,null,null,null,null,null,null,null,null,null,null,null,null,null,null,null,null,null,null,null,null,null,null,null,null,"Number of Elevators",{"$f":"IF(TCATrigger=\"No\",\"\",IF(rng01_Num_Elevators=\"\",\"\",rng01_Num_Elevators))","v":""}]
[null,null,null,null,null,null,"Sprinklered (Yes/No)?",{"$f":"IF(rng01_Sprinklers=\"\",\"\",rng01_Sprinklers)","v":""},null,null,null,null,null,null,null,null,null,null,null,null,null,null,null,null,null,null,null,null,null,null,null,null,null,null,null,null,null,"Sprinklered (Yes/No)?",{"$f":"IF(TCATrigger=\"No\",\"\",IF(rng01_Sprinklers=\"\",\"\",rng01_Sprinklers))","v":""}]
[null,null,null,null,null,null,"Number of Parking Spaces",{"$f":"IF(rng01_Num_ParkingSpaces=\"\",\"\",rng01_Num_ParkingSpaces)","v":""},null,null,null,null,null,null,null,null,null,null,null,null,null,null,null,null,null,null,null,null,null,null,null,null,null,null,null,null,null,"Number of Parking Spaces",{"$f":"IF(TCATrigger=\"No\",\"\",IF(rng01_Num_ParkingSpaces=\"\",\"\",rng01_Num_ParkingSpaces))","v":""},null,null,null,"Current Stage - Num Proposed Parking Spaces"]
[]
[]
["01_1_General Data","General Information","Program and Rental Assistance Information",null,null,null,"RIH Program Type",{"$f":"IF(rng01_ProgramType=\"\",\"\",rng01_ProgramType)","v":""},null,null,null,null,null,null,null,null,null,null,null,null,null,null,null,null,null,null,null,null,null,null,null,"01_1_General Data","General Information","Program and Rental Assistance Information",null,null,null,"RIH Program Type",{"$f":"IF(TCATrigger=\"No\",\"\",IF(rng01_ProgramType=\"\",\"\",rng01_ProgramType))","v":""}]
[null,null,null,null,null,null,"Is this a Section 8 Project (Yes/No)?",{"$f":"IF(rng01_Section_8=\"\",\"\",rng01_Section_8)","v":""},null,null,null,null,null,null,null,null,null,null,null,null,null,null,null,null,null,null,null,null,null,null,null,null,null,null,null,null,null,"Is this a Section 8 Project (Yes/No)?",{"$f":"IF(TCATrigger=\"No\",\"\",IF(rng01_Section_8=\"\",\"\",rng01_Section_8))","v":""}]
[null,null,null,null,null,null,"Other Assistance (Yes/No)?",{"$f":"IF(rng01_Other_Assistance=\"\",\"\",rng01_Other_Assistance)","v":""},{"$f":"IF(H48=\"Yes\",\"True\")","v":false},null,null,null,null,null,null,null,null,null,null,null,null,null,null,null,null,null,null,null,null,null,null,null,null,null,null,null,null,"Other Assistance (Yes/No)?",{"$f":"IF(TCATrigger=\"No\",\"\",IF(rng01_Other_Assistance=\"\",\"\",I48))","v":""},"Done",null,null,"Current Stage - Has Rental Assistance"]
[null,null,null,null,null,null,"Type of  Other Assistance",{"$f":"IF(rng01_Other_Assistance_Type=\"\",\"\",rng01_Other_Assistance_Type)","v":""},null,null,null,null,null,null,null,null,null,null,null,null,null,null,null,null,null,null,null,null,null,null,null,null,null,null,null,null,null,"Type of  Other Assistance",{"$f":"IF(TCATrigger=\"No\",\"\",IF(rng01_Other_Assistance_Type=\"\",\"\",rng01_Other_Assistance_Type))","v":""}]
[null,null,null,null,null,null,"Low-Income Set Aside",{"$f":"IF(rng01_SetAside=\"\",\"\",rng01_SetAside)","v":""},null,null,null,null,null,null,null,null,null,null,null,null,null,null,null,null,null,null,null,null,null,null,null,null,null,null,null,null,null,"Low-Income Set Aside",{"$f":"IF(TCATrigger=\"No\",\"\",IF(rng01_SetAside=\"\",\"\",rng01_SetAside))","v":""}]
[]
[null,null,null,null,"These fields are aimed at RIH owning the Loan? ProLink captures Loan owners, including clients"]
["01_1_General Data","General Information","First Mortgage Information",null,"This field captures the name of the banker, whether it's RIH or not","Mortgage Banker","RIH Mortgage (Yes/No)?",{"$f":"IF(rng01_RIH_Mortgage=\"\",\"\",rng01_RIH_Mortgage)","v":""},null,null,null,null,null,null,null,null,null,null,null,null,null,null,null,null,null,null,null,null,null,null,null,"01_1_General Data","General Information","First Mortgage Information",null,null,null,"RIH Mortgage (Yes/No)?",{"$f":"IF(TCATrigger=\"No\",\"\",IF(rng01_RIH_Mortgage=\"\",\"\",rng01_RIH_Mortgage))","v":""}]
[null,null,null,null,null,null,"Risk Sharing (Yes/No)?",{"$f":"IF(rng01_Risk_Sharing=\"\",\"\",IF(rng01_Risk_Sharing=\"Yes\",\"TRUE\",IF(rng01_Risk_Sharing=\"No\", \"False\")))","v":""},null,null,null,null,null,null,null,null,null,null,null,null,null,null,null,null,null,null,null,null,null,null,null,null,null,null,null,null,null,"Risk Sharing (Yes/No)?",{"$f":"IF(TCATrigger=\"No\",\"\",IF(rng01_Risk_Sharing=\"\",\"\",rng01_Risk_Sharing))","v":""}]
[null,null,null,null,null,"Interest Rate","RIH Mortgage Interest Rate",{"$f":"IF(rng01_RIH_Mort_Int_Rate=\"\",\"\",rng01_RIH_Mort_Int_Rate)","v":""},null,null,null,null,null,null,null,null,null,null,null,null,null,null,null,null,null,null,null,null,null,null,null,null,null,null,null,null,null,"RIH Mortgage Interest Rate",{"$f":"IF(TCATrigger=\"No\",\"\",IF(rng01_RIH_Mort_Int_Rate=\"\",\"\",rng01_RIH_Mort_Int_Rate))","v":""}]
[null,null,null,null,"There are 2 \"Debt Service\" fields. One in DEV, the other in AM","Debt Service","Debt Service Coverage Ratio (DSCR):",{"$f":"IF(rng01_DSCR=\"\",\"\",rng01_DSCR)","v":""},null,null,null,null,null,null,null,null,null,null,null,null,null,null,null,null,null,null,null,null,null,null,null,null,null,null,null,null,null,"Debt Service Coverage Ratio (DSCR):",{"$f":"IF(TCATrigger=\"No\",\"\",IF(rng01_DSCR=\"\",\"\",rng01_DSCR))","v":""},null,null,null,"Current Stage - Debt Coverage Year 1"]
[null,null,null,null,null,"Term (in months)","RIH Mortgage Term (Years)",{"$f":"IF(rng01_RIH_Mort_Term_Ys=\"\",\"\",rng01_RIH_Mort_Term_Ys)","v":""},null,null,null,null,null,null,null,null,null,null,null,null,null,null,null,null,null,null,null,null,null,null,null,null,null,null,null,null,null,"RIH Mortgage Term (Years)",{"$f":"IF(TCATrigger=\"No\",\"\",IF(rng01_RIH_Mort_Term_Ys=\"\",\"\",rng01_RIH_Mort_Term_Ys))","v":""}]
[null,null,null,null,null,"Financing Type","Taxable Financing or Tax Exempt Financing?",{"$f":"IF(rng01_FinancingType=\"\",\"\",rng01_FinancingType)","v":""},null,null,null,null,null,null,null,null,null,null,null,null,null,null,null,null,null,null,null,null,null,null,null,null,null,null,null,null,null,"Taxable Financing or Tax Exempt Financing?",{"$f":"IF(TCATrigger=\"No\",\"\",IF(rng01_FinancingType=\"\",\"\",rng01_FinancingType))","v":""}]
[null,null,null,null,null,null,"Mortgage Insurance Premium",{"$f":"IF(rng01_MortgageInsurangePremium=\"\",\"\",rng01_MortgageInsurangePremium)","v":""},null,null,null,null,null,null,null,null,null,null,null,null,null,null,null,null,null,null,null,null,null,null,null,null,null,null,null,null,null,"Mortgage Insurance Premium",{"$f":"IF(TCATrigger=\"No\",\"\",IF(rng01_MortgageInsurangePremium=\"\",\"\",rng01_MortgageInsurangePremium))","v":""}]
[null,null,null,null,"There are 2 \"Program Type\" fields. One on Activity Admin, the other on Edit DEV Deal","Program Type","Mortgage Program Type",{"$f":"IF(rng01_Mort_Prog_Type=\"\",\"\",rng01_Mort_Prog_Type)","v":""},null,null,null,null,null,null,null,null,null,null,null,null,null,null,null,null,null,null,null,null,null,null,null,null,null,null,null,null,null,"Mortgage Program Type",{"$f":"IF(TCATrigger=\"No\",\"\",IF(rng01_Mort_Prog_Type=\"\",\"\",rng01_Mort_Prog_Type))","v":""}]
[]
[]
["01_1_General Data","General Information","Construction Loan Information",null,null,null,"Construction Loan lender is RIH? (Yes/No)",{"$f":"IF(rng01_ConstructionLoanLender=\"\",\"\",rng01_ConstructionLoanLender)","v":""},null,null,null,null,null,null,null,null,null,null,null,null,null,null,null,null,null,null,null,null,null,null,null,"01_1_General Data","General Information","Construction Loan Information",null,null,null,"Construction Loan lender is RIH? (Yes/No)",{"$f":"IF(TCATrigger=\"No\",\"\",IF(rng01_ConstructionLoanLender=\"\",\"\",rng01_ConstructionLoanLender))","v":""}]
[null,null,null,null,null,null,"Construction Loan Total Amount",{"$f":"IF(rng01_ConstructionLoan=\"\",\"\",rng01_ConstructionLoan)","v":""},null,null,null,null,null,null,null,null,null,null,null,null,null,null,null,null,null,null,null,null,null,null,null,null,null,null,null,null,null,"Construction Loan Total Amount",{"$f":"IF(TCATrigger=\"No\",\"\",IF(rng01_ConstructionLoan=\"\",\"\",rng01_ConstructionLoan))","v":""}]
[null,null,null,null,null,null,"Construction Loan Interest",{"$f":"IF(rng01_ConstructionLoanInterest=\"\",\"\",rng01_ConstructionLoanInterest)","v":""},null,null,null,null,null,null,null,null,null,null,null,null,null,null,null,null,null,null,null,null,null,null,null,null,null,null,null,null,null,"Construction Loan Interest",{"$f":"IF(TCATrigger=\"No\",\"\",IF(rng01_ConstructionLoanInterest=\"\",\"\",rng01_ConstructionLoanInterest))","v":""}]
[]
[]
["01_1_General Data","General Information","Owner/Borrower Information",null,null,null,"Borrower Name",{"$f":"IF(rng01_Borrower_Name=\"\",\"\",rng01_Borrower_Name)","v":""},null,null,null,null,null,null,null,null,null,null,null,null,null,null,null,null,null,null,null,null,null,null,null,"01_1_General Data","General Information","Owner/Borrower Information",null,null,null,"Borrower Name",{"$f":"IF(TCATrigger=\"No\",\"\",IF(rng01_Borrower_Name=\"\",\"\",rng01_Borrower_Name))","v":""}]
[null,null,null,null,"ProLinkHFA screen = Edit Loan Borrower - Main tab","Address 1","Address",{"$f":"IF(rng01_Borrower_Address=\"\",\"\",rng01_Borrower_Address)","v":""},null,null,null,null,null,null,null,null,null,null,null,null,null,null,null,null,null,null,null,null,null,null,null,null,null,null,null,null,null,"Address",{"$f":"IF(TCATrigger=\"No\",\"\",IF(rng01_Borrower_Address=\"\",\"\",rng01_Borrower_Address))","v":""}]
[null,null,null,null,"ProLinkHFA screen = Edit Loan Borrower - Main tab","City","City ",{"$f":"IF(rng01_Borrower_City=\"\",\"\",rng01_Borrower_City)","v":""},null,null,null,null,null,null,null,null,null,null,null,null,null,null,null,null,null,null,null,null,null,null,null,null,null,null,null,null,null,"City ",{"$f":"IF(TCATrigger=\"No\",\"\",IF(rng01_Borrower_City=\"\",\"\",rng01_Borrower_City))","v":""}]
[null,null,null,null,"ProLinkHFA screen = Edit Loan Borrower - Main tab","State & Zip","State",{"$f":"IF(rng01_Borrower_State=\"\",\"\",rng01_Borrower_State)","v":""},null,null,null,null,null,null,null,null,null,null,null,null,null,null,null,null,null,null,null,null,null,null,null,null,null,null,null,null,null,"State",{"$f":"IF(TCATrigger=\"No\",\"\",IF(rng01_Borrower_State=\"\",\"\",rng01_Borrower_State))","v":""}]
[null,null,null,null,"ProLinkHFA screen = Edit Loan Borrower - Main tab","State & Zip","Zip Code",{"$f":"IF(rng01_Borrower_Zip=\"\",\"\",rng01_Borrower_Zip)","v":""},null,null,null,null,null,null,null,null,null,null,null,null,null,null,null,null,null,null,null,null,null,null,null,null,null,null,null,null,null,"Zip Code",{"$f":"IF(TCATrigger=\"No\",\"\",IF(rng01_Borrower_Zip=\"\",\"\",rng01_Borrower_Zip))","v":""}]
[null,null,null,null,null,"Phone","Telephone Number",{"$f":"IF(rng01_Borrower_Tele_Num=\"\",\"\",rng01_Borrower_Tele_Num)","v":""},null,null,null,null,null,null,null,null,null,null,null,null,null,null,null,null,null,null,null,null,null,null,null,null,null,null,null,null,null,"Telephone Number",{"$f":"IF(TCATrigger=\"No\",\"\",IF(rng01_Borrower_Tele_Num=\"\",\"\",rng01_Borrower_Tele_Num))","v":""}]
[null,null,null,null,null,null,"Major Principal(s)",null,null,null,null,null,null,null,null,null,null,null,null,null,null,null,null,null,null,null,null,null,null,null,null,null,null,null,null,null,null,"Major Principal(s)"]
[null,null,null,null,null,null,"     Principal 1:",{"$f":"IF(rng01_Borrower_Maj_Prin_1=\"\",\"\",rng01_Borrower_Maj_Prin_1)","v":""},null,null,null,null,null,null,null,null,null,null,null,null,null,null,null,null,null,null,null,null,null,null,null,null,null,null,null,null,null,"     Principal 1:",{"$f":"IF(TCATrigger=\"No\",\"\",IF(rng01_Borrower_Maj_Prin_1=\"\",\"\",rng01_Borrower_Maj_Prin_1))","v":""}]
[null,null,null,null,null,null,"     Principal 2:",{"$f":"IF(rng01_Borrower_Maj_Prin_2=\"\",\"\",rng01_Borrower_Maj_Prin_2)","v":""},null,null,null,null,null,null,null,null,null,null,null,null,null,null,null,null,null,null,null,null,null,null,null,null,null,null,null,null,null,"     Principal 2:",{"$f":"IF(TCATrigger=\"No\",\"\",IF(rng01_Borrower_Maj_Prin_2=\"\",\"\",rng01_Borrower_Maj_Prin_2))","v":""}]
[null,null,null,null,null,null,"     Principal 3:",{"$f":"IF(rng01_Borrower_Maj_Prin_3=\"\",\"\",rng01_Borrower_Maj_Prin_3)","v":""},null,null,null,null,null,null,null,null,null,null,null,null,null,null,null,null,null,null,null,null,null,null,null,null,null,null,null,null,null,"     Principal 3:",{"$f":"IF(TCATrigger=\"No\",\"\",IF(rng01_Borrower_Maj_Prin_3=\"\",\"\",rng01_Borrower_Maj_Prin_3))","v":""}]
[null,null,null,null,null,null,"     Principal 4:",{"$f":"IF(rng01_Borrower_Maj_Prin_4=\"\",\"\",rng01_Borrower_Maj_Prin_4)","v":""},null,null,null,null,null,null,null,null,null,null,null,null,null,null,null,null,null,null,null,null,null,null,null,null,null,null,null,null,null,"     Principal 4:",{"$f":"IF(TCATrigger=\"No\",\"\",IF(rng01_Borrower_Maj_Prin_4=\"\",\"\",rng01_Borrower_Maj_Prin_4))","v":""}]
[null,null,null,null,null,null,"Nonprofit (Yes/No)?",{"$f":"IF(rng01_NonProfit=\"\",\"\",rng01_NonProfit)","v":""},null,null,null,null,null,null,null,null,null,null,null,null,null,null,null,null,null,null,null,null,null,null,null,null,null,null,null,null,null,"Nonprofit (Yes/No)?",{"$f":"IF(TCATrigger=\"No\",\"\",IF(rng01_NonProfit=\"\",\"\",rng01_NonProfit))","v":""}]
[null,null,null,null,null,"Entity Type","Borrowing Entity",{"$f":"IF(rng01_Borrowing_Entity=\"\",\"\",rng01_Borrowing_Entity)","v":""},null,null,null,null,null,null,null,null,null,null,null,null,null,null,null,null,null,null,null,null,null,null,null,null,null,null,null,null,null,"Borrowing Entity",{"$f":"IF(TCATrigger=\"No\",\"\",IF(rng01_Borrowing_Entity=\"\",\"\",rng01_Borrowing_Entity))","v":""}]
[null,null,null,null,null,null,"Single Asset Entity (Yes/No)?",{"$f":"IF(rng01_Single_Asset_Entity=\"\",\"\",rng01_Single_Asset_Entity)","v":""},null,null,null,null,null,null,null,null,null,null,null,null,null,null,null,null,null,null,null,null,null,null,null,null,null,null,null,null,null,"Single Asset Entity (Yes/No)?",{"$f":"IF(TCATrigger=\"No\",\"\",IF(rng01_Single_Asset_Entity=\"\",\"\",rng01_Single_Asset_Entity))","v":""}]
[null,null,null,null,null,null,null," ",null,null,null,null,null,null,null,null,null,null,null,null,null,null,null,null,null,null,null,null,null,null,null,null,null,null,null,null,null,null," "]
[]
["01_1_General Data","General Information","Tax Exempt FinancingNot Applicable",null,null,null,"Total Tax Exempt Financing Amount",{"$f":"IF('02_3_SOURCES'!F44=\"\",\"\",'02_3_SOURCES'!F44)","v":0},null,null,null,null,null,null,null,null,null,null,null,null,null,null,null,null,null,null,null,null,null,null,null,"01_1_General Data","General Information","Tax Exempt FinancingNot Applicable",null,null,null,"Total Tax Exempt Financing Amount",0]
[null,null,null,null,null,null,"Aggregate Basis plus Land",{"$f":"IF('02_4_USES'!N90=\"\",\"\",'02_4_USES'!N90)","v":0},null,null,null,null,null,null,null,null,null,null,null,null,null,null,null,null,null,null,null,null,null,null,null,null,null,null,null,null,null,"Aggregate Basis plus Land",0]
[null,null,null,null,null,null,"Estimated \"50%\" Test",{"$f":"IF(N27=\"Tax Exempt\",IF(N55=0,0,N54/N55),\"Not Applicable\")","v":"Not Applicable"},null,null,null,null,null,null,null,null,null,null,null,null,null,null,null,null,null,null,null,null,null,null,null,null,null,null,null,null,null,"Estimated \"50%\" Test","Not Applicable"]
[]
[null,null,null,null,null,"Check to the right"]
[null,null,null,null,"All fields identified on this row are in Portfolio - Locations",null,"Descriptive Building Type",null,"Number of Stories","Construction Type","Primary Exterior Finish","Commercial Building Type","Commercial Sq. Feet"]
["01_1_General Data","Building Configuration","Type of Structure(s)",null,null,null,"Type of Structure(s)","Number of Buildings","Number of Stories","Structural System","Exterior Finish","Building Type","Gross Square Feet",null,null,null,null,null,null,null,null,null,null,null,null,null,null,null,null,null,null,"01_1_General Data","Building Configuration","Type of Structure(s)",null,null,null,"Type of Structure(s)","Number of Buildings","Number of Stories","Structural System","Exterior Finish","Building Type","Gross Square Feet"]
[null,null,null,null,null,null,"Residential",null,null,null,null,null,null,null,null,null,null,null,null,null,null,null,null,null,null,null,null,null,null,null,null,null,null,null,null,null,null,"Residential"]
[null,null,null,null,null,null,"Residential",null,null,null,null,null,null,null,null,null,null,null,null,null,null,null,null,null,null,null,null,null,null,null,null,null,null,null,null,null,null,"Residential"]
[null,null,null,null,null,null,"Commercial",null,null,null,null,null,null,null,null,null,null,null,null,null,null,null,null,null,null,null,null,null,null,null,null,null,null,null,null,null,null,"Commercial"]
[null,null,null,null,null,null,"Community",null,null,null,null,null,null,null,null,null,null,null,null,null,null,null,null,null,null,null,null,null,null,null,null,null,null,null,null,null,null,"Community"]
[null,null,null,null,null,null,"Other",null,null,null,null,null,null,null,null,null,null,null,null,null,null,null,null,null,null,null,null,null,null,null,null,null,null,null,null,null,null,"Other"]
[null,null,null,null,null,null,"Total Buiding Count",null,null,null,null,null,null,null,null,null,null,null,null,null,null,null,null,null,null,null,null,null,null,null,null,null,null,null,null,null,null,"Total Buiding Count"]
[]
["01_1_General Data","Building Configuration","Accessibility & Adaptability",null,null,null,"Accessible Units",{"$f":"rng01_AccessibleUnits","v":0}]
[null,null,null,null,null,null,"Adaptable Units",{"$f":"rng01_AdaptableUnits","v":0}]
[]
[null,null,null,null,null,null,null,"Descriptive Building Type AKA Type of Structure"]
[null,null,null,null,"Rearrange this into a more meaningful way that uses the names of the fields in HFA"]
[null,null,null,null,null,null,null,null,null,null,null,null,null,null,null,null,null,null,null,null,null,null,null,null,null,null,null,null,null,null,null,null,null,null,null,null,null,"Annual Tax Credit Amount",{"$f":"IFERROR(IF(TCATrigger=\"No\",\"\",rng01_Annual_Tax_Credit_Amount),\"\")","v":""}]
[]
[]
[]
[null,null,null,null,null,null,null,null,null,null,null,null,null,null,null,null,null,null,null,null,null,null,null,null,null,null,null,null,null,null,null,null,null,null,null,null,null,"Other Assistance",{"$f":"IF(TCATrigger=\"No\",\"\",IF(rng01_Other_Assistance=\"Yes\",\"True\",\"False\"))","v":""}]
[]
[]
[]
[]
[null,null,null,null,null,null,"Gross Square Feet Residential",{"$f":"IF(OR(rng01_Gr_Sq_Ft_Res=\"\",rng01_Gr_Sq_Ft_Res=0),\"\",rng01_Gr_Sq_Ft_Res)","v":""},null,null,null,null,null,null,null,null,null,null,null,null,null,null,null,null,null,null,null,null,null,null,null,null,null,null,null,null,null,"Gross Square Feet Residential",{"$f":"IF(OR(TCATrigger=\"No\",rng01_Gr_Sq_Ft_Res=0),\"\",IF(rng01_Gr_Sq_Ft_Res=\"\",\"\",rng01_Gr_Sq_Ft_Res))","v":""},null,"Current Stage = Total Res Heated Sq Ft"]
[null,null,null,null,null,null,"Gross Square Feet Commercial",{"$f":"IF(OR(rng01_Gr_Sq_Ft_Comcl=\"\",rng01_Gr_Sq_Ft_Comcl=0),\"\",rng01_Gr_Sq_Ft_Comcl)","v":""},null,null,null,null,null,null,null,null,null,null,null,null,null,null,null,null,null,null,null,null,null,null,null,null,null,null,null,null,null,"Gross Square Feet Commercial",{"$f":"IF(OR(TCATrigger=\"No\",rng01_Gr_Sq_Ft_Comcl=0),\"\",IF(rng01_Gr_Sq_Ft_Comcl=\"\",\"\",rng01_Gr_Sq_Ft_Comcl))","v":""},null,"Current Stage - Commercial Sq Feet"]
[null,null,null,null,null,null,"Gross Square Feet Community",{"$f":"IF(OR(rng01_Gr_Sq_Ft_Community=\"\",rng01_Gr_Sq_Ft_Community=0),\"\",rng01_Gr_Sq_Ft_Community)","v":""},null,null,null,null,null,null,null,null,null,null,null,null,null,null,null,null,null,null,null,null,null,null,null,null,null,null,null,null,null,"Gross Square Feet Community",{"$f":"IF(OR(TCATrigger=\"No\",rng01_Gr_Sq_Ft_Community=0),\"\",IF(rng01_Gr_Sq_Ft_Community=\"\",\"\",rng01_Gr_Sq_Ft_Community))","v":""},null,"Current Stage -Total Floor Sq Feet"]
[null,null,null,null,null,null,"Gross Square Feet Unfinished",{"$f":"IF(OR(rng01_Gr_Sq_Ft_Unfinished=\"\",rng01_Gr_Sq_Ft_Unfinished=0),\"\",rng01_Gr_Sq_Ft_Unfinished)","v":""},null,null,null,null,null,null,null,null,null,null,null,null,null,null,null,null,null,null,null,null,null,null,null,null,null,null,null,null,null,"Gross Square Feet Unfinished",{"$f":"IF(OR(TCATrigger=\"No\",rng01_Gr_Sq_Ft_Unfinished=0),\"\",IF(rng01_Gr_Sq_Ft_Unfinished=\"\",\"\",rng01_Gr_Sq_Ft_Unfinished))","v":""}]
[null,null,null,null,null,null,"Total Gross Square Feet",{"$f":"IF(OR(rng01_Total_Gr_Sq_Ft=\"\",rng01_Total_Gr_Sq_Ft=0),\"\",rng01_Total_Gr_Sq_Ft)","v":""},null,null,null,null,null,null,null,null,null,null,null,null,null,null,null,null,null,null,null,null,null,null,null,null,null,null,null,null,null,"Total Gross Square Feet",{"$f":"IF(OR(TCATrigger=\"No\",rng01_Total_Gr_Sq_Ft=0),\"\",IF(rng01_Total_Gr_Sq_Ft=\"\",\"\",rng01_Total_Gr_Sq_Ft))","v":""}]
[]
[]
[null,null,null,null,null,null,"NRSF Residential",null,null,null,null,null,null,null,null,null,null,null,null,null,null,null,null,null,null,null,null,null,null,null,null,null,null,null,null,null,null,"NRSF Residential"]
[null,null,null,null,null,null,"NRSF Commercial",null,null,null,null,null,null,null,null,null,null,null,null,null,null,null,null,null,null,null,null,null,null,null,null,null,null,null,null,null,null,"NRSF Commercial"]
[null,null,null,null,null,null,"Total NRSF",null,null,null,null,null,null,null,null,null,null,null,null,null,null,null,null,null,null,null,null,null,null,null,null,null,null,null,null,null,null,"Total NRSF"]
[null,null,null,null,null,null,"% NRSF Residential",null,null,null,null,null,null,null,null,null,null,null,null,null,null,null,null,null,null,null,null,null,null,null,null,null,null,null,null,null,null,"% NRSF Residential"]
[null,null,null,null,null,null,"% NRSF Commercial",null,null,null,null,null,null,null,null,null,null,null,null,null,null,null,null,null,null,null,null,null,null,null,null,null,null,null,null,null,null,"% NRSF Commercial"]
[]
[]
["01_1_General Data","Building Configuration","Residential Equipment and Utilities/Amenities beyond basic requirements",null,null,"Edit Unit - Amenities Tab",null,null,null,null,null,null,null,null,null,null,null,null,null,null,null,null,null,null,null,null,null,null,null,null,null,"01_1_General Data","Building Configuration","Residential Equipment and Utilities/Amenities beyond basic requirements"]
["01_1_General Data","Building Configuration","Unit Equipment/Amenities:",null,null,"Air Conditioner","Air Conditioning Units",{"$f":"IF(rng01_Amen_AC_Units=\"Yes\",\"True\",\"\")","v":""},null,null,null,null,null,null,null,null,null,null,null,null,null,null,null,null,null,null,null,null,null,null,null,"01_1_General Data","Building Configuration","Unit Equipment/Amenities:",null,null,null,"Air Conditioning Units",null,{"$f":"IF(OR(TCATrigger=\"No\",rng01_Amen_AC_Units=\"\"),\"\",IF(rng01_Amen_AC_Units=\"Yes\",\"True\",\"\"))","v":""}]
[null,null,null,null,null,"Cable Included","Cable Hookup",{"$f":"IF(rng01_Amen_Cab_Hkup=\"Yes\",\"True\",\"\")","v":""},null,null,null,null,null,null,null,null,null,null,null,null,null,null,null,null,null,null,null,null,null,null,null,null,null,null,null,null,null,"Cable Hookup",null,{"$f":"IF(OR(TCATrigger=\"No\",rng01_Amen_Cab_Hkup=\"\"),\"\",IF(rng01_Amen_Cab_Hkup=\"Yes\",\"True\",\"\"))","v":""}]
[null,null,null,null,null,"Dishwasher","Dishwasher",{"$f":"IF(rng01_Amen_DW=\"Yes\",\"True\",\"\")","v":""},null,null,null,null,null,null,null,null,null,null,null,null,null,null,null,null,null,null,null,null,null,null,null,null,null,null,null,null,null,"Dishwasher",null,{"$f":"IF(OR(TCATrigger=\"No\",rng01_Amen_DW=\"\"),\"\",IF(rng01_Amen_DW=\"Yes\",\"True\",\"\"))","v":""}]
[null,null,null,null,null,"Other","Garbage Disposal",{"$f":"IF(rng01_Amen_Disposal=\"Yes\",\"True\",\"\")","v":""},null,null,null,null,null,null,null,null,null,null,null,null,null,null,null,null,null,null,null,null,null,null,null,null,null,null,null,null,null,"Garbage Disposal",null,{"$f":"IF(OR(TCATrigger=\"No\",rng01_Amen_Disposal=\"\"),\"\",IF(rng01_Amen_Disposal=\"Yes\",\"True\",\"\"))","v":""}]
[null,null,null,null,null,"Cooking Type","Kitchen Exhaust",{"$f":"IF(rng01_Amen_Kit_Exhaust=\"Yes\",\"True\",\"\")","v":""},null,"Map under the Property Amenities (Deal Property) Amenities",null,null,null,null,null,null,null,null,null,null,null,null,null,null,null,null,null,null,null,null,null,null,null,null,null,null,null,"Kitchen Exhaust",null,{"$f":"IF(OR(TCATrigger=\"No\",rng01_Amen_Kit_Exhaust=\"\"),\"\",IF(rng01_Amen_Kit_Exhaust=\"Yes\",\"True\",\"\"))","v":""}]
[null,null,null,null,null,"Washer/Dryer","Laundry: Hookups",{"$f":"IF(rng01_Amen_Lndry_Hkup=\"Yes\",\"True\",\"\")","v":""},null,"Map to Laundry facilities",null,null,null,null,null,null,null,null,null,null,null,null,null,null,null,null,null,null,null,null,null,null,null,null,null,null,null,"Laundry: Hookups",{"$f":"IF(OR(AN132=\"True\",AN133=\"True\"),\"True\",\"\")","v":""},{"$f":"IF(OR(TCATrigger=\"No\",rng01_Amen_Lndry_Hkup=\"\"),\"\",IF(rng01_Amen_Lndry_Hkup=\"Yes\",\"True\",\"\"))","v":""},"Current Stage - Has Laundry","I unmapped and mapped in the table below for Laundry Common Area"]
[null,null,null,null,null,null,"Laundry: In each unit",{"$f":"IF(rng01_Amen_Lndry_InUnit=\"Yes\",\"True\",\"\")","v":""},null,null,null,null,null,null,null,null,null,null,null,null,null,null,null,null,null,null,null,null,null,null,null,null,null,null,null,null,null,"Laundry: In each unit",null,{"$f":"IF(OR(TCATrigger=\"No\",rng01_Amen_Lndry_InUnit=\"\"),\"\",IF(rng01_Amen_Lndry_InUnit=\"Yes\",\"True\",\"\"))","v":""}]
[null,null,null,null,null,"Other","Security/Video System",{"$f":"IF(rng01_Amen_Security_Video_System=\"Yes\",\"True\",\"\")","v":""},null,null,null,null,null,null,null,null,null,null,null,null,null,null,null,null,null,null,null,null,null,null,null,null,null,null,null,null,null,"Security/Video System",null,{"$f":"IF(OR(TCATrigger=\"No\",rng01_Amen_Security_Video_System=\"\"),\"\",IF(rng01_Amen_Security_Video_System=\"Yes\",\"True\",\"\"))","v":""}]
[null,null,null,null,null,"Other","Other (Describe)",{"$f":"IF(rng01_Amen_Other1=\"Yes\",\"True\",\"\")","v":""},{"$f":"IF(H135=\"True\",rng01_Amen_OtherDesc1,\"\")","v":""},null,null,null,null,null,null,null,null,null,null,null,null,null,null,null,null,null,null,null,null,null,null,null,null,null,null,null,null,"Other (Describe)",null,{"$f":"IF(OR(TCATrigger=\"No\",rng01_Amen_Other1=\"\"),\"\",IF(rng01_Amen_Other1=\"Yes\",\"True\",\"\"))","v":""}]
[null,null,null,null,null,"Other","Other (Describe)",{"$f":"IF(rng01_Amen_Other2=\"Yes\",\"True\",\"\")","v":""},{"$f":"IF(H136=\"True\",rng01_Amen_OtherDesc2,\"\")","v":""},null,null,null,null,null,null,null,null,null,null,null,null,null,null,null,null,null,null,null,null,null,null,null,null,null,null,null,null,"Other (Describe)",null,{"$f":"IF(OR(TCATrigger=\"No\",rng01_Amen_Other2=\"\"),\"\",IF(rng01_Amen_Other2=\"Yes\",\"True\",\"\"))","v":""}]
[]
[]
["01_1_General Data","Building Configuration","Project Amenities",null,null,"List","Actuals","Mapping",null,null,null,null,null,null,null,null,null,null,null,null,null,null,null,null,null,null,null,null,null,null,null,"01_1_General Data","Building Configuration","Project Amenities",null,null,null,"List","Actuals","Mapping"]
[null,null,null,null,"Rearrange this to use the fields in HFA to match what they have in the ProForma","Basketball Court",{"$f":"IF(ISNA(VLOOKUP(F140,'01_1_General Data'!$E$74:$F$81,1,FALSE)),\"\",VLOOKUP(F140,'01_1_General Data'!$E$74:$F$81,1,FALSE))","v":""},{"$f":"IF(AND(G140=\"\",G145=\"\"),\"\",\"True\")","v":""},null,null,null,null,null,null,null,null,null,null,null,null,null,null,null,null,null,null,null,null,null,null,null,null,null,null,null,null,null,"Basketball Court",{"$f":"IF(OR(TCATrigger=\"No\",ISNA(VLOOKUP(AL140,'01_1_General Data'!$E$74:$F$81,1,FALSE))),\"\",VLOOKUP(AL140,'01_1_General Data'!$E$74:$F$81,1,FALSE))","v":""},{"$f":"IF(AND(AM140=\"\",AM145=\"\"),\"\",\"True\")","v":""}]
[null,null,null,null,"Then use a Vloookup to populate the fields if Basketball court is selected in the ProForma then populate it to the corresponding HFA field","Community room",{"$f":"IF(ISNA(VLOOKUP(F141,'01_1_General Data'!$E$74:$F$81,1,FALSE)),\"\",VLOOKUP(F141,'01_1_General Data'!$E$74:$F$81,1,FALSE))","v":""},{"$f":"IF(G141=\"\",\"\",\"True\")","v":""},null,null,null,null,null,null,null,null,null,null,null,null,null,null,null,null,null,null,null,null,null,null,null,null,null,null,null,null,null,"Community room",{"$f":"IF(OR(TCATrigger=\"No\",ISNA(VLOOKUP(AL141,'01_1_General Data'!$E$74:$F$81,1,FALSE))),\"\",VLOOKUP(AL141,'01_1_General Data'!$E$74:$F$81,1,FALSE))","v":""},{"$f":"IF(AM141=\"\",\"\",\"True\")","v":""}]
[null,null,null,null,null,"Laundry: Common Area",{"$f":"IF(ISNA(VLOOKUP(F142,'01_1_General Data'!$E$74:$F$81,1,FALSE)),\"\",VLOOKUP(F142,'01_1_General Data'!$E$74:$F$81,1,FALSE))","v":""},"",null,null,null,null,null,null,null,null,null,null,null,null,null,null,null,null,null,null,null,null,null,null,null,null,null,null,null,null,null,"Laundry: Common Area",{"$f":"IF(OR(TCATrigger=\"No\",ISNA(VLOOKUP(AL142,'01_1_General Data'!$E$74:$F$81,1,FALSE))),\"\",VLOOKUP(AL142,'01_1_General Data'!$E$74:$F$81,1,FALSE))","v":""},{"$f":"IF(AM142=\"\",\"\",\"True\")","v":""}]
[null,null,null,null,null,"Playground",{"$f":"IF(ISNA(VLOOKUP(F143,'01_1_General Data'!$E$74:$F$81,1,FALSE)),\"\",VLOOKUP(F143,'01_1_General Data'!$E$74:$F$81,1,FALSE))","v":""},"",null,null,null,null,null,null,null,null,null,null,null,null,null,null,null,null,null,null,null,null,null,null,null,null,null,null,null,null,null,"Playground",{"$f":"IF(OR(TCATrigger=\"No\",ISNA(VLOOKUP(AL143,'01_1_General Data'!$E$74:$F$81,1,FALSE))),\"\",VLOOKUP(AL143,'01_1_General Data'!$E$74:$F$81,1,FALSE))","v":""},{"$f":"IF(AM143=\"\",\"\",\"True\")","v":""}]
[null,null,null,null,null,"Pool",{"$f":"IF(ISNA(VLOOKUP(F144,'01_1_General Data'!$E$74:$F$81,1,FALSE)),\"\",VLOOKUP(F144,'01_1_General Data'!$E$74:$F$81,1,FALSE))","v":""},"",null,null,null,null,null,null,null,null,null,null,null,null,null,null,null,null,null,null,null,null,null,null,null,null,null,null,null,null,null,"Pool",{"$f":"IF(OR(TCATrigger=\"No\",ISNA(VLOOKUP(AL144,'01_1_General Data'!$E$74:$F$81,1,FALSE))),\"\",VLOOKUP(AL144,'01_1_General Data'!$E$74:$F$81,1,FALSE))","v":""},{"$f":"IF(AM144=\"\",\"\",\"True\")","v":""}]
[null,null,null,null,null,"Tennis Court",{"$f":"IF(ISNA(VLOOKUP(F145,'01_1_General Data'!$E$74:$F$81,1,FALSE)),\"\",VLOOKUP(F145,'01_1_General Data'!$E$74:$F$81,1,FALSE))","v":""},"",null,null,null,null,null,null,null,null,null,null,null,null,null,null,null,null,null,null,null,null,null,null,null,null,null,null,null,null,null,"Tennis Court",{"$f":"IF(OR(TCATrigger=\"No\",ISNA(VLOOKUP(AL145,'01_1_General Data'!$E$74:$F$81,1,FALSE))),\"\",VLOOKUP(AL145,'01_1_General Data'!$E$74:$F$81,1,FALSE))","v":""},{"$f":"IF(AM145=\"\",\"\",\"True\")","v":""}]
[null,null,null,null,null,null,{"$f":"IF(ISNA(VLOOKUP(F146,'01_1_General Data'!$E$74:$F$81,1,FALSE)),\"\",VLOOKUP(F146,'01_1_General Data'!$E$74:$F$81,1,FALSE))","v":""},"",null,null,null,null,null,null,null,null,null,null,null,null,null,null,null,null,null,null,null,null,null,null,null,null,null,null,null,null,null,null,{"$f":"IF(OR(TCATrigger=\"No\",ISNA(VLOOKUP(AL146,'01_1_General Data'!$E$74:$F$81,1,FALSE))),\"\",VLOOKUP(AL146,'01_1_General Data'!$E$74:$F$81,1,FALSE))","v":""},{"$f":"IF(AM146=\"\",\"\",\"True\")","v":""}]
[null,null,null,null,null,null,{"$f":"IF(ISNA(VLOOKUP(F147,'01_1_General Data'!$E$74:$F$81,1,FALSE)),\"\",VLOOKUP(F147,'01_1_General Data'!$E$74:$F$81,1,FALSE))","v":""},"",null,null,null,null,null,null,null,null,null,null,null,null,null,null,null,null,null,null,null,null,null,null,null,null,null,null,null,null,null,null,{"$f":"IF(OR(TCATrigger=\"No\",ISNA(VLOOKUP(AL147,'01_1_General Data'!$E$74:$F$81,1,FALSE))),\"\",VLOOKUP(AL147,'01_1_General Data'!$E$74:$F$81,1,FALSE))","v":""},{"$f":"IF(AM147=\"\",\"\",\"True\")","v":""}]
[]
[null,null,null,null,null,"Other Comments Mapping","Gen Data Info","Counts","Seq Location","T/F","Flag Mapping","Comments","Comments Mapping",null,null,null,null,null,null,null,null,null,null,null,null,null,null,null,null,null,null,null,null,null,null,null,null,"Other Comments Mapping","Gen Data Info","Counts","Seq Location","T/F","Flag Mapping","Comments","Comments Mapping"]
[null,null,null,null,1,"Other (Comment)",{"$f":"IF(rng01_Proj_Amen1=\"Other (Comment)\",rng01_Proj_Amen1,\"\")","v":""},{"$f":"IF(G150=\"\",\"\",1)","v":""},{"$f":"IF(G150=\"\",\"\",SUM($H$150))","v":""},{"$f":"IF($G$150=\"\",\"\",\"True\")","v":""},{"$f":"IF(COUNTIF(Amenities,1),TRUE,FALSE)","v":false},{"$f":"IF(ISNA(VLOOKUP(rng01_Proj_Amen1,ProjAmen,1,FALSE)),\"\",IF(VLOOKUP(rng01_Proj_Amen1,ProjAmen,1,FALSE)=\"Other (Comment)\",rng01_Proj_Amen1_Comments,\"\"))","v":""},{"$f":"IFERROR(VLOOKUP(E150,$I$150:$L$157,4,FALSE),\"\")","v":""},null,null,null,null,null,null,null,null,null,null,null,null,null,null,null,null,null,null,null,null,null,null,null,1,"Other (Comment)",{"$f":"IF(AND(TCATrigger=\"Yes\",rng01_Proj_Amen1=\"Other (Comment)\"),rng01_Proj_Amen1,\"\")","v":""},{"$f":"IF(AM150=\"Other (Comment)\",1,\"\")","v":""},{"$f":"IF(AM150=\"\",\"\",SUM($AN$150))","v":""},{"$f":"IF($AM$150=\"\",\"\",\"True\")","v":""},{"$f":"IF(#REF!=\"No\",\"\",K150)","v":{"$error":"#REF!"}},{"$f":"IF(OR(ISNA(VLOOKUP(rng01_Proj_Amen1,ProjAmen,1,FALSE)),TCATrigger=\"No\"),\"\",IF(VLOOKUP(rng01_Proj_Amen1,ProjAmen,1,FALSE)=\"Other (Comment)\",rng01_Proj_Amen1_Comments,\"\"))","v":""},{"$f":"IF(#REF!=\"No\",\"\",M150)","v":{"$error":"#REF!"}}]
[null,null,null,null,2,"Other (Comment)",{"$f":"IF(rng01_Proj_Amen2=\"Other (Comment)\",rng01_Proj_Amen2,\"\")","v":""},{"$f":"IF(G151=\"\",\"\",1)","v":""},{"$f":"IF(G151=\"\",\"\",SUM($H$150:H151))","v":""},{"$f":"IF($G$151=\"\",\"\",\"True\")","v":""},{"$f":"IF(COUNTIF(Amenities,2),TRUE,FALSE)","v":false},{"$f":"IF(ISNA(VLOOKUP(rng01_Proj_Amen2,ProjAmen,1,FALSE)),\"\",IF(VLOOKUP(rng01_Proj_Amen2,ProjAmen,1,FALSE)=\"Other (Comment)\",rng01_Proj_Amen2_Comments,\"\"))","v":""},{"$f":"IFERROR(VLOOKUP(E151,$I$150:$L$157,4,FALSE),\"\")","v":""},null,null,null,null,null,null,null,null,null,null,null,null,null,null,null,null,null,null,null,null,null,null,null,2,"Other (Comment)",{"$f":"IF(AND(TCATrigger=\"Yes\",rng01_Proj_Amen2=\"Other (Comment)\"),rng01_Proj_Amen2,\"\")","v":""},"",{"$f":"IF(AM151=\"\",\"\",SUM($AN$150:AN151))","v":""},{"$f":"IF($AM$151=\"\",\"\",\"True\")","v":""},{"$f":"IF(#REF!=\"No\",\"\",K151)","v":{"$error":"#REF!"}},{"$f":"IF(OR(ISNA(VLOOKUP(rng01_Proj_Amen2,ProjAmen,1,FALSE)),TCATrigger=\"No\"),\"\",IF(VLOOKUP(rng01_Proj_Amen2,ProjAmen,1,FALSE)=\"Other (Comment)\",rng01_Proj_Amen2_Comments,\"\"))","v":""},{"$f":"IF(#REF!=\"No\",\"\",M151)","v":{"$error":"#REF!"}}]
[null,null,null,null,3,"Other (Comment)",{"$f":"IF(rng01_Proj_Amen3=\"Other (Comment)\",rng01_Proj_Amen3,\"\")","v":""},"",{"$f":"IF(G152=\"\",\"\",SUM($H$150:H152))","v":""},{"$f":"IF($G$152=\"\",\"\",\"True\")","v":""},{"$f":"IF(COUNTIF(Amenities,3),TRUE,FALSE)","v":false},{"$f":"IF(ISNA(VLOOKUP(rng01_Proj_Amen3,ProjAmen,1,FALSE)),\"\",IF(VLOOKUP(rng01_Proj_Amen3,ProjAmen,1,FALSE)=\"Other (Comment)\",rng01_Proj_Amen3_Comments,\"\"))","v":""},"",null,null,null,null,null,null,null,null,null,null,null,null,null,null,null,null,null,null,null,null,null,null,null,3,"Other (Comment)",{"$f":"IF(AND(TCATrigger=\"Yes\",rng01_Proj_Amen3=\"Other (Comment)\"),rng01_Proj_Amen3,\"\")","v":""},"",{"$f":"IF(AM152=\"\",\"\",SUM($AN$150:AN152))","v":""},{"$f":"IF($AM$152=\"\",\"\",\"True\")","v":""},{"$f":"IF(#REF!=\"No\",\"\",K152)","v":{"$error":"#REF!"}},{"$f":"IF(OR(ISNA(VLOOKUP(rng01_Proj_Amen3,ProjAmen,1,FALSE)),TCATrigger=\"No\"),\"\",IF(VLOOKUP(rng01_Proj_Amen3,ProjAmen,1,FALSE)=\"Other (Comment)\",rng01_Proj_Amen3_Comments,\"\"))","v":""},{"$f":"IF(#REF!=\"No\",\"\",M152)","v":{"$error":"#REF!"}}]
[null,null,null,null,4,"Other (Comment)",{"$f":"IF(rng01_Proj_Amen4=\"Other (Comment)\",rng01_Proj_Amen4,\"\")","v":""},"",{"$f":"IF(G153=\"\",\"\",SUM($H$150:H153))","v":""},{"$f":"IF($G$153=\"\",\"\",\"True\")","v":""},{"$f":"IF(COUNTIF(Amenities,4),TRUE,FALSE)","v":false},{"$f":"IF(ISNA(VLOOKUP(rng01_Proj_Amen4,ProjAmen,1,FALSE)),\"\",IF(VLOOKUP(rng01_Proj_Amen4,ProjAmen,1,FALSE)=\"Other (Comment)\",rng01_Proj_Amen4_Comments,\"\"))","v":""},"",null,null,null,null,null,null,null,null,null,null,null,null,null,null,null,null,null,null,null,null,null,null,null,4,"Other (Comment)",{"$f":"IF(AND(TCATrigger=\"Yes\",rng01_Proj_Amen4=\"Other (Comment)\"),rng01_Proj_Amen4,\"\")","v":""},"",{"$f":"IF(AM153=\"\",\"\",SUM($AN$150:AN153))","v":""},{"$f":"IF($AM$153=\"\",\"\",\"True\")","v":""},{"$f":"IF(#REF!=\"No\",\"\",K153)","v":{"$error":"#REF!"}},{"$f":"IF(OR(ISNA(VLOOKUP(rng01_Proj_Amen4,ProjAmen,1,FALSE)),TCATrigger=\"No\"),\"\",IF(VLOOKUP(rng01_Proj_Amen4,ProjAmen,1,FALSE)=\"Other (Comment)\",rng01_Proj_Amen4_Comments,\"\"))","v":""},{"$f":"IF(#REF!=\"No\",\"\",M153)","v":{"$error":"#REF!"}}]
[null,null,null,null,5,"Other (Comment)",{"$f":"IF(rng01_Proj_Amen5=\"Other (Comment)\",rng01_Proj_Amen5,\"\")","v":""},"",{"$f":"IF(G154=\"\",\"\",SUM($H$150:H154))","v":""},{"$f":"IF($G$154=\"\",\"\",\"True\")","v":""},{"$f":"IF(COUNTIF(Amenities,5),TRUE,FALSE)","v":false},{"$f":"IF(ISNA(VLOOKUP(rng01_Proj_Amen5,ProjAmen,1,FALSE)),\"\",IF(VLOOKUP(rng01_Proj_Amen5,ProjAmen,1,FALSE)=\"Other (Comment)\",rng01_Proj_Amen5_Comments,\"\"))","v":""},"",null,null,null,null,null,null,null,null,null,null,null,null,null,null,null,null,null,null,null,null,null,null,null,5,"Other (Comment)",{"$f":"IF(AND(TCATrigger=\"Yes\",rng01_Proj_Amen5=\"Other (Comment)\"),rng01_Proj_Amen5,\"\")","v":""},"",{"$f":"IF(AM154=\"\",\"\",SUM($AN$150:AN154))","v":""},{"$f":"IF($AM$154=\"\",\"\",\"True\")","v":""},{"$f":"IF(#REF!=\"No\",\"\",K154)","v":{"$error":"#REF!"}},{"$f":"IF(OR(ISNA(VLOOKUP(rng01_Proj_Amen5,ProjAmen,1,FALSE)),TCATrigger=\"No\"),\"\",IF(VLOOKUP(rng01_Proj_Amen5,ProjAmen,1,FALSE)=\"Other (Comment)\",rng01_Proj_Amen5_Comments,\"\"))","v":""},{"$f":"IF(#REF!=\"No\",\"\",M154)","v":{"$error":"#REF!"}}]
[null,null,null,null,null,"Other (Comment)",{"$f":"IF(rng01_Proj_Amen6=\"Other (Comment)\",rng01_Proj_Amen6,\"\")","v":""},"",{"$f":"IF(G155=\"\",\"\",SUM($H$150:H155))","v":""},{"$f":"IF($G$155=\"\",\"\",\"True\")","v":""},{"$f":"IF(COUNTIF(Amenities,6),TRUE,FALSE)","v":false},{"$f":"IF(ISNA(VLOOKUP(rng01_Proj_Amen6,ProjAmen,1,FALSE)),\"\",IF(VLOOKUP(rng01_Proj_Amen6,ProjAmen,1,FALSE)=\"Other (Comment)\",rng01_Proj_Amen6_Comments,\"\"))","v":""},{"$f":"IFERROR(VLOOKUP(E155,$I$150:$L$157,4,FALSE),\"\")","v":""},null,null,null,null,null,null,null,null,null,null,null,null,null,null,null,null,null,null,null,null,null,null,null,null,"Other (Comment)",{"$f":"IF(AND(TCATrigger=\"Yes\",rng01_Proj_Amen6=\"Other (Comment)\"),rng01_Proj_Amen6,\"\")","v":""},"",{"$f":"IF(AM155=\"\",\"\",SUM($AN$150:AN155))","v":""},{"$f":"IF($AM$155=\"\",\"\",\"True\")","v":""},{"$f":"IF(COUNTIF(AmenitiesTwo,6),TRUE,FALSE)","v":false},{"$f":"IF(OR(ISNA(VLOOKUP(rng01_Proj_Amen6,ProjAmen,1,FALSE)),TCATrigger=\"No\"),\"\",IF(VLOOKUP(rng01_Proj_Amen6,ProjAmen,1,FALSE)=\"Other (Comment)\",rng01_Proj_Amen6_Comments,\"\"))","v":""},{"$f":"IFERROR(VLOOKUP(AK155,$AO$150:$AR$157,4,FALSE),\"\")","v":""}]
[null,null,null,null,null,"Other (Comment)",{"$f":"IF(rng01_Proj_Amen7=\"Other (Comment)\",rng01_Proj_Amen7,\"\")","v":""},"",{"$f":"IF(G156=\"\",\"\",SUM($H$150:H156))","v":""},{"$f":"IF($G$156=\"\",\"\",\"True\")","v":""},{"$f":"IF(COUNTIF(Amenities,7),TRUE,FALSE)","v":false},{"$f":"IF(ISNA(VLOOKUP(rng01_Proj_Amen7,ProjAmen,1,FALSE)),\"\",IF(VLOOKUP(rng01_Proj_Amen7,ProjAmen,1,FALSE)=\"Other (Comment)\",rng01_Proj_Amen7_Comments,\"\"))","v":""},"",null,null,null,null,null,null,null,null,null,null,null,null,null,null,null,null,null,null,null,null,null,null,null,null,"Other (Comment)",{"$f":"IF(AND(TCATrigger=\"Yes\",rng01_Proj_Amen7=\"Other (Comment)\"),rng01_Proj_Amen7,\"\")","v":""},"",{"$f":"IF(AM156=\"\",\"\",SUM($AN$150:AN156))","v":""},{"$f":"IF($AM$156=\"\",\"\",\"True\")","v":""},{"$f":"IF(COUNTIF(AmenitiesTwo,7),TRUE,FALSE)","v":false},{"$f":"IF(OR(ISNA(VLOOKUP(rng01_Proj_Amen7,ProjAmen,1,FALSE)),TCATrigger=\"No\"),\"\",IF(VLOOKUP(rng01_Proj_Amen7,ProjAmen,1,FALSE)=\"Other (Comment)\",rng01_Proj_Amen7_Comments,\"\"))","v":""},""]
[null,null,null,null,null,"Other (Comment)",{"$f":"IF(rng01_Proj_Amen8=\"Other (Comment)\",rng01_Proj_Amen8,\"\")","v":""},"",{"$f":"IF(G157=\"\",\"\",SUM($H$150:H157))","v":""},{"$f":"IF($G$157=\"\",\"\",\"True\")","v":""},{"$f":"IF(COUNTIF(Amenities,8),TRUE,FALSE)","v":false},{"$f":"IF(ISNA(VLOOKUP(rng01_Proj_Amen8,ProjAmen,1,FALSE)),\"\",IF(VLOOKUP(rng01_Proj_Amen8,ProjAmen,1,FALSE)=\"Other (Comment)\",rng01_Proj_Amen8_Comments,\"\"))","v":""},"",null,null,null,null,null,null,null,null,null,null,null,null,null,null,null,null,null,null,null,null,null,null,null,null,"Other (Comment)",{"$f":"IF(AND(TCATrigger=\"Yes\",rng01_Proj_Amen8=\"Other (Comment)\"),rng01_Proj_Amen8,\"\")","v":""},"",{"$f":"IF(AM157=\"\",\"\",SUM($AN$150:AN157))","v":""},{"$f":"IF($AM$157=\"\",\"\",\"True\")","v":""},{"$f":"IF(COUNTIF(AmenitiesTwo,8),TRUE,FALSE)","v":false},{"$f":"IF(OR(ISNA(VLOOKUP(rng01_Proj_Amen8,ProjAmen,1,FALSE)),TCATrigger=\"No\"),\"\",IF(VLOOKUP(rng01_Proj_Amen8,ProjAmen,1,FALSE)=\"Other (Comment)\",rng01_Proj_Amen8_Comments,\"\"))","v":""},""]
[]
[]
[null,null,null,null,null,"Locations>Structure/Utilities/Amenities",null,null,null,null,"See below","Heating Type"]
["01_1_General Data","Building Configuration","Services/Utilities:",null,null,null,"Send to ProLinkHFA","Services/Utilities:","Provided","Included in Rent","Energy Type","Heating System",null,null,null,null,null,null,null,null,null,null,null,null,null,null,null,null,null,null,null,"01_1_General Data","Building Configuration","Services/Utilities:",null,null,null,"Services/Utilities:","Provided","Included in Rent","Energy Type","Heating System"]
[null,null,null,null,null,"Heat",null,"Heat",{"$f":"IF(rng01_Util_Provided_Heat=\"Yes\",TRUE,FALSE)","v":false},{"$f":"IF(rng01_Util_Included_Heat=\"Yes\",TRUE,FALSE)","v":false},{"$f":"IF(rng01_Util_Heat_Energy_Type=\"\",\"\",rng01_Util_Heat_Energy_Type)","v":""},null,null,null,"Heating Type",null,null,null,null,null,null,null,null,null,null,null,null,null,null,null,null,null,null,null,null,null,null,"Heat",{"$f":"IF(TCATrigger=\"No\",\"\",IF(I162=\"\",\"\",I162))","v":""},"","",""]
[null,null,null,null,null,"Hot Water",null,"Hot Water",{"$f":"IF(rng01_Util_Provided_Hot_Water=\"Yes\",TRUE,FALSE)","v":false},{"$f":"IF(rng01_Util_Included_Hot_Water=\"Yes\",TRUE,FALSE)","v":false},{"$f":"IF(rng01_Util_Hot_Water_Energy_Type=\"\",\"\",rng01_Util_Hot_Water_Energy_Type)","v":""},null,null,null,"Hot Water Type",null,null,null,null,null,null,null,null,null,null,null,null,null,null,null,null,null,null,null,null,null,null,"Hot Water","","","",""]
[null,null,null,null,null,"Cooking",null,"Cooking",{"$f":"IF(rng01_Util_Provided_Cooking=\"Yes\",TRUE,FALSE)","v":false},{"$f":"IF(rng01_Util_Included_Cooking=\"Yes\",TRUE,FALSE)","v":false},{"$f":"IF(rng01_Util_Cooking_Energy_Type=\"\",\"\",rng01_Util_Cooking_Energy_Type)","v":""},null,null,null,"Cooking Type",null,null,null,null,null,null,null,null,null,null,null,null,null,null,null,null,null,null,null,null,null,null,"Cooking","","","",""]
[null,null,null,null,null,"AC",null,"Central Air Conditioning",{"$f":"IF(rng01_Util_Provided_Cent_AC=\"Yes\",TRUE,FALSE)","v":false},{"$f":"IF(rng01_Util_Included_Cent_AC=\"Yes\",TRUE,FALSE)","v":false},{"$f":"IF(rng01_Util_Cent_AC_Energy_Type=\"Yes\",TRUE,FALSE)","v":false},null,null,null,"Air Conditioning Type",null,null,null,null,null,null,null,null,null,null,null,null,null,null,null,null,null,null,null,null,null,null,"Central Air Conditioning","","","",""]
[null,null,null,null,null,"Cable",null,"Cable TV",{"$f":"IF(rng01_Util_Provided_CableTV=\"Yes\",TRUE,FALSE)","v":false},{"$f":"IF(rng01_Util_Included_CableTV=\"Yes\",TRUE,FALSE)","v":false},null,null,null,null,null,null,null,null,null,null,null,null,null,null,null,null,null,null,null,null,null,null,null,null,null,null,null,"Cable TV","","","",""]
[null,null,null,null,null,"Lights",null,"Electricity",{"$f":"IF(rng01_Util_Provided_Electricity=\"Yes\",TRUE,FALSE)","v":false},{"$f":"IF(rng01_Util_Included_Electricity=\"Yes\",TRUE,FALSE)","v":false},null,null,null,null,null,null,null,null,null,null,null,null,null,null,null,null,null,null,null,null,null,null,null,null,null,null,null,"Electricity","","","",""]
[null,null,null,null,null,"Water",null,"Water",{"$f":"IF(rng01_Util_Provided_Water=\"Yes\",TRUE,FALSE)","v":false},{"$f":"IF(rng01_Util_Included_Water=\"Yes\",TRUE,FALSE)","v":false},null,null,null,null,null,null,null,null,null,null,null,null,null,null,null,null,null,null,null,null,null,null,null,null,null,null,null,"Water","","","",""]
[null,null,null,null,null,"Sewer",null,"Sewer",{"$f":"IF(rng01_Util_Provided_Sewer=\"Yes\",TRUE,FALSE)","v":false},{"$f":"IF(rng01_Util_Included_Sewer=\"Yes\",TRUE,FALSE)","v":false},null,null,null,null,null,null,null,null,null,null,null,null,null,null,null,null,null,null,null,null,null,null,null,null,null,null,null,"Sewer","","","",""]
[null,null,null,null,null,"Trash Removal"]
[]
["01_1_General Data","Equity Pay-in Schedule",null,null,"Edit DEV Deal UDF's",null,"Closing Date",{"$f":"IF(ISBLANK(rng01_ClosingDate), \"\", rng01_ClosingDate)","v":""}]
[null,null,null,null,null,null,"Anticipated Completion Date",{"$f":"IF(ISBLANK(rng01_Milestones_ConstructionCompletion), \"\", rng01_Milestones_ConstructionCompletion)","v":""}]
[]
[]
[]
[null,null,null,null,null,"Edit Dev Construction Control - Main tab"]
["01_1_General Data","Equity Pay-in Schedule","Milestones",null,null,null,"Milestones","Expected/Actual Date","Equity Pay-in","Equity Pay-in %",null,null,null,null,null,null,null,null,null,null,null,null,null,null,null,null,null,null,null,null,null,"01_1_General Data","Equity Pay-in Schedule","Milestones",null,null,null,"Milestones","Expected/Actual Date","Equity Pay-in","Equity Pay-in %"]
[null,null,null,null,null,null,"Closing:",null,null,null,null,null,null,null,null,null,null,null,null,null,null,null,null,null,null,null,null,null,null,null,null,null,null,null,null,null,null,"Closing:",{"$f":"IF(TCATrigger=\"No\",\"\",IF(H179=\"\",\"\",H179))","v":""},{"$f":"IF(TCATrigger=\"No\",\"\",IF(I179=\"\",\"\",I179))","v":""},{"$f":"IF(TCATrigger=\"No\",\"\",IF(J179=\"\",\"\",J179))","v":""}]
[null,null,null,null,null,null,"Construction begins:",{"$f":"IF(ISBLANK(rng01_Milestones_ConstructionBegins),\"\",rng01_Milestones_ConstructionBegins)","v":""},null,null,null,null,null,null,null,null,null,null,null,null,null,null,null,null,null,null,null,null,null,null,null,null,null,null,null,null,null,"Construction begins:",{"$f":"IF(TCATrigger=\"No\",\"\",IF(H180=\"\",\"\",H180))","v":""},"",""]
[null,null,null,null,null,null,"Other (describe)",null,null,null,null,null,null,null,null,null,null,null,null,null,null,null,null,null,null,null,null,null,null,null,null,null,null,null,null,null,null,"Other (describe)","","",""]
[null,null,null,null,null,null,"Other (describe)",null,null,null,null,null,null,null,null,null,null,null,null,null,null,null,null,null,null,null,null,null,null,null,null,null,null,null,null,null,null,"Other (describe)","","",""]
[null,null,null,null,null,null,"Other (describe)",null,null,null,null,null,null,null,null,null,null,null,null,null,null,null,null,null,null,null,null,null,null,null,null,null,null,null,null,null,null,"Other (describe)","","",""]
[null,null,null,null,null,null,"Construction completion:",{"$f":"IF(ISBLANK(rng01_Milestones_ConstructionCompletion),\"\",rng01_Milestones_ConstructionCompletion)","v":""},null,null,null,null,null,null,null,null,null,null,null,null,null,null,null,null,null,null,null,null,null,null,null,null,null,null,null,null,null,"Construction completion:","","",""]
[null,null,null,null,null,null,"Other (describe)",null,null,null,null,null,null,null,null,null,null,null,null,null,null,null,null,null,null,null,null,null,null,null,null,null,null,null,null,null,null,"Other (describe)","","",""]
[null,null,null,null,null,null,"Other (describe)",null,null,null,null,null,null,null,null,null,null,null,null,null,null,null,null,null,null,null,null,null,null,null,null,null,null,null,null,null,null,"Other (describe)","","",""]
[null,null,null,null,null,null,"Lease-up Start:",null,null,null,null,null,null,null,null,null,null,null,null,null,null,null,null,null,null,null,null,null,null,null,null,null,null,null,null,null,null,"Lease-up Start:","","",""]
[null,null,null,null,null,null,"Other (describe)",null,null,null,null,null,null,null,null,null,null,null,null,null,null,null,null,null,null,null,null,null,null,null,null,null,null,null,null,null,null,"Other (describe)","","",""]
[null,null,null,null,null,null,"Other (describe)",null,null,null,null,null,null,null,null,null,null,null,null,null,null,null,null,null,null,null,null,null,null,null,null,null,null,null,null,null,null,"Other (describe)","","",""]
[null,null,null,null,null,null,"Stabilization:",null,null,null,null,null,null,null,null,null,null,null,null,null,null,null,null,null,null,null,null,null,null,null,null,null,null,null,null,null,null,"Stabilization:","","",""]
[null,null,null,null,null,null,"Rental achievement:",null,null,null,null,null,null,null,null,null,null,null,null,null,null,null,null,null,null,null,null,null,null,null,null,null,null,null,null,null,null,"Rental achievement:","","",""]
[null,null,null,null,null,null,"Issuance of 8609",null,null,null,null,null,null,null,null,null,null,null,null,null,null,null,null,null,null,null,null,null,null,null,null,null,null,null,null,null,null,"Issuance of 8609","","",""]
[null,null,null,null,null,null,"Total",null,null,null,null,null,null,null,null,null,null,null,null,null,null,null,null,null,null,null,null,null,null,null,null,null,null,null,null,null,null,"Total","","",""]
[]
["01_1_General Data","Trending Assumption",null,null,null,null,null,null,null,null,null,null,null,null,null,null,null,null,null,null,null,null,null,null,null,null,null,null,null,null,null,"01_1_General Data","Trending Assumption"]
["01_1_General Data","Absorption Schedule",null,null,null,null,null,null,null,null,null,null,null,null,null,null,null,null,null,null,null,null,null,null,null,null,null,null,null,null,null,"01_1_General Data","Absorption Schedule"]
[]
[null,null,null,null,"All of these are on Property Entity",null,null,null,null,null,null,null,null,null,null,null,null,null,null,null,null,null,null,null,null,null,null,null,null,null,null,null,null,null,null,null,null,null,"Or is this Base Entity Type (Assoc TC Deal>Deal Owner)?"]
["01_1_General Data","Development Team Information","Proxy Entities\n\nWill need to add Company or Individual field for each time it's entered",null,null,null,null,"Role","Company or Individual?","Name (Doing Business as)",null,"Address1","City","State/Zip","State/Zip","Zip","Phone","Fax","Main Phone","Email Address 1",null,null,null,null,null,null,null,null,null,null,null,"01_1_General Data","Development Team Information","Proxy Entities\n\nWill need to add Company or Individual field for each time it's entered",null,null,null,null,"Role","Company or Individual?","Name (Doing Business as)",null,"Address1","City","State/Zip","State","Zip","Phone","Fax","Main Phone","Email Address 1"]
[null,null,null,null,"Need to add this to the General Data tab",null,"Sponsor",{"$f":"IF(rng01_Developer=\"\",\"\",\"Sponsor\")","v":""},{"$f":"IF(rng01_Developer=\"\",\"\",\"Company\")","v":""},{"$f":"IF(rng01_Developer=\"\",\"\",rng01_Developer)","v":""},null,{"$f":"IF(rng01_Developer=\"\",\"\",IF(rng01_Developer_Address=\"\",\"\",rng01_Developer_Address))","v":""},{"$f":"IF(rng01_Developer=\"\",\"\",IF(rng01_Developer_City=\"\",\"\",rng01_Developer_City))","v":""},{"$f":"IF(rng01_Developer=\"\",\"\",IF(rng01_Developer_State=\"\",\"\",rng01_Developer_State))","v":""},{"$f":"IF(rng01_Developer=\"\",\"\",LEFT(N200,2))","v":""},{"$f":"IF(rng01_Developer=\"\",\"\",RIGHT(N200,5))","v":""},{"$f":"IF(rng01_Developer=\"\",\"\",IF(rng01_Developer_Phone=\"\",\"\",rng01_Developer_Phone))","v":""},{"$f":"IF(rng01_Developer=\"\",\"\",rng01_Developer_Fax)","v":""},{"$f":"IF(rng01_Developer=\"\",\"\",rng01_Developer_Cell)","v":""},{"$f":"IF(rng01_Developer=\"\",\"\",IF(rng01_Developer_Email=\"\",\"\",rng01_Developer_Email))","v":""},null,null,null,null,null,null,null,null,null,null,null,null,null,null,null,null,null,"Sponsor",{"$f":"IF(TCATrigger=\"No\",\"\",IF(H200=\"\",\"\",H200))","v":""},{"$f":"IF(TCATrigger=\"No\",\"\",IF(I200=\"\",\"\",I200))","v":""},{"$f":"IF(TCATrigger=\"No\",\"\",IF(J200=\"\",\"\",J200))","v":""},{"$f":"IF(TCATrigger=\"No\",\"\",IF(K200=\"\",\"\",K200))","v":""},{"$f":"IF(TCATrigger=\"No\",\"\",IF(L200=\"\",\"\",L200))","v":""},{"$f":"IF(TCATrigger=\"No\",\"\",IF(M200=\"\",\"\",M200))","v":""},null,{"$f":"IF(TCATrigger=\"No\",\"\",O200)","v":""},{"$f":"IF(TCATrigger=\"No\",\"\",P200)","v":""},{"$f":"IF(TCATrigger=\"No\",\"\",Q200)","v":""},null,null,{"$f":"IF(TCATrigger=\"No\",\"\",IF(T200=\"\",\"\",T200))","v":""}]
[null,null,null,null,null,null,"Co-Sponsor",{"$f":"IF(rng01_Co_Developer=\"\",\"\",\"Co-Sponsor\")","v":""},{"$f":"IF(rng01_Co_Developer=\"\",\"\",\"Company\")","v":""},{"$f":"IF(rng01_Co_Developer=\"\",\"\",rng01_Co_Developer)","v":""},null,{"$f":"IF(rng01_Co_Developer=\"\",\"\",IF(rng01_Co_Developer_Address=\"\",\"\",rng01_Co_Developer_Address))","v":""},{"$f":"IF(rng01_Co_Developer=\"\",\"\",IF(rng01_Co_Developer_City=\"\",\"\",rng01_Co_Developer_City))","v":""},{"$f":"IF(rng01_Co_Developer=\"\",\"\",IF(rng01_Co_Developer_State=\"\",\"\",rng01_Co_Developer_State))","v":""},{"$f":"IF(rng01_Co_Developer=\"\",\"\",LEFT(N201,2))","v":""},{"$f":"IF(rng01_Co_Developer=\"\",\"\",RIGHT(N201,5))","v":""},{"$f":"IF(rng01_Co_Developer=\"\",\"\",IF(rng01_Co_Developer_Phone=\"\",\"\",rng01_Co_Developer_Phone))","v":""},{"$f":"IF(rng01_Co_Developer=\"\",\"\",rng01_Co_Developer_Fax)","v":""},{"$f":"IF(rng01_Co_Developer=\"\",\"\",rng01_Co_Developer_Cell)","v":""},{"$f":"IF(rng01_Co_Developer=\"\",\"\",IF(rng01_Co_Developer_Email=\"\",\"\",rng01_Co_Developer_Email))","v":""},null,null,null,null,null,null,null,null,null,null,null,null,null,null,null,null,null,"Co-Sponsor",{"$f":"IF(TCATrigger=\"No\",\"\",IF(H201=\"\",\"\",H201))","v":""},"","","","","",null,"","","",null,null,""]
[null,null,null,null,null,null,"Manager",{"$f":"IF(rng01_Manager=\"\",\"\",\"Manager\")","v":""},{"$f":"IF(rng01_Manager=\"\",\"\",\"Company\")","v":""},{"$f":"IF(rng01_Manager=\"\",\"\",rng01_Manager)","v":""},null,{"$f":"IF(rng01_Manager=\"\",\"\",IF(rng01_Manager_Address=\"\",\"\",rng01_Manager_Address))","v":""},{"$f":"IF(rng01_Manager=\"\",\"\",IF(rng01_Manager_City=\"\",\"\",rng01_Manager_City))","v":""},{"$f":"IF(rng01_Manager=\"\",\"\",IF(rng01_Manager_State=\"\",\"\",rng01_Manager_State))","v":""},{"$f":"IF(rng01_Manager=\"\",\"\",LEFT(N202,2))","v":""},{"$f":"IF(rng01_Manager=\"\",\"\",RIGHT(N202,5))","v":""},{"$f":"IF(rng01_Manager=\"\",\"\",IF(rng01_Manager_Phone=\"\",\"\",rng01_Manager_Phone))","v":""},{"$f":"IF(rng01_Manager=\"\",\"\",rng01_Manager_Fax)","v":""},{"$f":"IF(rng01_Manager=\"\",\"\",rng01_Manager_Cell)","v":""},{"$f":"IF(rng01_Manager=\"\",\"\",IF(rng01_Manager_Email=\"\",\"\",rng01_Manager_Email))","v":""},null,null,null,null,null,null,null,null,null,null,null,null,null,null,null,null,null,"Manager",{"$f":"IF(TCATrigger=\"No\",\"\",IF(H202=\"\",\"\",H202))","v":""},"","","","","",null,"","","",null,null,""]
[null,null,null,null,null,null,"Architect",{"$f":"IF(rng01_Architect=\"\",\"\",\"Architect\")","v":""},{"$f":"IF(rng01_Architect=\"\",\"\",\"Company\")","v":""},{"$f":"IF(rng01_Architect=\"\",\"\",rng01_Architect)","v":""},null,{"$f":"IF(rng01_Architect=\"\",\"\",IF(rng01_Architect_Address=\"\",\"\",rng01_Architect_Address))","v":""},{"$f":"IF(rng01_Architect=\"\",\"\",IF(rng01_Architect_City=\"\",\"\",rng01_Architect_City))","v":""},{"$f":"IF(rng01_Architect=\"\",\"\",IF(rng01_Architect_State=\"\",\"\",rng01_Architect_State))","v":""},{"$f":"IF(rng01_Architect=\"\",\"\",LEFT(N203,2))","v":""},{"$f":"IF(rng01_Architect=\"\",\"\",RIGHT(N203,5))","v":""},{"$f":"IF(rng01_Architect=\"\",\"\",IF(rng01_Architect_Phone=\"\",\"\",rng01_Architect_Phone))","v":""},{"$f":"IF(rng01_Architect=\"\",\"\",rng01_Architect_Fax)","v":""},{"$f":"IF(rng01_Architect=\"\",\"\",rng01_Architect_Cell)","v":""},{"$f":"IF(rng01_Architect=\"\",\"\",IF(rng01_Architect_Email=\"\",\"\",rng01_Architect_Email))","v":""},null,null,null,null,null,null,null,null,null,null,null,null,null,null,null,null,null,"Architect",{"$f":"IF(TCATrigger=\"No\",\"\",IF(H203=\"\",\"\",H203))","v":""},"","","","","",null,"","","",null,null,""]
[null,null,null,null,null,null,"Legal",{"$f":"IF(rng01_Legal=\"\",\"\",\"Legal\")","v":""},{"$f":"IF(rng01_Legal=\"\",\"\",\"Company\")","v":""},{"$f":"IF(rng01_Legal=\"\",\"\",rng01_Legal)","v":""},null,{"$f":"IF(rng01_Legal=\"\",\"\",IF(rng01_Legal_Address=\"\",\"\",rng01_Legal_Address))","v":""},{"$f":"IF(rng01_Legal=\"\",\"\",IF(rng01_Legal_City=\"\",\"\",rng01_Legal_City))","v":""},{"$f":"IF(rng01_Legal=\"\",\"\",IF(rng01_Legal_State=\"\",\"\",rng01_Legal_State))","v":""},{"$f":"IF(rng01_Legal=\"\",\"\",LEFT(N204,2))","v":""},{"$f":"IF(rng01_Legal=\"\",\"\",RIGHT(N204,5))","v":""},{"$f":"IF(rng01_Legal=\"\",\"\",IF(rng01_Legal_Phone=\"\",\"\",rng01_Legal_Phone))","v":""},{"$f":"IF(rng01_Legal=\"\",\"\",rng01_Legal_Fax)","v":""},{"$f":"IF(rng01_Legal=\"\",\"\",rng01_Legal_Cell)","v":""},{"$f":"IF(rng01_Legal=\"\",\"\",IF(rng01_Legal_Email=\"\",\"\",rng01_Legal_Email))","v":""},null,null,null,null,null,null,null,null,null,null,null,null,null,null,null,null,null,"Legal","","","","","","",null,"","","",null,null,""]
[null,null,null,null,null,null,"LIHTC Legal",{"$f":"IF(rng01_LIHTC_Legal=\"\",\"\",\"LIHTC Legal\")","v":""},{"$f":"IF(rng01_LIHTC_Legal=\"\",\"\",\"Company\")","v":""},{"$f":"IF(rng01_LIHTC_Legal=\"\",\"\",rng01_LIHTC_Legal)","v":""},null,{"$f":"IF(rng01_LIHTC_Legal=\"\",\"\",IF(rng01_LIHTC_Legal_Address=\"\",\"\",rng01_LIHTC_Legal_Address))","v":""},{"$f":"IF(rng01_LIHTC_Legal=\"\",\"\",IF(rng01_LIHTC_Legal_City=\"\",\"\",rng01_LIHTC_Legal_City))","v":""},{"$f":"IF(rng01_LIHTC_Legal=\"\",\"\",IF(rng01_LIHTC_Legal_State=\"\",\"\",rng01_LIHTC_Legal_State))","v":""},{"$f":"IF(rng01_LIHTC_Legal=\"\",\"\",LEFT(N205,2))","v":""},{"$f":"IF(rng01_LIHTC_Legal=\"\",\"\",RIGHT(N205,5))","v":""},{"$f":"IF(rng01_LIHTC_Legal=\"\",\"\",IF(rng01_LIHTC_Legal_Phone=\"\",\"\",rng01_LIHTC_Legal_Phone))","v":""},{"$f":"IF(rng01_LIHTC_Legal=\"\",\"\",rng01_LIHTC_Legal_Fax)","v":""},{"$f":"IF(rng01_LIHTC_Legal=\"\",\"\",rng01_LIHTC_Legal_Cell)","v":""},{"$f":"IF(rng01_LIHTC_Legal=\"\",\"\",IF(rng01_LIHTC_Legal_Email=\"\",\"\",rng01_LIHTC_Legal_Email))","v":""},null,null,null,null,null,null,null,null,null,null,null,null,null,null,null,null,null,"LIHTC Legal","","","","","","",null,"","","",null,null,""]
[null,null,null,null,null,null,"Contractor",{"$f":"IF(rng01_Contractor=\"\",\"\",\"Contractor\")","v":""},{"$f":"IF(rng01_Contractor=\"\",\"\",\"Company\")","v":""},{"$f":"IF(rng01_Contractor=\"\",\"\",rng01_Contractor)","v":""},null,{"$f":"IF(rng01_Contractor=\"\",\"\",IF(rng01_Contractor_Address=\"\",\"\",rng01_Contractor_Address))","v":""},{"$f":"IF(rng01_Contractor=\"\",\"\",IF(rng01_Contractor_City=\"\",\"\",rng01_Contractor_City))","v":""},{"$f":"IF(rng01_Contractor=\"\",\"\",IF(rng01_Contractor_State=\"\",\"\",rng01_Contractor_State))","v":""},{"$f":"IF(rng01_Contractor=\"\",\"\",LEFT(N206,2))","v":""},{"$f":"IF(rng01_Contractor=\"\",\"\",RIGHT(N206,5))","v":""},{"$f":"IF(rng01_Contractor=\"\",\"\",IF(rng01_Contractor_Phone=\"\",\"\",rng01_Contractor_Phone))","v":""},{"$f":"IF(rng01_Contractor=\"\",\"\",rng01_Contractor_Fax)","v":""},{"$f":"IF(rng01_Contractor=\"\",\"\",rng01_Contractor_Cell)","v":""},{"$f":"IF(rng01_Contractor=\"\",\"\",IF(rng01_Contractor_Email=\"\",\"\",rng01_Contractor_Email))","v":""},null,null,null,null,null,null,null,null,null,null,null,null,null,null,null,null,null,"Contractor","","","","","","",null,"","","",null,null,""]
[null,null,null,null,null,null,"Syndicator",{"$f":"IF(rng01_Syndicator=\"\",\"\",\"Syndicator\")","v":""},{"$f":"IF(rng01_Syndicator=\"\",\"\",\"Company\")","v":""},{"$f":"IF(rng01_Syndicator=\"\",\"\",rng01_Syndicator)","v":""},null,{"$f":"IF(rng01_Syndicator=\"\",\"\",IF(rng01_Syndicator_Address=\"\",\"\",rng01_Syndicator_Address))","v":""},{"$f":"IF(rng01_Syndicator=\"\",\"\",IF(rng01_Syndicator_City=\"\",\"\",rng01_Syndicator_City))","v":""},{"$f":"IF(rng01_Syndicator=\"\",\"\",IF(rng01_Syndicator_State=\"\",\"\",rng01_Syndicator_State))","v":""},{"$f":"IF(rng01_Contractor=\"\",\"\",LEFT(N207,2))","v":""},{"$f":"IF(rng01_Syndicator=\"\",\"\",RIGHT(N207,5))","v":""},{"$f":"IF(rng01_Syndicator=\"\",\"\",IF(rng01_Syndicator_Phone=\"\",\"\",rng01_Syndicator_Phone))","v":""},{"$f":"IF(rng01_Syndicator=\"\",\"\",rng01_Syndicator_Fax)","v":""},{"$f":"IF(rng01_Syndicator=\"\",\"\",rng01_Syndicator_Cell)","v":""},{"$f":"IF(rng01_Syndicator=\"\",\"\",IF(rng01_Syndicator_Email=\"\",\"\",rng01_Syndicator_Email))","v":""},null,null,null,null,null,null,null,null,null,null,null,null,null,null,null,null,null,"Syndicator","","","","","","",null,"","","",null,null,""]
[null,null,null,null,null,null,"Consultant1",{"$f":"IF(rng01_Consultant1=\"\",\"\",\"Consultant\")","v":""},{"$f":"IF(rng01_Consultant1=\"\",\"\",\"Company\")","v":""},{"$f":"IF(rng01_Consultant1=\"\",\"\",rng01_Consultant1)","v":""},null,{"$f":"IF(rng01_Consultant1=\"\",\"\",IF(rng01_Consultant1_Address=\"\",\"\",rng01_Consultant1_Address))","v":""},{"$f":"IF(rng01_Consultant1=\"\",\"\",IF(rng01_Consultant1_City=\"\",\"\",rng01_Consultant1_City))","v":""},{"$f":"IF(rng01_Consultant1=\"\",\"\",IF(rng01_Consultant1_State=\"\",\"\",rng01_Consultant1_State))","v":""},{"$f":"IF(rng01_Consultant1=\"\",\"\",LEFT(N208,2))","v":""},{"$f":"IF(rng01_Consultant1=\"\",\"\",RIGHT(N208,5))","v":""},{"$f":"IF(rng01_Consultant1=\"\",\"\",IF(rng01_Consultant1_Phone=\"\",\"\",rng01_Consultant1_Phone))","v":""},{"$f":"IF(rng01_Consultant1=\"\",\"\",rng01_Consultant1_Fax)","v":""},{"$f":"IF(rng01_Consultant1=\"\",\"\",rng01_Consultant1_Cell)","v":""},{"$f":"IF(rng01_Consultant1=\"\",\"\",IF(rng01_Consultant1_Email=\"\",\"\",rng01_Consultant1_Email))","v":""},null,null,null,null,null,null,null,null,null,null,null,null,null,null,null,null,null,"Consultant1","","","","","","",null,"","","",null,null,""]
[null,null,null,null,null,null,"Consultant2",{"$f":"IF(rng01_Consultant2=\"\",\"\",\"Consultant\")","v":""},{"$f":"IF(rng01_Consultant2=\"\",\"\",\"Company\")","v":""},{"$f":"IF(rng01_Consultant2=\"\",\"\",rng01_Consultant2)","v":""},null,{"$f":"IF(rng01_Consultant2=\"\",\"\",IF(rng01_Consultant2_Address=\"\",\"\",rng01_Consultant2_Address))","v":""},{"$f":"IF(rng01_Consultant2=\"\",\"\",IF(rng01_Consultant2_City=\"\",\"\",rng01_Consultant2_City))","v":""},{"$f":"IF(rng01_Consultant2=\"\",\"\",IF(rng01_Consultant2_State=\"\",\"\",rng01_Consultant2_State))","v":""},{"$f":"IF(rng01_Consultant2=\"\",\"\",LEFT(N209,2))","v":""},{"$f":"IF(rng01_Consultant2=\"\",\"\",RIGHT(N209,5))","v":""},{"$f":"IF(rng01_Consultant2=\"\",\"\",IF(rng01_Consultant2_Phone=\"\",\"\",rng01_Consultant2_Phone))","v":""},{"$f":"IF(rng01_Consultant2=\"\",\"\",rng01_Consultant2_Fax)","v":""},{"$f":"IF(rng01_Consultant2=\"\",\"\",rng01_Consultant2_Cell)","v":""},{"$f":"IF(rng01_Consultant2=\"\",\"\",IF(rng01_Consultant2_Email=\"\",\"\",rng01_Consultant2_Email))","v":""},null,null,null,null,null,null,null,null,null,null,null,null,null,null,null,null,null,"Consultant2","","","","","","",null,"","","",null,null,""]
[]
[]
[]
[]
[]
[]
[]
[null,null,null,null,null,null,null,{"$f":"IF(\"True\",\"\",\"Multi-tenant\")","v":""}]
[]
["01_1_General Data","Acquisition",null,null,null,null,"Address","As Is Appraised",null,"Sale Price","City","Zip Code","Census Tract","QCT/DDA","Opportunity Zone",null,null,null,null,null,null,null,null,null,null,null,null,null,null,null,null,"01_1_General Data","Acquisition",null,null,null,null,"Address","As Is Appraised","Sale Price","City","Zip Code","Census Tract","QCT/DDA","Opportunity Zone"]
[null,null,null,null,null,1,{"$f":"IF(rng01_Address1=\"\",\"\",rng01_Address1)","v":""},null,null,null,{"$f":"IF(rng01_City1=\"\",\"\",rng01_City1)","v":""},{"$f":"IF(rng01_Zip1=\"\",\"\",rng01_Zip1)","v":""},null,null,{"$error":"#N/A"},null,null,null,null,null,null,null,null,null,null,null,null,null,null,null,null,null,null,null,null,null,null,{"$f":"IF(TCATrigger=\"No\",\"\",IF(G220=\"\",\"\",G220))","v":""},{"$f":"IF(TCATrigger=\"No\",\"\",IF(H220=\"\",\"\",H220))","v":""},{"$f":"IF(TCATrigger=\"No\",\"\",IF(I220=\"\",\"\",I220))","v":""},{"$f":"IF(TCATrigger=\"No\",\"\",IF(K220=\"\",\"\",K220))","v":""},{"$f":"IF(TCATrigger=\"No\",\"\",IF(L220=\"\",\"\",L220))","v":""},null,null,{"$error":"#N/A"}]
[null,null,null,null,null,2,{"$f":"IF(rng01_Address2=\"\",\"\",rng01_Address2)","v":""},null,null,null,{"$f":"IF(rng01_City2=\"\",\"\",rng01_City2)","v":""},{"$f":"IF(rng01_Zip2=\"\",\"\",rng01_Zip2)","v":""},null,null,{"$error":"#N/A"},null,null,null,null,null,null,null,null,null,null,null,null,null,null,null,null,null,null,null,null,null,null,{"$f":"IF(TCATrigger=\"No\",\"\",IF(G221=\"\",\"\",G221))","v":""},null,null,"","",null,null,{"$error":"#N/A"}]
[null,null,"Do not do Existing Debt",null,null,3,{"$f":"IF(rng01_Address3=\"\",\"\",rng01_Address3)","v":""},null,null,null,{"$f":"IF(rng01_City3=\"\",\"\",rng01_City3)","v":""},{"$f":"IF(rng01_Zip3=\"\",\"\",rng01_Zip3)","v":""},null,null,{"$error":"#N/A"},null,null,null,null,null,null,null,null,null,null,null,null,null,null,null,null,null,null,"Do not do Existing Debt",null,null,null,"",null,null,"","",null,null,{"$error":"#N/A"}]
[null,null,null,null,null,4,{"$f":"IF(rng01_Address4=\"\",\"\",rng01_Address4)","v":""},null,null,null,{"$f":"IF(rng01_City4=\"\",\"\",rng01_City4)","v":""},{"$f":"IF(rng01_Zip4=\"\",\"\",rng01_Zip4)","v":""},null,null,{"$error":"#N/A"},null,null,null,null,null,null,null,null,null,null,null,null,null,null,null,null,null,null,null,null,null,null,"",null,null,"","",null,null,{"$error":"#N/A"}]
[null,null,null,null,null,5,{"$f":"IF(rng01_Address5=\"\",\"\",rng01_Address5)","v":""},null,null,null,{"$f":"IF(rng01_City5=\"\",\"\",rng01_City5)","v":""},{"$f":"IF(rng01_Zip5=\"\",\"\",rng01_Zip5)","v":""},null,null,{"$error":"#N/A"},null,null,null,null,null,null,null,null,null,null,null,null,null,null,null,null,null,null,null,null,null,null,"",null,null,"","",null,null,{"$error":"#N/A"}]
[null,null,null,null,null,6,{"$f":"IF(rng01_Address6=\"\",\"\",rng01_Address6)","v":""},null,null,null,{"$f":"IF(rng01_City6=\"\",\"\",rng01_City6)","v":""},{"$f":"IF(rng01_Zip6=\"\",\"\",rng01_Zip6)","v":""},null,null,{"$error":"#N/A"},null,null,null,null,null,null,null,null,null,null,null,null,null,null,null,null,null,null,null,null,null,null,"",null,null,"","",null,null,{"$error":"#N/A"}]
[null,null,null,null,null,7,{"$f":"IF(rng01_Address7=\"\",\"\",rng01_Address7)","v":""},null,null,null,{"$f":"IF(rng01_City7=\"\",\"\",rng01_City7)","v":""},{"$f":"IF(rng01_Zip7=\"\",\"\",rng01_Zip7)","v":""},null,null,{"$error":"#N/A"},null,null,null,null,null,null,null,null,null,null,null,null,null,null,null,null,null,null,null,null,null,null,"",null,null,"","",null,null,{"$error":"#N/A"}]
[null,null,null,null,null,8,{"$f":"IF(rng01_Address8=\"\",\"\",rng01_Address8)","v":""},null,null,null,{"$f":"IF(rng01_City8=\"\",\"\",rng01_City8)","v":""},{"$f":"IF(rng01_Zip8=\"\",\"\",rng01_Zip8)","v":""},null,null,{"$error":"#N/A"},null,null,null,null,null,null,null,null,null,null,null,null,null,null,null,null,null,null,null,null,null,null,"",null,null,"","",null,null,{"$error":"#N/A"}]
[null,null,null,null,null,9,{"$f":"IF(rng01_Address9=\"\",\"\",rng01_Address9)","v":""},null,null,null,{"$f":"IF(rng01_City9=\"\",\"\",rng01_City9)","v":""},{"$f":"IF(rng01_Zip9=\"\",\"\",rng01_Zip9)","v":""},null,null,{"$error":"#N/A"},null,null,null,null,null,null,null,null,null,null,null,null,null,null,null,null,null,null,null,null,null,null,"",null,null,"","",null,null,{"$error":"#N/A"}]
[null,null,null,null,null,10,{"$f":"IF(rng01_Address10=\"\",\"\",rng01_Address10)","v":""},null,null,null,{"$f":"IF(rng01_City10=\"\",\"\",rng01_City10)","v":""},{"$f":"IF(rng01_Zip10=\"\",\"\",rng01_Zip10)","v":""},null,null,{"$error":"#N/A"},null,null,null,null,null,null,null,null,null,null,null,null,null,null,null,null,null,null,null,null,null,null,"",null,null,"","",null,null,{"$error":"#N/A"}]
[null,null,null,null,null,11,{"$f":"IF(rng01_Address11=\"\",\"\",rng01_Address11)","v":""},null,null,null,{"$f":"IF(rng01_City11=\"\",\"\",rng01_City11)","v":""},{"$f":"IF(rng01_Zip11=\"\",\"\",rng01_Zip11)","v":""},null,null,{"$error":"#N/A"},null,null,null,null,null,null,null,null,null,null,null,null,null,null,null,null,null,null,null,null,null,null,"",null,null,"","",null,null,{"$error":"#N/A"}]
[null,null,null,null,null,12,{"$f":"IF(rng01_Address12=\"\",\"\",rng01_Address12)","v":""},null,null,null,{"$f":"IF(rng01_City12=\"\",\"\",rng01_City12)","v":""},{"$f":"IF(rng01_Zip12=\"\",\"\",rng01_Zip12)","v":""},null,null,{"$error":"#N/A"},null,null,null,null,null,null,null,null,null,null,null,null,null,null,null,null,null,null,null,null,null,null,"",null,null,"","",null,null,{"$error":"#N/A"}]
[null,null,null,null,null,13,{"$f":"IF(rng01_Address13=\"\",\"\",rng01_Address13)","v":""},null,null,null,{"$f":"IF(rng01_City13=\"\",\"\",rng01_City13)","v":""},{"$f":"IF(rng01_Zip13=\"\",\"\",rng01_Zip13)","v":""},null,null,{"$error":"#N/A"},null,null,null,null,null,null,null,null,null,null,null,null,null,null,null,null,null,null,null,null,null,null,"",null,null,"","",null,null,{"$error":"#N/A"}]
[null,null,null,null,null,14,{"$f":"IF(rng01_Address14=\"\",\"\",rng01_Address14)","v":""},null,null,null,{"$f":"IF(rng01_City14=\"\",\"\",rng01_City14)","v":""},{"$f":"IF(rng01_Zip14=\"\",\"\",rng01_Zip14)","v":""},null,null,{"$error":"#N/A"},null,null,null,null,null,null,null,null,null,null,null,null,null,null,null,null,null,null,null,null,null,null,"",null,null,"","",null,null,{"$error":"#N/A"}]
[null,null,null,null,null,15,{"$f":"IF(rng01_Address15=\"\",\"\",rng01_Address15)","v":""},null,null,null,{"$f":"IF(rng01_City15=\"\",\"\",rng01_City15)","v":""},{"$f":"IF(rng01_Zip15=\"\",\"\",rng01_Zip15)","v":""},null,null,{"$error":"#N/A"},null,null,null,null,null,null,null,null,null,null,null,null,null,null,null,null,null,null,null,null,null,null,"",null,null,"","",null,null,{"$error":"#N/A"}]
[null,null,null,null,null,16,{"$f":"IF(rng01_Address16=\"\",\"\",rng01_Address16)","v":""},null,null,null,{"$f":"IF(rng01_City16=\"\",\"\",rng01_City16)","v":""},{"$f":"IF(rng01_Zip16=\"\",\"\",rng01_Zip16)","v":""},null,null,{"$error":"#N/A"},null,null,null,null,null,null,null,null,null,null,null,null,null,null,null,null,null,null,null,null,null,null,"",null,null,"","",null,null,{"$error":"#N/A"}]
[null,null,null,null,null,17,{"$f":"IF(rng01_Address17=\"\",\"\",rng01_Address17)","v":""},null,null,null,{"$f":"IF(rng01_City17=\"\",\"\",rng01_City17)","v":""},{"$f":"IF(rng01_Zip17=\"\",\"\",rng01_Zip17)","v":""},null,null,{"$error":"#N/A"},null,null,null,null,null,null,null,null,null,null,null,null,null,null,null,null,null,null,null,null,null,null,"",null,null,"","",null,null,{"$error":"#N/A"}]
[null,null,null,null,null,18,{"$f":"IF(rng01_Address18=\"\",\"\",rng01_Address18)","v":""},null,null,null,{"$f":"IF(rng01_City18=\"\",\"\",rng01_City18)","v":""},{"$f":"IF(rng01_Zip18=\"\",\"\",rng01_Zip18)","v":""},null,null,{"$error":"#N/A"},null,null,null,null,null,null,null,null,null,null,null,null,null,null,null,null,null,null,null,null,null,null,"",null,null,"","",null,null,{"$error":"#N/A"}]
[null,null,null,null,null,19,{"$f":"IF(rng01_Address19=\"\",\"\",rng01_Address19)","v":""},null,null,null,{"$f":"IF(rng01_City19=\"\",\"\",rng01_City19)","v":""},{"$f":"IF(rng01_Zip19=\"\",\"\",rng01_Zip19)","v":""},null,null,{"$error":"#N/A"},null,null,null,null,null,null,null,null,null,null,null,null,null,null,null,null,null,null,null,null,null,null,"",null,null,"","",null,null,{"$error":"#N/A"}]
[null,null,null,null,null,20,{"$f":"IF(rng01_Address20=\"\",\"\",rng01_Address20)","v":""},null,null,null,{"$f":"IF(rng01_City20=\"\",\"\",rng01_City20)","v":""},{"$f":"IF(rng01_Zip20=\"\",\"\",rng01_Zip20)","v":""},null,null,{"$error":"#N/A"},null,null,null,null,null,null,null,null,null,null,null,null,null,null,null,null,null,null,null,null,null,null,"",null,null,"","",null,null,{"$error":"#N/A"}]
[null,null,null,null,null,21,{"$f":"IF(rng01_Address21=\"\",\"\",rng01_Address21)","v":""},null,null,null,{"$f":"IF(rng01_City21=\"\",\"\",rng01_City21)","v":""},{"$f":"IF(rng01_Zip21=\"\",\"\",rng01_Zip21)","v":""},null,null,{"$error":"#N/A"},null,null,null,null,null,null,null,null,null,null,null,null,null,null,null,null,null,null,null,null,null,null,"",null,null,"","",null,null,{"$error":"#N/A"}]
[null,null,null,null,null,22,{"$f":"IF(rng01_Address22=\"\",\"\",rng01_Address22)","v":""},null,null,null,{"$f":"IF(rng01_City22=\"\",\"\",rng01_City22)","v":""},{"$f":"IF(rng01_Zip22=\"\",\"\",rng01_Zip22)","v":""},null,null,{"$error":"#N/A"},null,null,null,null,null,null,null,null,null,null,null,null,null,null,null,null,null,null,null,null,null,null,"",null,null,"","",null,null,{"$error":"#N/A"}]
[null,null,null,null,null,23,{"$f":"IF(rng01_Address23=\"\",\"\",rng01_Address23)","v":""},null,null,null,{"$f":"IF(rng01_City23=\"\",\"\",rng01_City23)","v":""},{"$f":"IF(rng01_Zip23=\"\",\"\",rng01_Zip23)","v":""},null,null,{"$error":"#N/A"},null,null,null,null,null,null,null,null,null,null,null,null,null,null,null,null,null,null,null,null,null,null,"",null,null,"","",null,null,{"$error":"#N/A"}]
[null,null,null,null,null,24,{"$f":"IF(rng01_Address24=\"\",\"\",rng01_Address24)","v":""},null,null,null,{"$f":"IF(rng01_City24=\"\",\"\",rng01_City24)","v":""},{"$f":"IF(rng01_Zip24=\"\",\"\",rng01_Zip24)","v":""},null,null,{"$error":"#N/A"},null,null,null,null,null,null,null,null,null,null,null,null,null,null,null,null,null,null,null,null,null,null,"",null,null,"","",null,null,{"$error":"#N/A"}]
[null,null,null,null,null,25,{"$f":"IF(rng01_Address25=\"\",\"\",rng01_Address25)","v":""},null,null,null,{"$f":"IF(rng01_City25=\"\",\"\",rng01_City25)","v":""},{"$f":"IF(rng01_Zip25=\"\",\"\",rng01_Zip25)","v":""},null,null,{"$error":"#N/A"},null,null,null,null,null,null,null,null,null,null,null,null,null,null,null,null,null,null,null,null,null,null,"",null,null,"","",null,null,{"$error":"#N/A"}]
[null,null,null,null,null,26,{"$f":"IF(rng01_Address26=\"\",\"\",rng01_Address26)","v":""},null,null,null,{"$f":"IF(rng01_City26=\"\",\"\",rng01_City26)","v":""},{"$f":"IF(rng01_Zip26=\"\",\"\",rng01_Zip26)","v":""},null,null,{"$error":"#N/A"},null,null,null,null,null,null,null,null,null,null,null,null,null,null,null,null,null,null,null,null,null,null,"",null,null,"","",null,null,{"$error":"#N/A"}]
[null,null,null,null,null,27,{"$f":"IF(rng01_Address27=\"\",\"\",rng01_Address27)","v":""},null,null,null,{"$f":"IF(rng01_City27=\"\",\"\",rng01_City27)","v":""},{"$f":"IF(rng01_Zip27=\"\",\"\",rng01_Zip27)","v":""},null,null,{"$error":"#N/A"},null,null,null,null,null,null,null,null,null,null,null,null,null,null,null,null,null,null,null,null,null,null,"",null,null,"","",null,null,{"$error":"#N/A"}]
[null,null,null,null,null,28,{"$f":"IF(rng01_Address28=\"\",\"\",rng01_Address28)","v":""},null,null,null,{"$f":"IF(rng01_City28=\"\",\"\",rng01_City28)","v":""},{"$f":"IF(rng01_Zip28=\"\",\"\",rng01_Zip28)","v":""},null,null,{"$error":"#N/A"},null,null,null,null,null,null,null,null,null,null,null,null,null,null,null,null,null,null,null,null,null,null,"",null,null,"","",null,null,{"$error":"#N/A"}]
[null,null,null,null,null,29,{"$f":"IF(rng01_Address29=\"\",\"\",rng01_Address29)","v":""},null,null,null,{"$f":"IF(rng01_City29=\"\",\"\",rng01_City29)","v":""},{"$f":"IF(rng01_Zip29=\"\",\"\",rng01_Zip29)","v":""},null,null,{"$error":"#N/A"},null,null,null,null,null,null,null,null,null,null,null,null,null,null,null,null,null,null,null,null,null,null,"",null,null,"","",null,null,{"$error":"#N/A"}]
[null,null,null,null,null,30,{"$f":"IF(rng01_Address30=\"\",\"\",rng01_Address30)","v":""},null,null,null,{"$f":"IF(rng01_City30=\"\",\"\",rng01_City30)","v":""},{"$f":"IF(rng01_Zip30=\"\",\"\",rng01_Zip30)","v":""},null,null,{"$error":"#N/A"},null,null,null,null,null,null,null,null,null,null,null,null,null,null,null,null,null,null,null,null,null,null,"",null,null,"","",null,null,{"$error":"#N/A"}]
[null,null,null,null,null,31,{"$f":"IF(rng01_Address31=\"\",\"\",rng01_Address31)","v":""},null,null,null,{"$f":"IF(rng01_City31=\"\",\"\",rng01_City31)","v":""},{"$f":"IF(rng01_Zip31=\"\",\"\",rng01_Zip31)","v":""},null,null,{"$error":"#N/A"},null,null,null,null,null,null,null,null,null,null,null,null,null,null,null,null,null,null,null,null,null,null,"",null,null,"","",null,null,{"$error":"#N/A"}]
[null,null,null,null,null,32,{"$f":"IF(rng01_Address32=\"\",\"\",rng01_Address32)","v":""},null,null,null,{"$f":"IF(rng01_City32=\"\",\"\",rng01_City32)","v":""},{"$f":"IF(rng01_Zip32=\"\",\"\",rng01_Zip32)","v":""},null,null,{"$error":"#N/A"},null,null,null,null,null,null,null,null,null,null,null,null,null,null,null,null,null,null,null,null,null,null,"",null,null,"","",null,null,{"$error":"#N/A"}]
[null,null,null,null,null,33,{"$f":"IF(rng01_Address33=\"\",\"\",rng01_Address33)","v":""},null,null,null,{"$f":"IF(rng01_City33=\"\",\"\",rng01_City33)","v":""},{"$f":"IF(rng01_Zip33=\"\",\"\",rng01_Zip33)","v":""},null,null,{"$error":"#N/A"},null,null,null,null,null,null,null,null,null,null,null,null,null,null,null,null,null,null,null,null,null,null,"",null,null,{"$f":"IF(TCATrigger=\"No\",\"\",IF(K252=\"\",\"\",K252))","v":""},{"$f":"IF(TCATrigger=\"No\",\"\",IF(L252=\"\",\"\",L252))","v":""},null,null,{"$error":"#N/A"}]
[null,null,null,null,null,34,{"$f":"IF(rng01_Address34=\"\",\"\",rng01_Address34)","v":""},null,null,null,{"$f":"IF(rng01_City34=\"\",\"\",rng01_City34)","v":""},{"$f":"IF(rng01_Zip34=\"\",\"\",rng01_Zip34)","v":""},null,null,{"$error":"#N/A"},null,null,null,null,null,null,null,null,null,null,null,null,null,null,null,null,null,null,null,null,null,null,{"$f":"IF(TCATrigger=\"No\",\"\",IF(G253=\"\",\"\",G253))","v":""},null,null,"","",null,null,{"$error":"#N/A"}]
[null,null,null,null,null,35,{"$f":"IF(rng01_Address35=\"\",\"\",rng01_Address35)","v":""},null,null,null,{"$f":"IF(rng01_City35=\"\",\"\",rng01_City35)","v":""},{"$f":"IF(rng01_Zip35=\"\",\"\",rng01_Zip35)","v":""},null,null,{"$error":"#N/A"},null,null,null,null,null,null,null,null,null,null,null,null,null,null,null,null,null,null,null,null,null,null,"",null,null,"","",null,null,{"$error":"#N/A"}]
[null,null,null,null,null,36,{"$f":"IF(rng01_Address36=\"\",\"\",rng01_Address36)","v":""},null,null,null,{"$f":"IF(rng01_City36=\"\",\"\",rng01_City36)","v":""},{"$f":"IF(rng01_Zip36=\"\",\"\",rng01_Zip36)","v":""},null,null,{"$error":"#N/A"},null,null,null,null,null,null,null,null,null,null,null,null,null,null,null,null,null,null,null,null,null,null,"",null,null,"","",null,null,{"$error":"#N/A"}]
[null,null,null,null,null,37,{"$f":"IF(rng01_Address37=\"\",\"\",rng01_Address37)","v":""},null,null,null,{"$f":"IF(rng01_City37=\"\",\"\",rng01_City37)","v":""},{"$f":"IF(rng01_Zip37=\"\",\"\",rng01_Zip37)","v":""},null,null,{"$error":"#N/A"},null,null,null,null,null,null,null,null,null,null,null,null,null,null,null,null,null,null,null,null,null,null,"",null,null,"","",null,null,{"$error":"#N/A"}]
[null,null,null,null,null,38,{"$f":"IF(rng01_Address38=\"\",\"\",rng01_Address38)","v":""},null,null,null,{"$f":"IF(rng01_City38=\"\",\"\",rng01_City38)","v":""},{"$f":"IF(rng01_Zip38=\"\",\"\",rng01_Zip38)","v":""},null,null,{"$error":"#N/A"},null,null,null,null,null,null,null,null,null,null,null,null,null,null,null,null,null,null,null,null,null,null,"",null,null,"","",null,null,{"$error":"#N/A"}]
[null,null,null,null,null,39,{"$f":"IF(rng01_Address39=\"\",\"\",rng01_Address39)","v":""},null,null,null,{"$f":"IF(rng01_City39=\"\",\"\",rng01_City39)","v":""},{"$f":"IF(rng01_Zip39=\"\",\"\",rng01_Zip39)","v":""},null,null,{"$error":"#N/A"},null,null,null,null,null,null,null,null,null,null,null,null,null,null,null,null,null,null,null,null,null,null,"",null,null,"","",null,null,{"$error":"#N/A"}]
[null,null,null,null,null,40,{"$f":"IF(rng01_Address40=\"\",\"\",rng01_Address40)","v":""},null,null,null,{"$f":"IF(rng01_City40=\"\",\"\",rng01_City40)","v":""},{"$f":"IF(rng01_Zip40=\"\",\"\",rng01_Zip40)","v":""},null,null,{"$error":"#N/A"},null,null,null,null,null,null,null,null,null,null,null,null,null,null,null,null,null,null,null,null,null,null,"",null,null,"","",null,null,{"$error":"#N/A"}]
[null,null,null,null,null,41,{"$f":"IF(rng01_Address41=\"\",\"\",rng01_Address41)","v":""},null,null,null,{"$f":"IF(rng01_City41=\"\",\"\",rng01_City41)","v":""},{"$f":"IF(rng01_Zip41=\"\",\"\",rng01_Zip41)","v":""},null,null,{"$error":"#N/A"},null,null,null,null,null,null,null,null,null,null,null,null,null,null,null,null,null,null,null,null,null,null,"",null,null,"","",null,null,{"$error":"#N/A"}]
[null,null,null,null,null,42,{"$f":"IF(rng01_Address42=\"\",\"\",rng01_Address42)","v":""},null,null,null,{"$f":"IF(rng01_City42=\"\",\"\",rng01_City42)","v":""},{"$f":"IF(rng01_Zip42=\"\",\"\",rng01_Zip42)","v":""},null,null,{"$error":"#N/A"},null,null,null,null,null,null,null,null,null,null,null,null,null,null,null,null,null,null,null,null,null,null,"",null,null,"","",null,null,{"$error":"#N/A"}]
[null,null,null,null,null,43,{"$f":"IF(rng01_Address43=\"\",\"\",rng01_Address43)","v":""},null,null,null,{"$f":"IF(rng01_City43=\"\",\"\",rng01_City43)","v":""},{"$f":"IF(rng01_Zip43=\"\",\"\",rng01_Zip43)","v":""},null,null,{"$error":"#N/A"},null,null,null,null,null,null,null,null,null,null,null,null,null,null,null,null,null,null,null,null,null,null,"",null,null,"","",null,null,{"$error":"#N/A"}]
[null,null,null,null,null,44,{"$f":"IF(rng01_Address44=\"\",\"\",rng01_Address44)","v":""},null,null,null,{"$f":"IF(rng01_City44=\"\",\"\",rng01_City44)","v":""},{"$f":"IF(rng01_Zip44=\"\",\"\",rng01_Zip44)","v":""},null,null,{"$error":"#N/A"},null,null,null,null,null,null,null,null,null,null,null,null,null,null,null,null,null,null,null,null,null,null,"",null,null,"","",null,null,{"$error":"#N/A"}]
[null,null,null,null,null,45,{"$f":"IF(rng01_Address45=\"\",\"\",rng01_Address45)","v":""},null,null,null,{"$f":"IF(rng01_City45=\"\",\"\",rng01_City45)","v":""},{"$f":"IF(rng01_Zip45=\"\",\"\",rng01_Zip45)","v":""},null,null,{"$error":"#N/A"},null,null,null,null,null,null,null,null,null,null,null,null,null,null,null,null,null,null,null,null,null,null,"",null,null,"","",null,null,{"$error":"#N/A"}]
[null,null,null,null,null,46,{"$f":"IF(rng01_Address46=\"\",\"\",rng01_Address46)","v":""},null,null,null,{"$f":"IF(rng01_City46=\"\",\"\",rng01_City46)","v":""},{"$f":"IF(rng01_Zip46=\"\",\"\",rng01_Zip46)","v":""},null,null,{"$error":"#N/A"},null,null,null,null,null,null,null,null,null,null,null,null,null,null,null,null,null,null,null,null,null,null,"",null,null,"","",null,null,{"$error":"#N/A"}]
[null,null,null,null,null,47,{"$f":"IF(rng01_Address47=\"\",\"\",rng01_Address47)","v":""},null,null,null,{"$f":"IF(rng01_City47=\"\",\"\",rng01_City47)","v":""},{"$f":"IF(rng01_Zip47=\"\",\"\",rng01_Zip47)","v":""},null,null,{"$error":"#N/A"},null,null,null,null,null,null,null,null,null,null,null,null,null,null,null,null,null,null,null,null,null,null,"",null,null,"","",null,null,{"$error":"#N/A"}]
[null,null,null,null,null,48,{"$f":"IF(rng01_Address48=\"\",\"\",rng01_Address48)","v":""},null,null,null,{"$f":"IF(rng01_City48=\"\",\"\",rng01_City48)","v":""},{"$f":"IF(rng01_Zip48=\"\",\"\",rng01_Zip48)","v":""},null,null,{"$error":"#N/A"},null,null,null,null,null,null,null,null,null,null,null,null,null,null,null,null,null,null,null,null,null,null,"",null,null,"","",null,null,{"$error":"#N/A"}]
[null,null,null,null,null,49,{"$f":"IF(rng01_Address49=\"\",\"\",rng01_Address49)","v":""},null,null,null,{"$f":"IF(rng01_City49=\"\",\"\",rng01_City49)","v":""},{"$f":"IF(rng01_Zip49=\"\",\"\",rng01_Zip49)","v":""},null,null,{"$error":"#N/A"},null,null,null,null,null,null,null,null,null,null,null,null,null,null,null,null,null,null,null,null,null,null,"",null,null,"","",null,null,{"$error":"#N/A"}]
[null,null,null,null,null,50,{"$f":"IF(rng01_Address50=\"\",\"\",rng01_Address50)","v":""},null,null,null,{"$f":"IF(rng01_City50=\"\",\"\",rng01_City50)","v":""},{"$f":"IF(rng01_Zip50=\"\",\"\",rng01_Zip50)","v":""},null,null,{"$error":"#N/A"},null,null,null,null,null,null,null,null,null,null,null,null,null,null,null,null,null,null,null,null,null,null,"",null,null,"","",null,null,{"$error":"#N/A"}]
[null,null,null,null,null,51,{"$f":"IF(rng01_Address51=\"\",\"\",rng01_Address51)","v":""},null,null,null,{"$f":"IF(rng01_City51=\"\",\"\",rng01_City51)","v":""},{"$f":"IF(rng01_Zip51=\"\",\"\",rng01_Zip51)","v":""},null,null,{"$error":"#N/A"},null,null,null,null,null,null,null,null,null,null,null,null,null,null,null,null,null,null,null,null,null,null,"",null,null,"","",null,null,{"$error":"#N/A"}]
[null,null,null,null,null,52,{"$f":"IF(rng01_Address52=\"\",\"\",rng01_Address52)","v":""},null,null,null,{"$f":"IF(rng01_City52=\"\",\"\",rng01_City52)","v":""},{"$f":"IF(rng01_Zip52=\"\",\"\",rng01_Zip52)","v":""},null,null,{"$error":"#N/A"},null,null,null,null,null,null,null,null,null,null,null,null,null,null,null,null,null,null,null,null,null,null,"",null,null,"","",null,null,{"$error":"#N/A"}]
[null,null,null,null,null,53,{"$f":"IF(rng01_Address53=\"\",\"\",rng01_Address53)","v":""},null,null,null,{"$f":"IF(rng01_City53=\"\",\"\",rng01_City53)","v":""},{"$f":"IF(rng01_Zip53=\"\",\"\",rng01_Zip53)","v":""},null,null,{"$error":"#N/A"},null,null,null,null,null,null,null,null,null,null,null,null,null,null,null,null,null,null,null,null,null,null,"",null,null,"","",null,null,{"$error":"#N/A"}]
[null,null,null,null,null,54,{"$f":"IF(rng01_Address54=\"\",\"\",rng01_Address54)","v":""},null,null,null,{"$f":"IF(rng01_City54=\"\",\"\",rng01_City54)","v":""},{"$f":"IF(rng01_Zip54=\"\",\"\",rng01_Zip54)","v":""},null,null,{"$error":"#N/A"},null,null,null,null,null,null,null,null,null,null,null,null,null,null,null,null,null,null,null,null,null,null,"",null,null,"","",null,null,{"$error":"#N/A"}]
[null,null,null,null,null,55,{"$f":"IF(rng01_Address55=\"\",\"\",rng01_Address55)","v":""},null,null,null,{"$f":"IF(rng01_City55=\"\",\"\",rng01_City55)","v":""},{"$f":"IF(rng01_Zip55=\"\",\"\",rng01_Zip55)","v":""},null,null,{"$error":"#N/A"},null,null,null,null,null,null,null,null,null,null,null,null,null,null,null,null,null,null,null,null,null,null,"",null,null,"","",null,null,{"$error":"#N/A"}]
[null,null,null,null,null,56,{"$f":"IF(rng01_Address56=\"\",\"\",rng01_Address56)","v":""},null,null,null,{"$f":"IF(rng01_City56=\"\",\"\",rng01_City56)","v":""},{"$f":"IF(rng01_Zip56=\"\",\"\",rng01_Zip56)","v":""},null,null,{"$error":"#N/A"},null,null,null,null,null,null,null,null,null,null,null,null,null,null,null,null,null,null,null,null,null,null,"",null,null,"","",null,null,{"$error":"#N/A"}]
[null,null,null,null,null,57,{"$f":"IF(rng01_Address57=\"\",\"\",rng01_Address57)","v":""},null,null,null,{"$f":"IF(rng01_City57=\"\",\"\",rng01_City57)","v":""},{"$f":"IF(rng01_Zip57=\"\",\"\",rng01_Zip57)","v":""},null,null,{"$error":"#N/A"},null,null,null,null,null,null,null,null,null,null,null,null,null,null,null,null,null,null,null,null,null,null,"",null,null,"","",null,null,{"$error":"#N/A"}]
[null,null,null,null,null,58,{"$f":"IF(rng01_Address58=\"\",\"\",rng01_Address58)","v":""},null,null,null,{"$f":"IF(rng01_City58=\"\",\"\",rng01_City58)","v":""},{"$f":"IF(rng01_Zip58=\"\",\"\",rng01_Zip58)","v":""},null,null,{"$error":"#N/A"},null,null,null,null,null,null,null,null,null,null,null,null,null,null,null,null,null,null,null,null,null,null,"",null,null,"","",null,null,{"$error":"#N/A"}]
[null,null,null,null,null,59,{"$f":"IF(rng01_Address59=\"\",\"\",rng01_Address59)","v":""},null,null,null,{"$f":"IF(rng01_City59=\"\",\"\",rng01_City59)","v":""},{"$f":"IF(rng01_Zip6=\"\",\"\",rng01_Zip6)","v":""},null,null,{"$error":"#N/A"},null,null,null,null,null,null,null,null,null,null,null,null,null,null,null,null,null,null,null,null,null,null,"",null,null,"","",null,null,{"$error":"#N/A"}]
[null,null,null,null,null,60,{"$f":"IF(rng01_Address60=\"\",\"\",rng01_Address60)","v":""},null,null,null,{"$f":"IF(rng01_City60=\"\",\"\",rng01_City60)","v":""},{"$f":"IF(rng01_Zip60=\"\",\"\",rng01_Zip60)","v":""},null,null,{"$error":"#N/A"},null,null,null,null,null,null,null,null,null,null,null,null,null,null,null,null,null,null,null,null,null,null,"",null,null,"","",null,null,{"$error":"#N/A"}]
[null,null,null,null,null,61,{"$f":"IF(rng01_Address61=\"\",\"\",rng01_Address61)","v":""},null,null,null,{"$f":"IF(rng01_City61=\"\",\"\",rng01_City61)","v":""},{"$f":"IF(rng01_Zip61=\"\",\"\",rng01_Zip61)","v":""},null,null,{"$error":"#N/A"},null,null,null,null,null,null,null,null,null,null,null,null,null,null,null,null,null,null,null,null,null,null,"",null,null,"","",null,null,{"$error":"#N/A"}]
[null,null,null,null,null,62,{"$f":"IF(rng01_Address62=\"\",\"\",rng01_Address62)","v":""},null,null,null,{"$f":"IF(rng01_City62=\"\",\"\",rng01_City62)","v":""},{"$f":"IF(rng01_Zip62=\"\",\"\",rng01_Zip62)","v":""},null,null,{"$error":"#N/A"},null,null,null,null,null,null,null,null,null,null,null,null,null,null,null,null,null,null,null,null,null,null,"",null,null,"","",null,null,{"$error":"#N/A"}]
[null,null,null,null,null,63,{"$f":"IF(rng01_Address63=\"\",\"\",rng01_Address63)","v":""},null,null,null,{"$f":"IF(rng01_City63=\"\",\"\",rng01_City63)","v":""},{"$f":"IF(rng01_Zip63=\"\",\"\",rng01_Zip63)","v":""},null,null,{"$error":"#N/A"},null,null,null,null,null,null,null,null,null,null,null,null,null,null,null,null,null,null,null,null,null,null,"",null,null,"","",null,null,{"$error":"#N/A"}]
[null,null,null,null,null,64,{"$f":"IF(rng01_Address64=\"\",\"\",rng01_Address64)","v":""},null,null,null,{"$f":"IF(rng01_City64=\"\",\"\",rng01_City64)","v":""},{"$f":"IF(rng01_Zip64=\"\",\"\",rng01_Zip64)","v":""},null,null,{"$error":"#N/A"},null,null,null,null,null,null,null,null,null,null,null,null,null,null,null,null,null,null,null,null,null,null,"",null,null,"","",null,null,{"$error":"#N/A"}]
[null,null,null,null,null,65,{"$f":"IF(rng01_Address65=\"\",\"\",rng01_Address65)","v":""},null,null,null,{"$f":"IF(rng01_City65=\"\",\"\",rng01_City65)","v":""},{"$f":"IF(rng01_Zip65=\"\",\"\",rng01_Zip65)","v":""},null,null,{"$error":"#N/A"},null,null,null,null,null,null,null,null,null,null,null,null,null,null,null,null,null,null,null,null,null,null,"",null,null,{"$f":"IF(TCATrigger=\"No\",\"\",IF(K284=\"\",\"\",K284))","v":""},{"$f":"IF(TCATrigger=\"No\",\"\",IF(L284=\"\",\"\",L284))","v":""},null,null,{"$error":"#N/A"}]
[null,null,null,null,null,66,{"$f":"IF(rng01_Address66=\"\",\"\",rng01_Address66)","v":""},null,null,null,{"$f":"IF(rng01_City66=\"\",\"\",rng01_City66)","v":""},{"$f":"IF(rng01_Zip66=\"\",\"\",rng01_Zip66)","v":""},null,null,{"$error":"#N/A"},null,null,null,null,null,null,null,null,null,null,null,null,null,null,null,null,null,null,null,null,null,null,{"$f":"IF(TCATrigger=\"No\",\"\",IF(G285=\"\",\"\",G285))","v":""},null,null,"","",null,null,{"$error":"#N/A"}]
[null,null,null,null,null,67,{"$f":"IF(rng01_Address67=\"\",\"\",rng01_Address67)","v":""},null,null,null,{"$f":"IF(rng01_City67=\"\",\"\",rng01_City67)","v":""},{"$f":"IF(rng01_Zip67=\"\",\"\",rng01_Zip67)","v":""},null,null,{"$error":"#N/A"},null,null,null,null,null,null,null,null,null,null,null,null,null,null,null,null,null,null,null,null,null,null,"",null,null,"","",null,null,{"$error":"#N/A"}]
[null,null,null,null,null,68,{"$f":"IF(rng01_Address68=\"\",\"\",rng01_Address68)","v":""},null,null,null,{"$f":"IF(rng01_City68=\"\",\"\",rng01_City68)","v":""},{"$f":"IF(rng01_Zip68=\"\",\"\",rng01_Zip68)","v":""},null,null,{"$error":"#N/A"},null,null,null,null,null,null,null,null,null,null,null,null,null,null,null,null,null,null,null,null,null,null,"",null,null,"","",null,null,{"$error":"#N/A"}]
[null,null,null,null,null,69,{"$f":"IF(rng01_Address69=\"\",\"\",rng01_Address69)","v":""},null,null,null,{"$f":"IF(rng01_City69=\"\",\"\",rng01_City69)","v":""},{"$f":"IF(rng01_Zip69=\"\",\"\",rng01_Zip69)","v":""},null,null,{"$error":"#N/A"},null,null,null,null,null,null,null,null,null,null,null,null,null,null,null,null,null,null,null,null,null,null,"",null,null,"","",null,null,{"$error":"#N/A"}]
[null,null,null,null,null,70,{"$f":"IF(rng01_Address70=\"\",\"\",rng01_Address70)","v":""},null,null,null,{"$f":"IF(rng01_City70=\"\",\"\",rng01_City70)","v":""},{"$f":"IF(rng01_Zip70=\"\",\"\",rng01_Zip70)","v":""},null,null,{"$error":"#N/A"},null,null,null,null,null,null,null,null,null,null,null,null,null,null,null,null,null,null,null,null,null,null,"",null,null,"","",null,null,{"$error":"#N/A"}]
[null,null,null,null,null,71,{"$f":"IF(rng01_Address71=\"\",\"\",rng01_Address71)","v":""},null,null,null,{"$f":"IF(rng01_City71=\"\",\"\",rng01_City71)","v":""},{"$f":"IF(rng01_Zip71=\"\",\"\",rng01_Zip71)","v":""},null,null,{"$error":"#N/A"},null,null,null,null,null,null,null,null,null,null,null,null,null,null,null,null,null,null,null,null,null,null,"",null,null,"","",null,null,{"$error":"#N/A"}]
[null,null,null,null,null,72,{"$f":"IF(rng01_Address72=\"\",\"\",rng01_Address72)","v":""},null,null,null,{"$f":"IF(rng01_City72=\"\",\"\",rng01_City72)","v":""},{"$f":"IF(rng01_Zip72=\"\",\"\",rng01_Zip72)","v":""},null,null,{"$error":"#N/A"},null,null,null,null,null,null,null,null,null,null,null,null,null,null,null,null,null,null,null,null,null,null,"",null,null,"","",null,null,{"$error":"#N/A"}]
[null,null,null,null,null,73,{"$f":"IF(rng01_Address73=\"\",\"\",rng01_Address73)","v":""},null,null,null,{"$f":"IF(rng01_City73=\"\",\"\",rng01_City73)","v":""},{"$f":"IF(rng01_Zip73=\"\",\"\",rng01_Zip73)","v":""},null,null,{"$error":"#N/A"},null,null,null,null,null,null,null,null,null,null,null,null,null,null,null,null,null,null,null,null,null,null,"",null,null,"","",null,null,{"$error":"#N/A"}]
[null,null,null,null,null,74,{"$f":"IF(rng01_Address74=\"\",\"\",rng01_Address74)","v":""},null,null,null,{"$f":"IF(rng01_City74=\"\",\"\",rng01_City74)","v":""},{"$f":"IF(rng01_Zip74=\"\",\"\",rng01_Zip74)","v":""},null,null,{"$error":"#N/A"},null,null,null,null,null,null,null,null,null,null,null,null,null,null,null,null,null,null,null,null,null,null,"",null,null,"","",null,null,{"$error":"#N/A"}]
[null,null,null,null,null,75,{"$f":"IF(rng01_Address75=\"\",\"\",rng01_Address75)","v":""},null,null,null,{"$f":"IF(rng01_City75=\"\",\"\",rng01_City75)","v":""},{"$f":"IF(rng01_Zip75=\"\",\"\",rng01_Zip75)","v":""},null,null,{"$error":"#N/A"},null,null,null,null,null,null,null,null,null,null,null,null,null,null,null,null,null,null,null,null,null,null,"",null,null,"","",null,null,{"$error":"#N/A"}]
[null,null,null,null,null,76,{"$f":"IF(rng01_Address76=\"\",\"\",rng01_Address76)","v":""},null,null,null,{"$f":"IF(rng01_City76=\"\",\"\",rng01_City76)","v":""},{"$f":"IF(rng01_Zip76=\"\",\"\",rng01_Zip76)","v":""},null,null,{"$error":"#N/A"},null,null,null,null,null,null,null,null,null,null,null,null,null,null,null,null,null,null,null,null,null,null,"",null,null,"","",null,null,{"$error":"#N/A"}]
[null,null,null,null,null,77,{"$f":"IF(rng01_Address77=\"\",\"\",rng01_Address77)","v":""},null,null,null,{"$f":"IF(rng01_City77=\"\",\"\",rng01_City77)","v":""},{"$f":"IF(rng01_Zip77=\"\",\"\",rng01_Zip77)","v":""},null,null,{"$error":"#N/A"},null,null,null,null,null,null,null,null,null,null,null,null,null,null,null,null,null,null,null,null,null,null,"",null,null,"","",null,null,{"$error":"#N/A"}]
[null,null,null,null,null,78,{"$f":"IF(rng01_Address78=\"\",\"\",rng01_Address78)","v":""},null,null,null,{"$f":"IF(rng01_City78=\"\",\"\",rng01_City78)","v":""},{"$f":"IF(rng01_Zip78=\"\",\"\",rng01_Zip78)","v":""},null,null,{"$error":"#N/A"},null,null,null,null,null,null,null,null,null,null,null,null,null,null,null,null,null,null,null,null,null,null,"",null,null,"","",null,null,{"$error":"#N/A"}]
[null,null,null,null,null,79,{"$f":"IF(rng01_Address79=\"\",\"\",rng01_Address79)","v":""},null,null,null,{"$f":"IF(rng01_City79=\"\",\"\",rng01_City79)","v":""},{"$f":"IF(rng01_Zip79=\"\",\"\",rng01_Zip79)","v":""},null,null,{"$error":"#N/A"},null,null,null,null,null,null,null,null,null,null,null,null,null,null,null,null,null,null,null,null,null,null,"",null,null,"","",null,null,{"$error":"#N/A"}]
[null,null,null,null,null,80,{"$f":"IF(rng01_Address80=\"\",\"\",rng01_Address80)","v":""},null,null,null,{"$f":"IF(rng01_City80=\"\",\"\",rng01_City80)","v":""},{"$f":"IF(rng01_Zip80=\"\",\"\",rng01_Zip80)","v":""},null,null,{"$error":"#N/A"},null,null,null,null,null,null,null,null,null,null,null,null,null,null,null,null,null,null,null,null,null,null,"",null,null,"","",null,null,{"$error":"#N/A"}]
[null,null,null,null,null,null,"TOTALS",0,null,0,null,null,null,null,null,null,null,null,null,null,null,null,null,null,null,null,null,null,null,null,null,null,null,null,null,null,null,"TOTALS",0,0]
[]
[]
[]
[]
["02_1_Income","Residential and Commercial Rent Summary",null,null,null,null,"[Project Name]",{"$f":"IF(H8=\"\",\"\",H8)","v":""},null,null,null,null,null,null,null,null,null,null,null,null,null,null,null,null,null,null,null,null,null,null,null,"02_1_Income","Residential and Commercial Rent Summary",null,null,null,null,"[Project Name]",{"$f":"$AM$8","v":""}]
[null,null,null,null,null,null,"Current Model Prgress Date:",{"$f":"H9","v":0},null,null,null,null,null,null,null,null,null,null,null,null,null,null,null,null,null,null,null,null,null,null,null,null,null,null,null,null,null,"Current Model Prgress Date:",{"$f":"$AM$9","v":""}]
[]
[]
[null,null,null,null,null,"Check to the right",null,null,"Deal Property> Locations>Location Unit Mix",null,"Edit Deal>Main","Deal Property>Deal Property",null,"Deal Property>Deal Property",null,null,null,null,null,"Edit Property Locations - Commercial Agreements","Edit Unit - Main Tab",null,null,null,"Edit Portfolio Set-Aside"]
[null,null,null,null,null,null,null,null,"Unit Type","UnitMix AMI percent","Deal Type","Total Units",null,"Process Type",null,null,null,null,null,"Rent","Market Rent",null,null,null,"Income Limits"]
["02_1_Income","Residential and Commercial Rent Summary","Residential and Commercial Rent Summary","Residential Summary: Underwritten Year One Rents",null,null,"Residential Summary: Underwritten Year One Rents",null,null,null,null,null,null,null,null,null,null,"RIH Year 1 Proposed Gross Rent PUPM","RIH Year 1 Proposed Net Rent PUPM","Note: Max LIHTC Rents Include Utility Allowances (U/A).  See cell T8 comment at right.",null,null,null,null,null,null,null,null,null,null,null,"02_1_Income","Residential and Commercial Rent Summary","Residential and Commercial Rent Summary","Residential Summary: Underwritten Year One Rents",null,null,"Residential Summary: Underwritten Year One Rents",null,null,null,null,null,null,null,null,null,"RIH Year 1 Proposed Gross Rent PUPM","RIH Year 1 Proposed Net Rent PUPM","Note: Max LIHTC Rents Include Utility Allowances (U/A).  See cell T8 comment at right."]
[null,null,null,null,null,null,"Number of Bedrooms: SRO, EFF, 1 through 5","Number of Baths","Concatenated fields","AMI","Construction Type","Number of Units","NRSF per Unit","Project Based Subsidy","Contract Expiration","Contract Administrator","Tenant Paid Utilities (U/A)",null,null,"Gross Market Rent Per Unit Per Month ","Net Market Rent Per Unit Per Month ","Discount from Market Rent","Gross Contract Rent PUPM (If applicable)","Net Contract Rent PUPM (If applicable)","LIHTC Max Rent PUPM","Discount from LIHTC rent","Total NRSF",null,null,null,null,null,null,null,null,null,null,"Number of Bedrooms: SRO, EFF, 1 through 5","Number of Baths","Concatenated fields","AMI","Construction Type","Number of Units","NRSF per Unit","Project based Subsidy","Contract Expiration","Contract Administrator","Tenant Paid Utilities (U/A)",null,null,"Gross Market Rent Per Unit Per Month ","Net Market Rent Per Unit Per Month ","Discount from Market Rent","Gross Contract Rent PUPM (If applicable)","Net Contract Rent PUPM (If applicable)","LIHTC Max Rent PUPM","Discount from LIHTC rent","Total NRSF",null,null,null,"New grid herre"]
[null,null,"Residential Summary is UNIT MIX",null,null,null,{"$f":"IF(rng02_Res_Summary_NoBedrooms1=\"\",\"\",rng02_Res_Summary_NoBedrooms1)","v":""},{"$f":"IF(rng02_Res_Summary_NoBaths1=\"\",\"\",rng02_Res_Summary_NoBaths1)","v":""},{"$f":"IF(G313=\"\",\"\",IF(G313=\"SRO\",\"SRO\",IF(G313=\"EFF\",\"Efficiency\",G313&\"BR\"&\",\"&\" \"&H313&\"BA\")))","v":""},{"$f":"IF(rng02_Res_Summary_AMI1=\"\",\"\",rng02_Res_Summary_AMI1)","v":""},{"$f":"IF(rng02_Res_Summary_ConstType1=\"\",\"\",rng02_Res_Summary_ConstType1)","v":""},{"$f":"IF(rng02_Res_Summary_NoUnit1=\"\",\"\",rng02_Res_Summary_NoUnit1)","v":""},{"$f":"IF(L313=\"\",\"\",rng02_Res_Summary_NRSFperUnit1)","v":""},{"$f":"IF(rng02_Res_Summary_ProjBasedSubsidy1=\"\",\"\",rng02_Res_Summary_ProjBasedSubsidy1)","v":""},null,null,0,null,0,{"$f":"IF(rng02_Res_Summary_GrossMarketRent1=\"\",\"\",rng02_Res_Summary_GrossMarketRent1)","v":""},{"$f":"IF(rng02_Res_Summary_NetMarketRent1=0,\"\",rng02_Res_Summary_NetMarketRent1)","v":""},0,null,0,0,0,0,null,null,null,null,null,null,"Residential Summary is UNIT MIX",null,null,null,{"$f":"IF(TCATrigger=\"No\",\"\",IF(G313=\"\",\"\",G313))","v":""},{"$f":"IF(TCATrigger=\"No\",\"\",IF(H313=\"\",\"\",H313))","v":""},{"$f":"IF(ISBLANK(I313), \"\", I313)","v":""},{"$f":"IF(TCATrigger=\"No\",\"\",IF(J313=\"\",\"\",J313))","v":""},{"$f":"IF(TCATrigger=\"No\",\"\",IF(K313=\"\",\"\",K313))","v":""},{"$f":"IF(TCATrigger=\"No\",\"\",IF(L313=\"\",\"\",L313))","v":""},{"$f":"IF(TCATrigger=\"No\",\"\",IF(M313=\"\",\"\",M313))","v":""},{"$f":"IF(TCATrigger=\"No\",\"\",IF(N313=\"\",\"\",N313))","v":""},{"$f":"IF(TCATrigger=\"No\",\"\",IF(O313=\"\",\"\",O313))","v":""},{"$f":"IF(TCATrigger=\"No\",\"\",IF(P313=\"\",\"\",P313))","v":""},{"$f":"IF(TCATrigger=\"No\",\"\",IF(Q313=\"\",\"\",Q313))","v":""},{"$f":"IF(TCATrigger=\"No\",\"\",IF(R313=\"\",\"\",R313))","v":""},{"$f":"IF(TCATrigger=\"No\",\"\",IF(S313=\"\",\"\",S313))","v":""},{"$f":"IF(TCATrigger=\"No\",\"\",IF(T313=\"\",\"\",T313))","v":""},{"$f":"IF(TCATrigger=\"No\",\"\",IF(U313=\"\",\"\",U313))","v":""},{"$f":"IF(TCATrigger=\"No\",\"\",IF(V313=\"\",\"\",V313))","v":""},{"$f":"IF(TCATrigger=\"No\",\"\",IF(W313=\"\",\"\",W313))","v":""},{"$f":"IF(TCATrigger=\"No\",\"\",IF(X313=\"\",\"\",X313))","v":""},{"$f":"IF(TCATrigger=\"No\",\"\",IF(Y313=\"\",\"\",Y313))","v":""},{"$f":"IF(TCATrigger=\"No\",\"\",IF(Z313=\"\",\"\",Z313))","v":""},{"$f":"IF(TCATrigger=\"No\",\"\",IF(AA313=\"\",\"\",AA313))","v":""}]
[null,null,null,null,null,null,{"$f":"IF(rng02_Res_Summary_NoBedrooms2=\"\",\"\",rng02_Res_Summary_NoBedrooms2)","v":""},{"$f":"IF(rng02_Res_Summary_NoBaths2=\"\",\"\",rng02_Res_Summary_NoBaths2)","v":""},{"$f":"IF(G314=\"\",\"\",IF(G314=\"SRO\",\"SRO\",IF(G314=\"EFF\",\"Efficiency\",G314&\"BR\"&\",\"&\" \"&H314&\"BA\")))","v":""},{"$f":"IF(rng02_Res_Summary_AMI2=\"\",\"\",rng02_Res_Summary_AMI2)","v":""},{"$f":"IF(rng02_Res_Summary_ConstType2=\"\",\"\",rng02_Res_Summary_ConstType2)","v":""},{"$f":"IF(rng02_Res_Summary_NoUnit2=\"\",\"\",rng02_Res_Summary_NoUnit2)","v":""},{"$f":"IF(L314=\"\",\"\",rng02_Res_Summary_NRSFperUnit2)","v":""},{"$f":"IF(rng02_Res_Summary_ProjBasedSubsidy2=\"\",\"\",rng02_Res_Summary_ProjBasedSubsidy2)","v":""},null,null,0,null,0,{"$f":"IF(rng02_Res_Summary_GrossMarketRent2=\"\",\"\",rng02_Res_Summary_GrossMarketRent2)","v":""},{"$f":"IF(rng02_Res_Summary_NetMarketRent2=0,\"\",rng02_Res_Summary_NetMarketRent2)","v":""},0,null,0,0,0,0,null,null,null,null,null,null,"Market rate = if it wasn't low income what could they charge?",null,null,null,"","",{"$f":"IF(ISBLANK(I314), \"\", I314)","v":""},"","","","","","","","","","","","","","","","","",""]
[null,null,null,null,null,null,{"$f":"IF(rng02_Res_Summary_NoBedrooms3=\"\",\"\",rng02_Res_Summary_NoBedrooms3)","v":""},{"$f":"IF(rng02_Res_Summary_NoBaths3=\"\",\"\",rng02_Res_Summary_NoBaths3)","v":""},"",{"$f":"IF(rng02_Res_Summary_AMI3=\"\",\"\",rng02_Res_Summary_AMI3)","v":""},{"$f":"IF(rng02_Res_Summary_ConstType3=\"\",\"\",rng02_Res_Summary_ConstType3)","v":""},{"$f":"IF(rng02_Res_Summary_NoUnit3=\"\",\"\",rng02_Res_Summary_NoUnit3)","v":""},{"$f":"IF(L315=\"\",\"\",rng02_Res_Summary_NRSFperUnit3)","v":""},{"$f":"IF(rng02_Res_Summary_ProjBasedSubsidy3=\"\",\"\",rng02_Res_Summary_ProjBasedSubsidy3)","v":""},null,null,0,null,0,{"$f":"IF(rng02_Res_Summary_GrossMarketRent3=\"\",\"\",rng02_Res_Summary_GrossMarketRent3)","v":""},{"$f":"IF(rng02_Res_Summary_NetMarketRent3=0,\"\",rng02_Res_Summary_NetMarketRent3)","v":""},0,null,0,0,0,0,null,null,null,null,null,null,"Need to coordinate AMI% values",null,null,null,"","","","","","","","","","","","","","","","","","","","",""]
[null,null,null,null,null,null,{"$f":"IF(rng02_Res_Summary_NoBedrooms4=\"\",\"\",rng02_Res_Summary_NoBedrooms4)","v":""},{"$f":"IF(rng02_Res_Summary_NoBaths4=\"\",\"\",rng02_Res_Summary_NoBaths4)","v":""},"",{"$f":"IF(rng02_Res_Summary_AMI4=\"\",\"\",rng02_Res_Summary_AMI4)","v":""},{"$f":"IF(rng02_Res_Summary_ConstType4=\"\",\"\",rng02_Res_Summary_ConstType4)","v":""},{"$f":"IF(rng02_Res_Summary_NoUnit4=\"\",\"\",rng02_Res_Summary_NoUnit4)","v":""},{"$f":"IF(L316=\"\",\"\",rng02_Res_Summary_NRSFperUnit4)","v":""},{"$f":"IF(rng02_Res_Summary_ProjBasedSubsidy4=\"\",\"\",rng02_Res_Summary_ProjBasedSubsidy4)","v":""},null,null,0,null,0,{"$f":"IF(rng02_Res_Summary_GrossMarketRent4=\"\",\"\",rng02_Res_Summary_GrossMarketRent4)","v":""},{"$f":"IF(rng02_Res_Summary_NetMarketRent4=0,\"\",rng02_Res_Summary_NetMarketRent4)","v":""},0,null,0,0,0,0,null,null,null,null,null,null,null,null,null,null,"","","","","","","","","","","","","","","","","","","","",""]
[null,null,null,null,null,null,{"$f":"IF(rng02_Res_Summary_NoBedrooms5=\"\",\"\",rng02_Res_Summary_NoBedrooms5)","v":""},{"$f":"IF(rng02_Res_Summary_NoBaths5=\"\",\"\",rng02_Res_Summary_NoBaths5)","v":""},"",{"$f":"IF(rng02_Res_Summary_AMI5=\"\",\"\",rng02_Res_Summary_AMI5)","v":""},{"$f":"IF(rng02_Res_Summary_ConstType5=\"\",\"\",rng02_Res_Summary_ConstType5)","v":""},{"$f":"IF(rng02_Res_Summary_NoUnit5=\"\",\"\",rng02_Res_Summary_NoUnit5)","v":""},{"$f":"IF(L317=\"\",\"\",rng02_Res_Summary_NRSFperUnit5)","v":""},{"$f":"IF(rng02_Res_Summary_ProjBasedSubsidy5=\"\",\"\",rng02_Res_Summary_ProjBasedSubsidy5)","v":""},null,null,0,null,0,{"$f":"IF(rng02_Res_Summary_GrossMarketRent5=\"\",\"\",rng02_Res_Summary_GrossMarketRent5)","v":""},{"$f":"IF(rng02_Res_Summary_NetMarketRent5=0,\"\",rng02_Res_Summary_NetMarketRent5)","v":""},0,null,0,0,0,0,null,null,null,null,null,null,"Do not do other income summary",null,null,null,"","","","","","","","","","","","","","","","","","","","",""]
[null,null,null,null,null,null,{"$f":"IF(rng02_Res_Summary_NoBedrooms6=\"\",\"\",rng02_Res_Summary_NoBedrooms6)","v":""},{"$f":"IF(rng02_Res_Summary_NoBaths6=\"\",\"\",rng02_Res_Summary_NoBaths6)","v":""},"",{"$f":"IF(rng02_Res_Summary_AMI6=\"\",\"\",rng02_Res_Summary_AMI6)","v":""},{"$f":"IF(rng02_Res_Summary_ConstType6=\"\",\"\",rng02_Res_Summary_ConstType6)","v":""},{"$f":"IF(rng02_Res_Summary_NoUnit6=\"\",\"\",rng02_Res_Summary_NoUnit6)","v":""},{"$f":"IF(L318=\"\",\"\",rng02_Res_Summary_NRSFperUnit6)","v":""},{"$f":"IF(rng02_Res_Summary_ProjBasedSubsidy6=\"\",\"\",rng02_Res_Summary_ProjBasedSubsidy6)","v":""},null,null,0,null,0,{"$f":"IF(rng02_Res_Summary_GrossMarketRent6=\"\",\"\",rng02_Res_Summary_GrossMarketRent6)","v":""},{"$f":"IF(rng02_Res_Summary_NetMarketRent6=0,\"\",rng02_Res_Summary_NetMarketRent6)","v":""},0,null,0,0,0,0,null,null,null,null,null,null,"Do not do last summary resi config",null,null,null,"","","","","","","","","","","","","","","","","","","","",""]
[null,null,null,null,null,null,{"$f":"IF(rng02_Res_Summary_NoBedrooms7=\"\",\"\",rng02_Res_Summary_NoBedrooms7)","v":""},{"$f":"IF(rng02_Res_Summary_NoBaths7=\"\",\"\",rng02_Res_Summary_NoBaths7)","v":""},"",{"$f":"IF(rng02_Res_Summary_AMI7=\"\",\"\",rng02_Res_Summary_AMI7)","v":""},{"$f":"IF(rng02_Res_Summary_ConstType7=\"\",\"\",rng02_Res_Summary_ConstType7)","v":""},{"$f":"IF(rng02_Res_Summary_NoUnit7=\"\",\"\",rng02_Res_Summary_NoUnit7)","v":""},{"$f":"IF(L319=\"\",\"\",rng02_Res_Summary_NRSFperUnit7)","v":""},{"$f":"IF(rng02_Res_Summary_ProjBasedSubsidy7=\"\",\"\",rng02_Res_Summary_ProjBasedSubsidy7)","v":""},null,null,0,null,0,{"$f":"IF(rng02_Res_Summary_GrossMarketRent7=\"\",\"\",rng02_Res_Summary_GrossMarketRent7)","v":""},{"$f":"IF(rng02_Res_Summary_NetMarketRent7=0,\"\",rng02_Res_Summary_NetMarketRent7)","v":""},0,null,0,0,0,0,null,null,null,null,null,null,null,null,null,null,"","","","","","","","","","","","","","","","","","","","",""]
[null,null,null,null,null,null,{"$f":"IF(rng02_Res_Summary_NoBedrooms8=\"\",\"\",rng02_Res_Summary_NoBedrooms8)","v":""},{"$f":"IF(rng02_Res_Summary_NoBaths8=\"\",\"\",rng02_Res_Summary_NoBaths8)","v":""},"",{"$f":"IF(rng02_Res_Summary_AMI8=\"\",\"\",rng02_Res_Summary_AMI8)","v":""},{"$f":"IF(rng02_Res_Summary_ConstType8=\"\",\"\",rng02_Res_Summary_ConstType8)","v":""},{"$f":"IF(rng02_Res_Summary_NoUnit8=\"\",\"\",rng02_Res_Summary_NoUnit8)","v":""},{"$f":"IF(L320=\"\",\"\",rng02_Res_Summary_NRSFperUnit8)","v":""},{"$f":"IF(rng02_Res_Summary_ProjBasedSubsidy8=\"\",\"\",rng02_Res_Summary_ProjBasedSubsidy8)","v":""},null,null,0,null,0,{"$f":"IF(rng02_Res_Summary_GrossMarketRent8=\"\",\"\",rng02_Res_Summary_GrossMarketRent8)","v":""},{"$f":"IF(rng02_Res_Summary_NetMarketRent8=0,\"\",rng02_Res_Summary_NetMarketRent8)","v":""},0,null,0,0,0,0,null,null,null,null,null,null,null,null,null,null,"","","","","","","","","","","","","","","","","","","","",""]
[null,null,null,null,null,null,{"$f":"IF(rng02_Res_Summary_NoBedrooms9=\"\",\"\",rng02_Res_Summary_NoBedrooms9)","v":""},{"$f":"IF(rng02_Res_Summary_NoBaths9=\"\",\"\",rng02_Res_Summary_NoBaths9)","v":""},"",{"$f":"IF(rng02_Res_Summary_AMI9=\"\",\"\",rng02_Res_Summary_AMI9)","v":""},{"$f":"IF(rng02_Res_Summary_ConstType9=\"\",\"\",rng02_Res_Summary_ConstType9)","v":""},{"$f":"IF(rng02_Res_Summary_NoUnit9=\"\",\"\",rng02_Res_Summary_NoUnit9)","v":""},{"$f":"IF(L321=\"\",\"\",rng02_Res_Summary_NRSFperUnit9)","v":""},{"$f":"IF(rng02_Res_Summary_ProjBasedSubsidy9=\"\",\"\",rng02_Res_Summary_ProjBasedSubsidy9)","v":""},null,null,0,null,0,{"$f":"IF(rng02_Res_Summary_GrossMarketRent9=\"\",\"\",rng02_Res_Summary_GrossMarketRent9)","v":""},{"$f":"IF(rng02_Res_Summary_NetMarketRent9=0,\"\",rng02_Res_Summary_NetMarketRent9)","v":""},0,null,0,0,0,0,null,null,null,null,null,null,null,null,null,null,"","","","","","","","","","","","","","","","","","","","",""]
[null,null,null,null,null,null,{"$f":"IF(rng02_Res_Summary_NoBedrooms10=\"\",\"\",rng02_Res_Summary_NoBedrooms10)","v":""},{"$f":"IF(rng02_Res_Summary_NoBaths10=\"\",\"\",rng02_Res_Summary_NoBaths10)","v":""},"",{"$f":"IF(rng02_Res_Summary_AMI10=\"\",\"\",rng02_Res_Summary_AMI10)","v":""},{"$f":"IF(rng02_Res_Summary_ConstType10=\"\",\"\",rng02_Res_Summary_ConstType10)","v":""},{"$f":"IF(rng02_Res_Summary_NoUnit10=\"\",\"\",rng02_Res_Summary_NoUnit10)","v":""},{"$f":"IF(L322=\"\",\"\",rng02_Res_Summary_NRSFperUnit10)","v":""},{"$f":"IF(rng02_Res_Summary_ProjBasedSubsidy10=\"\",\"\",rng02_Res_Summary_ProjBasedSubsidy10)","v":""},null,null,0,null,0,{"$f":"IF(rng02_Res_Summary_GrossMarketRent10=\"\",\"\",rng02_Res_Summary_GrossMarketRent10)","v":""},{"$f":"IF(rng02_Res_Summary_NetMarketRent10=0,\"\",rng02_Res_Summary_NetMarketRent10)","v":""},0,null,0,0,0,0,null,null,null,null,null,null,null,null,null,null,"","","","","","","","","","","","","","","","","","","","",""]
[null,null,null,null,null,null,{"$f":"IF(rng02_Res_Summary_NoBedrooms11=\"\",\"\",rng02_Res_Summary_NoBedrooms11)","v":""},{"$f":"IF(rng02_Res_Summary_NoBaths11=\"\",\"\",rng02_Res_Summary_NoBaths11)","v":""},"",{"$f":"IF(rng02_Res_Summary_AMI11=\"\",\"\",rng02_Res_Summary_AMI11)","v":""},{"$f":"IF(rng02_Res_Summary_ConstType11=\"\",\"\",rng02_Res_Summary_ConstType11)","v":""},{"$f":"IF(rng02_Res_Summary_NoUnit11=\"\",\"\",rng02_Res_Summary_NoUnit11)","v":""},{"$f":"IF(L323=\"\",\"\",rng02_Res_Summary_NRSFperUnit11)","v":""},{"$f":"IF(rng02_Res_Summary_ProjBasedSubsidy11=\"\",\"\",rng02_Res_Summary_ProjBasedSubsidy11)","v":""},null,null,0,null,0,{"$f":"IF(rng02_Res_Summary_GrossMarketRent11=\"\",\"\",rng02_Res_Summary_GrossMarketRent11)","v":""},{"$f":"IF(rng02_Res_Summary_NetMarketRent11=0,\"\",rng02_Res_Summary_NetMarketRent11)","v":""},0,null,0,0,0,0,null,null,null,null,null,null,null,null,null,null,"","","","","","","","","","","","","","","","","","","","",""]
[null,null,null,null,null,null,{"$f":"IF(rng02_Res_Summary_NoBedrooms12=\"\",\"\",rng02_Res_Summary_NoBedrooms12)","v":""},{"$f":"IF(rng02_Res_Summary_NoBaths12=\"\",\"\",rng02_Res_Summary_NoBaths12)","v":""},"",{"$f":"IF(rng02_Res_Summary_AMI12=\"\",\"\",rng02_Res_Summary_AMI12)","v":""},{"$f":"IF(rng02_Res_Summary_ConstType12=\"\",\"\",rng02_Res_Summary_ConstType12)","v":""},{"$f":"IF(rng02_Res_Summary_NoUnit12=\"\",\"\",rng02_Res_Summary_NoUnit12)","v":""},{"$f":"IF(L324=\"\",\"\",rng02_Res_Summary_NRSFperUnit12)","v":""},{"$f":"IF(rng02_Res_Summary_ProjBasedSubsidy12=\"\",\"\",rng02_Res_Summary_ProjBasedSubsidy12)","v":""},null,null,0,null,0,{"$f":"IF(rng02_Res_Summary_GrossMarketRent12=\"\",\"\",rng02_Res_Summary_GrossMarketRent12)","v":""},{"$f":"IF(rng02_Res_Summary_NetMarketRent12=0,\"\",rng02_Res_Summary_NetMarketRent12)","v":""},0,null,0,0,0,0,null,null,null,null,null,null,null,null,null,null,"","","","","","","","","","","","","","","","","","","","",""]
[null,null,null,null,null,null,{"$f":"IF(rng02_Res_Summary_NoBedrooms13=\"\",\"\",rng02_Res_Summary_NoBedrooms13)","v":""},{"$f":"IF(rng02_Res_Summary_NoBaths13=\"\",\"\",rng02_Res_Summary_NoBaths13)","v":""},"",{"$f":"IF(rng02_Res_Summary_AMI13=\"\",\"\",rng02_Res_Summary_AMI13)","v":""},{"$f":"IF(rng02_Res_Summary_ConstType13=\"\",\"\",rng02_Res_Summary_ConstType13)","v":""},{"$f":"IF(rng02_Res_Summary_NoUnit13=\"\",\"\",rng02_Res_Summary_NoUnit13)","v":""},{"$f":"IF(L325=\"\",\"\",rng02_Res_Summary_NRSFperUnit13)","v":""},{"$f":"IF(rng02_Res_Summary_ProjBasedSubsidy13=\"\",\"\",rng02_Res_Summary_ProjBasedSubsidy13)","v":""},null,null,0,null,0,{"$f":"IF(rng02_Res_Summary_GrossMarketRent13=\"\",\"\",rng02_Res_Summary_GrossMarketRent13)","v":""},{"$f":"IF(rng02_Res_Summary_NetMarketRent13=0,\"\",rng02_Res_Summary_NetMarketRent13)","v":""},0,null,0,0,0,0,null,null,null,null,null,null,null,null,null,null,"","","","","","","","","","","","","","","","","","","","",""]
[null,null,null,null,null,null,{"$f":"IF(rng02_Res_Summary_NoBedrooms14=\"\",\"\",rng02_Res_Summary_NoBedrooms14)","v":""},{"$f":"IF(rng02_Res_Summary_NoBaths14=\"\",\"\",rng02_Res_Summary_NoBaths14)","v":""},"",{"$f":"IF(rng02_Res_Summary_AMI14=\"\",\"\",rng02_Res_Summary_AMI14)","v":""},{"$f":"IF(rng02_Res_Summary_ConstType14=\"\",\"\",rng02_Res_Summary_ConstType14)","v":""},{"$f":"IF(rng02_Res_Summary_NoUnit14=\"\",\"\",rng02_Res_Summary_NoUnit14)","v":""},{"$f":"IF(L326=\"\",\"\",rng02_Res_Summary_NRSFperUnit14)","v":""},{"$f":"IF(rng02_Res_Summary_ProjBasedSubsidy14=\"\",\"\",rng02_Res_Summary_ProjBasedSubsidy14)","v":""},null,null,0,null,0,{"$f":"IF(rng02_Res_Summary_GrossMarketRent14=\"\",\"\",rng02_Res_Summary_GrossMarketRent14)","v":""},{"$f":"IF(rng02_Res_Summary_NetMarketRent14=0,\"\",rng02_Res_Summary_NetMarketRent14)","v":""},0,null,0,0,0,0,null,null,null,null,null,null,null,null,null,null,"","","","","","","","","","","","","","","","","","","","",""]
[null,null,null,null,null,null,{"$f":"IF(rng02_Res_Summary_NoBedrooms15=\"\",\"\",rng02_Res_Summary_NoBedrooms15)","v":""},{"$f":"IF(rng02_Res_Summary_NoBaths15=\"\",\"\",rng02_Res_Summary_NoBaths15)","v":""},{"$f":"IF(G327=\"\",\"\",IF(G327=\"SRO\",\"SRO\",IF(G327=\"EFF\",\"Efficiency\",G327&\"BR\"&\",\"&\" \"&H327&\"BA\")))","v":""},{"$f":"IF(rng02_Res_Summary_AMI15=\"\",\"\",rng02_Res_Summary_AMI15)","v":""},{"$f":"IF(rng02_Res_Summary_ConstType15=\"\",\"\",rng02_Res_Summary_ConstType15)","v":""},{"$f":"IF(rng02_Res_Summary_NoUnit15=\"\",\"\",rng02_Res_Summary_NoUnit15)","v":""},{"$f":"IF(L327=\"\",\"\",rng02_Res_Summary_NRSFperUnit15)","v":""},{"$f":"IF(rng02_Res_Summary_ProjBasedSubsidy15=\"\",\"\",rng02_Res_Summary_ProjBasedSubsidy15)","v":""},null,null,0,null,0,{"$f":"IF(rng02_Res_Summary_GrossMarketRent15=\"\",\"\",rng02_Res_Summary_GrossMarketRent15)","v":""},{"$f":"IF(rng02_Res_Summary_NetMarketRent15=0,\"\",rng02_Res_Summary_NetMarketRent15)","v":""},0,null,0,0,0,0,null,null,null,null,null,null,null,null,null,null,{"$f":"IF(TCATrigger=\"No\",\"\",IF(G327=\"\",\"\",G327))","v":""},"","","","","","","","","","","","","",{"$f":"IF(TCATrigger=\"No\",\"\",IF(U331=\"\",\"\",U331))","v":""},"","","","","",""]
[null,null,null,null,null,null,{"$f":"IF(rng02_Res_Summary_NoBedrooms16=\"\",\"\",rng02_Res_Summary_NoBedrooms16)","v":""},{"$f":"IF(rng02_Res_Summary_NoBaths16=\"\",\"\",rng02_Res_Summary_NoBaths16)","v":""},"",{"$f":"IF(rng02_Res_Summary_AMI16=\"\",\"\",rng02_Res_Summary_AMI16)","v":""},{"$f":"IF(rng02_Res_Summary_ConstType16=\"\",\"\",rng02_Res_Summary_ConstType16)","v":""},{"$f":"IF(rng02_Res_Summary_NoUnit16=\"\",\"\",rng02_Res_Summary_NoUnit16)","v":""},{"$f":"IF(L328=\"\",\"\",rng02_Res_Summary_NRSFperUnit16)","v":""},null,null,null,null,null,null,{"$f":"IF(rng02_Res_Summary_GrossMarketRent16=\"\",\"\",rng02_Res_Summary_GrossMarketRent16)","v":""},{"$f":"IF(rng02_Res_Summary_NetMarketRent16=0,\"\",rng02_Res_Summary_NetMarketRent16)","v":""},null,null,null,null,null,null,null,null,null,null,null,null,null,null,null,null,{"$f":"IF(TCATrigger=\"No\",\"\",IF(G328=\"\",\"\",G328))","v":""},{"$f":"IF(TCATrigger=\"No\",\"\",IF(H328=\"\",\"\",H328))","v":""},"",{"$f":"IF(TCATrigger=\"No\",\"\",IF(J328=\"\",\"\",J328))","v":""},{"$f":"IF(TCATrigger=\"No\",\"\",IF(K328=\"\",\"\",K328))","v":""},{"$f":"IF(TCATrigger=\"No\",\"\",IF(L328=\"\",\"\",L328))","v":""},{"$f":"IF(TCATrigger=\"No\",\"\",IF(M328=\"\",\"\",M328))","v":""},{"$f":"IF(TCATrigger=\"No\",\"\",IF(N328=\"\",\"\",N328))","v":""},{"$f":"IF(TCATrigger=\"No\",\"\",IF(O328=\"\",\"\",O328))","v":""},{"$f":"IF(TCATrigger=\"No\",\"\",IF(P328=\"\",\"\",P328))","v":""},{"$f":"IF(TCATrigger=\"No\",\"\",IF(Q328=\"\",\"\",Q328))","v":""},{"$f":"IF(TCATrigger=\"No\",\"\",IF(R328=\"\",\"\",R328))","v":""},{"$f":"IF(TCATrigger=\"No\",\"\",IF(S328=\"\",\"\",S328))","v":""},{"$f":"IF(TCATrigger=\"No\",\"\",IF(T328=\"\",\"\",T328))","v":""},null,{"$f":"IF(TCATrigger=\"No\",\"\",IF(V332=\"\",\"\",V332))","v":""},{"$f":"IF(TCATrigger=\"No\",\"\",IF(W332=\"\",\"\",W332))","v":""},{"$f":"IF(TCATrigger=\"No\",\"\",IF(X332=\"\",\"\",X332))","v":""},{"$f":"IF(TCATrigger=\"No\",\"\",IF(Y332=\"\",\"\",Y332))","v":""},{"$f":"IF(TCATrigger=\"No\",\"\",IF(Z332=\"\",\"\",Z332))","v":""},{"$f":"IF(TCATrigger=\"No\",\"\",IF(AA332=\"\",\"\",AA332))","v":""}]
[null,null,null,null,null,null,{"$f":"IF(rng02_Res_Summary_NoBedrooms17=\"\",\"\",rng02_Res_Summary_NoBedrooms17)","v":""},{"$f":"IF(rng02_Res_Summary_NoBaths17=\"\",\"\",rng02_Res_Summary_NoBaths17)","v":""},"",{"$f":"IF(rng02_Res_Summary_AMI17=\"\",\"\",rng02_Res_Summary_AMI17)","v":""},{"$f":"IF(rng02_Res_Summary_ConstType17=\"\",\"\",rng02_Res_Summary_ConstType17)","v":""},{"$f":"IF(rng02_Res_Summary_NoUnit17=\"\",\"\",rng02_Res_Summary_NoUnit17)","v":""},{"$f":"IF(L329=\"\",\"\",rng02_Res_Summary_NRSFperUnit17)","v":""},null,null,null,null,null,null,{"$f":"IF(rng02_Res_Summary_GrossMarketRent17=\"\",\"\",rng02_Res_Summary_GrossMarketRent17)","v":""},{"$f":"IF(rng02_Res_Summary_NetMarketRent17=0,\"\",rng02_Res_Summary_NetMarketRent17)","v":""},null,null,null,null,null,null,null,null,null,null,null,null,null,null,null,null,"","","",{"$f":"IF(TCATrigger=\"No\",\"\",IF(J329=\"\",\"\",J329))","v":""},"","","",{"$f":"IF(TCATrigger=\"No\",\"\",IF(N329=\"\",\"\",N329))","v":""},{"$f":"IF(TCATrigger=\"No\",\"\",IF(O329=\"\",\"\",O329))","v":""},{"$f":"IF(TCATrigger=\"No\",\"\",IF(P329=\"\",\"\",P329))","v":""},{"$f":"IF(TCATrigger=\"No\",\"\",IF(Q329=\"\",\"\",Q329))","v":""},{"$f":"IF(TCATrigger=\"No\",\"\",IF(R329=\"\",\"\",R329))","v":""},{"$f":"IF(TCATrigger=\"No\",\"\",IF(S329=\"\",\"\",S329))","v":""},"",null,"","","","","",""]
[null,null,null,null,null,null,{"$f":"IF(rng02_Res_Summary_NoBedrooms18=\"\",\"\",rng02_Res_Summary_NoBedrooms18)","v":""},{"$f":"IF(rng02_Res_Summary_NoBaths18=\"\",\"\",rng02_Res_Summary_NoBaths18)","v":""},"",{"$f":"IF(rng02_Res_Summary_AMI18=\"\",\"\",rng02_Res_Summary_AMI18)","v":""},{"$f":"IF(rng02_Res_Summary_ConstType18=\"\",\"\",rng02_Res_Summary_ConstType18)","v":""},{"$f":"IF(rng02_Res_Summary_NoUnit18=\"\",\"\",rng02_Res_Summary_NoUnit18)","v":""},{"$f":"IF(L330=\"\",\"\",rng02_Res_Summary_NRSFperUnit18)","v":""},null,null,null,null,null,null,{"$f":"IF(rng02_Res_Summary_GrossMarketRent18=\"\",\"\",rng02_Res_Summary_GrossMarketRent18)","v":""},{"$f":"IF(rng02_Res_Summary_NetMarketRent18=0,\"\",rng02_Res_Summary_NetMarketRent18)","v":""},null,null,null,null,null,null,null,null,null,null,null,null,null,null,null,null,"","","","","","","","","","","","","","",null,"","","","","",""]
[null,null,null,null,null,null,{"$f":"IF(rng02_Res_Summary_NoBedrooms19=\"\",\"\",rng02_Res_Summary_NoBedrooms19)","v":""},{"$f":"IF(rng02_Res_Summary_NoBaths19=\"\",\"\",rng02_Res_Summary_NoBaths19)","v":""},"",{"$f":"IF(rng02_Res_Summary_AMI19=\"\",\"\",rng02_Res_Summary_AMI19)","v":""},{"$f":"IF(rng02_Res_Summary_ConstType19=\"\",\"\",rng02_Res_Summary_ConstType19)","v":""},{"$f":"IF(rng02_Res_Summary_NoUnit19=\"\",\"\",rng02_Res_Summary_NoUnit19)","v":""},{"$f":"IF(L331=\"\",\"\",rng02_Res_Summary_NRSFperUnit19)","v":""},null,null,null,null,null,null,{"$f":"IF(rng02_Res_Summary_GrossMarketRent19=\"\",\"\",rng02_Res_Summary_GrossMarketRent19)","v":""},{"$f":"IF(rng02_Res_Summary_NetMarketRent19=0,\"\",rng02_Res_Summary_NetMarketRent19)","v":""},null,null,null,null,null,null,null,null,null,null,null,null,null,null,null,null,"","","","","","","","","","","","","","",null,"","","","","",""]
[null,null,null,null,null,null,{"$f":"IF(rng02_Res_Summary_NoBedrooms20=\"\",\"\",rng02_Res_Summary_NoBedrooms20)","v":""},{"$f":"IF(rng02_Res_Summary_NoBaths20=\"\",\"\",rng02_Res_Summary_NoBaths20)","v":""},"",{"$f":"IF(rng02_Res_Summary_AMI20=\"\",\"\",rng02_Res_Summary_AMI20)","v":""},{"$f":"IF(rng02_Res_Summary_ConstType20=\"\",\"\",rng02_Res_Summary_ConstType20)","v":""},{"$f":"IF(rng02_Res_Summary_NoUnit20=\"\",\"\",rng02_Res_Summary_NoUnit20)","v":""},{"$f":"IF(L332=\"\",\"\",rng02_Res_Summary_NRSFperUnit20)","v":""},null,null,null,null,null,null,{"$f":"IF(rng02_Res_Summary_GrossMarketRent20=\"\",\"\",rng02_Res_Summary_GrossMarketRent20)","v":""},{"$f":"IF(rng02_Res_Summary_NetMarketRent20=0,\"\",rng02_Res_Summary_NetMarketRent20)","v":""},null,null,null,null,null,null,null,null,null,null,null,null,null,null,null,null,"","","","","","","","","","","","","","",null,"","","","","",""]
[null,null,null,null,null,null,{"$f":"IF(rng02_Res_Summary_NoBedrooms21=\"\",\"\",rng02_Res_Summary_NoBedrooms21)","v":""},{"$f":"IF(rng02_Res_Summary_NoBaths21=\"\",\"\",rng02_Res_Summary_NoBaths21)","v":""},"",{"$f":"IF(rng02_Res_Summary_AMI21=\"\",\"\",rng02_Res_Summary_AMI21)","v":""},{"$f":"IF(rng02_Res_Summary_ConstType21=\"\",\"\",rng02_Res_Summary_ConstType21)","v":""},{"$f":"IF(rng02_Res_Summary_NoUnit21=\"\",\"\",rng02_Res_Summary_NoUnit21)","v":""},{"$f":"IF(L333=\"\",\"\",rng02_Res_Summary_NRSFperUnit21)","v":""},null,null,null,null,null,null,{"$f":"IF(rng02_Res_Summary_GrossMarketRent21=\"\",\"\",rng02_Res_Summary_GrossMarketRent21)","v":""},{"$f":"IF(rng02_Res_Summary_NetMarketRent21=0,\"\",rng02_Res_Summary_NetMarketRent21)","v":""},null,null,null,null,null,null,null,null,null,null,null,null,null,null,null,null,"","","","","","","","","","","","","","",null,"","","","","",""]
[null,null,null,null,null,null,{"$f":"IF(rng02_Res_Summary_NoBedrooms22=\"\",\"\",rng02_Res_Summary_NoBedrooms22)","v":""},{"$f":"IF(rng02_Res_Summary_NoBaths22=\"\",\"\",rng02_Res_Summary_NoBaths22)","v":""},"",{"$f":"IF(rng02_Res_Summary_AMI22=\"\",\"\",rng02_Res_Summary_AMI22)","v":""},{"$f":"IF(rng02_Res_Summary_ConstType22=\"\",\"\",rng02_Res_Summary_ConstType22)","v":""},{"$f":"IF(rng02_Res_Summary_NoUnit22=\"\",\"\",rng02_Res_Summary_NoUnit22)","v":""},{"$f":"IF(L334=\"\",\"\",rng02_Res_Summary_NRSFperUnit22)","v":""},null,null,null,null,null,null,{"$f":"IF(rng02_Res_Summary_GrossMarketRent22=\"\",\"\",rng02_Res_Summary_GrossMarketRent22)","v":""},{"$f":"IF(rng02_Res_Summary_NetMarketRent22=0,\"\",rng02_Res_Summary_NetMarketRent22)","v":""},null,null,null,null,null,null,null,null,null,null,null,null,null,null,null,null,"","","","","","","","","","","","","","",null,"","","","","",""]
[null,null,null,null,null,null,{"$f":"IF(rng02_Res_Summary_NoBedrooms23=\"\",\"\",rng02_Res_Summary_NoBedrooms23)","v":""},{"$f":"IF(rng02_Res_Summary_NoBaths23=\"\",\"\",rng02_Res_Summary_NoBaths23)","v":""},"",{"$f":"IF(rng02_Res_Summary_AMI23=\"\",\"\",rng02_Res_Summary_AMI23)","v":""},{"$f":"IF(rng02_Res_Summary_ConstType23=\"\",\"\",rng02_Res_Summary_ConstType23)","v":""},{"$f":"IF(rng02_Res_Summary_NoUnit23=\"\",\"\",rng02_Res_Summary_NoUnit23)","v":""},{"$f":"IF(L335=\"\",\"\",rng02_Res_Summary_NRSFperUnit23)","v":""},null,null,null,null,null,null,{"$f":"IF(rng02_Res_Summary_GrossMarketRent23=\"\",\"\",rng02_Res_Summary_GrossMarketRent23)","v":""},{"$f":"IF(rng02_Res_Summary_NetMarketRent23=0,\"\",rng02_Res_Summary_NetMarketRent23)","v":""},null,null,null,null,null,null,null,null,null,null,null,null,null,null,null,null,"","","","","","","","","","","","","","",null,"","","","","",""]
[null,null,null,null,null,null,{"$f":"IF(rng02_Res_Summary_NoBedrooms24=\"\",\"\",rng02_Res_Summary_NoBedrooms24)","v":""},{"$f":"IF(rng02_Res_Summary_NoBaths24=\"\",\"\",rng02_Res_Summary_NoBaths24)","v":""},"",{"$f":"IF(rng02_Res_Summary_AMI24=\"\",\"\",rng02_Res_Summary_AMI24)","v":""},{"$f":"IF(rng02_Res_Summary_ConstType24=\"\",\"\",rng02_Res_Summary_ConstType24)","v":""},{"$f":"IF(rng02_Res_Summary_NoUnit24=\"\",\"\",rng02_Res_Summary_NoUnit24)","v":""},{"$f":"IF(L336=\"\",\"\",rng02_Res_Summary_NRSFperUnit24)","v":""},null,null,null,null,null,null,{"$f":"IF(rng02_Res_Summary_GrossMarketRent24=\"\",\"\",rng02_Res_Summary_GrossMarketRent24)","v":""},{"$f":"IF(rng02_Res_Summary_NetMarketRent24=0,\"\",rng02_Res_Summary_NetMarketRent24)","v":""},null,null,null,null,null,null,null,null,null,null,null,null,null,null,null,null,"","","","","","","","","","","","","","",null,"","","","","",""]
[null,null,null,null,null,null,{"$f":"IF(rng02_Res_Summary_NoBedrooms25=\"\",\"\",rng02_Res_Summary_NoBedrooms25)","v":""},{"$f":"IF(rng02_Res_Summary_NoBaths25=\"\",\"\",rng02_Res_Summary_NoBaths25)","v":""},"",{"$f":"IF(rng02_Res_Summary_AMI25=\"\",\"\",rng02_Res_Summary_AMI25)","v":""},{"$f":"IF(rng02_Res_Summary_ConstType25=\"\",\"\",rng02_Res_Summary_ConstType25)","v":""},{"$f":"IF(rng02_Res_Summary_NoUnit25=\"\",\"\",rng02_Res_Summary_NoUnit25)","v":""},{"$f":"IF(L337=\"\",\"\",rng02_Res_Summary_NRSFperUnit25)","v":""},null,null,null,null,null,null,{"$f":"IF(rng02_Res_Summary_GrossMarketRent25=\"\",\"\",rng02_Res_Summary_GrossMarketRent25)","v":""},{"$f":"IF(rng02_Res_Summary_NetMarketRent25=0,\"\",rng02_Res_Summary_NetMarketRent25)","v":""},null,null,null,null,null,null,null,null,null,null,null,null,null,null,null,null,"","","","","","","","","","","","","","",null,"","","","","",""]
[null,null,null,null,null,null,{"$f":"IF(rng02_Res_Summary_NoBedrooms26=\"\",\"\",rng02_Res_Summary_NoBedrooms26)","v":""},{"$f":"IF(rng02_Res_Summary_NoBaths26=\"\",\"\",rng02_Res_Summary_NoBaths26)","v":""},"",{"$f":"IF(rng02_Res_Summary_AMI26=\"\",\"\",rng02_Res_Summary_AMI26)","v":""},{"$f":"IF(rng02_Res_Summary_ConstType26=\"\",\"\",rng02_Res_Summary_ConstType26)","v":""},{"$f":"IF(rng02_Res_Summary_NoUnit26=\"\",\"\",rng02_Res_Summary_NoUnit26)","v":""},{"$f":"IF(L338=\"\",\"\",rng02_Res_Summary_NRSFperUnit26)","v":""},null,null,null,null,null,null,{"$f":"IF(rng02_Res_Summary_GrossMarketRent26=\"\",\"\",rng02_Res_Summary_GrossMarketRent26)","v":""},{"$f":"IF(rng02_Res_Summary_NetMarketRent26=0,\"\",rng02_Res_Summary_NetMarketRent26)","v":""},null,null,null,null,null,null,null,null,null,null,null,null,null,null,null,null,"","","","","","","","","","","","","","",null,"","","","","",""]
[null,null,null,null,null,null,{"$f":"IF(rng02_Res_Summary_NoBedrooms27=\"\",\"\",rng02_Res_Summary_NoBedrooms27)","v":""},{"$f":"IF(rng02_Res_Summary_NoBaths27=\"\",\"\",rng02_Res_Summary_NoBaths27)","v":""},"",{"$f":"IF(rng02_Res_Summary_AMI27=\"\",\"\",rng02_Res_Summary_AMI27)","v":""},{"$f":"IF(rng02_Res_Summary_ConstType27=\"\",\"\",rng02_Res_Summary_ConstType27)","v":""},{"$f":"IF(rng02_Res_Summary_NoUnit27=\"\",\"\",rng02_Res_Summary_NoUnit27)","v":""},{"$f":"IF(L339=\"\",\"\",rng02_Res_Summary_NRSFperUnit27)","v":""},null,null,null,null,null,null,{"$f":"IF(rng02_Res_Summary_GrossMarketRent27=\"\",\"\",rng02_Res_Summary_GrossMarketRent27)","v":""},{"$f":"IF(rng02_Res_Summary_NetMarketRent27=0,\"\",rng02_Res_Summary_NetMarketRent27)","v":""},null,null,null,null,null,null,null,null,null,null,null,null,null,null,null,null,"","","","","","","","","","","","","","",null,"","","","","",""]
[null,null,null,null,null,null,{"$f":"IF(rng02_Res_Summary_NoBedrooms28=\"\",\"\",rng02_Res_Summary_NoBedrooms28)","v":""},{"$f":"IF(rng02_Res_Summary_NoBaths28=\"\",\"\",rng02_Res_Summary_NoBaths28)","v":""},"",{"$f":"IF(rng02_Res_Summary_AMI28=\"\",\"\",rng02_Res_Summary_AMI28)","v":""},{"$f":"IF(rng02_Res_Summary_ConstType28=\"\",\"\",rng02_Res_Summary_ConstType28)","v":""},{"$f":"IF(rng02_Res_Summary_NoUnit28=\"\",\"\",rng02_Res_Summary_NoUnit28)","v":""},{"$f":"IF(L340=\"\",\"\",rng02_Res_Summary_NRSFperUnit28)","v":""},null,null,null,null,null,null,{"$f":"IF(rng02_Res_Summary_GrossMarketRent28=\"\",\"\",rng02_Res_Summary_GrossMarketRent28)","v":""},{"$f":"IF(rng02_Res_Summary_NetMarketRent28=0,\"\",rng02_Res_Summary_NetMarketRent28)","v":""},null,null,null,null,null,null,null,null,null,null,null,null,null,null,null,null,"","","","","","","","","","","","","","",null,"","","","","",""]
[null,null,null,null,null,null,{"$f":"IF(rng02_Res_Summary_NoBedrooms29=\"\",\"\",rng02_Res_Summary_NoBedrooms29)","v":""},{"$f":"IF(rng02_Res_Summary_NoBaths29=\"\",\"\",rng02_Res_Summary_NoBaths29)","v":""},"",{"$f":"IF(rng02_Res_Summary_AMI29=\"\",\"\",rng02_Res_Summary_AMI29)","v":""},{"$f":"IF(rng02_Res_Summary_ConstType29=\"\",\"\",rng02_Res_Summary_ConstType29)","v":""},{"$f":"IF(rng02_Res_Summary_NoUnit29=\"\",\"\",rng02_Res_Summary_NoUnit29)","v":""},{"$f":"IF(L341=\"\",\"\",rng02_Res_Summary_NRSFperUnit29)","v":""},null,null,null,null,null,null,{"$f":"IF(rng02_Res_Summary_GrossMarketRent29=\"\",\"\",rng02_Res_Summary_GrossMarketRent29)","v":""},{"$f":"IF(rng02_Res_Summary_NetMarketRent29=0,\"\",rng02_Res_Summary_NetMarketRent29)","v":""},null,null,null,null,null,null,null,null,null,null,null,null,null,null,null,null,"","","","","","","","","","","","","","",null,"","","","","",""]
[null,null,null,null,null,null,{"$f":"IF(rng02_Res_Summary_NoBedrooms30=\"\",\"\",rng02_Res_Summary_NoBedrooms30)","v":""},{"$f":"IF(rng02_Res_Summary_NoBaths30=\"\",\"\",rng02_Res_Summary_NoBaths30)","v":""},"",{"$f":"IF(rng02_Res_Summary_AMI30=\"\",\"\",rng02_Res_Summary_AMI30)","v":""},{"$f":"IF(rng02_Res_Summary_ConstType30=\"\",\"\",rng02_Res_Summary_ConstType30)","v":""},{"$f":"IF(rng02_Res_Summary_NoUnit30=\"\",\"\",rng02_Res_Summary_NoUnit30)","v":""},{"$f":"IF(L342=\"\",\"\",rng02_Res_Summary_NRSFperUnit30)","v":""},null,null,null,null,null,null,{"$f":"IF(rng02_Res_Summary_GrossMarketRent30=\"\",\"\",rng02_Res_Summary_GrossMarketRent30)","v":""},{"$f":"IF(rng02_Res_Summary_NetMarketRent30=0,\"\",rng02_Res_Summary_NetMarketRent30)","v":""},null,null,null,null,null,null,null,null,null,null,null,null,null,null,null,null,"","","","","","","","","","","","","","",null,"","","","","",""]
[null,null,null,null,null,null,"Totals",null,null,null,null,{"$f":"SUM(L313:L342)","v":0},null,null,null,null,0,0,0,0,0,{"$error":"#DIV/0!"},0,0,0,{"$error":"#DIV/0!"},0,null,null,null,null,null,null,null,null,null,null,"Totals",null,null,null,null,{"$f":"SUM(AQ313:AQ342)","v":0},null,null,null,null,0,0,0,0,0,{"$error":"#DIV/0!"},0,0,0,{"$error":"#DIV/0!"},0]
[null,null,null,null,null,null,"Residential Market Vacancy:",null,null,null,null,null,null,null,null,null,null,null,0,null,null,null,null,null,null,null,null,null,null,null,null,null,null,null,null,null,null,"Residential Market Vacancy:",null,null,null,null,null,null,null,null,null,null,null,0]
[null,null,null,null,null,null,"Residential Affordable Vacancy:",null,null,null,null,null,null,null,null,null,null,null,0,null,null,null,null,null,null,null,null,null,null,null,null,null,null,null,null,null,null,"Residential Affordable Vacancy:",null,null,null,null,null,null,null,null,null,null,null,0]
[null,null,null,null,null,null,"Effective Gross Income",null,null,null,null,null,null,null,null,null,null,null,0,null,null,null,null,null,null,null,null,null,null,null,null,null,null,null,null,null,null,"Effective Gross Income",null,null,null,null,null,null,null,null,null,null,null,0]
[null,null,null,null,null,null,null,null,"Total Units Prop",{"$f":"L343","v":0}]
[]
[]
[null,null,null,null,"Theres a commercial Building Type on Deal Properties>Structure/Utilities/Amenities but no Commercial Income Type",null,null,null,null,null,"Deal Property>Deal Property",null,"Edit Property Locations - Commercial Agreements"]
[null,null,null,null,null,null,null,null,null,null,"Total Units",null,"Rent"]
["02_1_Income","Residential and Commercial Rent Summary","Commercial Summary: Underwritten Year One Rents",null,null,null,"Commercial Summary: Underwritten Year One Rents",null,null,null,null,null,null,null,null,null,null,null,null,null,null,null,null,null,null,null,null,null,null,null,null,"02_1_Income","Residential and Commercial Rent Summary","Commercial Summary: Underwritten Year One Rents",null,null,null,"Commercial Summary: Underwritten Year One Rents"]
[null,"Commercial Summary section comes from commercial space",null,null,null,null,"Complete if applicable",null,null,null,null,null,null,null,null,null,null,null,null,null,null,null,null,null,null,null,null,null,null,null,null,null,"Commercial Summary section comes from commercial space",null,null,null,null,"Complete if applicable"]
[null,null,null,null,null,null,"Type of Space:",null,null,null,null,null,null,null,null,null,null,null,null,null,null,null,null,null,null,null,null,null,null,null,null,null,null,null,null,null,null,"Type of Space:"]
[null,null,null,null,"There's a field called \"Commercial Space?\" [Checkbox] on Deal Property>Deal Property. If yes, set up the data captured as a new Deal Property and populate data based on that setting "]
[null,null,null,null,"If Commercial Building Type (found under Deal Property>Structure/Utilities/Amenities tab) is not null, create a new Deal Property & populate as many fields listed here as possible? ",null,"Commercial Income Type","Number of Units","NRSF Per Unit","Rent per Units","Yearly Rent",null,null,null,null,null,null,null,null,null,null,null,null,null,null,null,null,null,null,null,null,null,null,null,null,null,null,"Commercial Income Type","Number of Units","NRSF Per Unit","Rent per Units","Yearly Rent"]
[null,null,null,null,null,null,null,{"$f":"IF(rng02_Comm_Income_Type1_NoOfUnits=\"\",\"\",rng02_Comm_Income_Type1_NoOfUnits)","v":""},null,null,0,null,null,null,null,null,null,null,null,null,null,null,null,null,null,null,null,null,null,null,null,null,null,null,null,null,null,{"$f":"IF(TCATrigger=\"No\",\"\",IF(G357=\"\",\"\",G357))","v":""},{"$f":"IF(TCATrigger=\"No\",\"\",IF(H357=\"\",\"\",H357))","v":""},{"$f":"IF(TCATrigger=\"No\",\"\",IF(I357=\"\",\"\",I357))","v":""},{"$f":"IF(TCATrigger=\"No\",\"\",IF(J357=\"\",\"\",J357))","v":""},{"$f":"IF(TCATrigger=\"No\",\"\",IF(K357=\"\",\"\",K357))","v":""}]
[null,null,null,null,null,null,null,{"$f":"IF(rng02_Comm_Income_Type2_NoOfUnits=\"\",\"\",rng02_Comm_Income_Type2_NoOfUnits)","v":""},null,null,0,null,null,null,null,null,null,null,null,null,null,null,null,null,null,null,null,null,null,null,null,null,null,null,null,null,null,"","","","",""]
[null,null,null,null,null,null,null,{"$f":"IF(rng02_Comm_Income_Type3_NoOfUnits=\"\",\"\",rng02_Comm_Income_Type3_NoOfUnits)","v":""},null,null,0,null,null,null,null,null,null,null,null,null,null,null,null,null,null,null,null,null,null,null,null,null,null,null,null,null,null,"","","","",""]
[null,null,null,null,null,null,null,{"$f":"IF(rng02_Comm_Income_Type4_NoOfUnits=\"\",\"\",rng02_Comm_Income_Type4_NoOfUnits)","v":""},null,null,0,null,null,null,null,null,null,null,null,null,null,null,null,null,null,null,null,null,null,null,null,null,null,null,null,null,null,"","","","",""]
[null,null,null,null,null,null,null,{"$f":"IF(rng02_Comm_Income_Type5_NoOfUnits=\"\",\"\",rng02_Comm_Income_Type5_NoOfUnits)","v":""},null,null,0,null,null,null,null,null,null,null,null,null,null,null,null,null,null,null,null,null,null,null,null,null,null,null,null,null,null,"","","","",""]
[null,null,null,null,null,null,null,{"$f":"IF(rng02_Comm_Income_Type6_NoOfUnits=\"\",\"\",rng02_Comm_Income_Type6_NoOfUnits)","v":""},null,null,0,null,null,null,null,null,null,null,null,null,null,null,null,null,null,null,null,null,null,null,null,null,null,null,null,null,null,"","","","",""]
[null,null,null,null,null,null,null,{"$f":"IF(rng02_Comm_Income_Type7_NoOfUnits=\"\",\"\",rng02_Comm_Income_Type7_NoOfUnits)","v":""},null,null,0,null,null,null,null,null,null,null,null,null,null,null,null,null,null,null,null,null,null,null,null,null,null,null,null,null,null,"","","","",""]
[null,null,null,null,null,null,null,{"$f":"IF(rng02_Comm_Income_Type8_NoOfUnits=\"\",\"\",rng02_Comm_Income_Type8_NoOfUnits)","v":""},null,null,0,null,null,null,null,null,null,null,null,null,null,null,null,null,null,null,null,null,null,null,null,null,null,null,null,null,null,"","","","",""]
[null,null,null,null,null,null,null,{"$f":"IF(rng02_Comm_Income_Type9_NoOfUnits=\"\",\"\",rng02_Comm_Income_Type9_NoOfUnits)","v":""},null,null,0,null,null,null,null,null,null,null,null,null,null,null,null,null,null,null,null,null,null,null,null,null,null,null,null,null,null,"","","","",""]
[null,null,null,null,null,null,null,{"$f":"IF(rng02_Comm_Income_Type10_NoOfUnits=\"\",\"\",rng02_Comm_Income_Type10_NoOfUnits)","v":""},null,null,0,null,null,null,null,null,null,null,null,null,null,null,null,null,null,null,null,null,null,null,null,null,null,null,null,null,null,"","","","",""]
[null,null,null,null,null,null,null,{"$f":"IF(rng02_Comm_Income_Type11_NoOfUnits=\"\",\"\",rng02_Comm_Income_Type11_NoOfUnits)","v":""},null,null,0,null,null,null,null,null,null,null,null,null,null,null,null,null,null,null,null,null,null,null,null,null,null,null,null,null,null,"","","","",""]
[null,null,null,null,null,null,null,{"$f":"IF(rng02_Comm_Income_Type12_NoOfUnits=\"\",\"\",rng02_Comm_Income_Type12_NoOfUnits)","v":""},null,null,0,null,null,null,null,null,null,null,null,null,null,null,null,null,null,null,null,null,null,null,null,null,null,null,null,null,null,"","","","",""]
[null,null,null,null,null,null,"TOTALS",0,0,"N/A",0,null,null,null,null,null,null,null,null,null,null,null,null,null,null,null,null,null,null,null,null,null,null,null,null,null,null,"TOTALS",0,0,"N/A",0]
[null,null,null,null,null,null,"Vacancy",null,null,null,0,null,null,null,null,null,null,null,null,null,null,null,null,null,null,null,null,null,null,null,null,null,null,null,null,null,null,"Vacancy",null,null,null,0]
[null,null,null,null,null,null,"Effective Gross Income",null,null,null,0,null,null,null,null,null,null,null,null,null,null,null,null,null,null,null,null,null,null,null,null,null,null,null,null,null,null,"Effective Gross Income",null,null,null,0]
[]
[]
["02_1_Income","Residential and Commercial Rent Summary",null,null,null,null,"Number of units - New Construction",0,null,null,null,null,null,null,null,null,null,null,null,null,null,null,null,null,null,null,null,null,null,null,null,"02_1_Income","Residential and Commercial Rent Summary",null,null,null,null,"Number of units - New Construction",{"$f":"IF(TCATrigger=\"No\",H374,\"\")","v":0}]
[null,null,null,null,null,null,"Number of units - Rehabilitation",0,null,null,null,null,null,null,null,null,null,null,null,null,null,null,null,null,null,null,null,null,null,null,null,null,null,null,null,null,null,"Number of units - Rehabilitation",{"$f":"IF(TCATrigger=\"No\",H375,\"\")","v":0}]
[]
["02_1_Income","Residential and Commercial Rent Summary",null,null,null,null,"Number of bedrooms - New Construction",0,null,null,null,null,null,null,null,null,null,null,null,null,null,null,null,null,null,null,null,null,null,null,null,"02_1_Income","Residential and Commercial Rent Summary",null,null,null,null,"Number of bedrooms - New Construction",{"$f":"IF(TCATrigger=\"No\",H377,\"\")","v":0}]
[null,null,null,null,null,null,"Number of bedrooms - Rehabilitation",0,null,null,null,null,null,null,null,null,null,null,null,null,null,null,null,null,null,null,null,null,null,null,null,null,null,null,null,null,null,"Number of bedrooms - Rehabilitation",{"$f":"IF(TCATrigger=\"No\",H378,\"\")","v":0}]
[]
[]
[null,null,null,null,null,null,"Type","# of Bedrooms"]
["02_1_Income","Residential and Commercial Rent Summary","Utilities Table: Detailed Utilities for SRO, EFF or 1 through 5 bedroom units",null,null,null,"Utilities Table: Detailed Utilities for SRO, EFF or 1 through 5 bedroom units",null,null,null,null,null,null,null,null,null,null,null,null,null,null,null,null,null,null,null,null,null,null,null,null,"02_1_Income","Residential and Commercial Rent Summary","Utilities Table: Detailed Utilities for SRO, EFF or 1 through 5 bedroom units",null,null,null,"Utilities Table: Detailed Utilities for SRO, EFF or 1 through 5 bedroom units"]
[null,null,null,null,null,null,"Utilities Type","SRO","EFF",1,2,3,4,5,"Tenant Paid?","Data Year",null,null,null,null,null,null,null,null,null,null,null,null,null,null,null,null,null,null,null,null,null,"Utilities Type","SRO","EFF",1,2,3,4,5,"Tenant Paid?","Data Year"]
[null,null,null,null,null,null,{"$f":"IF(rng02_Utilities_Table_UtilType1=\"\",\"\",rng02_Utilities_Table_UtilType1)","v":""},{"$f":"IF(rng02_Utilities_Table_SRO1=\"\",\"\",rng02_Utilities_Table_SRO1)","v":""},{"$f":"IF(rng02_Utilities_Table_EFF1=\"\",\"\",rng02_Utilities_Table_EFF1)","v":""},{"$f":"IF(rng02_Utilities_Table_1_1BedUnit=\"\",\"\",rng02_Utilities_Table_1_1BedUnit)","v":""},{"$f":"IF(rng02_Utilities_Table_1_2BedUnit=\"\",\"\",rng02_Utilities_Table_1_2BedUnit)","v":""},{"$f":"IF(rng02_Utilities_Table_1_3BedUnit=\"\",\"\",rng02_Utilities_Table_1_3BedUnit)","v":""},{"$f":"IF(rng02_Utilities_Table_1_4BedUnit=\"\",\"\",rng02_Utilities_Table_1_4BedUnit)","v":""},{"$f":"IF(rng02_Utilities_Table_1_5BedUnit=\"\",\"\",rng02_Utilities_Table_1_5BedUnit)","v":""},{"$f":"IF(rng02_Utilities_Table_TenantPaid1=\"\",\"\",rng02_Utilities_Table_TenantPaid1)","v":""},{"$f":"IF(rng02_Utilities_Table_DataYear1=\"\",\"\",rng02_Utilities_Table_DataYear1)","v":""},null,null,null,null,null,null,null,null,null,null,null,null,null,null,null,null,null,null,null,null,null,{"$f":"IF(TCATrigger=\"No\",\"\",IF(G384=\"\",\"\",G384))","v":""},{"$f":"IF(TCATrigger=\"No\",\"\",IF(H384=\"\",\"\",H384))","v":""},{"$f":"IF(TCATrigger=\"No\",\"\",IF(I384=\"\",\"\",I384))","v":""},{"$f":"IF(TCATrigger=\"No\",\"\",IF(J384=\"\",\"\",J384))","v":""},{"$f":"IF(TCATrigger=\"No\",\"\",IF(K384=\"\",\"\",K384))","v":""},{"$f":"IF(TCATrigger=\"No\",\"\",IF(L384=\"\",\"\",L384))","v":""},{"$f":"IF(TCATrigger=\"No\",\"\",IF(M384=\"\",\"\",M384))","v":""},{"$f":"IF(TCATrigger=\"No\",\"\",IF(N384=\"\",\"\",N384))","v":""},{"$f":"IF(TCATrigger=\"No\",\"\",IF(O384=\"\",\"\",O384))","v":""},{"$f":"IF(TCATrigger=\"No\",\"\",IF(P384=\"\",\"\",P384))","v":""}]
[null,null,null,null,null,null,{"$f":"IF(rng02_Utilities_Table_UtilType2=\"\",\"\",rng02_Utilities_Table_UtilType2)","v":""},{"$f":"IF(rng02_Utilities_Table_SRO2=\"\",\"\",rng02_Utilities_Table_SRO2)","v":""},{"$f":"IF(rng02_Utilities_Table_EFF2=\"\",\"\",rng02_Utilities_Table_EFF2)","v":""},{"$f":"IF(rng02_Utilities_Table_2_1BedUnit=\"\",\"\",rng02_Utilities_Table_2_1BedUnit)","v":""},{"$f":"IF(rng02_Utilities_Table_2_2BedUnit=\"\",\"\",rng02_Utilities_Table_2_2BedUnit)","v":""},{"$f":"IF(rng02_Utilities_Table_2_3BedUnit=\"\",\"\",rng02_Utilities_Table_2_3BedUnit)","v":""},{"$f":"IF(rng02_Utilities_Table_2_4BedUnit=\"\",\"\",rng02_Utilities_Table_2_4BedUnit)","v":""},{"$f":"IF(rng02_Utilities_Table_2_5BedUnit=\"\",\"\",rng02_Utilities_Table_2_5BedUnit)","v":""},{"$f":"IF(rng02_Utilities_Table_TenantPaid2=\"\",\"\",rng02_Utilities_Table_TenantPaid2)","v":""},{"$f":"IF(rng02_Utilities_Table_DataYear2=\"\",\"\",rng02_Utilities_Table_DataYear2)","v":""},null,null,null,null,null,null,null,null,null,null,null,null,null,null,null,null,null,null,null,null,null,"","","","","","","","","",""]
[null,null,null,null,null,null,{"$f":"IF(rng02_Utilities_Table_UtilType3=\"\",\"\",rng02_Utilities_Table_UtilType3)","v":""},{"$f":"IF(rng02_Utilities_Table_SRO3=\"\",\"\",rng02_Utilities_Table_SRO3)","v":""},{"$f":"IF(rng02_Utilities_Table_EFF3=\"\",\"\",rng02_Utilities_Table_EFF3)","v":""},{"$f":"IF(rng02_Utilities_Table_3_1BedUnit=\"\",\"\",rng02_Utilities_Table_3_1BedUnit)","v":""},{"$f":"IF(rng02_Utilities_Table_3_2BedUnit=\"\",\"\",rng02_Utilities_Table_3_2BedUnit)","v":""},{"$f":"IF(rng02_Utilities_Table_3_3BedUnit=\"\",\"\",rng02_Utilities_Table_3_3BedUnit)","v":""},{"$f":"IF(rng02_Utilities_Table_3_4BedUnit=\"\",\"\",rng02_Utilities_Table_3_4BedUnit)","v":""},{"$f":"IF(rng02_Utilities_Table_3_5BedUnit=\"\",\"\",rng02_Utilities_Table_3_5BedUnit)","v":""},{"$f":"IF(rng02_Utilities_Table_TenantPaid3=\"\",\"\",rng02_Utilities_Table_TenantPaid3)","v":""},{"$f":"IF(rng02_Utilities_Table_DataYear3=\"\",\"\",rng02_Utilities_Table_DataYear3)","v":""},null,null,null,null,null,null,null,null,null,null,null,null,null,null,null,null,null,null,null,null,null,"","","","","","","","","",""]
[null,null,null,null,null,null,{"$f":"IF(rng02_Utilities_Table_UtilType4=\"\",\"\",rng02_Utilities_Table_UtilType4)","v":""},{"$f":"IF(rng02_Utilities_Table_SRO4=\"\",\"\",rng02_Utilities_Table_SRO4)","v":""},{"$f":"IF(rng02_Utilities_Table_EFF4=\"\",\"\",rng02_Utilities_Table_EFF4)","v":""},{"$f":"IF(rng02_Utilities_Table_4_1BedUnit=\"\",\"\",rng02_Utilities_Table_4_1BedUnit)","v":""},{"$f":"IF(rng02_Utilities_Table_4_2BedUnit=\"\",\"\",rng02_Utilities_Table_4_2BedUnit)","v":""},{"$f":"IF(rng02_Utilities_Table_4_3BedUnit=\"\",\"\",rng02_Utilities_Table_4_3BedUnit)","v":""},{"$f":"IF(rng02_Utilities_Table_4_4BedUnit=\"\",\"\",rng02_Utilities_Table_4_4BedUnit)","v":""},{"$f":"IF(rng02_Utilities_Table_4_5BedUnit=\"\",\"\",rng02_Utilities_Table_4_5BedUnit)","v":""},{"$f":"IF(rng02_Utilities_Table_TenantPaid4=\"\",\"\",rng02_Utilities_Table_TenantPaid4)","v":""},{"$f":"IF(rng02_Utilities_Table_DataYear4=\"\",\"\",rng02_Utilities_Table_DataYear4)","v":""},null,null,null,null,null,null,null,null,null,null,null,null,null,null,null,null,null,null,null,null,null,"","","","","","","","","",""]
[null,null,null,null,null,null,{"$f":"IF(rng02_Utilities_Table_UtilType5=\"\",\"\",rng02_Utilities_Table_UtilType5)","v":""},{"$f":"IF(rng02_Utilities_Table_SRO5=\"\",\"\",rng02_Utilities_Table_SRO5)","v":""},{"$f":"IF(rng02_Utilities_Table_EFF5=\"\",\"\",rng02_Utilities_Table_EFF5)","v":""},{"$f":"IF(rng02_Utilities_Table_5_1BedUnit=\"\",\"\",rng02_Utilities_Table_5_1BedUnit)","v":""},{"$f":"IF(rng02_Utilities_Table_5_2BedUnit=\"\",\"\",rng02_Utilities_Table_5_2BedUnit)","v":""},{"$f":"IF(rng02_Utilities_Table_5_3BedUnit=\"\",\"\",rng02_Utilities_Table_5_3BedUnit)","v":""},{"$f":"IF(rng02_Utilities_Table_5_4BedUnit=\"\",\"\",rng02_Utilities_Table_5_4BedUnit)","v":""},{"$f":"IF(rng02_Utilities_Table_5_5BedUnit=\"\",\"\",rng02_Utilities_Table_5_5BedUnit)","v":""},{"$f":"IF(rng02_Utilities_Table_TenantPaid5=\"\",\"\",rng02_Utilities_Table_TenantPaid5)","v":""},{"$f":"IF(rng02_Utilities_Table_DataYear5=\"\",\"\",rng02_Utilities_Table_DataYear5)","v":""},null,null,null,null,null,null,null,null,null,null,null,null,null,null,null,null,null,null,null,null,null,"","","","","","","","","",""]
[null,null,null,null,null,null,{"$f":"IF(rng02_Utilities_Table_UtilType6=\"\",\"\",rng02_Utilities_Table_UtilType6)","v":""},{"$f":"IF(rng02_Utilities_Table_SRO6=\"\",\"\",rng02_Utilities_Table_SRO6)","v":""},{"$f":"IF(rng02_Utilities_Table_EFF6=\"\",\"\",rng02_Utilities_Table_EFF6)","v":""},{"$f":"IF(rng02_Utilities_Table_6_1BedUnit=\"\",\"\",rng02_Utilities_Table_6_1BedUnit)","v":""},{"$f":"IF(rng02_Utilities_Table_6_2BedUnit=\"\",\"\",rng02_Utilities_Table_6_2BedUnit)","v":""},{"$f":"IF(rng02_Utilities_Table_6_3BedUnit=\"\",\"\",rng02_Utilities_Table_6_3BedUnit)","v":""},{"$f":"IF(rng02_Utilities_Table_6_4BedUnit=\"\",\"\",rng02_Utilities_Table_6_4BedUnit)","v":""},{"$f":"IF(rng02_Utilities_Table_6_5BedUnit=\"\",\"\",rng02_Utilities_Table_6_5BedUnit)","v":""},{"$f":"IF(rng02_Utilities_Table_TenantPaid6=\"\",\"\",rng02_Utilities_Table_TenantPaid6)","v":""},{"$f":"IF(rng02_Utilities_Table_DataYear6=\"\",\"\",rng02_Utilities_Table_DataYear6)","v":""},null,null,null,null,null,null,null,null,null,null,null,null,null,null,null,null,null,null,null,null,null,"","","","","","","","","",""]
[null,null,null,null,null,null,{"$f":"IF(rng02_Utilities_Table_UtilType7=\"\",\"\",rng02_Utilities_Table_UtilType7)","v":""},{"$f":"IF(rng02_Utilities_Table_SRO7=\"\",\"\",rng02_Utilities_Table_SRO7)","v":""},{"$f":"IF(rng02_Utilities_Table_EFF7=\"\",\"\",rng02_Utilities_Table_EFF7)","v":""},{"$f":"IF(rng02_Utilities_Table_7_1BedUnit=\"\",\"\",rng02_Utilities_Table_7_1BedUnit)","v":""},{"$f":"IF(rng02_Utilities_Table_7_2BedUnit=\"\",\"\",rng02_Utilities_Table_7_2BedUnit)","v":""},{"$f":"IF(rng02_Utilities_Table_7_3BedUnit=\"\",\"\",rng02_Utilities_Table_7_3BedUnit)","v":""},{"$f":"IF(rng02_Utilities_Table_7_4BedUnit=\"\",\"\",rng02_Utilities_Table_7_4BedUnit)","v":""},{"$f":"IF(rng02_Utilities_Table_7_5BedUnit=\"\",\"\",rng02_Utilities_Table_7_5BedUnit)","v":""},{"$f":"IF(rng02_Utilities_Table_TenantPaid7=\"\",\"\",rng02_Utilities_Table_TenantPaid7)","v":""},{"$f":"IF(rng02_Utilities_Table_DataYear7=\"\",\"\",rng02_Utilities_Table_DataYear7)","v":""},null,null,null,null,null,null,null,null,null,null,null,null,null,null,null,null,null,null,null,null,null,"","","","","","","","","",""]
[null,null,null,null,null,null,{"$f":"IF(rng02_Utilities_Table_UtilType8=\"\",\"\",rng02_Utilities_Table_UtilType8)","v":""},{"$f":"IF(rng02_Utilities_Table_SRO8=\"\",\"\",rng02_Utilities_Table_SRO8)","v":""},{"$f":"IF(rng02_Utilities_Table_EFF8=\"\",\"\",rng02_Utilities_Table_EFF8)","v":""},{"$f":"IF(rng02_Utilities_Table_8_1BedUnit=\"\",\"\",rng02_Utilities_Table_8_1BedUnit)","v":""},{"$f":"IF(rng02_Utilities_Table_8_2BedUnit=\"\",\"\",rng02_Utilities_Table_8_2BedUnit)","v":""},{"$f":"IF(rng02_Utilities_Table_8_3BedUnit=\"\",\"\",rng02_Utilities_Table_8_3BedUnit)","v":""},{"$f":"IF(rng02_Utilities_Table_8_4BedUnit=\"\",\"\",rng02_Utilities_Table_8_4BedUnit)","v":""},{"$f":"IF(rng02_Utilities_Table_8_5BedUnit=\"\",\"\",rng02_Utilities_Table_8_5BedUnit)","v":""},{"$f":"IF(rng02_Utilities_Table_TenantPaid8=\"\",\"\",rng02_Utilities_Table_TenantPaid8)","v":""},{"$f":"IF(rng02_Utilities_Table_DataYear8=\"\",\"\",rng02_Utilities_Table_DataYear8)","v":""},null,null,null,null,null,null,null,null,null,null,null,null,null,null,null,null,null,null,null,null,null,"","","","","","","","","",""]
[null,null,null,null,null,null,{"$f":"IF(rng02_Utilities_Table_UtilType9=\"\",\"\",rng02_Utilities_Table_UtilType9)","v":""},{"$f":"IF(rng02_Utilities_Table_SRO9=\"\",\"\",rng02_Utilities_Table_SRO9)","v":""},{"$f":"IF(rng02_Utilities_Table_EFF9=\"\",\"\",rng02_Utilities_Table_EFF9)","v":""},{"$f":"IF(rng02_Utilities_Table_9_1BedUnit=\"\",\"\",rng02_Utilities_Table_9_1BedUnit)","v":""},{"$f":"IF(rng02_Utilities_Table_9_2BedUnit=\"\",\"\",rng02_Utilities_Table_9_2BedUnit)","v":""},{"$f":"IF(rng02_Utilities_Table_9_3BedUnit=\"\",\"\",rng02_Utilities_Table_9_3BedUnit)","v":""},{"$f":"IF(rng02_Utilities_Table_9_4BedUnit=\"\",\"\",rng02_Utilities_Table_9_4BedUnit)","v":""},{"$f":"IF(rng02_Utilities_Table_9_5BedUnit=\"\",\"\",rng02_Utilities_Table_9_5BedUnit)","v":""},{"$f":"IF(rng02_Utilities_Table_TenantPaid9=\"\",\"\",rng02_Utilities_Table_TenantPaid9)","v":""},{"$f":"IF(rng02_Utilities_Table_DataYear9=\"\",\"\",rng02_Utilities_Table_DataYear9)","v":""},null,null,null,null,null,null,null,null,null,null,null,null,null,null,null,null,null,null,null,null,null,"","","","","","","","","",""]
[null,null,null,null,null,null,{"$f":"IF(rng02_Utilities_Table_UtilType10=\"\",\"\",rng02_Utilities_Table_UtilType10)","v":""},{"$f":"IF(rng02_Utilities_Table_SRO10=\"\",\"\",rng02_Utilities_Table_SRO10)","v":""},{"$f":"IF(rng02_Utilities_Table_EFF10=\"\",\"\",rng02_Utilities_Table_EFF10)","v":""},{"$f":"IF(rng02_Utilities_Table_10_1BedUnit=\"\",\"\",rng02_Utilities_Table_10_1BedUnit)","v":""},{"$f":"IF(rng02_Utilities_Table_10_2BedUnit=\"\",\"\",rng02_Utilities_Table_10_2BedUnit)","v":""},{"$f":"IF(rng02_Utilities_Table_10_3BedUnit=\"\",\"\",rng02_Utilities_Table_10_3BedUnit)","v":""},{"$f":"IF(rng02_Utilities_Table_10_4BedUnit=\"\",\"\",rng02_Utilities_Table_10_4BedUnit)","v":""},{"$f":"IF(rng02_Utilities_Table_10_5BedUnit=\"\",\"\",rng02_Utilities_Table_10_5BedUnit)","v":""},{"$f":"IF(rng02_Utilities_Table_TenantPaid10=\"\",\"\",rng02_Utilities_Table_TenantPaid10)","v":""},{"$f":"IF(rng02_Utilities_Table_DataYear10=\"\",\"\",rng02_Utilities_Table_DataYear10)","v":""},null,null,null,null,null,null,null,null,null,null,null,null,null,null,null,null,null,null,null,null,null,"","","","","","","","","",""]
[null,null,null,null,null,null,{"$f":"IF(rng02_Utilities_Table_UtilType11=\"\",\"\",rng02_Utilities_Table_UtilType11)","v":""},{"$f":"IF(rng02_Utilities_Table_SRO11=\"\",\"\",rng02_Utilities_Table_SRO11)","v":""},{"$f":"IF(rng02_Utilities_Table_EFF11=\"\",\"\",rng02_Utilities_Table_EFF11)","v":""},{"$f":"IF(rng02_Utilities_Table_11_1BedUnit=\"\",\"\",rng02_Utilities_Table_11_1BedUnit)","v":""},{"$f":"IF(rng02_Utilities_Table_11_2BedUnit=\"\",\"\",rng02_Utilities_Table_11_2BedUnit)","v":""},{"$f":"IF(rng02_Utilities_Table_11_3BedUnit=\"\",\"\",rng02_Utilities_Table_11_3BedUnit)","v":""},{"$f":"IF(rng02_Utilities_Table_11_4BedUnit=\"\",\"\",rng02_Utilities_Table_11_4BedUnit)","v":0},{"$f":"IF(rng02_Utilities_Table_11_5BedUnit=\"\",\"\",rng02_Utilities_Table_11_5BedUnit)","v":""},{"$f":"IF(rng02_Utilities_Table_TenantPaid11=\"\",\"\",rng02_Utilities_Table_TenantPaid11)","v":""},{"$f":"IF(rng02_Utilities_Table_DataYear11=\"\",\"\",rng02_Utilities_Table_DataYear11)","v":""},null,null,null,null,null,null,null,null,null,null,null,null,null,null,null,null,null,null,null,null,null,"","","","","","","","","",""]
[null,null,null,null,null,null,"Total Tenant Paid",0,0,0,0,0,0,0,null,null,null,null,null,null,null,null,null,null,null,null,null,null,null,null,null,null,null,null,null,null,null,"Total Tenant Paid",0,0,0,0,0,0,0]
[]
[null,null,null,null,null,null,null,"===='01_1_General Data'!K70"]
["02_1_Income","Residential and Commercial Rent Summary","Information from Data Input page",null,null,null,"Information from Data Input page",null,null,null,null,null,null,null,null,null,null,null,null,null,null,null,null,null,null,null,null,null,null,null,null,"02_1_Income","Residential and Commercial Rent Summary","Information from Data Input page",null,null,null,"Information from Data Input page"]
[null,null,null,null,null,null,"Services/Utilities:","Provided","Included in Rent","Energy Type",null,null,null,null,null,null,null,null,null,null,null,null,null,null,null,null,null,null,null,null,null,null,null,null,null,null,null,"Services/Utilities:","Provided","Included in Rent","Energy Type"]
[null,null,null,null,null,null,"Heat",{"$f":"IF(I162=\"Yes\",I162,\"\")","v":""},"","",null,null,"Heat",null,null,null,null,null,null,null,null,null,null,null,null,null,null,null,null,null,null,null,null,null,null,null,null,"Heat",{"$f":"IF(TCATrigger=\"No\",\"\",IF(H400=\"\",\"\",H400))","v":""},{"$f":"IF(TCATrigger=\"No\",\"\",IF(I400=\"\",\"\",I400))","v":""},""]
[null,null,null,null,null,null,"Hot Water","","","",null,null,"Hot Water",null,null,null,null,null,null,null,null,null,null,null,null,null,null,null,null,null,null,null,null,null,null,null,null,"Hot Water","","",""]
[null,null,null,null,null,null,"Cooking","","","",null,null,"Cooking",null,null,null,null,null,null,null,null,null,null,null,null,null,null,null,null,null,null,null,null,null,null,null,null,"Cooking","","",""]
[null,null,null,null,null,null,"Central Air Conditioning","","","",null,null,"Central Air Conditioning",null,null,null,null,null,null,null,null,null,null,null,null,null,null,null,null,null,null,null,null,null,null,null,null,"Central Air Conditioning","","",""]
[null,null,null,null,null,null,"Cable TV","","","",null,null,"Cable TV",null,null,null,null,null,null,null,null,null,null,null,null,null,null,null,null,null,null,null,null,null,null,null,null,"Cable TV","","",""]
[null,null,null,null,null,null,"Electricity","","","",null,null,"Electricity",null,null,null,null,null,null,null,null,null,null,null,null,null,null,null,null,null,null,null,null,null,null,null,null,"Electricity","","",""]
[null,null,null,null,null,null,"Water","","","",null,null,"Water",null,null,null,null,null,null,null,null,null,null,null,null,null,null,null,null,null,null,null,null,null,null,null,null,"Water","","",""]
[null,null,null,null,null,null,"Sewer","","","",null,null,"Sewer",null,null,null,null,null,null,null,null,null,null,null,null,null,null,null,null,null,null,null,null,null,null,null,null,"Sewer","","",""]
[]
[null,null,null,null,null,null,"Summary Residential Configuration",null,null,null,null,null,null,null,null,null,null,null,null,null,null,null,null,null,null,null,null,null,null,null,null,null,null,null,null,null,null,"Summary Residential Configuration"]
[null,null,null,null,null,null,"Number of Bedrooms","# LIHTC Units","# Market Units","NRSF/Unit (Weighted Average)","Net Rentable Square Feet LIHTC","Net Rentable Square Feet Market","RIH Proposed Rent (LIHTC calculation)","RIH Proposed Rent (Market calculation)","Current Contract Rent",null,null,null,null,null,null,null,null,null,null,null,null,null,null,null,null,null,null,null,null,null,null,"Number of Bedrooms","# LIHTC Units","# Market Units","NRSF/Unit (Weighted Average)","Net Rentable Square Feet LIHTC","Net Rentable Square Feet Market","RIH Proposed Rent (LIHTC calculation)","RIH Proposed Rent (Market calculation)","Current Contract Rent"]
[null,null,null,null,null,null,"SRO",{"$f":"IF(rng02_Summary_Res_Config_NoUnitSRO=0,\"\",rng02_Summary_Res_Config_NoUnitSRO)","v":""},{"$f":"IF(rng02_Summary_Res_Config_NoMktUnitSRO=0,\"\",rng02_Summary_Res_Config_NoMktUnitSRO)","v":""},{"$f":"IF(rng02_Summary_Res_Config_NRSFPerUnitSRO,\"\",rng02_Summary_Res_Config_NRSFPerUnitSRO)","v":0},{"$f":"IF(rng02_Summary_Res_Config_NRSFLIHTC_SRO=0,\"\",rng02_Summary_Res_Config_NRSFLIHTC_SRO)","v":""},{"$f":"IF(rng02_Summary_Res_Config_NRSFMkt_SRO=0,\"\",rng02_Summary_Res_Config_NRSFMkt_SRO)","v":""},{"$f":"IF(rng02_Summary_Res_Config_RIHPropRent_SRO=0,\"\",rng02_Summary_Res_Config_RIHPropRent_SRO)","v":""},{"$f":"IF(rng02_Summary_Res_Config_PropRentMkt_SRO=0,\"\",rng02_Summary_Res_Config_PropRentMkt_SRO)","v":""},{"$f":"IF(rng02_Summary_Res_Config_CurrContractRent_SRO=0,\"\",rng02_Summary_Res_Config_CurrContractRent_SRO)","v":""},null,null,null,null,null,null,null,null,null,null,null,null,null,null,null,null,null,null,null,null,null,null,{"$f":"IF(TCATrigger=\"No\",\"\",\"SRO\")","v":""},{"$f":"IF(OR(TCATrigger=\"No\",rng02_Summary_Res_Config_NoUnitSRO=0),\"\",rng02_Summary_Res_Config_NoUnitSRO)","v":""},{"$f":"IF(OR(TCATrigger=\"No\",rng02_Summary_Res_Config_NoMktUnitSRO=0),\"\",rng02_Summary_Res_Config_NoMktUnitSRO)","v":""},{"$f":"IF(OR(TCATrigger=\"No\",rng02_Summary_Res_Config_NRSFPerUnitSRO=0),\"\",rng02_Summary_Res_Config_NRSFPerUnitSRO)","v":""},{"$f":"IF(OR(TCATrigger=\"No\",rng02_Summary_Res_Config_NRSFLIHTC_SRO=0),\"\",rng02_Summary_Res_Config_NRSFLIHTC_SRO)","v":""},{"$f":"IF(OR(TCATrigger=\"No\",rng02_Summary_Res_Config_NRSFMkt_SRO=0),\"\",rng02_Summary_Res_Config_NRSFMkt_SRO)","v":""},{"$f":"IF(OR(TCATrigger=\"No\",rng02_Summary_Res_Config_RIHPropRent_SRO=0),\"\",rng02_Summary_Res_Config_RIHPropRent_SRO)","v":""},{"$f":"IF(OR(TCATrigger=\"No\",rng02_Summary_Res_Config_PropRentMkt_SRO=0),\"\",rng02_Summary_Res_Config_PropRentMkt_SRO)","v":""},{"$f":"IF(OR(TCATrigger=\"No\",rng02_Summary_Res_Config_CurrContractRent_SRO=0),\"\",rng02_Summary_Res_Config_CurrContractRent_SRO)","v":""}]
[null,null,null,null,null,null,"EFF",{"$f":"IF(rng02_Summary_Res_Config_NoUnitsEfficiency=0,\"\",rng02_Summary_Res_Config_NoUnitsEfficiency)","v":""},{"$f":"IF(rng02_Summary_Res_Config_NoMktUnitEFF=0,\"\",rng02_Summary_Res_Config_NoMktUnitEFF)","v":""},{"$f":"IF(rng02_Summary_Res_Config_NRSFPerUnitEFF,\"\",rng02_Summary_Res_Config_NRSFPerUnitEFF)","v":0},{"$f":"IF(rng02_Summary_Res_Config_NRSFLIHTC_EFF=0,\"\",rng02_Summary_Res_Config_NRSFLIHTC_EFF)","v":""},{"$f":"IF(rng02_Summary_Res_Config_NRSFMkt_EFF=0,\"\",rng02_Summary_Res_Config_NRSFMkt_EFF)","v":""},{"$f":"IF(rng02_Summary_Res_Config_RIHPropRent_EFF=0,\"\",rng02_Summary_Res_Config_RIHPropRent_EFF)","v":""},{"$f":"IF(rng02_Summary_Res_Config_PropRentMkt_EFF=0,\"\",rng02_Summary_Res_Config_PropRentMkt_EFF)","v":""},{"$f":"IF(rng02_Summary_Res_Config_CurrContractRent_EFF=0,\"\",rng02_Summary_Res_Config_CurrContractRent_EFF)","v":""},null,null,null,null,null,null,null,null,null,null,null,null,null,null,null,null,null,null,null,null,null,null,{"$f":"IF(TCATrigger=\"No\",\"\",\"Efficiency\")","v":""},{"$f":"IF(OR(TCATrigger=\"No\",rng02_Summary_Res_Config_NoUnitsEfficiency=0),\"\",rng02_Summary_Res_Config_NoUnitsEfficiency)","v":""},{"$f":"IF(OR(TCATrigger=\"No\",rng02_Summary_Res_Config_NoMktUnitEFF=0),\"\",rng02_Summary_Res_Config_NoMktUnitEFF)","v":""},{"$f":"IF(OR(TCATrigger=\"No\",rng02_Summary_Res_Config_NRSFPerUnitEFF=0),\"\",rng02_Summary_Res_Config_NRSFPerUnitEFF)","v":""},{"$f":"IF(OR(TCATrigger=\"No\",rng02_Summary_Res_Config_NRSFLIHTC_EFF=0),\"\",rng02_Summary_Res_Config_NRSFLIHTC_EFF)","v":""},{"$f":"IF(OR(TCATrigger=\"No\",rng02_Summary_Res_Config_NRSFMkt_EFF=0),\"\",rng02_Summary_Res_Config_NRSFMkt_EFF)","v":""},{"$f":"IF(OR(TCATrigger=\"No\",rng02_Summary_Res_Config_RIHPropRent_EFF=0),\"\",rng02_Summary_Res_Config_RIHPropRent_EFF)","v":""},{"$f":"IF(OR(TCATrigger=\"No\",rng02_Summary_Res_Config_PropRentMkt_EFF=0),\"\",rng02_Summary_Res_Config_PropRentMkt_EFF)","v":""},{"$f":"IF(OR(TCATrigger=\"No\",rng02_Summary_Res_Config_CurrContractRent_EFF=0),\"\",rng02_Summary_Res_Config_CurrContractRent_EFF)","v":""}]
[null,null,null,null,null,null,1,{"$f":"IF(rng02_Summary_Res_Config_NoUnit1BR=0,\"\",rng02_Summary_Res_Config_NoUnit1BR)","v":""},{"$f":"IF(rng02_Summary_Res_Config_NoMktUnit1BR=0,\"\",rng02_Summary_Res_Config_NoMktUnit1BR)","v":""},{"$f":"IF(rng02_Summary_Res_Config_NRSFPerUnit1BR=0,\"\",rng02_Summary_Res_Config_NRSFPerUnit1BR)","v":""},{"$f":"IF(rng02_Summary_Res_Config_NRSFLIHTC_1BR=0,\"\",rng02_Summary_Res_Config_NRSFLIHTC_1BR)","v":""},{"$f":"IF(rng02_Summary_Res_Config_NRSFMkt_1BR=0,\"\",rng02_Summary_Res_Config_NRSFMkt_1BR)","v":""},{"$f":"IF(rng02_Summary_Res_Config_RIHPropRent_1BR=0,\"\",rng02_Summary_Res_Config_RIHPropRent_1BR)","v":""},{"$f":"IF(rng02_Summary_Res_Config_PropRentMkt_1BR=0,\"\",rng02_Summary_Res_Config_PropRentMkt_1BR)","v":""},{"$f":"IF(rng02_Summary_Res_Config_CurrContractRent_1BR=0,\"\",rng02_Summary_Res_Config_CurrContractRent_1BR)","v":""},null,null,null,null,null,null,null,null,null,null,null,null,null,null,null,null,null,null,null,null,null,null,{"$f":"IF(TCATrigger=\"No\",\"\",\"1 BR\")","v":""},{"$f":"IF(OR(TCATrigger=\"No\",rng02_Summary_Res_Config_NoUnit1BR=0),\"\",rng02_Summary_Res_Config_NoUnit1BR)","v":""},{"$f":"IF(OR(TCATrigger=\"No\",rng02_Summary_Res_Config_NoMktUnit1BR=0),\"\",rng02_Summary_Res_Config_NoMktUnit1BR)","v":""},{"$f":"IF(OR(TCATrigger=\"No\",rng02_Summary_Res_Config_NRSFPerUnit1BR=0),\"\",rng02_Summary_Res_Config_NRSFPerUnit1BR)","v":""},{"$f":"IF(OR(TCATrigger=\"No\",rng02_Summary_Res_Config_NRSFLIHTC_1BR=0),\"\",rng02_Summary_Res_Config_NRSFLIHTC_1BR)","v":""},{"$f":"IF(OR(TCATrigger=\"No\",rng02_Summary_Res_Config_NRSFMkt_1BR=0),\"\",rng02_Summary_Res_Config_NRSFMkt_1BR)","v":""},{"$f":"IF(OR(TCATrigger=\"No\",rng02_Summary_Res_Config_RIHPropRent_1BR=0),\"\",rng02_Summary_Res_Config_RIHPropRent_1BR)","v":""},{"$f":"IF(OR(TCATrigger=\"No\",rng02_Summary_Res_Config_PropRentMkt_1BR=0),\"\",rng02_Summary_Res_Config_PropRentMkt_1BR)","v":""},{"$f":"IF(OR(TCATrigger=\"No\",rng02_Summary_Res_Config_CurrContractRent_1BR=0),\"\",rng02_Summary_Res_Config_CurrContractRent_1BR)","v":""}]
[null,null,null,null,null,null,2,{"$f":"IF(rng02_Summary_Res_Config_NoUnit2BR=0,\"\",rng02_Summary_Res_Config_NoUnit2BR)","v":""},{"$f":"IF(rng02_Summary_Res_Config_NoMktUnit2BR=0,\"\",rng02_Summary_Res_Config_NoMktUnit2BR)","v":""},{"$f":"IF(rng02_Summary_Res_Config_NRSFPerUnit2BR=0,\"\",rng02_Summary_Res_Config_NRSFPerUnit2BR)","v":""},{"$f":"IF(rng02_Summary_Res_Config_NRSFLIHTC_2BR=0,\"\",rng02_Summary_Res_Config_NRSFLIHTC_2BR)","v":""},{"$f":"IF(rng02_Summary_Res_Config_NRSFMkt_2BR=0,\"\",rng02_Summary_Res_Config_NRSFMkt_2BR)","v":""},{"$f":"IF(rng02_Summary_Res_Config_RIHPropRent_2BR=0,\"\",rng02_Summary_Res_Config_RIHPropRent_2BR)","v":""},{"$f":"IF(rng02_Summary_Res_Config_PropRentMkt_2BR=0,\"\",rng02_Summary_Res_Config_PropRentMkt_2BR)","v":""},{"$f":"IF(rng02_Summary_Res_Config_CurrContractRent_2BR=0,\"\",rng02_Summary_Res_Config_CurrContractRent_2BR)","v":""},null,null,null,null,null,null,null,null,null,null,null,null,null,null,null,null,null,null,null,null,null,null,{"$f":"IF(TCATrigger=\"No\",\"\",\"2 BR\")","v":""},{"$f":"IF(OR(TCATrigger=\"No\",rng02_Summary_Res_Config_NoUnit2BR=0),\"\",rng02_Summary_Res_Config_NoUnit2BR)","v":""},{"$f":"IF(OR(TCATrigger=\"No\",rng02_Summary_Res_Config_NoMktUnit2BR=0),\"\",rng02_Summary_Res_Config_NoMktUnit2BR)","v":""},{"$f":"IF(OR(TCATrigger=\"No\",rng02_Summary_Res_Config_NRSFPerUnit2BR=0),\"\",rng02_Summary_Res_Config_NRSFPerUnit2BR)","v":""},{"$f":"IF(OR(TCATrigger=\"No\",rng02_Summary_Res_Config_NRSFLIHTC_2BR=0),\"\",rng02_Summary_Res_Config_NRSFLIHTC_2BR)","v":""},{"$f":"IF(OR(TCATrigger=\"No\",rng02_Summary_Res_Config_NRSFMkt_2BR=0),\"\",rng02_Summary_Res_Config_NRSFMkt_2BR)","v":""},{"$f":"IF(OR(TCATrigger=\"No\",rng02_Summary_Res_Config_RIHPropRent_2BR=0),\"\",rng02_Summary_Res_Config_RIHPropRent_2BR)","v":""},{"$f":"IF(OR(TCATrigger=\"No\",rng02_Summary_Res_Config_PropRentMkt_2BR=0),\"\",rng02_Summary_Res_Config_PropRentMkt_2BR)","v":""},{"$f":"IF(OR(TCATrigger=\"No\",rng02_Summary_Res_Config_CurrContractRent_2BR=0),\"\",rng02_Summary_Res_Config_CurrContractRent_2BR)","v":""}]
[null,null,null,null,null,null,3,{"$f":"IF(rng02_Summary_Res_Config_NoUnit3BR=0,\"\",rng02_Summary_Res_Config_NoUnit3BR)","v":""},{"$f":"IF(rng02_Summary_Res_Config_NoMktUnit3BR=0,\"\",rng02_Summary_Res_Config_NoMktUnit3BR)","v":""},{"$f":"IF(rng02_Summary_Res_Config_NRSFPerUnit3BR=0,\"\",rng02_Summary_Res_Config_NRSFPerUnit3BR)","v":""},{"$f":"IF(rng02_Summary_Res_Config_NRSFLIHTC_3BR=0,\"\",rng02_Summary_Res_Config_NRSFLIHTC_3BR)","v":""},{"$f":"IF(rng02_Summary_Res_Config_NRSFMkt_3BR=0,\"\",rng02_Summary_Res_Config_NRSFMkt_3BR)","v":""},{"$f":"IF(rng02_Summary_Res_Config_RIHPropRent_3BR=0,\"\",rng02_Summary_Res_Config_RIHPropRent_3BR)","v":""},{"$f":"IF(rng02_Summary_Res_Config_PropRentMkt_3BR=0,\"\",rng02_Summary_Res_Config_PropRentMkt_3BR)","v":""},{"$f":"IF(rng02_Summary_Res_Config_CurrContractRent_3BR=0,\"\",rng02_Summary_Res_Config_CurrContractRent_3BR)","v":""},null,null,null,null,null,null,null,null,null,null,null,null,null,null,null,null,null,null,null,null,null,null,{"$f":"IF(TCATrigger=\"No\",\"\",\"3 BR\")","v":""},{"$f":"IF(OR(TCATrigger=\"No\",rng02_Summary_Res_Config_NoUnit3BR=0),\"\",rng02_Summary_Res_Config_NoUnit3BR)","v":""},{"$f":"IF(OR(TCATrigger=\"No\",rng02_Summary_Res_Config_NoMktUnit3BR=0),\"\",rng02_Summary_Res_Config_NoMktUnit3BR)","v":""},{"$f":"IF(OR(TCATrigger=\"No\",rng02_Summary_Res_Config_NRSFPerUnit3BR=0),\"\",rng02_Summary_Res_Config_NRSFPerUnit3BR)","v":""},{"$f":"IF(OR(TCATrigger=\"No\",rng02_Summary_Res_Config_NRSFLIHTC_3BR=0),\"\",rng02_Summary_Res_Config_NRSFLIHTC_3BR)","v":""},{"$f":"IF(OR(TCATrigger=\"No\",rng02_Summary_Res_Config_NRSFMkt_3BR=0),\"\",rng02_Summary_Res_Config_NRSFMkt_3BR)","v":""},{"$f":"IF(OR(TCATrigger=\"No\",rng02_Summary_Res_Config_RIHPropRent_3BR=0),\"\",rng02_Summary_Res_Config_RIHPropRent_3BR)","v":""},{"$f":"IF(OR(TCATrigger=\"No\",rng02_Summary_Res_Config_PropRentMkt_3BR=0),\"\",rng02_Summary_Res_Config_PropRentMkt_3BR)","v":""},{"$f":"IF(OR(TCATrigger=\"No\",rng02_Summary_Res_Config_CurrContractRent_3BR=0),\"\",rng02_Summary_Res_Config_CurrContractRent_3BR)","v":""}]
[null,null,null,null,null,null,4,{"$f":"IF(rng02_Summary_Res_Config_NoUnit4BR=0,\"\",rng02_Summary_Res_Config_NoUnit4BR)","v":""},{"$f":"IF(rng02_Summary_Res_Config_NoMktUnit4BR=0,\"\",rng02_Summary_Res_Config_NoMktUnit4BR)","v":""},{"$f":"IF(rng02_Summary_Res_Config_NRSFPerUnit4BR=0,\"\",rng02_Summary_Res_Config_NRSFPerUnit4BR)","v":""},{"$f":"IF(rng02_Summary_Res_Config_NRSFLIHTC_4BR=0,\"\",rng02_Summary_Res_Config_NRSFLIHTC_4BR)","v":""},{"$f":"IF(rng02_Summary_Res_Config_NRSFMkt_4BR=0,\"\",rng02_Summary_Res_Config_NRSFMkt_4BR)","v":""},{"$f":"IF(rng02_Summary_Res_Config_RIHPropRent_4BR=0,\"\",rng02_Summary_Res_Config_RIHPropRent_4BR)","v":""},{"$f":"IF(rng02_Summary_Res_Config_PropRentMkt_4BR=0,\"\",rng02_Summary_Res_Config_PropRentMkt_4BR)","v":""},{"$f":"IF(rng02_Summary_Res_Config_CurrContractRent_4BR=0,\"\",rng02_Summary_Res_Config_CurrContractRent_4BR)","v":""},null,null,null,null,null,null,null,null,null,null,null,null,null,null,null,null,null,null,null,null,null,null,{"$f":"IF(TCATrigger=\"No\",\"\",\"4 BR\")","v":""},{"$f":"IF(OR(TCATrigger=\"No\",rng02_Summary_Res_Config_NoUnit4BR=0),\"\",rng02_Summary_Res_Config_NoUnit4BR)","v":""},{"$f":"IF(OR(TCATrigger=\"No\",rng02_Summary_Res_Config_NoMktUnit4BR=0),\"\",rng02_Summary_Res_Config_NoMktUnit4BR)","v":""},{"$f":"IF(OR(TCATrigger=\"No\",rng02_Summary_Res_Config_NRSFPerUnit4BR=0),\"\",rng02_Summary_Res_Config_NRSFPerUnit4BR)","v":""},{"$f":"IF(OR(TCATrigger=\"No\",rng02_Summary_Res_Config_NRSFLIHTC_4BR=0),\"\",rng02_Summary_Res_Config_NRSFLIHTC_4BR)","v":""},{"$f":"IF(OR(TCATrigger=\"No\",rng02_Summary_Res_Config_NRSFMkt_4BR=0),\"\",rng02_Summary_Res_Config_NRSFMkt_4BR)","v":""},{"$f":"IF(OR(TCATrigger=\"No\",rng02_Summary_Res_Config_RIHPropRent_4BR=0),\"\",rng02_Summary_Res_Config_RIHPropRent_4BR)","v":""},{"$f":"IF(OR(TCATrigger=\"No\",rng02_Summary_Res_Config_PropRentMkt_4BR=0),\"\",rng02_Summary_Res_Config_PropRentMkt_4BR)","v":""},{"$f":"IF(OR(TCATrigger=\"No\",rng02_Summary_Res_Config_CurrContractRent_4BR=0),\"\",rng02_Summary_Res_Config_CurrContractRent_4BR)","v":""}]
[null,null,null,null,null,null,5,{"$f":"IF(rng02_Summary_Res_Config_NoUnit5BR=0,\"\",rng02_Summary_Res_Config_NoUnit5BR)","v":""},{"$f":"IF(rng02_Summary_Res_Config_NoMktUnit5BR=0,\"\",rng02_Summary_Res_Config_NoMktUnit5BR)","v":""},{"$f":"IF(rng02_Summary_Res_Config_NRSFPerUnit5BR=0,\"\",rng02_Summary_Res_Config_NRSFPerUnit5BR)","v":""},{"$f":"IF(rng02_Summary_Res_Config_NRSFLIHTC_5BR=0,\"\",rng02_Summary_Res_Config_NRSFLIHTC_5BR)","v":""},{"$f":"IF(rng02_Summary_Res_Config_NRSFMkt_5BR=0,\"\",rng02_Summary_Res_Config_NRSFMkt_5BR)","v":""},{"$f":"IF(rng02_Summary_Res_Config_RIHPropRent_5BR=0,\"\",rng02_Summary_Res_Config_RIHPropRent_5BR)","v":""},{"$f":"IF(rng02_Summary_Res_Config_PropRentMkt_5BR=0,\"\",rng02_Summary_Res_Config_PropRentMkt_5BR)","v":""},{"$f":"IF(rng02_Summary_Res_Config_CurrContractRent_5BR=0,\"\",rng02_Summary_Res_Config_CurrContractRent_5BR)","v":""},null,null,null,null,null,null,null,null,null,null,null,null,null,null,null,null,null,null,null,null,null,null,{"$f":"IF(TCATrigger=\"No\",\"\",\"5 BR\")","v":""},{"$f":"IF(OR(TCATrigger=\"No\",rng02_Summary_Res_Config_NoUnit5BR=0),\"\",rng02_Summary_Res_Config_NoUnit5BR)","v":""},{"$f":"IF(OR(TCATrigger=\"No\",rng02_Summary_Res_Config_NoMktUnit5BR=0),\"\",rng02_Summary_Res_Config_NoMktUnit5BR)","v":""},{"$f":"IF(OR(TCATrigger=\"No\",rng02_Summary_Res_Config_NRSFPerUnit5BR=0),\"\",rng02_Summary_Res_Config_NRSFPerUnit5BR)","v":""},{"$f":"IF(OR(TCATrigger=\"No\",rng02_Summary_Res_Config_NRSFLIHTC_5BR=0),\"\",rng02_Summary_Res_Config_NRSFLIHTC_5BR)","v":""},{"$f":"IF(OR(TCATrigger=\"No\",rng02_Summary_Res_Config_NRSFMkt_5BR=0),\"\",rng02_Summary_Res_Config_NRSFMkt_5BR)","v":""},{"$f":"IF(OR(TCATrigger=\"No\",rng02_Summary_Res_Config_RIHPropRent_5BR=0),\"\",rng02_Summary_Res_Config_RIHPropRent_5BR)","v":""},{"$f":"IF(OR(TCATrigger=\"No\",rng02_Summary_Res_Config_PropRentMkt_5BR=0),\"\",rng02_Summary_Res_Config_PropRentMkt_5BR)","v":""},{"$f":"IF(OR(TCATrigger=\"No\",rng02_Summary_Res_Config_CurrContractRent_5BR=0),\"\",rng02_Summary_Res_Config_CurrContractRent_5BR)","v":""}]
[null,null,null,null,null,null,"Total",{"$f":"IF(rng02_Summary_Res_Config_NoUnit_Total=0,\"\",rng02_Summary_Res_Config_NoUnit_Total)","v":""},{"$f":"IF(rng02_TotalUnits_Market=0,\"\",rng02_TotalUnits_Market)","v":""},null,{"$f":"IF(rng02_Summary_Res_Config_NRSFLIHTC_TOTAL=0,\"\",rng02_Summary_Res_Config_NRSFLIHTC_TOTAL)","v":""},{"$f":"IF(rng02_Summary_Res_Config_NRSFMkt_TOTAL=0,\"\",rng02_Summary_Res_Config_NRSFMkt_TOTAL)","v":""},{"$f":"IF(rng02_Summary_Res_Config_RIHPropRent_TOTAL=0,\"\",rng02_Summary_Res_Config_RIHPropRent_TOTAL)","v":""},{"$f":"IF(rng02_Summary_Res_Config_PropRentMkt_TOTAL=0,\"\",rng02_Summary_Res_Config_PropRentMkt_TOTAL)","v":""},null,null,null,null,null,null,null,null,null,null,null,null,null,null,null,null,null,null,null,null,null,null,null,"Total",{"$f":"IF(OR(TCATrigger=\"No\",rng02_Summary_Res_Config_NoUnit_Total=0),\"\",rng02_Summary_Res_Config_NoUnit_Total)","v":""},{"$f":"IF(OR(TCATrigger=\"No\",rng02_TotalUnits_Market=0),\"\",rng02_TotalUnits_Market)","v":""},null,{"$f":"IF(OR(TCATrigger=\"No\",rng02_Summary_Res_Config_NRSFLIHTC_TOTAL=0),\"\",rng02_Summary_Res_Config_NRSFLIHTC_TOTAL)","v":""},{"$f":"IF(OR(TCATrigger=\"No\",rng02_Summary_Res_Config_NRSFMkt_TOTAL=0),\"\",rng02_Summary_Res_Config_NRSFMkt_TOTAL)","v":""},{"$f":"IF(OR(TCATrigger=\"No\",rng02_Summary_Res_Config_RIHPropRent_TOTAL=0),\"\",rng02_Summary_Res_Config_RIHPropRent_TOTAL)","v":""},{"$f":"IF(OR(TCATrigger=\"No\",rng02_Summary_Res_Config_PropRentMkt_TOTAL=0),\"\",rng02_Summary_Res_Config_PropRentMkt_TOTAL)","v":""}]
[]
[]
[]
["02_1_Income","Residential and Commercial Rent Summary",null,null,null,null,"Applicable Fraction - Units",{"$error":"#DIV/0!"},null,null,null,null,null,null,null,null,null,null,null,null,null,null,null,null,null,null,null,null,null,null,null,"02_1_Income","Residential and Commercial Rent Summary",null,null,null,null,"Applicable Fraction - Units",{"$f":"IF(TCATrigger=\"No\",\"\",IF(H422=\"\",\"\",H422))","v":""}]
[null,null,null,null,null,null,"Applicable Fraction - NRSF",{"$error":"#DIV/0!"},null,null,null,null,null,null,null,null,null,null,null,null,null,null,null,null,null,null,null,null,null,null,null,null,null,null,null,null,null,"Applicable Fraction - NRSF",{"$f":"IF(TCATrigger=\"No\",\"\",IF(H423=\"\",\"\",H423))","v":""}]
[]
[]
[]
["02_2_Expense","Projected Income and Expenses",null,null,null,null,"[Project Name]",{"$f":"IF(H8=\"\",\"\",H8)","v":""},null,null,null,null,null,null,null,null,null,null,null,null,null,null,null,null,null,null,null,null,null,null,null,"02_2_Expense","Projected Income and Expenses",null,null,null,null,"[Project Name]",{"$f":"$AM$8","v":""}]
[null,null,null,null,null,null,"Current Model Prgress Date:",{"$f":"H9","v":0},null,null,null,null,null,null,null,null,null,null,null,null,null,null,null,null,null,null,null,null,null,null,null,null,null,null,null,null,null,"Current Model Prgress Date:",{"$f":"$AM$9","v":""}]
[null,null,null,null,null,null,null,null,null,null,null,null,null,null,null,null,null,null,null,null,null,null,null,null,null,null,null,null,null,null,null,null,null,null,null,null,null,null,null,null,"=IF(TCATrigger=\"No\",\"\",IF(FourPercentTrigger=\"No\",\"\","]
[null,null,null,null,null,null,null,null,null,null,null,null,null,null,null,null,null,null,null,null,null,null,null,null,null,null,null,null,null,null,null,null,null,null,null,null,null,"TCA = 4%",{"$f":"FourPercentTrigger","v":"Yes"}]
[null,null,null,null,null,null,null,null,null,null,null,null,null,null,null,null,null,null,null,null,null,null,null,null,null,null,null,null,null,null,null,null,null,null,null,null,null,"Actuals"]
["02_2_Expense","Projected Income and Expenses","INCOME AND EXPENSE",null,null,null,"INCOME AND EXPENSE","Chart of Acct. #","PROJECTED",null,null,null,"COMPARISON",null,null,null,null,null,null,null,null,null,null,null,null,null,null,null,null,null,null,"02_2_Expense","Projected Income and Expenses","INCOME AND EXPENSE",null,null,null,"INCOME AND EXPENSE","Chart of Acct. #","PROJECTED","CALCULATIONS",null,null,null,"COMPARISON"]
["Map on the TC side but might be blank on the DEV side",null,null,null,null,null,null,null,"Projection Type","Underwritten","Projection Type","Appraisal","Average Comparable Per Unit","Percentage Difference","Average Trended Historical Per Unit","Percentage Difference",null,null,null,null,null,null,null,null,null,null,null,null,null,null,null,"Map on the TC side but might be blank on the DEV side",null,null,null,null,null,null,null,"Projection Type",null,"Underwritten","Projection Type","Appraisal","Average Comparable Per Unit","Percentage Difference","Average Trended Historical Per Unit","Percentage Difference"]
["Do not map stabilized staffing detail",null,null,null,null,null,null,null,"Property Name",{"$f":"IF(H8=\"\",\"\",H8)","v":""},"Property Name",{"$f":"IF(H8=\"\",\"\",H8)","v":""},null,null,null,null,null,null,null,null,null,null,null,null,null,null,null,null,null,null,null,"Do not map stabilized staffing detail",null,null,null,null,null,null,null,"Property Name",null,0,"Property Name",0]
[null,null,null,null,null,null,null,null,"Number of Units",0,"Number of Units",0,null,null,null,null,null,null,null,null,null,null,null,null,null,null,null,null,null,null,null,null,null,null,null,null,null,null,null,"Number of Units",null,0,"Number of Units",0]
[null,null,null,null,null,null,null,null,"Year",1901,"Year",1901,null,null,null,null,null,null,null,null,null,null,null,null,null,null,null,null,null,null,null,null,null,null,null,null,null,null,null,"Year",null,1901,"Year",1901]
[null,null,null,null,null,null,null,null,"$ Amt","$/Unit/Year","$ Amt","$/Unit/Year",null,null,null,null,null,null,null,null,null,null,null,null,null,null,null,null,null,null,null,null,null,null,null,null,null,null,null,"$ Amt",null,"$/Unit/Year","$ Amt","$/Unit/Year"]
[null,null,null,null,null,null,"INCOME",null,null,null,null,null,null,null,null,null,null,null,null,null,null,null,null,null,null,null,null,null,null,null,null,null,null,null,null,null,null,"INCOME"]
[null,null,null,null,null,null,"Rental Revenue Gross Potential",5100,{"$f":"IF(rng02_Expense_IncTable_RentRev=\"\",\"\",rng02_Expense_IncTable_RentRev)","v":0},0,null,0,0,0,0,0,null,null,null,null,null,null,null,null,null,null,null,null,null,null,null,null,null,null,null,null,null,"Rental Revenue Gross Potential",5100,{"$f":"IF(TCATrigger=\"No\",\"\",$I439)","v":""},null,{"$f":"IF(TCATrigger=\"No\",\"\",IF(FourPercentTrigger=\"No\",\"\",IF($J$439=\"\",\"\",$J$439)))","v":""},{"$f":"IF(TCATrigger=\"No\",\"\",IF(FourPercentTrigger=\"No\",\"\",IF($K$439=\"\",\"\",$K$439)))","v":""},{"$f":"IF(TCATrigger=\"No\",\"\",IF(FourPercentTrigger=\"No\",\"\",IF($L$439=\"\",\"\",$L$439)))","v":""},{"$f":"IF(TCATrigger=\"No\",\"\",IF(FourPercentTrigger=\"No\",\"\",IF($M$439=\"\",\"\",$M$439)))","v":""},{"$f":"IF(TCATrigger=\"No\",\"\",IF(FourPercentTrigger=\"No\",\"\",IF($N$439=\"\",\"\",$N$439)))","v":""},{"$f":"IF(TCATrigger=\"No\",\"\",IF(FourPercentTrigger=\"No\",\"\",IF($O$439=\"\",\"\",$O$439)))","v":""},{"$f":"IF(TCATrigger=\"No\",\"\",IF(FourPercentTrigger=\"No\",\"\",IF($P$439=\"\",\"\",$P$439)))","v":""}]
[null,null,null,null,null,null,"Stores & Commercial Revenue",5140,{"$f":"IF(rng02_Expense_IncTable_StoresCommRev=\"\",\"\",rng02_Expense_IncTable_StoresCommRev)","v":0},0,null,0,0,0,0,0,null,null,null,null,null,null,null,null,null,null,null,null,null,null,null,null,null,null,null,null,null,"Stores & Commercial Revenue",5140,"",null,{"$f":"IF(TCATrigger=\"No\",\"\",IF(FourPercentTrigger=\"No\",\"\",IF($J$440=\"\",\"\",$J$440)))","v":""},{"$f":"IF(TCATrigger=\"No\",\"\",IF(FourPercentTrigger=\"No\",\"\",IF($K$440=\"\",\"\",$K$440)))","v":""},{"$f":"IF(TCATrigger=\"No\",\"\",IF(FourPercentTrigger=\"No\",\"\",IF($L$440=\"\",\"\",$L$440)))","v":""},{"$f":"IF(TCATrigger=\"No\",\"\",IF(FourPercentTrigger=\"No\",\"\",IF($M$440=\"\",\"\",$M$440)))","v":""},{"$f":"IF(TCATrigger=\"No\",\"\",IF(FourPercentTrigger=\"No\",\"\",IF($N$440=\"\",\"\",$N$440)))","v":""},{"$f":"IF(TCATrigger=\"No\",\"\",IF(FourPercentTrigger=\"No\",\"\",IF($O$440=\"\",\"\",$O$440)))","v":""},{"$f":"IF(TCATrigger=\"No\",\"\",IF(FourPercentTrigger=\"No\",\"\",IF($P$440=\"\",\"\",$P$440)))","v":""}]
[null,null,null,null,null,null,"Vacancies (enter as negative)",5200,{"$f":"IF(rng02_Expense_IncTable_Vacancies=\"\",\"\",rng02_Expense_IncTable_Vacancies)","v":0},0,null,0,0,0,0,0,null,null,null,null,null,null,null,null,null,null,null,null,null,null,null,null,null,null,null,null,null,"Vacancies (enter as negative)",5200,"",null,{"$f":"IF(TCATrigger=\"No\",\"\",IF(FourPercentTrigger=\"No\",\"\",IF($J$441=\"\",\"\",$J$441)))","v":""},{"$f":"IF(TCATrigger=\"No\",\"\",IF(FourPercentTrigger=\"No\",\"\",IF($K$441=\"\",\"\",$K$441)))","v":""},{"$f":"IF(TCATrigger=\"No\",\"\",IF(FourPercentTrigger=\"No\",\"\",IF($L$441=\"\",\"\",$L$441)))","v":""},{"$f":"IF(TCATrigger=\"No\",\"\",IF(FourPercentTrigger=\"No\",\"\",IF($M$441=\"\",\"\",$M$441)))","v":""},{"$f":"IF(TCATrigger=\"No\",\"\",IF(FourPercentTrigger=\"No\",\"\",IF($N$441=\"\",\"\",$N$441)))","v":""},{"$f":"IF(TCATrigger=\"No\",\"\",IF(FourPercentTrigger=\"No\",\"\",IF($O$441=\"\",\"\",$O$441)))","v":""},{"$f":"IF(TCATrigger=\"No\",\"\",IF(FourPercentTrigger=\"No\",\"\",IF($P$441=\"\",\"\",$P$441)))","v":""}]
[null,null,null,null,null,null,"Total NH/Asst Living/Elderly Care",5300,{"$f":"IF(rng02_Expense_IncTable_TotNHAstLivElderCare=\"\",\"\",rng02_Expense_IncTable_TotNHAstLivElderCare)","v":0},0,null,0,0,0,0,0,null,null,null,null,null,null,null,null,null,null,null,null,null,null,null,null,null,null,null,null,null,"Total NH/Asst Living/Elderly Care",5300,"",null,{"$f":"IF(TCATrigger=\"No\",\"\",IF(FourPercentTrigger=\"No\",\"\",IF($J$442=\"\",\"\",$J$442)))","v":""},{"$f":"IF(TCATrigger=\"No\",\"\",IF(FourPercentTrigger=\"No\",\"\",IF($K$442=\"\",\"\",$K$442)))","v":""},{"$f":"IF(TCATrigger=\"No\",\"\",IF(FourPercentTrigger=\"No\",\"\",IF($L$442=\"\",\"\",$L$442)))","v":""},{"$f":"IF(TCATrigger=\"No\",\"\",IF(FourPercentTrigger=\"No\",\"\",IF($M$442=\"\",\"\",$M$442)))","v":""},{"$f":"IF(TCATrigger=\"No\",\"\",IF(FourPercentTrigger=\"No\",\"\",IF($N$442=\"\",\"\",$N$442)))","v":""},{"$f":"IF(TCATrigger=\"No\",\"\",IF(FourPercentTrigger=\"No\",\"\",IF($O$442=\"\",\"\",$O$442)))","v":""},{"$f":"IF(TCATrigger=\"No\",\"\",IF(FourPercentTrigger=\"No\",\"\",IF($P$442=\"\",\"\",$P$442)))","v":""}]
[null,null,null,null,null,null,"Other Rev","5900T",{"$f":"IF(rng02_Expense_IncTable_OtherRev=\"\",\"\",rng02_Expense_IncTable_OtherRev)","v":0},0,null,0,0,0,0,0,null,null,null,null,null,null,null,null,null,null,null,null,null,null,null,null,null,null,null,null,null,"Other Rev","5900T","",null,{"$f":"IF(TCATrigger=\"No\",\"\",IF(FourPercentTrigger=\"No\",\"\",IF($J$443=\"\",\"\",$J$443)))","v":""},{"$f":"IF(TCATrigger=\"No\",\"\",IF(FourPercentTrigger=\"No\",\"\",IF($K$443=\"\",\"\",$K$443)))","v":""},{"$f":"IF(TCATrigger=\"No\",\"\",IF(FourPercentTrigger=\"No\",\"\",IF($L$443=\"\",\"\",$L$443)))","v":""},{"$f":"IF(TCATrigger=\"No\",\"\",IF(FourPercentTrigger=\"No\",\"\",IF($M$443=\"\",\"\",$M$443)))","v":""},{"$f":"IF(TCATrigger=\"No\",\"\",IF(FourPercentTrigger=\"No\",\"\",IF($N$443=\"\",\"\",$N$443)))","v":""},{"$f":"IF(TCATrigger=\"No\",\"\",IF(FourPercentTrigger=\"No\",\"\",IF($O$443=\"\",\"\",$O$443)))","v":""},{"$f":"IF(TCATrigger=\"No\",\"\",IF(FourPercentTrigger=\"No\",\"\",IF($P$443=\"\",\"\",$P$443)))","v":""}]
[null,null,null,null,null,null,"EFFECTIVE GROSS INCOME",null,{"$f":"IF(rng02_Expense_IncTable_EffGrossIncome=\"\",\"\",rng02_Expense_IncTable_EffGrossIncome)","v":0},0,0,0,null,null,0,0,null,null,null,null,null,null,null,null,null,null,null,null,null,null,null,null,null,null,null,null,null,"EFFECTIVE GROSS INCOME",null,"",null,{"$f":"IF(TCATrigger=\"No\",\"\",IF(FourPercentTrigger=\"No\",\"\",IF($J$444=\"\",\"\",$J$444)))","v":""},{"$f":"IF(TCATrigger=\"No\",\"\",IF(FourPercentTrigger=\"No\",\"\",IF($K$444=\"\",\"\",$K$444)))","v":""},{"$f":"IF(TCATrigger=\"No\",\"\",IF(FourPercentTrigger=\"No\",\"\",IF($L$444=\"\",\"\",$L$444)))","v":""},{"$f":"IF(TCATrigger=\"No\",\"\",IF(FourPercentTrigger=\"No\",\"\",IF($M$444=\"\",\"\",$M$444)))","v":""},{"$f":"IF(TCATrigger=\"No\",\"\",IF(FourPercentTrigger=\"No\",\"\",IF(N444=\"\",\"\",N444)))","v":""},{"$f":"IF(TCATrigger=\"No\",\"\",IF(FourPercentTrigger=\"No\",\"\",IF($O$444=\"\",\"\",$O$444)))","v":""},{"$f":"IF(TCATrigger=\"No\",\"\",IF(FourPercentTrigger=\"No\",\"\",IF($P$444=\"\",\"\",$P$444)))","v":""}]
[]
[null,null,null,null,null,null,"OPERATING EXPENSES:",null,null,null,null,null,null,null,null,null,null,null,null,null,null,null,null,null,null,null,null,null,null,null,null,null,null,null,null,null,null,"OPERATING EXPENSES:"]
[null,null,null,null,null,null,"Administrative Expenses ",null,null,null,null,null,null,null,null,null,null,null,null,null,null,null,null,null,null,null,null,null,null,null,null,null,null,null,null,null,null,"Administrative Expenses "]
[null,null,null,null,null,null,"Conventions & Meetings",6203,{"$f":"IF(rng02_Expense_OpEx_ConvMeetings=\"\",\"\",rng02_Expense_OpEx_ConvMeetings)","v":""},0,null,0,0,0,0,0,null,null,null,null,null,null,null,null,null,null,null,null,null,null,null,null,null,null,null,null,null,"Conventions & Meetings",6203,{"$f":"IF(TCATrigger=\"No\",\"\",$I448)","v":""},{"$f":"IF(OR(TCATrigger=\"No\",SUM(AN448:AN450)=0),\"\",SUM(AN448:AN450))","v":""},{"$f":"IF(TCATrigger=\"No\",\"\",IF(FourPercentTrigger=\"No\",\"\",IF($J$448=\"\",\"\",$J$448)))","v":""},{"$f":"IF(TCATrigger=\"No\",\"\",IF(FourPercentTrigger=\"No\",\"\",IF($K$448=\"\",\"\",$K$448)))","v":""},{"$f":"IF(TCATrigger=\"No\",\"\",IF(FourPercentTrigger=\"No\",\"\",IF($L$448=\"\",\"\",$L$448)))","v":""},{"$f":"IF(TCATrigger=\"No\",\"\",IF(FourPercentTrigger=\"No\",\"\",IF($M$448=\"\",\"\",$M$448)))","v":""},{"$f":"IF(TCATrigger=\"No\",\"\",IF(FourPercentTrigger=\"No\",\"\",IF($N$448=\"\",\"\",$N$448)))","v":""},{"$f":"IF(TCATrigger=\"No\",\"\",IF(FourPercentTrigger=\"No\",\"\",IF($O$448=\"\",\"\",$O$448)))","v":""},{"$f":"IF(TCATrigger=\"No\",\"\",IF(FourPercentTrigger=\"No\",\"\",IF($P$448=\"\",\"\",$P$448)))","v":""}]
[null,null,null,null,null,null,"Consulting Fees",6204,{"$f":"IF(rng02_Expense_OpEx_ConSultFees=\"\",\"\",rng02_Expense_OpEx_ConSultFees)","v":""},0,null,0,0,0,0,0,null,null,null,null,null,null,null,null,null,null,null,null,null,null,null,null,null,null,null,null,null,"Consulting Fees",6204,"",null,{"$f":"IF(TCATrigger=\"No\",\"\",IF(FourPercentTrigger=\"No\",\"\",IF($J$449=\"\",\"\",$J$449)))","v":""},{"$f":"IF(TCATrigger=\"No\",\"\",IF(FourPercentTrigger=\"No\",\"\",IF($K$449=\"\",\"\",$K$449)))","v":""},{"$f":"IF(TCATrigger=\"No\",\"\",IF(FourPercentTrigger=\"No\",\"\",IF($L$449=\"\",\"\",$L$449)))","v":""},{"$f":"IF(TCATrigger=\"No\",\"\",IF(FourPercentTrigger=\"No\",\"\",IF($M$449=\"\",\"\",$M$449)))","v":""},{"$f":"IF(TCATrigger=\"No\",\"\",IF(FourPercentTrigger=\"No\",\"\",IF($N$449=\"\",\"\",$N$449)))","v":""},{"$f":"IF(TCATrigger=\"No\",\"\",IF(FourPercentTrigger=\"No\",\"\",IF($O$449=\"\",\"\",$O$449)))","v":""},{"$f":"IF(TCATrigger=\"No\",\"\",IF(FourPercentTrigger=\"No\",\"\",IF($P$449=\"\",\"\",$P$449)))","v":""}]
[null,null,null,null,null,null,"Advertising",6210,{"$f":"IF(rng02_Expense_OpEx_Advertising=\"\",\"\",rng02_Expense_OpEx_Advertising)","v":""},0,null,0,0,0,0,0,null,null,null,null,null,null,null,null,null,null,null,null,null,null,null,null,null,null,null,null,null,"Advertising",6210,"",null,{"$f":"IF(TCATrigger=\"No\",\"\",IF(FourPercentTrigger=\"No\",\"\",IF($J$450=\"\",\"\",$J$450)))","v":""},{"$f":"IF(TCATrigger=\"No\",\"\",IF(FourPercentTrigger=\"No\",\"\",IF($K$450=\"\",\"\",$K$450)))","v":""},{"$f":"IF(TCATrigger=\"No\",\"\",IF(FourPercentTrigger=\"No\",\"\",IF($L$450=\"\",\"\",$L$450)))","v":""},{"$f":"IF(TCATrigger=\"No\",\"\",IF(FourPercentTrigger=\"No\",\"\",IF($M$450=\"\",\"\",$M$450)))","v":""},{"$f":"IF(TCATrigger=\"No\",\"\",IF(FourPercentTrigger=\"No\",\"\",IF($N$450=\"\",\"\",$N$450)))","v":""},{"$f":"IF(TCATrigger=\"No\",\"\",IF(FourPercentTrigger=\"No\",\"\",IF($O$450=\"\",\"\",$O$450)))","v":""},{"$f":"IF(TCATrigger=\"No\",\"\",IF(FourPercentTrigger=\"No\",\"\",IF($P$450=\"\",\"\",$P$450)))","v":""}]
[null,null,null,null,null,null,"Rent Expense",6250,{"$f":"IF(rng02_Expense_OpEx_RentExpense=\"\",\"\",rng02_Expense_OpEx_RentExpense)","v":""},0,null,0,0,0,0,0,null,null,null,null,null,null,null,null,null,null,null,null,null,null,null,null,null,null,null,null,null,"Rent Expense",6250,"",{"$f":"IF(OR(TCATrigger=\"No\",SUM(AN451,AN465:AN466)=0),\"\",SUM(AN451,AN465:AN466))","v":""},{"$f":"IF(TCATrigger=\"No\",\"\",IF(FourPercentTrigger=\"No\",\"\",IF($J$451=\"\",\"\",$J$451)))","v":""},{"$f":"IF(TCATrigger=\"No\",\"\",IF(FourPercentTrigger=\"No\",\"\",IF($K$451=\"\",\"\",$K$451)))","v":""},{"$f":"IF(TCATrigger=\"No\",\"\",IF(FourPercentTrigger=\"No\",\"\",IF($L$451=\"\",\"\",$L$451)))","v":""},{"$f":"IF(TCATrigger=\"No\",\"\",IF(FourPercentTrigger=\"No\",\"\",IF($M$451=\"\",\"\",$M$451)))","v":""},{"$f":"IF(TCATrigger=\"No\",\"\",IF(FourPercentTrigger=\"No\",\"\",IF($N$451=\"\",\"\",$N$451)))","v":""},{"$f":"IF(TCATrigger=\"No\",\"\",IF(FourPercentTrigger=\"No\",\"\",IF($O$451=\"\",\"\",$O$451)))","v":""},{"$f":"IF(TCATrigger=\"No\",\"\",IF(FourPercentTrigger=\"No\",\"\",IF($P$451=\"\",\"\",$P$451)))","v":""}]
[null,null,null,null,null,null,"Office Salaries",6310,{"$f":"IF(rng02_Expense_OpEx_OfficeSal=\"\",\"\",rng02_Expense_OpEx_OfficeSal)","v":""},0,null,0,0,0,0,0,null,null,null,null,null,null,null,null,null,null,null,null,null,null,null,null,null,null,null,null,null,"Office Salaries",6310,"",{"$f":"IF(AN452=\"\",\"\",AN452)","v":""},{"$f":"IF(TCATrigger=\"No\",\"\",IF(FourPercentTrigger=\"No\",\"\",IF($J$452=\"\",\"\",$J$452)))","v":""},{"$f":"IF(TCATrigger=\"No\",\"\",IF(FourPercentTrigger=\"No\",\"\",IF($K$452=\"\",\"\",$K$452)))","v":""},{"$f":"IF(TCATrigger=\"No\",\"\",IF(FourPercentTrigger=\"No\",\"\",IF($L$452=\"\",\"\",$L$452)))","v":""},{"$f":"IF(TCATrigger=\"No\",\"\",IF(FourPercentTrigger=\"No\",\"\",IF($M$452=\"\",\"\",$M$452)))","v":""},{"$f":"IF(TCATrigger=\"No\",\"\",IF(FourPercentTrigger=\"No\",\"\",IF($N$452=\"\",\"\",$N$452)))","v":""},{"$f":"IF(TCATrigger=\"No\",\"\",IF(FourPercentTrigger=\"No\",\"\",IF($O$452=\"\",\"\",$O$452)))","v":""},{"$f":"IF(TCATrigger=\"No\",\"\",IF(FourPercentTrigger=\"No\",\"\",IF($P$452=\"\",\"\",$P$452)))","v":""}]
[null,null,null,null,null,null,"Office Expense",6311,{"$f":"IF(rng02_Expense_OpEx_OffExpense=\"\",\"\",rng02_Expense_OpEx_OffExpense)","v":""},0,null,0,0,0,0,0,null,null,null,null,null,null,null,null,null,null,null,null,null,null,null,null,null,null,null,null,null,"Office Expense",6311,"",{"$f":"IF(OR(TCATrigger=\"No\",SUM(AN453,AN455,AN464)=0),\"\",SUM(AN453,AN455,AN464))","v":""},{"$f":"IF(TCATrigger=\"No\",\"\",IF(FourPercentTrigger=\"No\",\"\",IF($J$453=\"\",\"\",$J$453)))","v":""},{"$f":"IF(TCATrigger=\"No\",\"\",IF(FourPercentTrigger=\"No\",\"\",IF($K$453=\"\",\"\",$K$453)))","v":""},{"$f":"IF(TCATrigger=\"No\",\"\",IF(FourPercentTrigger=\"No\",\"\",IF($L$453=\"\",\"\",$L$453)))","v":""},{"$f":"IF(TCATrigger=\"No\",\"\",IF(FourPercentTrigger=\"No\",\"\",IF($M$453=\"\",\"\",$M$453)))","v":""},{"$f":"IF(TCATrigger=\"No\",\"\",IF(FourPercentTrigger=\"No\",\"\",IF($N$453=\"\",\"\",$N$453)))","v":""},{"$f":"IF(TCATrigger=\"No\",\"\",IF(FourPercentTrigger=\"No\",\"\",IF($O$453=\"\",\"\",$O$453)))","v":""},{"$f":"IF(TCATrigger=\"No\",\"\",IF(FourPercentTrigger=\"No\",\"\",IF($P$453=\"\",\"\",$P$453)))","v":""}]
[null,null,null,null,null,null,"Office or Model Apartment Rent",6312,{"$f":"IF(rng02_Expense_OpEx_OffModelApptmntRent=\"\",\"\",rng02_Expense_OpEx_OffModelApptmntRent)","v":""},0,null,0,0,0,0,0,null,null,null,null,null,null,null,null,null,null,null,null,null,null,null,null,null,null,null,null,null,"Office or Model Apartment Rent",6312,"","",{"$f":"IF(TCATrigger=\"No\",\"\",IF(FourPercentTrigger=\"No\",\"\",IF($J$454=\"\",\"\",$J$454)))","v":""},{"$f":"IF(TCATrigger=\"No\",\"\",IF(FourPercentTrigger=\"No\",\"\",IF($K$454=\"\",\"\",$K$454)))","v":""},{"$f":"IF(TCATrigger=\"No\",\"\",IF(FourPercentTrigger=\"No\",\"\",IF($L$454=\"\",\"\",$L$454)))","v":""},{"$f":"IF(TCATrigger=\"No\",\"\",IF(FourPercentTrigger=\"No\",\"\",IF($M$454=\"\",\"\",$M$454)))","v":""},{"$f":"IF(TCATrigger=\"No\",\"\",IF(FourPercentTrigger=\"No\",\"\",IF($N$454=\"\",\"\",$N$454)))","v":""},{"$f":"IF(TCATrigger=\"No\",\"\",IF(FourPercentTrigger=\"No\",\"\",IF($O$454=\"\",\"\",$O$454)))","v":""},{"$f":"IF(TCATrigger=\"No\",\"\",IF(FourPercentTrigger=\"No\",\"\",IF($P$454=\"\",\"\",$P$454)))","v":""}]
[null,null,null,null,null,null,"Postage",6312,{"$f":"IF(rng02_Expense_OpEx_Postage=\"\",\"\",rng02_Expense_OpEx_Postage)","v":""},0,null,0,0,0,0,0,null,null,null,null,null,null,null,null,null,null,null,null,null,null,null,null,null,null,null,null,null,"Postage",6312,"",null,{"$f":"IF(TCATrigger=\"No\",\"\",IF(FourPercentTrigger=\"No\",\"\",IF($J$455=\"\",\"\",$J$455)))","v":""},{"$f":"IF(TCATrigger=\"No\",\"\",IF(FourPercentTrigger=\"No\",\"\",IF($K$455=\"\",\"\",$K$455)))","v":""},{"$f":"IF(TCATrigger=\"No\",\"\",IF(FourPercentTrigger=\"No\",\"\",IF($L$455=\"\",\"\",$L$455)))","v":""},{"$f":"IF(TCATrigger=\"No\",\"\",IF(FourPercentTrigger=\"No\",\"\",IF($M$455=\"\",\"\",$M$455)))","v":""},{"$f":"IF(TCATrigger=\"No\",\"\",IF(FourPercentTrigger=\"No\",\"\",IF($N$455=\"\",\"\",$N$455)))","v":""},{"$f":"IF(TCATrigger=\"No\",\"\",IF(FourPercentTrigger=\"No\",\"\",IF($O$455=\"\",\"\",$O$455)))","v":""},{"$f":"IF(TCATrigger=\"No\",\"\",IF(FourPercentTrigger=\"No\",\"\",IF($P$455=\"\",\"\",$P$455)))","v":""}]
[null,null,null,null,null,null,"Management Fee: 0.00% of EGI",6320,{"$f":"IF(rng02_Expense_OpEx_MgmntFee=\"\",\"\",rng02_Expense_OpEx_MgmntFee)","v":0},0,null,0,0,0,0,0,null,null,null,null,null,null,null,null,null,null,null,null,null,null,null,null,null,null,null,null,null,"Management Fee: 0.00% of EGI",6320,"","",{"$f":"IF(TCATrigger=\"No\",\"\",IF(FourPercentTrigger=\"No\",\"\",IF($J$456=\"\",\"\",$J$456)))","v":""},{"$f":"IF(TCATrigger=\"No\",\"\",IF(FourPercentTrigger=\"No\",\"\",IF($K$456=\"\",\"\",$K$456)))","v":""},{"$f":"IF(TCATrigger=\"No\",\"\",IF(FourPercentTrigger=\"No\",\"\",IF($L$456=\"\",\"\",$L$456)))","v":""},{"$f":"IF(TCATrigger=\"No\",\"\",IF(FourPercentTrigger=\"No\",\"\",IF($M$456=\"\",\"\",$M$456)))","v":""},{"$f":"IF(TCATrigger=\"No\",\"\",IF(FourPercentTrigger=\"No\",\"\",IF($N$456=\"\",\"\",$N$456)))","v":""},{"$f":"IF(TCATrigger=\"No\",\"\",IF(FourPercentTrigger=\"No\",\"\",IF($O$456=\"\",\"\",$O$456)))","v":""},{"$f":"IF(TCATrigger=\"No\",\"\",IF(FourPercentTrigger=\"No\",\"\",IF($P$456=\"\",\"\",$P$456)))","v":""}]
[null,null,null,null,null,null,"Managers Salary",6330,{"$f":"IF(rng02_Expense_OpEx_MngrsSalary=\"\",\"\",rng02_Expense_OpEx_MngrsSalary)","v":""},0,null,0,0,0,0,0,null,null,null,null,null,null,null,null,null,null,null,null,null,null,null,null,null,null,null,null,null,"Managers Salary",6330,"","",{"$f":"IF(TCATrigger=\"No\",\"\",IF(FourPercentTrigger=\"No\",\"\",IF($J$457=\"\",\"\",$J$457)))","v":""},{"$f":"IF(TCATrigger=\"No\",\"\",IF(FourPercentTrigger=\"No\",\"\",IF($K$457=\"\",\"\",$K$457)))","v":""},{"$f":"IF(TCATrigger=\"No\",\"\",IF(FourPercentTrigger=\"No\",\"\",IF($L$457=\"\",\"\",$L$457)))","v":""},{"$f":"IF(TCATrigger=\"No\",\"\",IF(FourPercentTrigger=\"No\",\"\",IF($M$457=\"\",\"\",$M$457)))","v":""},{"$f":"IF(TCATrigger=\"No\",\"\",IF(FourPercentTrigger=\"No\",\"\",IF($N$457=\"\",\"\",$N$457)))","v":""},{"$f":"IF(TCATrigger=\"No\",\"\",IF(FourPercentTrigger=\"No\",\"\",IF($O$457=\"\",\"\",$O$457)))","v":""},{"$f":"IF(TCATrigger=\"No\",\"\",IF(FourPercentTrigger=\"No\",\"\",IF($P$457=\"\",\"\",$P$457)))","v":""}]
[null,null,null,null,null,null,"Admin Rent Free Unit",6331,{"$f":"IF(rng02_Expense_OpEx_AdminRentFreeUnit=\"\",\"\",rng02_Expense_OpEx_AdminRentFreeUnit)","v":""},0,null,0,0,0,0,0,null,null,null,null,null,null,null,null,null,null,null,null,null,null,null,null,null,null,null,null,null,"Admin Rent Free Unit",6331,"","",{"$f":"IF(TCATrigger=\"No\",\"\",IF(FourPercentTrigger=\"No\",\"\",IF($J$458=\"\",\"\",$J$458)))","v":""},{"$f":"IF(TCATrigger=\"No\",\"\",IF(FourPercentTrigger=\"No\",\"\",IF($K$458=\"\",\"\",$K$458)))","v":""},{"$f":"IF(TCATrigger=\"No\",\"\",IF(FourPercentTrigger=\"No\",\"\",IF($L$458=\"\",\"\",$L$458)))","v":""},{"$f":"IF(TCATrigger=\"No\",\"\",IF(FourPercentTrigger=\"No\",\"\",IF($M$458=\"\",\"\",$M$458)))","v":""},{"$f":"IF(TCATrigger=\"No\",\"\",IF(FourPercentTrigger=\"No\",\"\",IF($N$458=\"\",\"\",$N$458)))","v":""},{"$f":"IF(TCATrigger=\"No\",\"\",IF(FourPercentTrigger=\"No\",\"\",IF($O$458=\"\",\"\",$O$458)))","v":""},{"$f":"IF(TCATrigger=\"No\",\"\",IF(FourPercentTrigger=\"No\",\"\",IF($P$458=\"\",\"\",$P$458)))","v":""}]
[null,null,null,null,null,null,"Legal Expense",6340,{"$f":"IF(rng02_Expense_OpEx_LegalExpense=\"\",\"\",rng02_Expense_OpEx_LegalExpense)","v":""},0,null,0,0,0,0,0,null,null,null,null,null,null,null,null,null,null,null,null,null,null,null,null,null,null,null,null,null,"Legal Expense",6340,"","",{"$f":"IF(TCATrigger=\"No\",\"\",IF(FourPercentTrigger=\"No\",\"\",IF($J$459=\"\",\"\",$J$459)))","v":""},{"$f":"IF(TCATrigger=\"No\",\"\",IF(FourPercentTrigger=\"No\",\"\",IF($K$459=\"\",\"\",$K$459)))","v":""},{"$f":"IF(TCATrigger=\"No\",\"\",IF(FourPercentTrigger=\"No\",\"\",IF($L$459=\"\",\"\",$L$459)))","v":""},{"$f":"IF(TCATrigger=\"No\",\"\",IF(FourPercentTrigger=\"No\",\"\",IF($M$459=\"\",\"\",$M$459)))","v":""},{"$f":"IF(TCATrigger=\"No\",\"\",IF(FourPercentTrigger=\"No\",\"\",IF($N$459=\"\",\"\",$N$459)))","v":""},{"$f":"IF(TCATrigger=\"No\",\"\",IF(FourPercentTrigger=\"No\",\"\",IF($O$459=\"\",\"\",$O$459)))","v":""},{"$f":"IF(TCATrigger=\"No\",\"\",IF(FourPercentTrigger=\"No\",\"\",IF($P$459=\"\",\"\",$P$459)))","v":""}]
[null,null,null,null,null,null,"Auditing Expense",6350,{"$f":"IF(rng02_Expense_OpEx_AuditExpense=\"\",\"\",rng02_Expense_OpEx_AuditExpense)","v":""},0,null,0,0,0,0,0,null,null,null,null,null,null,null,null,null,null,null,null,null,null,null,null,null,null,null,null,null,"Auditing Expense",6350,"","",{"$f":"IF(TCATrigger=\"No\",\"\",IF(FourPercentTrigger=\"No\",\"\",IF($J$460=\"\",\"\",$J$460)))","v":""},{"$f":"IF(TCATrigger=\"No\",\"\",IF(FourPercentTrigger=\"No\",\"\",IF($K$460=\"\",\"\",$K$460)))","v":""},{"$f":"IF(TCATrigger=\"No\",\"\",IF(FourPercentTrigger=\"No\",\"\",IF($L$460=\"\",\"\",$L$460)))","v":""},{"$f":"IF(TCATrigger=\"No\",\"\",IF(FourPercentTrigger=\"No\",\"\",IF($M$460=\"\",\"\",$M$460)))","v":""},{"$f":"IF(TCATrigger=\"No\",\"\",IF(FourPercentTrigger=\"No\",\"\",IF($N$460=\"\",\"\",$N$460)))","v":""},{"$f":"IF(TCATrigger=\"No\",\"\",IF(FourPercentTrigger=\"No\",\"\",IF($O$460=\"\",\"\",$O$460)))","v":""},{"$f":"IF(TCATrigger=\"No\",\"\",IF(FourPercentTrigger=\"No\",\"\",IF($P$460=\"\",\"\",$P$460)))","v":""}]
[null,null,null,null,null,null,"Bookkeeping- Acctg fees",6351,{"$f":"IF(rng02_Expense_OpEx_AccntngFees=\"\",\"\",rng02_Expense_OpEx_AccntngFees)","v":""},0,null,0,0,0,0,0,null,null,null,null,null,null,null,null,null,null,null,null,null,null,null,null,null,null,null,null,null,"Bookkeeping- Acctg fees",6351,"","",{"$f":"IF(TCATrigger=\"No\",\"\",IF(FourPercentTrigger=\"No\",\"\",IF($J$461=\"\",\"\",$J$461)))","v":""},{"$f":"IF(TCATrigger=\"No\",\"\",IF(FourPercentTrigger=\"No\",\"\",IF($K$461=\"\",\"\",$K$461)))","v":""},{"$f":"IF(TCATrigger=\"No\",\"\",IF(FourPercentTrigger=\"No\",\"\",IF($L$461=\"\",\"\",$L$461)))","v":""},{"$f":"IF(TCATrigger=\"No\",\"\",IF(FourPercentTrigger=\"No\",\"\",IF($M$461=\"\",\"\",$M$461)))","v":""},{"$f":"IF(TCATrigger=\"No\",\"\",IF(FourPercentTrigger=\"No\",\"\",IF($N$461=\"\",\"\",$N$461)))","v":""},{"$f":"IF(TCATrigger=\"No\",\"\",IF(FourPercentTrigger=\"No\",\"\",IF($O$461=\"\",\"\",$O$461)))","v":""},{"$f":"IF(TCATrigger=\"No\",\"\",IF(FourPercentTrigger=\"No\",\"\",IF($P$461=\"\",\"\",$P$461)))","v":""}]
[null,null,null,null,null,null,"Telephone & Answering Svc",6360,{"$f":"IF(rng02_Expense_OpEx_TeleAnswSrvc=\"\",\"\",rng02_Expense_OpEx_TeleAnswSrvc)","v":""},0,null,0,0,0,0,0,null,null,null,null,null,null,null,null,null,null,null,null,null,null,null,null,null,null,null,null,null,"Telephone & Answering Svc",6360,"","",{"$f":"IF(TCATrigger=\"No\",\"\",IF(FourPercentTrigger=\"No\",\"\",IF($J$462=\"\",\"\",$J$462)))","v":""},{"$f":"IF(TCATrigger=\"No\",\"\",IF(FourPercentTrigger=\"No\",\"\",IF($K$462=\"\",\"\",$K$462)))","v":""},{"$f":"IF(TCATrigger=\"No\",\"\",IF(FourPercentTrigger=\"No\",\"\",IF($L$462=\"\",\"\",$L$462)))","v":""},{"$f":"IF(TCATrigger=\"No\",\"\",IF(FourPercentTrigger=\"No\",\"\",IF($M$462=\"\",\"\",$M$462)))","v":""},{"$f":"IF(TCATrigger=\"No\",\"\",IF(FourPercentTrigger=\"No\",\"\",IF($N$462=\"\",\"\",$N$462)))","v":""},{"$f":"IF(TCATrigger=\"No\",\"\",IF(FourPercentTrigger=\"No\",\"\",IF($O$462=\"\",\"\",$O$462)))","v":""},{"$f":"IF(TCATrigger=\"No\",\"\",IF(FourPercentTrigger=\"No\",\"\",IF($P$462=\"\",\"\",$P$462)))","v":""}]
[null,null,null,null,null,null,"Tax Credit Monitoring",null,{"$f":"IF(rng02_Expense_OpEx_TCMonitoring=\"\",\"\",rng02_Expense_OpEx_TCMonitoring)","v":""},0,null,0,0,0,0,0,null,null,null,null,null,null,null,null,null,null,null,null,null,null,null,null,null,null,null,null,null,"Tax Credit Monitoring",null,"","",{"$f":"IF(TCATrigger=\"No\",\"\",IF(FourPercentTrigger=\"No\",\"\",IF($J$463=\"\",\"\",$J$463)))","v":""},{"$f":"IF(TCATrigger=\"No\",\"\",IF(FourPercentTrigger=\"No\",\"\",IF($K$463=\"\",\"\",$K$463)))","v":""},{"$f":"IF(TCATrigger=\"No\",\"\",IF(FourPercentTrigger=\"No\",\"\",IF($L$463=\"\",\"\",$L$463)))","v":""},{"$f":"IF(TCATrigger=\"No\",\"\",IF(FourPercentTrigger=\"No\",\"\",IF($M$463=\"\",\"\",$M$463)))","v":""},{"$f":"IF(TCATrigger=\"No\",\"\",IF(FourPercentTrigger=\"No\",\"\",IF($N$463=\"\",\"\",$N$463)))","v":""},{"$f":"IF(TCATrigger=\"No\",\"\",IF(FourPercentTrigger=\"No\",\"\",IF($O$463=\"\",\"\",$O$463)))","v":""},{"$f":"IF(TCATrigger=\"No\",\"\",IF(FourPercentTrigger=\"No\",\"\",IF($P$463=\"\",\"\",$P$463)))","v":""}]
[null,null,null,null,null,null,"Office Equipment Lease",6361,{"$f":"IF(rng02_Expense_OpEx_OfficeEquipLease=\"\",\"\",rng02_Expense_OpEx_OfficeEquipLease)","v":""},0,null,0,0,0,0,0,null,null,null,null,null,null,null,null,null,null,null,null,null,null,null,null,null,null,null,null,null,"Office Equipment Lease",6361,"",null,{"$f":"IF(TCATrigger=\"No\",\"\",IF(FourPercentTrigger=\"No\",\"\",IF($J$464=\"\",\"\",$J$464)))","v":""},{"$f":"IF(TCATrigger=\"No\",\"\",IF(FourPercentTrigger=\"No\",\"\",IF($K$464=\"\",\"\",$K$464)))","v":""},{"$f":"IF(TCATrigger=\"No\",\"\",IF(FourPercentTrigger=\"No\",\"\",IF($L$464=\"\",\"\",$L$464)))","v":""},{"$f":"IF(TCATrigger=\"No\",\"\",IF(FourPercentTrigger=\"No\",\"\",IF($M$464=\"\",\"\",$M$464)))","v":""},{"$f":"IF(TCATrigger=\"No\",\"\",IF(FourPercentTrigger=\"No\",\"\",IF($N$464=\"\",\"\",$N$464)))","v":""},{"$f":"IF(TCATrigger=\"No\",\"\",IF(FourPercentTrigger=\"No\",\"\",IF($O$464=\"\",\"\",$O$464)))","v":""},{"$f":"IF(TCATrigger=\"No\",\"\",IF(FourPercentTrigger=\"No\",\"\",IF($P$464=\"\",\"\",$P$464)))","v":""}]
[null,null,null,null,null,null,"Bad Debts",6370,{"$f":"IF(rng02_Expense_OpEx_BadDebts=\"\",\"\",rng02_Expense_OpEx_BadDebts)","v":""},0,null,0,0,0,0,0,null,null,null,null,null,null,null,null,null,null,null,null,null,null,null,null,null,null,null,null,null,"Bad Debts",6370,"",null,{"$f":"IF(TCATrigger=\"No\",\"\",IF(FourPercentTrigger=\"No\",\"\",IF($J$465=\"\",\"\",$J$465)))","v":""},{"$f":"IF(TCATrigger=\"No\",\"\",IF(FourPercentTrigger=\"No\",\"\",IF($K$465=\"\",\"\",$K$465)))","v":""},{"$f":"IF(TCATrigger=\"No\",\"\",IF(FourPercentTrigger=\"No\",\"\",IF($L$465=\"\",\"\",$L$465)))","v":""},{"$f":"IF(TCATrigger=\"No\",\"\",IF(FourPercentTrigger=\"No\",\"\",IF($M$465=\"\",\"\",$M$465)))","v":""},{"$f":"IF(TCATrigger=\"No\",\"\",IF(FourPercentTrigger=\"No\",\"\",IF($N$465=\"\",\"\",$N$465)))","v":""},{"$f":"IF(TCATrigger=\"No\",\"\",IF(FourPercentTrigger=\"No\",\"\",IF($O$465=\"\",\"\",$O$465)))","v":""},{"$f":"IF(TCATrigger=\"No\",\"\",IF(FourPercentTrigger=\"No\",\"\",IF($P$465=\"\",\"\",$P$465)))","v":""}]
[null,null,null,null,null,null,"Miscellaneous Administrative Expenses ",6390,{"$f":"IF(rng02_Expense_OpEx_MiscAdminExpenses=\"\",\"\",rng02_Expense_OpEx_MiscAdminExpenses)","v":""},0,null,0,0,0,0,0,null,null,null,null,null,null,null,null,null,null,null,null,null,null,null,null,null,null,null,null,null,"Miscellaneous Administrative Expenses ",6390,"",null,{"$f":"IF(TCATrigger=\"No\",\"\",IF(FourPercentTrigger=\"No\",\"\",IF($J$466=\"\",\"\",$J$466)))","v":""},{"$f":"IF(TCATrigger=\"No\",\"\",IF(FourPercentTrigger=\"No\",\"\",IF($K$466=\"\",\"\",$K$466)))","v":""},{"$f":"IF(TCATrigger=\"No\",\"\",IF(FourPercentTrigger=\"No\",\"\",IF($L$466=\"\",\"\",$L$466)))","v":""},{"$f":"IF(TCATrigger=\"No\",\"\",IF(FourPercentTrigger=\"No\",\"\",IF($M$466=\"\",\"\",$M$466)))","v":""},{"$f":"IF(TCATrigger=\"No\",\"\",IF(FourPercentTrigger=\"No\",\"\",IF($N$466=\"\",\"\",$N$466)))","v":""},{"$f":"IF(TCATrigger=\"No\",\"\",IF(FourPercentTrigger=\"No\",\"\",IF($O$466=\"\",\"\",$O$466)))","v":""},{"$f":"IF(TCATrigger=\"No\",\"\",IF(FourPercentTrigger=\"No\",\"\",IF($P$466=\"\",\"\",$P$466)))","v":""}]
[null,null,null,null,null,null,"Total Administrative Expenses:",null,{"$f":"IF(rng02_Expense_OpEx_TotAdminExpenses=\"\",\"\",rng02_Expense_OpEx_TotAdminExpenses)","v":0},0,0,0,0,0,0,0,null,null,null,null,null,null,null,null,null,null,null,null,null,null,null,null,null,null,null,null,null,"Total Administrative Expenses:",null,"","",{"$f":"IF(TCATrigger=\"No\",\"\",IF(FourPercentTrigger=\"No\",\"\",IF($J$467=\"\",\"\",$J$467)))","v":""},{"$f":"IF(TCATrigger=\"No\",\"\",IF(FourPercentTrigger=\"No\",\"\",IF($K$467=\"\",\"\",$K$467)))","v":""},{"$f":"IF(TCATrigger=\"No\",\"\",IF(FourPercentTrigger=\"No\",\"\",IF($L$467=\"\",\"\",$L$467)))","v":""},{"$f":"IF(TCATrigger=\"No\",\"\",IF(FourPercentTrigger=\"No\",\"\",IF($M$467=\"\",\"\",$M$467)))","v":""},{"$f":"IF(TCATrigger=\"No\",\"\",IF(FourPercentTrigger=\"No\",\"\",IF($N$467=\"\",\"\",$N$467)))","v":""},{"$f":"IF(TCATrigger=\"No\",\"\",IF(FourPercentTrigger=\"No\",\"\",IF($O$467=\"\",\"\",$O$467)))","v":""},{"$f":"IF(TCATrigger=\"No\",\"\",IF(FourPercentTrigger=\"No\",\"\",IF($P$467=\"\",\"\",$P$467)))","v":""}]
[]
[null,null,null,null,null,null,"Utilities Expense ",null,null,null,null,null,null,null,null,null,null,null,null,null,null,null,null,null,null,null,null,null,null,null,null,null,null,null,null,null,null,"Utilities Expense "]
[null,null,null,null,null,null,"Fuel Oil/Coal ",6420,{"$f":"IF(rng02_Expense_UtilExpense_FuelOilCoal=\"\",\"\",rng02_Expense_UtilExpense_FuelOilCoal)","v":""},0,null,0,0,0,0,0,null,null,null,null,null,null,null,null,null,null,null,null,null,null,null,null,null,null,null,null,null,"Fuel Oil/Coal ",6420,{"$f":"IF(TCATrigger=\"No\",\"\",$I470)","v":""},{"$f":"IF(AN470=\"\",\"\",AN470)","v":""},{"$f":"IF(TCATrigger=\"No\",\"\",IF(FourPercentTrigger=\"No\",\"\",IF($J$470=\"\",\"\",$J$470)))","v":""},{"$f":"IF(TCATrigger=\"No\",\"\",IF(FourPercentTrigger=\"No\",\"\",IF($K$470=\"\",\"\",$K$470)))","v":""},{"$f":"IF(TCATrigger=\"No\",\"\",IF(FourPercentTrigger=\"No\",\"\",IF($L$470=\"\",\"\",$L$470)))","v":""},{"$f":"IF(TCATrigger=\"No\",\"\",IF(FourPercentTrigger=\"No\",\"\",IF($M$470=\"\",\"\",$M$470)))","v":""},{"$f":"IF(TCATrigger=\"No\",\"\",IF(FourPercentTrigger=\"No\",\"\",IF($N$470=\"\",\"\",$N$470)))","v":""},{"$f":"IF(TCATrigger=\"No\",\"\",IF(FourPercentTrigger=\"No\",\"\",IF($O$470=\"\",\"\",$O$470)))","v":""},{"$f":"IF(TCATrigger=\"No\",\"\",IF(FourPercentTrigger=\"No\",\"\",IF($P$470=\"\",\"\",$P$470)))","v":""}]
[null,null,null,null,null,null,"Electricity ",6450,{"$f":"IF(rng02_Expense_UtilExpense_Electricity=\"\",\"\",rng02_Expense_UtilExpense_Electricity)","v":""},0,null,0,0,0,0,0,null,null,null,null,null,null,null,null,null,null,null,null,null,null,null,null,null,null,null,null,null,"Electricity ",6450,"",{"$f":"IF(OR(TCATrigger=\"No\",SUM(AN471,AN475)=0),\"\",SUM(AN471,AN475))","v":""},{"$f":"IF(TCATrigger=\"No\",\"\",IF(FourPercentTrigger=\"No\",\"\",IF($J$471=\"\",\"\",$J$471)))","v":""},{"$f":"IF(TCATrigger=\"No\",\"\",IF(FourPercentTrigger=\"No\",\"\",IF($K$471=\"\",\"\",$K$471)))","v":""},{"$f":"IF(TCATrigger=\"No\",\"\",IF(FourPercentTrigger=\"No\",\"\",IF($L$471=\"\",\"\",$L$471)))","v":""},{"$f":"IF(TCATrigger=\"No\",\"\",IF(FourPercentTrigger=\"No\",\"\",IF($M$471=\"\",\"\",$M$471)))","v":""},{"$f":"IF(TCATrigger=\"No\",\"\",IF(FourPercentTrigger=\"No\",\"\",IF($N$471=\"\",\"\",$N$471)))","v":""},{"$f":"IF(TCATrigger=\"No\",\"\",IF(FourPercentTrigger=\"No\",\"\",IF($O$471=\"\",\"\",$O$471)))","v":""},{"$f":"IF(TCATrigger=\"No\",\"\",IF(FourPercentTrigger=\"No\",\"\",IF($P$471=\"\",\"\",$P$471)))","v":""}]
[null,null,null,null,null,null,"Water ",6451,{"$f":"IF(rng02_Expense_UtilExpense_Water=\"\",\"\",rng02_Expense_UtilExpense_Water)","v":""},0,null,0,0,0,0,0,null,null,null,null,null,null,null,null,null,null,null,null,null,null,null,null,null,null,null,null,null,"Water ",6451,"","",{"$f":"IF(TCATrigger=\"No\",\"\",IF(FourPercentTrigger=\"No\",\"\",IF($J$472=\"\",\"\",$J$472)))","v":""},{"$f":"IF(TCATrigger=\"No\",\"\",IF(FourPercentTrigger=\"No\",\"\",IF($K$472=\"\",\"\",$K$472)))","v":""},{"$f":"IF(TCATrigger=\"No\",\"\",IF(FourPercentTrigger=\"No\",\"\",IF($L$472=\"\",\"\",$L$472)))","v":""},{"$f":"IF(TCATrigger=\"No\",\"\",IF(FourPercentTrigger=\"No\",\"\",IF($M$472=\"\",\"\",$M$472)))","v":""},{"$f":"IF(TCATrigger=\"No\",\"\",IF(FourPercentTrigger=\"No\",\"\",IF($N$472=\"\",\"\",$N$472)))","v":""},{"$f":"IF(TCATrigger=\"No\",\"\",IF(FourPercentTrigger=\"No\",\"\",IF($O$472=\"\",\"\",$O$472)))","v":""},{"$f":"IF(TCATrigger=\"No\",\"\",IF(FourPercentTrigger=\"No\",\"\",IF($P$472=\"\",\"\",$P$472)))","v":""}]
[null,null,null,null,null,null,"Gas ",6452,{"$f":"IF(rng02_Expense_UtilExpense_Gas=\"\",\"\",rng02_Expense_UtilExpense_Gas)","v":""},0,null,0,0,0,0,0,null,null,null,null,null,null,null,null,null,null,null,null,null,null,null,null,null,null,null,null,null,"Gas ",6452,"","",{"$f":"IF(TCATrigger=\"No\",\"\",IF(FourPercentTrigger=\"No\",\"\",IF($J$473=\"\",\"\",$J$473)))","v":""},{"$f":"IF(TCATrigger=\"No\",\"\",IF(FourPercentTrigger=\"No\",\"\",IF($K$473=\"\",\"\",$K$473)))","v":""},{"$f":"IF(TCATrigger=\"No\",\"\",IF(FourPercentTrigger=\"No\",\"\",IF($L$473=\"\",\"\",$L$473)))","v":""},{"$f":"IF(TCATrigger=\"No\",\"\",IF(FourPercentTrigger=\"No\",\"\",IF($M$473=\"\",\"\",$M$473)))","v":""},{"$f":"IF(TCATrigger=\"No\",\"\",IF(FourPercentTrigger=\"No\",\"\",IF($N$473=\"\",\"\",$N$473)))","v":""},{"$f":"IF(TCATrigger=\"No\",\"\",IF(FourPercentTrigger=\"No\",\"\",IF($O$473=\"\",\"\",$O$473)))","v":""},{"$f":"IF(TCATrigger=\"No\",\"\",IF(FourPercentTrigger=\"No\",\"\",IF($P$473=\"\",\"\",$P$473)))","v":""}]
[null,null,null,null,null,null,"Sewer ",6453,{"$f":"IF(rng02_Expense_UtilExpense_Sewer=\"\",\"\",rng02_Expense_UtilExpense_Sewer)","v":""},0,null,0,0,0,0,0,null,null,null,null,null,null,null,null,null,null,null,null,null,null,null,null,null,null,null,null,null,"Sewer ",6453,"","",{"$f":"IF(TCATrigger=\"No\",\"\",IF(FourPercentTrigger=\"No\",\"\",IF($J$474=\"\",\"\",$J$474)))","v":""},{"$f":"IF(TCATrigger=\"No\",\"\",IF(FourPercentTrigger=\"No\",\"\",IF($K$474=\"\",\"\",$K$474)))","v":""},{"$f":"IF(TCATrigger=\"No\",\"\",IF(FourPercentTrigger=\"No\",\"\",IF($L$474=\"\",\"\",$L$474)))","v":""},{"$f":"IF(TCATrigger=\"No\",\"\",IF(FourPercentTrigger=\"No\",\"\",IF($M$474=\"\",\"\",$M$474)))","v":""},{"$f":"IF(TCATrigger=\"No\",\"\",IF(FourPercentTrigger=\"No\",\"\",IF($N$474=\"\",\"\",$N$474)))","v":""},{"$f":"IF(TCATrigger=\"No\",\"\",IF(FourPercentTrigger=\"No\",\"\",IF($O$474=\"\",\"\",$O$474)))","v":""},{"$f":"IF(TCATrigger=\"No\",\"\",IF(FourPercentTrigger=\"No\",\"\",IF($P$474=\"\",\"\",$P$474)))","v":""}]
[null,null,null,null,null,null,"Cable TV / Internet",6454,{"$f":"IF(rng02_Expense_UtilExpense_CableTVInternet=\"\",\"\",rng02_Expense_UtilExpense_CableTVInternet)","v":""},0,null,0,0,0,0,0,null,null,null,null,null,null,null,null,null,null,null,null,null,null,null,null,null,null,null,null,null,"Cable TV / Internet",6454,"",null,{"$f":"IF(TCATrigger=\"No\",\"\",IF(FourPercentTrigger=\"No\",\"\",IF($J$475=\"\",\"\",$J$475)))","v":""},{"$f":"IF(TCATrigger=\"No\",\"\",IF(FourPercentTrigger=\"No\",\"\",IF($K$475=\"\",\"\",$K$475)))","v":""},{"$f":"IF(TCATrigger=\"No\",\"\",IF(FourPercentTrigger=\"No\",\"\",IF($L$475=\"\",\"\",$L$475)))","v":""},{"$f":"IF(TCATrigger=\"No\",\"\",IF(FourPercentTrigger=\"No\",\"\",IF($M$475=\"\",\"\",$M$475)))","v":""},{"$f":"IF(TCATrigger=\"No\",\"\",IF(FourPercentTrigger=\"No\",\"\",IF($N$475=\"\",\"\",$N$475)))","v":""},{"$f":"IF(TCATrigger=\"No\",\"\",IF(FourPercentTrigger=\"No\",\"\",IF($O$475=\"\",\"\",$O$475)))","v":""},{"$f":"IF(TCATrigger=\"No\",\"\",IF(FourPercentTrigger=\"No\",\"\",IF($P$475=\"\",\"\",$P$475)))","v":""}]
[null,null,null,null,null,null,"Total Utilities Expenses:",null,{"$f":"IF(rng02_Expense_UtilExpense_TotUtilExpenses=\"\",\"\",rng02_Expense_UtilExpense_TotUtilExpenses)","v":0},0,0,0,0,0,0,0,null,null,null,null,null,null,null,null,null,null,null,null,null,null,null,null,null,null,null,null,null,"Total Utilities Expenses:",null,"","",{"$f":"IF(TCATrigger=\"No\",\"\",IF(FourPercentTrigger=\"No\",\"\",IF($J$476=\"\",\"\",$J$476)))","v":""},{"$f":"IF(TCATrigger=\"No\",\"\",IF(FourPercentTrigger=\"No\",\"\",IF($K$476=\"\",\"\",$K$476)))","v":""},{"$f":"IF(TCATrigger=\"No\",\"\",IF(FourPercentTrigger=\"No\",\"\",IF($L$476=\"\",\"\",$L$476)))","v":""},{"$f":"IF(TCATrigger=\"No\",\"\",IF(FourPercentTrigger=\"No\",\"\",IF($M$476=\"\",\"\",$M$476)))","v":""},{"$f":"IF(TCATrigger=\"No\",\"\",IF(FourPercentTrigger=\"No\",\"\",IF($N$476=\"\",\"\",$N$476)))","v":""},{"$f":"IF(TCATrigger=\"No\",\"\",IF(FourPercentTrigger=\"No\",\"\",IF($O$476=\"\",\"\",$O$476)))","v":""},{"$f":"IF(TCATrigger=\"No\",\"\",IF(FourPercentTrigger=\"No\",\"\",IF($P$476=\"\",\"\",$P$476)))","v":""}]
[]
[null,null,null,null,null,null,"Operations & Maintenance Expenses ",null,null,null,null,null,null,null,null,null,null,null,null,null,null,null,null,null,null,null,null,null,null,null,null,null,null,null,null,null,null,"Operations & Maintenance Expenses "]
[null,null,null,null,null,null,"Payroll",6510,{"$f":"IF(rng02_Expense_OpMaintExpenses_Payroll=\"\",\"\",rng02_Expense_OpMaintExpenses_Payroll)","v":""},0,null,0,0,0,0,0,null,null,null,null,null,null,null,null,null,null,null,null,null,null,null,null,null,null,null,null,null,"Payroll",6510,{"$f":"IF(TCATrigger=\"No\",\"\",$I479)","v":""},{"$f":"IF(AN479=\"\",\"\",AN479)","v":""},{"$f":"IF(TCATrigger=\"No\",\"\",IF(FourPercentTrigger=\"No\",\"\",IF($J$479=\"\",\"\",$J$479)))","v":""},{"$f":"IF(TCATrigger=\"No\",\"\",IF(FourPercentTrigger=\"No\",\"\",IF($K$479=\"\",\"\",$K$479)))","v":""},{"$f":"IF(TCATrigger=\"No\",\"\",IF(FourPercentTrigger=\"No\",\"\",IF($L$479=\"\",\"\",$L$479)))","v":""},{"$f":"IF(TCATrigger=\"No\",\"\",IF(FourPercentTrigger=\"No\",\"\",IF($M$479=\"\",\"\",$M$479)))","v":""},{"$f":"IF(TCATrigger=\"No\",\"\",IF(FourPercentTrigger=\"No\",\"\",IF($N$479=\"\",\"\",$N$479)))","v":""},{"$f":"IF(TCATrigger=\"No\",\"\",IF(FourPercentTrigger=\"No\",\"\",IF($O$479=\"\",\"\",$O$479)))","v":""},{"$f":"IF(TCATrigger=\"No\",\"\",IF(FourPercentTrigger=\"No\",\"\",IF($P$479=\"\",\"\",$P$479)))","v":""}]
[null,null,null,null,null,null,"Supplies",6515,{"$f":"IF(rng02_Expense_OpMaintExpenses_Supplies=\"\",\"\",rng02_Expense_OpMaintExpenses_Supplies)","v":""},0,null,0,0,0,0,0,null,null,null,null,null,null,null,null,null,null,null,null,null,null,null,null,null,null,null,null,null,"Supplies",6515,"","",{"$f":"IF(TCATrigger=\"No\",\"\",IF(FourPercentTrigger=\"No\",\"\",IF($J$480=\"\",\"\",$J$480)))","v":""},{"$f":"IF(TCATrigger=\"No\",\"\",IF(FourPercentTrigger=\"No\",\"\",IF($K$480=\"\",\"\",$K$480)))","v":""},{"$f":"IF(TCATrigger=\"No\",\"\",IF(FourPercentTrigger=\"No\",\"\",IF($L$480=\"\",\"\",$L$480)))","v":""},{"$f":"IF(TCATrigger=\"No\",\"\",IF(FourPercentTrigger=\"No\",\"\",IF($M$480=\"\",\"\",$M$480)))","v":""},{"$f":"IF(TCATrigger=\"No\",\"\",IF(FourPercentTrigger=\"No\",\"\",IF($N$480=\"\",\"\",$N$480)))","v":""},{"$f":"IF(TCATrigger=\"No\",\"\",IF(FourPercentTrigger=\"No\",\"\",IF($O$480=\"\",\"\",$O$480)))","v":""},{"$f":"IF(TCATrigger=\"No\",\"\",IF(FourPercentTrigger=\"No\",\"\",IF($P$480=\"\",\"\",$P$480)))","v":""}]
[null,null,null,null,null,null,"Contracts",6517,{"$f":"IF(rng02_Expense_OpMaintExpenses_Contracts=\"\",\"\",rng02_Expense_OpMaintExpenses_Contracts)","v":""},0,null,0,0,0,0,0,null,null,null,null,null,null,null,null,null,null,null,null,null,null,null,null,null,null,null,null,null,"Contracts",6517,"","",{"$f":"IF(TCATrigger=\"No\",\"\",IF(FourPercentTrigger=\"No\",\"\",IF($J$481=\"\",\"\",$J$481)))","v":""},{"$f":"IF(TCATrigger=\"No\",\"\",IF(FourPercentTrigger=\"No\",\"\",IF($K$481=\"\",\"\",$K$481)))","v":""},{"$f":"IF(TCATrigger=\"No\",\"\",IF(FourPercentTrigger=\"No\",\"\",IF($L$481=\"\",\"\",$L$481)))","v":""},{"$f":"IF(TCATrigger=\"No\",\"\",IF(FourPercentTrigger=\"No\",\"\",IF($M$481=\"\",\"\",$M$481)))","v":""},{"$f":"IF(TCATrigger=\"No\",\"\",IF(FourPercentTrigger=\"No\",\"\",IF($N$481=\"\",\"\",$N$481)))","v":""},{"$f":"IF(TCATrigger=\"No\",\"\",IF(FourPercentTrigger=\"No\",\"\",IF($O$481=\"\",\"\",$O$481)))","v":""},{"$f":"IF(TCATrigger=\"No\",\"\",IF(FourPercentTrigger=\"No\",\"\",IF($P$481=\"\",\"\",$P$481)))","v":""}]
[null,null,null,null,null,null,"Exterminating Contract",6519,{"$f":"IF(rng02_Expense_OpMaintExpenses_TerminatingContract=\"\",\"\",rng02_Expense_OpMaintExpenses_TerminatingContract)","v":""},0,null,0,0,0,0,0,null,null,null,null,null,null,null,null,null,null,null,null,null,null,null,null,null,null,null,null,null,"Exterminating Contract",6519,"",{"$f":"IF(OR(TCATrigger=\"No\",SUM(AN482:AN483)=0),\"\",SUM(AN482:AN483))","v":""},{"$f":"IF(TCATrigger=\"No\",\"\",IF(FourPercentTrigger=\"No\",\"\",IF($J$482=\"\",\"\",$J$482)))","v":""},{"$f":"IF(TCATrigger=\"No\",\"\",IF(FourPercentTrigger=\"No\",\"\",IF($K$482=\"\",\"\",$K$482)))","v":""},{"$f":"IF(TCATrigger=\"No\",\"\",IF(FourPercentTrigger=\"No\",\"\",IF($L$482=\"\",\"\",$L$482)))","v":""},{"$f":"IF(TCATrigger=\"No\",\"\",IF(FourPercentTrigger=\"No\",\"\",IF($M$482=\"\",\"\",$M$482)))","v":""},{"$f":"IF(TCATrigger=\"No\",\"\",IF(FourPercentTrigger=\"No\",\"\",IF($N$482=\"\",\"\",$N$482)))","v":""},{"$f":"IF(TCATrigger=\"No\",\"\",IF(FourPercentTrigger=\"No\",\"\",IF($O$482=\"\",\"\",$O$482)))","v":""},{"$f":"IF(TCATrigger=\"No\",\"\",IF(FourPercentTrigger=\"No\",\"\",IF($P$482=\"\",\"\",$P$482)))","v":""}]
[null,null,null,null,null,null,"Exterminating Supplies",6520,{"$f":"IF(rng02_Expense_OpMaintExpenses_TerminatingSupplies=\"\",\"\",rng02_Expense_OpMaintExpenses_TerminatingSupplies)","v":""},0,null,0,0,0,0,0,null,null,null,null,null,null,null,null,null,null,null,null,null,null,null,null,null,null,null,null,null,"Exterminating Supplies",6520,"",null,{"$f":"IF(TCATrigger=\"No\",\"\",IF(FourPercentTrigger=\"No\",\"\",IF($J$483=\"\",\"\",$J$483)))","v":""},{"$f":"IF(TCATrigger=\"No\",\"\",IF(FourPercentTrigger=\"No\",\"\",IF($K$483=\"\",\"\",$K$483)))","v":""},{"$f":"IF(TCATrigger=\"No\",\"\",IF(FourPercentTrigger=\"No\",\"\",IF($L$483=\"\",\"\",$L$483)))","v":""},{"$f":"IF(TCATrigger=\"No\",\"\",IF(FourPercentTrigger=\"No\",\"\",IF($M$483=\"\",\"\",$M$483)))","v":""},{"$f":"IF(TCATrigger=\"No\",\"\",IF(FourPercentTrigger=\"No\",\"\",IF($N$483=\"\",\"\",$N$483)))","v":""},{"$f":"IF(TCATrigger=\"No\",\"\",IF(FourPercentTrigger=\"No\",\"\",IF($O$483=\"\",\"\",$O$483)))","v":""},{"$f":"IF(TCATrigger=\"No\",\"\",IF(FourPercentTrigger=\"No\",\"\",IF($P$483=\"\",\"\",$P$483)))","v":""}]
[null,null,null,null,null,null,"Maint Rent Free Unit",6521,{"$f":"IF(rng02_Expense_OpMaintExpenses_MaintRentFreeUnit=\"\",\"\",rng02_Expense_OpMaintExpenses_MaintRentFreeUnit)","v":""},0,null,0,0,0,0,0,null,null,null,null,null,null,null,null,null,null,null,null,null,null,null,null,null,null,null,null,null,"Maint Rent Free Unit",6521,"",{"$f":"IF(OR(TCATrigger=\"No\",SUM(AN484,AN493:AN494,AN497,AN499,AN503)=0),\"\",SUM(AN484,AN493:AN494,AN497,AN499,AN503))","v":""},{"$f":"IF(TCATrigger=\"No\",\"\",IF(FourPercentTrigger=\"No\",\"\",IF($J$484=\"\",\"\",$J$484)))","v":""},{"$f":"IF(TCATrigger=\"No\",\"\",IF(FourPercentTrigger=\"No\",\"\",IF($K$484=\"\",\"\",$K$484)))","v":""},{"$f":"IF(TCATrigger=\"No\",\"\",IF(FourPercentTrigger=\"No\",\"\",IF($L$484=\"\",\"\",$L$484)))","v":""},{"$f":"IF(TCATrigger=\"No\",\"\",IF(FourPercentTrigger=\"No\",\"\",IF($M$484=\"\",\"\",$M$484)))","v":""},{"$f":"IF(TCATrigger=\"No\",\"\",IF(FourPercentTrigger=\"No\",\"\",IF($N$484=\"\",\"\",$N$484)))","v":""},{"$f":"IF(TCATrigger=\"No\",\"\",IF(FourPercentTrigger=\"No\",\"\",IF($O$484=\"\",\"\",$O$484)))","v":""},{"$f":"IF(TCATrigger=\"No\",\"\",IF(FourPercentTrigger=\"No\",\"\",IF($P$484=\"\",\"\",$P$484)))","v":""}]
[null,null,null,null,null,null,"Trash Removal",6525,{"$f":"IF(rng02_Expense_OpMaintExpenses_TrashRemoval=\"\",\"\",rng02_Expense_OpMaintExpenses_TrashRemoval)","v":""},0,null,0,0,0,0,0,null,null,null,null,null,null,null,null,null,null,null,null,null,null,null,null,null,null,null,null,null,"Trash Removal",6525,"","",{"$f":"IF(TCATrigger=\"No\",\"\",IF(FourPercentTrigger=\"No\",\"\",IF($J$485=\"\",\"\",$J$485)))","v":""},{"$f":"IF(TCATrigger=\"No\",\"\",IF(FourPercentTrigger=\"No\",\"\",IF($K$485=\"\",\"\",$K$485)))","v":""},{"$f":"IF(TCATrigger=\"No\",\"\",IF(FourPercentTrigger=\"No\",\"\",IF($L$485=\"\",\"\",$L$485)))","v":""},{"$f":"IF(TCATrigger=\"No\",\"\",IF(FourPercentTrigger=\"No\",\"\",IF($M$485=\"\",\"\",$M$485)))","v":""},{"$f":"IF(TCATrigger=\"No\",\"\",IF(FourPercentTrigger=\"No\",\"\",IF($N$485=\"\",\"\",$N$485)))","v":""},{"$f":"IF(TCATrigger=\"No\",\"\",IF(FourPercentTrigger=\"No\",\"\",IF($O$485=\"\",\"\",$O$485)))","v":""},{"$f":"IF(TCATrigger=\"No\",\"\",IF(FourPercentTrigger=\"No\",\"\",IF($P$485=\"\",\"\",$P$485)))","v":""}]
[null,null,null,null,null,null,"Security Payroll/Contracts",6530,{"$f":"IF(rng02_Expense_OpMaintExpenses_SecurityPayrollContract=\"\",\"\",rng02_Expense_OpMaintExpenses_SecurityPayrollContract)","v":""},0,null,0,0,0,0,0,null,null,null,null,null,null,null,null,null,null,null,null,null,null,null,null,null,null,null,null,null,"Security Payroll/Contracts",6530,"","",{"$f":"IF(TCATrigger=\"No\",\"\",IF(FourPercentTrigger=\"No\",\"\",IF($J$486=\"\",\"\",$J$486)))","v":""},{"$f":"IF(TCATrigger=\"No\",\"\",IF(FourPercentTrigger=\"No\",\"\",IF($K$486=\"\",\"\",$K$486)))","v":""},{"$f":"IF(TCATrigger=\"No\",\"\",IF(FourPercentTrigger=\"No\",\"\",IF($L$486=\"\",\"\",$L$486)))","v":""},{"$f":"IF(TCATrigger=\"No\",\"\",IF(FourPercentTrigger=\"No\",\"\",IF($M$486=\"\",\"\",$M$486)))","v":""},{"$f":"IF(TCATrigger=\"No\",\"\",IF(FourPercentTrigger=\"No\",\"\",IF($N$486=\"\",\"\",$N$486)))","v":""},{"$f":"IF(TCATrigger=\"No\",\"\",IF(FourPercentTrigger=\"No\",\"\",IF($O$486=\"\",\"\",$O$486)))","v":""},{"$f":"IF(TCATrigger=\"No\",\"\",IF(FourPercentTrigger=\"No\",\"\",IF($P$486=\"\",\"\",$P$486)))","v":""}]
[null,null,null,null,null,null,"Grounds Payroll",6535,{"$f":"IF(rng02_Expense_OpMaintExpenses_GroundsPayroll=\"\",\"\",rng02_Expense_OpMaintExpenses_GroundsPayroll)","v":""},0,null,0,0,0,0,0,null,null,null,null,null,null,null,null,null,null,null,null,null,null,null,null,null,null,null,null,null,"Grounds Payroll",6535,"","",{"$f":"IF(TCATrigger=\"No\",\"\",IF(FourPercentTrigger=\"No\",\"\",IF($J$487=\"\",\"\",$J$487)))","v":""},{"$f":"IF(TCATrigger=\"No\",\"\",IF(FourPercentTrigger=\"No\",\"\",IF($K$487=\"\",\"\",$K$487)))","v":""},{"$f":"IF(TCATrigger=\"No\",\"\",IF(FourPercentTrigger=\"No\",\"\",IF($L$487=\"\",\"\",$L$487)))","v":""},{"$f":"IF(TCATrigger=\"No\",\"\",IF(FourPercentTrigger=\"No\",\"\",IF($M$487=\"\",\"\",$M$487)))","v":""},{"$f":"IF(TCATrigger=\"No\",\"\",IF(FourPercentTrigger=\"No\",\"\",IF($N$487=\"\",\"\",$N$487)))","v":""},{"$f":"IF(TCATrigger=\"No\",\"\",IF(FourPercentTrigger=\"No\",\"\",IF($O$487=\"\",\"\",$O$487)))","v":""},{"$f":"IF(TCATrigger=\"No\",\"\",IF(FourPercentTrigger=\"No\",\"\",IF($P$487=\"\",\"\",$P$487)))","v":""}]
[null,null,null,null,null,null,"Grounds Supplies",6536,{"$f":"IF(rng02_Expense_OpMaintExpenses_GroundsSupplies=\"\",\"\",rng02_Expense_OpMaintExpenses_GroundsSupplies)","v":""},0,null,0,0,0,0,0,null,null,null,null,null,null,null,null,null,null,null,null,null,null,null,null,null,null,null,null,null,"Grounds Supplies",6536,"","",{"$f":"IF(TCATrigger=\"No\",\"\",IF(FourPercentTrigger=\"No\",\"\",IF($J$488=\"\",\"\",$J$488)))","v":""},{"$f":"IF(TCATrigger=\"No\",\"\",IF(FourPercentTrigger=\"No\",\"\",IF($K$488=\"\",\"\",$K$488)))","v":""},{"$f":"IF(TCATrigger=\"No\",\"\",IF(FourPercentTrigger=\"No\",\"\",IF($L$488=\"\",\"\",$L$488)))","v":""},{"$f":"IF(TCATrigger=\"No\",\"\",IF(FourPercentTrigger=\"No\",\"\",IF($M$488=\"\",\"\",$M$488)))","v":""},{"$f":"IF(TCATrigger=\"No\",\"\",IF(FourPercentTrigger=\"No\",\"\",IF($N$488=\"\",\"\",$N$488)))","v":""},{"$f":"IF(TCATrigger=\"No\",\"\",IF(FourPercentTrigger=\"No\",\"\",IF($O$488=\"\",\"\",$O$488)))","v":""},{"$f":"IF(TCATrigger=\"No\",\"\",IF(FourPercentTrigger=\"No\",\"\",IF($P$488=\"\",\"\",$P$488)))","v":""}]
[null,null,null,null,null,null,"Grounds Contracts",6537,{"$f":"IF(rng02_Expense_OpMaintExpenses_GroundsContracts=\"\",\"\",rng02_Expense_OpMaintExpenses_GroundsContracts)","v":""},0,null,0,0,0,0,0,null,null,null,null,null,null,null,null,null,null,null,null,null,null,null,null,null,null,null,null,null,"Grounds Contracts",6537,"","",{"$f":"IF(TCATrigger=\"No\",\"\",IF(FourPercentTrigger=\"No\",\"\",IF($J$489=\"\",\"\",$J$489)))","v":""},{"$f":"IF(TCATrigger=\"No\",\"\",IF(FourPercentTrigger=\"No\",\"\",IF($K$489=\"\",\"\",$K$489)))","v":""},{"$f":"IF(TCATrigger=\"No\",\"\",IF(FourPercentTrigger=\"No\",\"\",IF($L$489=\"\",\"\",$L$489)))","v":""},{"$f":"IF(TCATrigger=\"No\",\"\",IF(FourPercentTrigger=\"No\",\"\",IF($M$489=\"\",\"\",$M$489)))","v":""},{"$f":"IF(TCATrigger=\"No\",\"\",IF(FourPercentTrigger=\"No\",\"\",IF($N$489=\"\",\"\",$N$489)))","v":""},{"$f":"IF(TCATrigger=\"No\",\"\",IF(FourPercentTrigger=\"No\",\"\",IF($O$489=\"\",\"\",$O$489)))","v":""},{"$f":"IF(TCATrigger=\"No\",\"\",IF(FourPercentTrigger=\"No\",\"\",IF($P$489=\"\",\"\",$P$489)))","v":""}]
[null,null,null,null,null,null,"Repairs Payroll",6540,{"$f":"IF(rng02_Expense_OpMaintExpenses_RepairsPayroll=\"\",\"\",rng02_Expense_OpMaintExpenses_RepairsPayroll)","v":""},0,null,0,0,0,0,0,null,null,null,null,null,null,null,null,null,null,null,null,null,null,null,null,null,null,null,null,null,"Repairs Payroll",6540,"","",{"$f":"IF(TCATrigger=\"No\",\"\",IF(FourPercentTrigger=\"No\",\"\",IF($J$490=\"\",\"\",$J$490)))","v":""},{"$f":"IF(TCATrigger=\"No\",\"\",IF(FourPercentTrigger=\"No\",\"\",IF($K$490=\"\",\"\",$K$490)))","v":""},{"$f":"IF(TCATrigger=\"No\",\"\",IF(FourPercentTrigger=\"No\",\"\",IF($L$490=\"\",\"\",$L$490)))","v":""},{"$f":"IF(TCATrigger=\"No\",\"\",IF(FourPercentTrigger=\"No\",\"\",IF($M$490=\"\",\"\",$M$490)))","v":""},{"$f":"IF(TCATrigger=\"No\",\"\",IF(FourPercentTrigger=\"No\",\"\",IF($N$490=\"\",\"\",$N$490)))","v":""},{"$f":"IF(TCATrigger=\"No\",\"\",IF(FourPercentTrigger=\"No\",\"\",IF($O$490=\"\",\"\",$O$490)))","v":""},{"$f":"IF(TCATrigger=\"No\",\"\",IF(FourPercentTrigger=\"No\",\"\",IF($P$490=\"\",\"\",$P$490)))","v":""}]
[null,null,null,null,null,null,"Repairs Supplies",6541,{"$f":"IF(rng02_Expense_OpMaintExpenses_RepairsSupplies=\"\",\"\",rng02_Expense_OpMaintExpenses_RepairsSupplies)","v":""},0,null,0,0,0,0,0,null,null,null,null,null,null,null,null,null,null,null,null,null,null,null,null,null,null,null,null,null,"Repairs Supplies",6541,"",{"$f":"IF(OR(TCATrigger=\"No\",SUM(AN491,AN502)=0),\"\",SUM(AN491,AN502))","v":""},{"$f":"IF(TCATrigger=\"No\",\"\",IF(FourPercentTrigger=\"No\",\"\",IF($J$491=\"\",\"\",$J$491)))","v":""},{"$f":"IF(TCATrigger=\"No\",\"\",IF(FourPercentTrigger=\"No\",\"\",IF($K$491=\"\",\"\",$K$491)))","v":""},{"$f":"IF(TCATrigger=\"No\",\"\",IF(FourPercentTrigger=\"No\",\"\",IF($L$491=\"\",\"\",$L$491)))","v":""},{"$f":"IF(TCATrigger=\"No\",\"\",IF(FourPercentTrigger=\"No\",\"\",IF($M$491=\"\",\"\",$M$491)))","v":""},{"$f":"IF(TCATrigger=\"No\",\"\",IF(FourPercentTrigger=\"No\",\"\",IF($N$491=\"\",\"\",$N$491)))","v":""},{"$f":"IF(TCATrigger=\"No\",\"\",IF(FourPercentTrigger=\"No\",\"\",IF($O$491=\"\",\"\",$O$491)))","v":""},{"$f":"IF(TCATrigger=\"No\",\"\",IF(FourPercentTrigger=\"No\",\"\",IF($P$491=\"\",\"\",$P$491)))","v":""}]
[null,null,null,null,null,null,"Repairs Contract",6542,{"$f":"IF(rng02_Expense_OpMaintExpenses_RepairsContracts=\"\",\"\",rng02_Expense_OpMaintExpenses_RepairsContracts)","v":""},0,null,0,0,0,0,0,null,null,null,null,null,null,null,null,null,null,null,null,null,null,null,null,null,null,null,null,null,"Repairs Contract",6542,"","",{"$f":"IF(TCATrigger=\"No\",\"\",IF(FourPercentTrigger=\"No\",\"\",IF($J$492=\"\",\"\",$J$492)))","v":""},{"$f":"IF(TCATrigger=\"No\",\"\",IF(FourPercentTrigger=\"No\",\"\",IF($K$492=\"\",\"\",$K$492)))","v":""},{"$f":"IF(TCATrigger=\"No\",\"\",IF(FourPercentTrigger=\"No\",\"\",IF($L$492=\"\",\"\",$L$492)))","v":""},{"$f":"IF(TCATrigger=\"No\",\"\",IF(FourPercentTrigger=\"No\",\"\",IF($M$492=\"\",\"\",$M$492)))","v":""},{"$f":"IF(TCATrigger=\"No\",\"\",IF(FourPercentTrigger=\"No\",\"\",IF($N$492=\"\",\"\",$N$492)))","v":""},{"$f":"IF(TCATrigger=\"No\",\"\",IF(FourPercentTrigger=\"No\",\"\",IF($O$492=\"\",\"\",$O$492)))","v":""},{"$f":"IF(TCATrigger=\"No\",\"\",IF(FourPercentTrigger=\"No\",\"\",IF($P$492=\"\",\"\",$P$492)))","v":""}]
[null,null,null,null,null,null,"Plumbing Maint.",6543,{"$f":"IF(rng02_Expense_OpMaintExpenses_PlumbingMaint=\"\",\"\",rng02_Expense_OpMaintExpenses_PlumbingMaint)","v":""},0,null,0,0,0,0,0,null,null,null,null,null,null,null,null,null,null,null,null,null,null,null,null,null,null,null,null,null,"Plumbing Maint.",6543,"",null,{"$f":"IF(TCATrigger=\"No\",\"\",IF(FourPercentTrigger=\"No\",\"\",IF($J$493=\"\",\"\",$J$493)))","v":""},{"$f":"IF(TCATrigger=\"No\",\"\",IF(FourPercentTrigger=\"No\",\"\",IF($K$493=\"\",\"\",$K$493)))","v":""},{"$f":"IF(TCATrigger=\"No\",\"\",IF(FourPercentTrigger=\"No\",\"\",IF($L$493=\"\",\"\",$L$493)))","v":""},{"$f":"IF(TCATrigger=\"No\",\"\",IF(FourPercentTrigger=\"No\",\"\",IF($M$493=\"\",\"\",$M$493)))","v":""},{"$f":"IF(TCATrigger=\"No\",\"\",IF(FourPercentTrigger=\"No\",\"\",IF($N$493=\"\",\"\",$N$493)))","v":""},{"$f":"IF(TCATrigger=\"No\",\"\",IF(FourPercentTrigger=\"No\",\"\",IF($O$493=\"\",\"\",$O$493)))","v":""},{"$f":"IF(TCATrigger=\"No\",\"\",IF(FourPercentTrigger=\"No\",\"\",IF($P$493=\"\",\"\",$P$493)))","v":""}]
[null,null,null,null,null,null,"Electrical Maint.",6544,{"$f":"IF(rng02_Expense_OpMaintExpenses_ElectricalMaint=\"\",\"\",rng02_Expense_OpMaintExpenses_ElectricalMaint)","v":""},0,null,0,0,0,0,0,null,null,null,null,null,null,null,null,null,null,null,null,null,null,null,null,null,null,null,null,null,"Electrical Maint.",6544,"",null,{"$f":"IF(TCATrigger=\"No\",\"\",IF(FourPercentTrigger=\"No\",\"\",IF($J$494=\"\",\"\",$J$494)))","v":""},{"$f":"IF(TCATrigger=\"No\",\"\",IF(FourPercentTrigger=\"No\",\"\",IF($K$494=\"\",\"\",$K$494)))","v":""},{"$f":"IF(TCATrigger=\"No\",\"\",IF(FourPercentTrigger=\"No\",\"\",IF($L$494=\"\",\"\",$L$494)))","v":""},{"$f":"IF(TCATrigger=\"No\",\"\",IF(FourPercentTrigger=\"No\",\"\",IF($M$494=\"\",\"\",$M$494)))","v":""},{"$f":"IF(TCATrigger=\"No\",\"\",IF(FourPercentTrigger=\"No\",\"\",IF($N$494=\"\",\"\",$N$494)))","v":""},{"$f":"IF(TCATrigger=\"No\",\"\",IF(FourPercentTrigger=\"No\",\"\",IF($O$494=\"\",\"\",$O$494)))","v":""},{"$f":"IF(TCATrigger=\"No\",\"\",IF(FourPercentTrigger=\"No\",\"\",IF($P$494=\"\",\"\",$P$494)))","v":""}]
[null,null,null,null,null,null,"Elevator Maintenance",6545,{"$f":"IF(rng02_Expense_OpMaintExpenses_ElevatorMaint=\"\",\"\",rng02_Expense_OpMaintExpenses_ElevatorMaint)","v":""},0,null,0,0,0,0,0,null,null,null,null,null,null,null,null,null,null,null,null,null,null,null,null,null,null,null,null,null,"Elevator Maintenance",6545,"","",{"$f":"IF(TCATrigger=\"No\",\"\",IF(FourPercentTrigger=\"No\",\"\",IF($J$495=\"\",\"\",$J$495)))","v":""},{"$f":"IF(TCATrigger=\"No\",\"\",IF(FourPercentTrigger=\"No\",\"\",IF($K$495=\"\",\"\",$K$495)))","v":""},{"$f":"IF(TCATrigger=\"No\",\"\",IF(FourPercentTrigger=\"No\",\"\",IF($L$495=\"\",\"\",$L$495)))","v":""},{"$f":"IF(TCATrigger=\"No\",\"\",IF(FourPercentTrigger=\"No\",\"\",IF($M$495=\"\",\"\",$M$495)))","v":""},{"$f":"IF(TCATrigger=\"No\",\"\",IF(FourPercentTrigger=\"No\",\"\",IF($N$495=\"\",\"\",$N$495)))","v":""},{"$f":"IF(TCATrigger=\"No\",\"\",IF(FourPercentTrigger=\"No\",\"\",IF($O$495=\"\",\"\",$O$495)))","v":""},{"$f":"IF(TCATrigger=\"No\",\"\",IF(FourPercentTrigger=\"No\",\"\",IF($P$495=\"\",\"\",$P$495)))","v":""}]
[null,null,null,null,null,null,"HVAC Maintenance",6546,{"$f":"IF(rng02_Expense_OpMaintExpenses_HVACMaint=\"\",\"\",rng02_Expense_OpMaintExpenses_HVACMaint)","v":""},0,null,0,0,0,0,0,null,null,null,null,null,null,null,null,null,null,null,null,null,null,null,null,null,null,null,null,null,"HVAC Maintenance",6546,"","",{"$f":"IF(TCATrigger=\"No\",\"\",IF(FourPercentTrigger=\"No\",\"\",IF($J$496=\"\",\"\",$J$496)))","v":""},{"$f":"IF(TCATrigger=\"No\",\"\",IF(FourPercentTrigger=\"No\",\"\",IF($K$496=\"\",\"\",$K$496)))","v":""},{"$f":"IF(TCATrigger=\"No\",\"\",IF(FourPercentTrigger=\"No\",\"\",IF($L$496=\"\",\"\",$L$496)))","v":""},{"$f":"IF(TCATrigger=\"No\",\"\",IF(FourPercentTrigger=\"No\",\"\",IF($M$496=\"\",\"\",$M$496)))","v":""},{"$f":"IF(TCATrigger=\"No\",\"\",IF(FourPercentTrigger=\"No\",\"\",IF($N$496=\"\",\"\",$N$496)))","v":""},{"$f":"IF(TCATrigger=\"No\",\"\",IF(FourPercentTrigger=\"No\",\"\",IF($O$496=\"\",\"\",$O$496)))","v":""},{"$f":"IF(TCATrigger=\"No\",\"\",IF(FourPercentTrigger=\"No\",\"\",IF($P$496=\"\",\"\",$P$496)))","v":""}]
[null,null,null,null,null,null,"REAC",6547,{"$f":"IF(rng02_Expense_OpMaintExpenses_REAC=\"\",\"\",rng02_Expense_OpMaintExpenses_REAC)","v":""},0,null,0,0,0,0,0,null,null,null,null,null,null,null,null,null,null,null,null,null,null,null,null,null,null,null,null,null,"REAC",6547,"",null,{"$f":"IF(TCATrigger=\"No\",\"\",IF(FourPercentTrigger=\"No\",\"\",IF($J$497=\"\",\"\",$J$497)))","v":""},{"$f":"IF(TCATrigger=\"No\",\"\",IF(FourPercentTrigger=\"No\",\"\",IF($K$497=\"\",\"\",$K$497)))","v":""},{"$f":"IF(TCATrigger=\"No\",\"\",IF(FourPercentTrigger=\"No\",\"\",IF($L$497=\"\",\"\",$L$497)))","v":""},{"$f":"IF(TCATrigger=\"No\",\"\",IF(FourPercentTrigger=\"No\",\"\",IF($M$497=\"\",\"\",$M$497)))","v":""},{"$f":"IF(TCATrigger=\"No\",\"\",IF(FourPercentTrigger=\"No\",\"\",IF($N$497=\"\",\"\",$N$497)))","v":""},{"$f":"IF(TCATrigger=\"No\",\"\",IF(FourPercentTrigger=\"No\",\"\",IF($O$497=\"\",\"\",$O$497)))","v":""},{"$f":"IF(TCATrigger=\"No\",\"\",IF(FourPercentTrigger=\"No\",\"\",IF($P$497=\"\",\"\",$P$497)))","v":""}]
[null,null,null,null,null,null,"Snow Removal",6548,{"$f":"IF(rng02_Expense_OpMaintExpenses_SnowRemoval=\"\",\"\",rng02_Expense_OpMaintExpenses_SnowRemoval)","v":""},0,null,0,0,0,0,0,null,null,null,null,null,null,null,null,null,null,null,null,null,null,null,null,null,null,null,null,null,"Snow Removal",6548,"","",{"$f":"IF(TCATrigger=\"No\",\"\",IF(FourPercentTrigger=\"No\",\"\",IF($J$498=\"\",\"\",$J$498)))","v":""},{"$f":"IF(TCATrigger=\"No\",\"\",IF(FourPercentTrigger=\"No\",\"\",IF($K$498=\"\",\"\",$K$498)))","v":""},{"$f":"IF(TCATrigger=\"No\",\"\",IF(FourPercentTrigger=\"No\",\"\",IF($L$498=\"\",\"\",$L$498)))","v":""},{"$f":"IF(TCATrigger=\"No\",\"\",IF(FourPercentTrigger=\"No\",\"\",IF($M$498=\"\",\"\",$M$498)))","v":""},{"$f":"IF(TCATrigger=\"No\",\"\",IF(FourPercentTrigger=\"No\",\"\",IF($N$498=\"\",\"\",$N$498)))","v":""},{"$f":"IF(TCATrigger=\"No\",\"\",IF(FourPercentTrigger=\"No\",\"\",IF($O$498=\"\",\"\",$O$498)))","v":""},{"$f":"IF(TCATrigger=\"No\",\"\",IF(FourPercentTrigger=\"No\",\"\",IF($P$498=\"\",\"\",$P$498)))","v":""}]
[null,null,null,null,null,null,"Appliance Replacement",6550,{"$f":"IF(rng02_Expense_OpMaintExpenses_ApplianceReplacement=\"\",\"\",rng02_Expense_OpMaintExpenses_ApplianceReplacement)","v":""},0,null,0,0,0,0,0,null,null,null,null,null,null,null,null,null,null,null,null,null,null,null,null,null,null,null,null,null,"Appliance Replacement",6550,"",null,{"$f":"IF(TCATrigger=\"No\",\"\",IF(FourPercentTrigger=\"No\",\"\",IF($J$499=\"\",\"\",$J$499)))","v":""},{"$f":"IF(TCATrigger=\"No\",\"\",IF(FourPercentTrigger=\"No\",\"\",IF($K$499=\"\",\"\",$K$499)))","v":""},{"$f":"IF(TCATrigger=\"No\",\"\",IF(FourPercentTrigger=\"No\",\"\",IF($L$499=\"\",\"\",$L$499)))","v":""},{"$f":"IF(TCATrigger=\"No\",\"\",IF(FourPercentTrigger=\"No\",\"\",IF($M$499=\"\",\"\",$M$499)))","v":""},{"$f":"IF(TCATrigger=\"No\",\"\",IF(FourPercentTrigger=\"No\",\"\",IF($N$499=\"\",\"\",$N$499)))","v":""},{"$f":"IF(TCATrigger=\"No\",\"\",IF(FourPercentTrigger=\"No\",\"\",IF($O$499=\"\",\"\",$O$499)))","v":""},{"$f":"IF(TCATrigger=\"No\",\"\",IF(FourPercentTrigger=\"No\",\"\",IF($P$499=\"\",\"\",$P$499)))","v":""}]
[null,null,null,null,null,null,"Decorating P/R",6560,{"$f":"IF(rng02_Expense_OpMaintExpenses_DecoratingPR=\"\",\"\",rng02_Expense_OpMaintExpenses_DecoratingPR)","v":""},0,null,0,0,0,0,0,null,null,null,null,null,null,null,null,null,null,null,null,null,null,null,null,null,null,null,null,null,"Decorating P/R",6560,"","",{"$f":"IF(TCATrigger=\"No\",\"\",IF(FourPercentTrigger=\"No\",\"\",IF($J$500=\"\",\"\",$J$500)))","v":""},{"$f":"IF(TCATrigger=\"No\",\"\",IF(FourPercentTrigger=\"No\",\"\",IF($K$500=\"\",\"\",$K$500)))","v":""},{"$f":"IF(TCATrigger=\"No\",\"\",IF(FourPercentTrigger=\"No\",\"\",IF($L$500=\"\",\"\",$L$500)))","v":""},{"$f":"IF(TCATrigger=\"No\",\"\",IF(FourPercentTrigger=\"No\",\"\",IF($M$500=\"\",\"\",$M$500)))","v":""},{"$f":"IF(TCATrigger=\"No\",\"\",IF(FourPercentTrigger=\"No\",\"\",IF($N$500=\"\",\"\",$N$500)))","v":""},{"$f":"IF(TCATrigger=\"No\",\"\",IF(FourPercentTrigger=\"No\",\"\",IF($O$500=\"\",\"\",$O$500)))","v":""},{"$f":"IF(TCATrigger=\"No\",\"\",IF(FourPercentTrigger=\"No\",\"\",IF($P$500=\"\",\"\",$P$500)))","v":""}]
[null,null,null,null,null,null,"Decorating Supplies",6561,{"$f":"IF(rng02_Expense_OpMaintExpenses_DecoratingSupplies=\"\",\"\",rng02_Expense_OpMaintExpenses_DecoratingSupplies)","v":""},0,null,0,0,0,0,0,null,null,null,null,null,null,null,null,null,null,null,null,null,null,null,null,null,null,null,null,null,"Decorating Supplies",6561,"","",{"$f":"IF(TCATrigger=\"No\",\"\",IF(FourPercentTrigger=\"No\",\"\",IF($J$501=\"\",\"\",$J$501)))","v":""},{"$f":"IF(TCATrigger=\"No\",\"\",IF(FourPercentTrigger=\"No\",\"\",IF($K$501=\"\",\"\",$K$501)))","v":""},{"$f":"IF(TCATrigger=\"No\",\"\",IF(FourPercentTrigger=\"No\",\"\",IF($L$501=\"\",\"\",$L$501)))","v":""},{"$f":"IF(TCATrigger=\"No\",\"\",IF(FourPercentTrigger=\"No\",\"\",IF($M$501=\"\",\"\",$M$501)))","v":""},{"$f":"IF(TCATrigger=\"No\",\"\",IF(FourPercentTrigger=\"No\",\"\",IF($N$501=\"\",\"\",$N$501)))","v":""},{"$f":"IF(TCATrigger=\"No\",\"\",IF(FourPercentTrigger=\"No\",\"\",IF($O$501=\"\",\"\",$O$501)))","v":""},{"$f":"IF(TCATrigger=\"No\",\"\",IF(FourPercentTrigger=\"No\",\"\",IF($P$501=\"\",\"\",$P$501)))","v":""}]
[null,null,null,null,null,null,"Vehicle & Equip Ops & Repairs",6570,{"$f":"IF(rng02_Expense_OpMaintExpenses_VehicleEquipOpsRepairs=\"\",\"\",rng02_Expense_OpMaintExpenses_VehicleEquipOpsRepairs)","v":""},0,null,0,0,0,0,0,null,null,null,null,null,null,null,null,null,null,null,null,null,null,null,null,null,null,null,null,null,"Vehicle & Equip Ops & Repairs",6570,"",null,{"$f":"IF(TCATrigger=\"No\",\"\",IF(FourPercentTrigger=\"No\",\"\",IF($J$502=\"\",\"\",$J$502)))","v":""},{"$f":"IF(TCATrigger=\"No\",\"\",IF(FourPercentTrigger=\"No\",\"\",IF($K$502=\"\",\"\",$K$502)))","v":""},{"$f":"IF(TCATrigger=\"No\",\"\",IF(FourPercentTrigger=\"No\",\"\",IF($L$502=\"\",\"\",$L$502)))","v":""},{"$f":"IF(TCATrigger=\"No\",\"\",IF(FourPercentTrigger=\"No\",\"\",IF($M$502=\"\",\"\",$M$502)))","v":""},{"$f":"IF(TCATrigger=\"No\",\"\",IF(FourPercentTrigger=\"No\",\"\",IF($N$502=\"\",\"\",$N$502)))","v":""},{"$f":"IF(TCATrigger=\"No\",\"\",IF(FourPercentTrigger=\"No\",\"\",IF($O$502=\"\",\"\",$O$502)))","v":""},{"$f":"IF(TCATrigger=\"No\",\"\",IF(FourPercentTrigger=\"No\",\"\",IF($P$502=\"\",\"\",$P$502)))","v":""}]
[null,null,null,null,null,null,"Misc Ops/Maint Expenses",6590,{"$f":"IF(rng02_Expense_OpMaintExpenses_MiscOpsMaintExpenses=\"\",\"\",rng02_Expense_OpMaintExpenses_MiscOpsMaintExpenses)","v":""},0,null,0,0,0,0,0,null,null,null,null,null,null,null,null,null,null,null,null,null,null,null,null,null,null,null,null,null,"Misc Ops/Maint Expenses",6590,"",null,{"$f":"IF(TCATrigger=\"No\",\"\",IF(FourPercentTrigger=\"No\",\"\",IF($J$503=\"\",\"\",$J$503)))","v":""},{"$f":"IF(TCATrigger=\"No\",\"\",IF(FourPercentTrigger=\"No\",\"\",IF($K$503=\"\",\"\",$K$503)))","v":""},{"$f":"IF(TCATrigger=\"No\",\"\",IF(FourPercentTrigger=\"No\",\"\",IF($L$503=\"\",\"\",$L$503)))","v":""},{"$f":"IF(TCATrigger=\"No\",\"\",IF(FourPercentTrigger=\"No\",\"\",IF($M$503=\"\",\"\",$M$503)))","v":""},{"$f":"IF(TCATrigger=\"No\",\"\",IF(FourPercentTrigger=\"No\",\"\",IF($N$503=\"\",\"\",$N$503)))","v":""},{"$f":"IF(TCATrigger=\"No\",\"\",IF(FourPercentTrigger=\"No\",\"\",IF($O$503=\"\",\"\",$O$503)))","v":""},{"$f":"IF(TCATrigger=\"No\",\"\",IF(FourPercentTrigger=\"No\",\"\",IF($P$503=\"\",\"\",$P$503)))","v":""}]
[null,null,null,null,null,null,"Total Ops. & Maint. Expenses:",null,{"$f":"IF(rng02_Expense_OpMaintExpenses_TotalOpsMaintExpenses=\"\",\"\",rng02_Expense_OpMaintExpenses_TotalOpsMaintExpenses)","v":0},0,0,0,0,0,0,0,null,null,null,null,null,null,null,null,null,null,null,null,null,null,null,null,null,null,null,null,null,"Total Ops. & Maint. Expenses:",null,{"$f":"IF(TCATrigger=\"No\",\"\",$I$439)","v":""},"",{"$f":"IF(TCATrigger=\"No\",\"\",IF(FourPercentTrigger=\"No\",\"\",IF($J$504=\"\",\"\",$J$504)))","v":""},{"$f":"IF(TCATrigger=\"No\",\"\",IF(FourPercentTrigger=\"No\",\"\",IF($K$504=\"\",\"\",$K$504)))","v":""},{"$f":"IF(TCATrigger=\"No\",\"\",IF(FourPercentTrigger=\"No\",\"\",IF($L$504=\"\",\"\",$L$504)))","v":""},{"$f":"IF(TCATrigger=\"No\",\"\",IF(FourPercentTrigger=\"No\",\"\",IF($M$504=\"\",\"\",$M$504)))","v":""},{"$f":"IF(TCATrigger=\"No\",\"\",IF(FourPercentTrigger=\"No\",\"\",IF($N$504=\"\",\"\",$N$504)))","v":""},{"$f":"IF(TCATrigger=\"No\",\"\",IF(FourPercentTrigger=\"No\",\"\",IF($O$504=\"\",\"\",$O$504)))","v":""},{"$f":"IF(TCATrigger=\"No\",\"\",IF(FourPercentTrigger=\"No\",\"\",IF($P$504=\"\",\"\",$P$504)))","v":""}]
[]
[null,null,null,null,null,null,"Taxes & Insurance ",null,null,null,null,null,null,null,null,null,null,null,null,null,null,null,null,null,null,null,null,null,null,null,null,null,null,null,null,null,null,"Taxes & Insurance "]
[null,null,null,null,null,null,"Real Estate Taxes ",6710,{"$f":"IF(rng02_Expense_TaxesInsurance_RETaxes=\"\",\"\",rng02_Expense_TaxesInsurance_RETaxes)","v":""},0,null,0,0,0,0,0,null,null,null,null,null,null,null,null,null,null,null,null,null,null,null,null,null,null,null,null,null,"Real Estate Taxes ",6710,{"$f":"IF(TCATrigger=\"No\",\"\",$I507)","v":""},{"$f":"IF(AN507=\"\",\"\",AN507)","v":""},{"$f":"IF(TCATrigger=\"No\",\"\",IF(FourPercentTrigger=\"No\",\"\",IF($J$507=\"\",\"\",$J$507)))","v":""},{"$f":"IF(TCATrigger=\"No\",\"\",IF(FourPercentTrigger=\"No\",\"\",IF($K$507=\"\",\"\",$K$507)))","v":""},{"$f":"IF(TCATrigger=\"No\",\"\",IF(FourPercentTrigger=\"No\",\"\",IF($L$507=\"\",\"\",$L$507)))","v":""},{"$f":"IF(TCATrigger=\"No\",\"\",IF(FourPercentTrigger=\"No\",\"\",IF($M$507=\"\",\"\",$M$507)))","v":""},{"$f":"IF(TCATrigger=\"No\",\"\",IF(FourPercentTrigger=\"No\",\"\",IF($N$507=\"\",\"\",$N$507)))","v":""},{"$f":"IF(TCATrigger=\"No\",\"\",IF(FourPercentTrigger=\"No\",\"\",IF($O$507=\"\",\"\",$O$507)))","v":""},{"$f":"IF(TCATrigger=\"No\",\"\",IF(FourPercentTrigger=\"No\",\"\",IF($P$507=\"\",\"\",$P$507)))","v":""}]
[null,null,null,null,null,null,"Payroll Taxes (Project's Share)",6711,{"$f":"IF(rng02_Expense_TaxesInsurance_PayrollTaxes=\"\",\"\",rng02_Expense_TaxesInsurance_PayrollTaxes)","v":""},0,null,0,0,0,0,0,null,null,null,null,null,null,null,null,null,null,null,null,null,null,null,null,null,null,null,null,null,"Payroll Taxes (Project's Share)",6711,"","",{"$f":"IF(TCATrigger=\"No\",\"\",IF(FourPercentTrigger=\"No\",\"\",IF($J$508=\"\",\"\",$J$508)))","v":""},{"$f":"IF(TCATrigger=\"No\",\"\",IF(FourPercentTrigger=\"No\",\"\",IF($K$508=\"\",\"\",$K$508)))","v":""},{"$f":"IF(TCATrigger=\"No\",\"\",IF(FourPercentTrigger=\"No\",\"\",IF($L$508=\"\",\"\",$L$508)))","v":""},{"$f":"IF(TCATrigger=\"No\",\"\",IF(FourPercentTrigger=\"No\",\"\",IF($M$508=\"\",\"\",$M$508)))","v":""},{"$f":"IF(TCATrigger=\"No\",\"\",IF(FourPercentTrigger=\"No\",\"\",IF($N$508=\"\",\"\",$N$508)))","v":""},{"$f":"IF(TCATrigger=\"No\",\"\",IF(FourPercentTrigger=\"No\",\"\",IF($O$508=\"\",\"\",$O$508)))","v":""},{"$f":"IF(TCATrigger=\"No\",\"\",IF(FourPercentTrigger=\"No\",\"\",IF($P$508=\"\",\"\",$P$508)))","v":""}]
[null,null,null,null,null,null,"Miscellaneous Taxes, Licenses and Permits",6719,{"$f":"IF(rng02_Expense_TaxesInsurance_MiscTaxesLicensesPermits=\"\",\"\",rng02_Expense_TaxesInsurance_MiscTaxesLicensesPermits)","v":""},0,null,0,0,0,0,0,null,null,null,null,null,null,null,null,null,null,null,null,null,null,null,null,null,null,null,null,null,"Miscellaneous Taxes, Licenses and Permits",6719,"",{"$f":"IF(OR(TCATrigger=\"No\",SUM(AN509,AN515)=0),\"\",SUM(AN509,AN515))","v":""},{"$f":"IF(TCATrigger=\"No\",\"\",IF(FourPercentTrigger=\"No\",\"\",IF($J$509=\"\",\"\",$J$509)))","v":""},{"$f":"IF(TCATrigger=\"No\",\"\",IF(FourPercentTrigger=\"No\",\"\",IF($K$509=\"\",\"\",$K$509)))","v":""},{"$f":"IF(TCATrigger=\"No\",\"\",IF(FourPercentTrigger=\"No\",\"\",IF($L$509=\"\",\"\",$L$509)))","v":""},{"$f":"IF(TCATrigger=\"No\",\"\",IF(FourPercentTrigger=\"No\",\"\",IF($M$509=\"\",\"\",$M$509)))","v":""},{"$f":"IF(TCATrigger=\"No\",\"\",IF(FourPercentTrigger=\"No\",\"\",IF($N$509=\"\",\"\",$N$509)))","v":""},{"$f":"IF(TCATrigger=\"No\",\"\",IF(FourPercentTrigger=\"No\",\"\",IF($O$509=\"\",\"\",$O$509)))","v":""},{"$f":"IF(TCATrigger=\"No\",\"\",IF(FourPercentTrigger=\"No\",\"\",IF($P$509=\"\",\"\",$P$509)))","v":""}]
[null,null,null,null,null,null,"Property & Liability Insurance (Hazard)",6720,{"$f":"IF(rng02_Expense_TaxesInsurance_PropertyLiabilityInsurance=\"\",\"\",rng02_Expense_TaxesInsurance_PropertyLiabilityInsurance)","v":""},0,null,0,0,0,0,0,null,null,null,null,null,null,null,null,null,null,null,null,null,null,null,null,null,null,null,null,null,"Property & Liability Insurance (Hazard)",6720,"","",{"$f":"IF(TCATrigger=\"No\",\"\",IF(FourPercentTrigger=\"No\",\"\",IF($J$510=\"\",\"\",$J$510)))","v":""},{"$f":"IF(TCATrigger=\"No\",\"\",IF(FourPercentTrigger=\"No\",\"\",IF($K$510=\"\",\"\",$K$510)))","v":""},{"$f":"IF(TCATrigger=\"No\",\"\",IF(FourPercentTrigger=\"No\",\"\",IF($L$510=\"\",\"\",$L$510)))","v":""},{"$f":"IF(TCATrigger=\"No\",\"\",IF(FourPercentTrigger=\"No\",\"\",IF($M$510=\"\",\"\",$M$510)))","v":""},{"$f":"IF(TCATrigger=\"No\",\"\",IF(FourPercentTrigger=\"No\",\"\",IF($N$510=\"\",\"\",$N$510)))","v":""},{"$f":"IF(TCATrigger=\"No\",\"\",IF(FourPercentTrigger=\"No\",\"\",IF($O$510=\"\",\"\",$O$510)))","v":""},{"$f":"IF(TCATrigger=\"No\",\"\",IF(FourPercentTrigger=\"No\",\"\",IF($P$510=\"\",\"\",$P$510)))","v":""}]
[null,null,null,null,null,null,"Fidelity Bond Insurance ",6721,{"$f":"IF(rng02_Expense_TaxesInsurance_FidelityBondInsurance=\"\",\"\",rng02_Expense_TaxesInsurance_FidelityBondInsurance)","v":""},0,null,0,0,0,0,0,null,null,null,null,null,null,null,null,null,null,null,null,null,null,null,null,null,null,null,null,null,"Fidelity Bond Insurance ",6721,"","",{"$f":"IF(TCATrigger=\"No\",\"\",IF(FourPercentTrigger=\"No\",\"\",IF($J$511=\"\",\"\",$J$511)))","v":""},{"$f":"IF(TCATrigger=\"No\",\"\",IF(FourPercentTrigger=\"No\",\"\",IF($K$511=\"\",\"\",$K$511)))","v":""},{"$f":"IF(TCATrigger=\"No\",\"\",IF(FourPercentTrigger=\"No\",\"\",IF($L$511=\"\",\"\",$L$511)))","v":""},{"$f":"IF(TCATrigger=\"No\",\"\",IF(FourPercentTrigger=\"No\",\"\",IF($M$511=\"\",\"\",$M$511)))","v":""},{"$f":"IF(TCATrigger=\"No\",\"\",IF(FourPercentTrigger=\"No\",\"\",IF($N$511=\"\",\"\",$N$511)))","v":""},{"$f":"IF(TCATrigger=\"No\",\"\",IF(FourPercentTrigger=\"No\",\"\",IF($O$511=\"\",\"\",$O$511)))","v":""},{"$f":"IF(TCATrigger=\"No\",\"\",IF(FourPercentTrigger=\"No\",\"\",IF($P$511=\"\",\"\",$P$511)))","v":""}]
[null,null,null,null,null,null,"Workmen's Compensation ",6722,{"$f":"IF(rng02_Expense_TaxesInsurance_WorkComp=\"\",\"\",rng02_Expense_TaxesInsurance_WorkComp)","v":""},0,null,0,0,0,0,0,null,null,null,null,null,null,null,null,null,null,null,null,null,null,null,null,null,null,null,null,null,"Workmen's Compensation ",6722,"","",{"$f":"IF(TCATrigger=\"No\",\"\",IF(FourPercentTrigger=\"No\",\"\",IF($J$512=\"\",\"\",$J$512)))","v":""},{"$f":"IF(TCATrigger=\"No\",\"\",IF(FourPercentTrigger=\"No\",\"\",IF($K$512=\"\",\"\",$K$512)))","v":""},{"$f":"IF(TCATrigger=\"No\",\"\",IF(FourPercentTrigger=\"No\",\"\",IF($L$512=\"\",\"\",$L$512)))","v":""},{"$f":"IF(TCATrigger=\"No\",\"\",IF(FourPercentTrigger=\"No\",\"\",IF($M$512=\"\",\"\",$M$512)))","v":""},{"$f":"IF(TCATrigger=\"No\",\"\",IF(FourPercentTrigger=\"No\",\"\",IF($N$512=\"\",\"\",$N$512)))","v":""},{"$f":"IF(TCATrigger=\"No\",\"\",IF(FourPercentTrigger=\"No\",\"\",IF($O$512=\"\",\"\",$O$512)))","v":""},{"$f":"IF(TCATrigger=\"No\",\"\",IF(FourPercentTrigger=\"No\",\"\",IF($P$512=\"\",\"\",$P$512)))","v":""}]
[null,null,null,null,null,null,"Health Ins. & Other Emp. Benefits ",6723,{"$f":"IF(rng02_Expense_TaxesInsurance_HealthInsOtherEmpBenefits=\"\",\"\",rng02_Expense_TaxesInsurance_HealthInsOtherEmpBenefits)","v":""},0,null,0,0,0,0,0,null,null,null,null,null,null,null,null,null,null,null,null,null,null,null,null,null,null,null,null,null,"Health Ins. & Other Emp. Benefits ",6723,"","",{"$f":"IF(TCATrigger=\"No\",\"\",IF(FourPercentTrigger=\"No\",\"\",IF($J$513=\"\",\"\",$J$513)))","v":""},{"$f":"IF(TCATrigger=\"No\",\"\",IF(FourPercentTrigger=\"No\",\"\",IF($K$513=\"\",\"\",$K$513)))","v":""},{"$f":"IF(TCATrigger=\"No\",\"\",IF(FourPercentTrigger=\"No\",\"\",IF($L$513=\"\",\"\",$L$513)))","v":""},{"$f":"IF(TCATrigger=\"No\",\"\",IF(FourPercentTrigger=\"No\",\"\",IF($M$513=\"\",\"\",$M$513)))","v":""},{"$f":"IF(TCATrigger=\"No\",\"\",IF(FourPercentTrigger=\"No\",\"\",IF($N$513=\"\",\"\",$N$513)))","v":""},{"$f":"IF(TCATrigger=\"No\",\"\",IF(FourPercentTrigger=\"No\",\"\",IF($O$513=\"\",\"\",$O$513)))","v":""},{"$f":"IF(TCATrigger=\"No\",\"\",IF(FourPercentTrigger=\"No\",\"\",IF($P$513=\"\",\"\",$P$513)))","v":""}]
[null,null,null,null,null,null,"Other Insurance (specify)",6729,{"$f":"IF(rng02_Expense_TaxesInsurance_OtherIns=\"\",\"\",rng02_Expense_TaxesInsurance_OtherIns)","v":""},0,null,0,0,0,0,0,null,null,null,null,null,null,null,null,null,null,null,null,null,null,null,null,null,null,null,null,null,"Other Insurance (specify)",6729,"","",{"$f":"IF(TCATrigger=\"No\",\"\",IF(FourPercentTrigger=\"No\",\"\",IF($J$514=\"\",\"\",$J$514)))","v":""},{"$f":"IF(TCATrigger=\"No\",\"\",IF(FourPercentTrigger=\"No\",\"\",IF($K$514=\"\",\"\",$K$514)))","v":""},{"$f":"IF(TCATrigger=\"No\",\"\",IF(FourPercentTrigger=\"No\",\"\",IF($L$514=\"\",\"\",$L$514)))","v":""},{"$f":"IF(TCATrigger=\"No\",\"\",IF(FourPercentTrigger=\"No\",\"\",IF($M$514=\"\",\"\",$M$514)))","v":""},{"$f":"IF(TCATrigger=\"No\",\"\",IF(FourPercentTrigger=\"No\",\"\",IF($N$514=\"\",\"\",$N$514)))","v":""},{"$f":"IF(TCATrigger=\"No\",\"\",IF(FourPercentTrigger=\"No\",\"\",IF($O$514=\"\",\"\",$O$514)))","v":""},{"$f":"IF(TCATrigger=\"No\",\"\",IF(FourPercentTrigger=\"No\",\"\",IF($P$514=\"\",\"\",$P$514)))","v":""}]
[null,null,null,null,null,null,"Misc",6790,{"$f":"IF(rng02_Expense_TaxesInsurance_Misc=\"\",\"\",rng02_Expense_TaxesInsurance_Misc)","v":""},0,null,0,0,0,0,0,null,null,null,null,null,null,null,null,null,null,null,null,null,null,null,null,null,null,null,null,null,"Misc",6790,"",null,{"$f":"IF(TCATrigger=\"No\",\"\",IF(FourPercentTrigger=\"No\",\"\",IF($J$515=\"\",\"\",$J$515)))","v":""},{"$f":"IF(TCATrigger=\"No\",\"\",IF(FourPercentTrigger=\"No\",\"\",IF($K$515=\"\",\"\",$K$515)))","v":""},{"$f":"IF(TCATrigger=\"No\",\"\",IF(FourPercentTrigger=\"No\",\"\",IF($L$515=\"\",\"\",$L$515)))","v":""},{"$f":"IF(TCATrigger=\"No\",\"\",IF(FourPercentTrigger=\"No\",\"\",IF($M$515=\"\",\"\",$M$515)))","v":""},{"$f":"IF(TCATrigger=\"No\",\"\",IF(FourPercentTrigger=\"No\",\"\",IF($N$515=\"\",\"\",$N$515)))","v":""},{"$f":"IF(TCATrigger=\"No\",\"\",IF(FourPercentTrigger=\"No\",\"\",IF($O$515=\"\",\"\",$O$515)))","v":""},{"$f":"IF(TCATrigger=\"No\",\"\",IF(FourPercentTrigger=\"No\",\"\",IF($P$515=\"\",\"\",$P$515)))","v":""}]
[null,null,null,null,null,null,"Total Taxes & Insurance:",null,{"$f":"IF(rng02_Expense_TaxesInsurance_TotTaxesInsurance=\"\",\"\",rng02_Expense_TaxesInsurance_TotTaxesInsurance)","v":0},0,0,0,0,0,0,0,null,null,null,null,null,null,null,null,null,null,null,null,null,null,null,null,null,null,null,null,null,"Total Taxes & Insurance:",null,{"$f":"IF(OR(TCATrigger=\"No\",$I$516=\"\"),\"\",$I$516)","v":""},"",{"$f":"IF(TCATrigger=\"No\",\"\",IF(FourPercentTrigger=\"No\",\"\",IF($J$516=\"\",\"\",$J$516)))","v":""},{"$f":"IF(TCATrigger=\"No\",\"\",IF(FourPercentTrigger=\"No\",\"\",IF($K$516=\"\",\"\",$K$516)))","v":""},{"$f":"IF(TCATrigger=\"No\",\"\",IF(FourPercentTrigger=\"No\",\"\",IF($L$516=\"\",\"\",$L$516)))","v":""},{"$f":"IF(TCATrigger=\"No\",\"\",IF(FourPercentTrigger=\"No\",\"\",IF($M$516=\"\",\"\",$M$516)))","v":""},{"$f":"IF(TCATrigger=\"No\",\"\",IF(FourPercentTrigger=\"No\",\"\",IF($N$516=\"\",\"\",$N$516)))","v":""},{"$f":"IF(TCATrigger=\"No\",\"\",IF(FourPercentTrigger=\"No\",\"\",IF($O$516=\"\",\"\",$O$516)))","v":""},{"$f":"IF(TCATrigger=\"No\",\"\",IF(FourPercentTrigger=\"No\",\"\",IF($P$516=\"\",\"\",$P$516)))","v":""}]
[]
[null,null,null,null,null,null,"Total NH/Asst Living/Elderly Care",6900,0,0,0,0,0,0,0,0,null,null,null,null,null,null,null,null,null,null,null,null,null,null,null,null,null,null,null,null,null,"Total NH/Asst Living/Elderly Care",6900,{"$f":"IF(TCATrigger=\"No\",\"\",$I518)","v":""},{"$f":"IF(AN518=\"\",\"\",AN518)","v":""},{"$f":"IF(TCATrigger=\"No\",\"\",IF(FourPercentTrigger=\"No\",\"\",IF($J$518=\"\",\"\",$J$518)))","v":""},{"$f":"IF(TCATrigger=\"No\",\"\",IF(FourPercentTrigger=\"No\",\"\",IF($K$518=\"\",\"\",$K$518)))","v":""},{"$f":"IF(TCATrigger=\"No\",\"\",IF(FourPercentTrigger=\"No\",\"\",IF($L$518=\"\",\"\",$L$518)))","v":""},{"$f":"IF(TCATrigger=\"No\",\"\",IF(FourPercentTrigger=\"No\",\"\",IF($M$518=\"\",\"\",$M$518)))","v":""},{"$f":"IF(TCATrigger=\"No\",\"\",IF(FourPercentTrigger=\"No\",\"\",IF($N$518=\"\",\"\",$N$518)))","v":""},{"$f":"IF(TCATrigger=\"No\",\"\",IF(FourPercentTrigger=\"No\",\"\",IF($O$518=\"\",\"\",$O$518)))","v":""},{"$f":"IF(TCATrigger=\"No\",\"\",IF(FourPercentTrigger=\"No\",\"\",IF($P$518=\"\",\"\",$P$518)))","v":""}]
[]
[null,null,null,null,null,null,"Replacement Reserves",null,{"$f":"IF(rng02_Expense_ReplacementReserves=\"\",\"\",rng02_Expense_ReplacementReserves)","v":""},0,null,0,0,0,0,0,null,null,null,null,null,null,null,null,null,null,null,null,null,null,null,null,null,null,null,null,null,"Replacement Reserves",null,{"$f":"IF(TCATrigger=\"No\",\"\",$I520)","v":""},{"$f":"IF(AN520=\"\",\"\",AN520)","v":""},{"$f":"IF(TCATrigger=\"No\",\"\",IF(FourPercentTrigger=\"No\",\"\",IF($J$520=\"\",\"\",$J$520)))","v":""},{"$f":"IF(TCATrigger=\"No\",\"\",IF(FourPercentTrigger=\"No\",\"\",IF($K$520=\"\",\"\",$K$520)))","v":""},{"$f":"IF(TCATrigger=\"No\",\"\",IF(FourPercentTrigger=\"No\",\"\",IF($L$520=\"\",\"\",$L$520)))","v":""},{"$f":"IF(TCATrigger=\"No\",\"\",IF(FourPercentTrigger=\"No\",\"\",IF($M$520=\"\",\"\",$M$520)))","v":""},{"$f":"IF(TCATrigger=\"No\",\"\",IF(FourPercentTrigger=\"No\",\"\",IF($N$520=\"\",\"\",$N$520)))","v":""},{"$f":"IF(TCATrigger=\"No\",\"\",IF(FourPercentTrigger=\"No\",\"\",IF($O$520=\"\",\"\",$O$520)))","v":""},{"$f":"IF(TCATrigger=\"No\",\"\",IF(FourPercentTrigger=\"No\",\"\",IF($P$520=\"\",\"\",$P$520)))","v":""}]
[]
[null,null,null,null,null,null,"TOTAL OPERATING EXPENSES:",null,{"$f":"IF(rng02_Expense_TotalNetOperatingExpenses=\"\",\"\",rng02_Expense_TotalNetOperatingExpenses)","v":0},0,0,0,0,0,0,0,null,null,null,null,null,null,null,null,null,null,null,null,null,null,null,null,null,null,null,null,null,"TOTAL OPERATING EXPENSES:",null,{"$f":"IF(TCATrigger=\"No\",\"\",$I522)","v":""},{"$f":"IF(AN522=\"\",\"\",AN522)","v":""},{"$f":"IF(TCATrigger=\"No\",\"\",IF(FourPercentTrigger=\"No\",\"\",IF($J$522=\"\",\"\",$J$522)))","v":""},{"$f":"IF(TCATrigger=\"No\",\"\",IF(FourPercentTrigger=\"No\",\"\",IF($K$522=\"\",\"\",$K$522)))","v":""},{"$f":"IF(TCATrigger=\"No\",\"\",IF(FourPercentTrigger=\"No\",\"\",IF($L$522=\"\",\"\",$L$522)))","v":""},{"$f":"IF(TCATrigger=\"No\",\"\",IF(FourPercentTrigger=\"No\",\"\",IF($M$522=\"\",\"\",$M$522)))","v":""},{"$f":"IF(TCATrigger=\"No\",\"\",IF(FourPercentTrigger=\"No\",\"\",IF($N$522=\"\",\"\",$N$522)))","v":""},{"$f":"IF(TCATrigger=\"No\",\"\",IF(FourPercentTrigger=\"No\",\"\",IF($O$522=\"\",\"\",$O$522)))","v":""},{"$f":"IF(TCATrigger=\"No\",\"\",IF(FourPercentTrigger=\"No\",\"\",IF($P$522=\"\",\"\",$P$522)))","v":""}]
[null,null,null,null,null,null,"NET OPERATING INCOME",null,{"$f":"IF(rng02_Expense_NetOperatingIncome=\"\",\"\",rng02_Expense_NetOperatingIncome)","v":0},0,0,0,null,null,0,0,null,null,null,null,null,null,null,null,null,null,null,null,null,null,null,null,null,null,null,null,null,"NET OPERATING INCOME",null,{"$f":"IF(TCATrigger=\"No\",\"\",$I523)","v":""},"",{"$f":"IF(TCATrigger=\"No\",\"\",IF(FourPercentTrigger=\"No\",\"\",IF($J$523=\"\",\"\",$J$523)))","v":""},{"$f":"IF(TCATrigger=\"No\",\"\",IF(FourPercentTrigger=\"No\",\"\",IF($K$523=\"\",\"\",$K$523)))","v":""},{"$f":"IF(TCATrigger=\"No\",\"\",IF(FourPercentTrigger=\"No\",\"\",IF($L$523=\"\",\"\",$L$523)))","v":""},{"$f":"IF(TCATrigger=\"No\",\"\",IF(FourPercentTrigger=\"No\",\"\",IF($M$523=\"\",\"\",$M$523)))","v":""},{"$f":"IF(TCATrigger=\"No\",\"\",IF(FourPercentTrigger=\"No\",\"\",IF($N$523=\"\",\"\",$N$523)))","v":""},{"$f":"IF(TCATrigger=\"No\",\"\",IF(FourPercentTrigger=\"No\",\"\",IF($O$523=\"\",\"\",$O$523)))","v":""},{"$f":"IF(TCATrigger=\"No\",\"\",IF(FourPercentTrigger=\"No\",\"\",IF($P$523=\"\",\"\",$P$523)))","v":""}]
[]
[null,null,null,null,null,null,"DEBT SERVICE",null,null,null,null,null,null,null,null,null,null,null,null,null,null,null,null,null,null,null,null,null,null,null,null,null,null,null,null,null,null,"DEBT SERVICE"]
[null,null,null,null,null,null,"FIRST MORTGAGE DEBT SERVICE:",null,{"$f":"IF(rng02_Expense_DebtServiceFirstMortgageDebtSrvc=\"\",\"\",rng02_Expense_DebtServiceFirstMortgageDebtSrvc)","v":0},0,null,0,null,null,0,0,null,null,null,null,null,null,null,null,null,null,null,null,null,null,null,null,null,null,null,null,null,"FIRST MORTGAGE DEBT SERVICE:",null,{"$f":"IF(TCATrigger=\"No\",\"\",$I526)","v":""},{"$f":"IF(AN526=\"\",\"\",AN526)","v":""},{"$f":"IF(TCATrigger=\"No\",\"\",IF(FourPercentTrigger=\"No\",\"\",IF($J$526=\"\",\"\",$J$526)))","v":""},{"$f":"IF(TCATrigger=\"No\",\"\",IF(FourPercentTrigger=\"No\",\"\",IF($K$526=\"\",\"\",$K$526)))","v":""},{"$f":"IF(TCATrigger=\"No\",\"\",IF(FourPercentTrigger=\"No\",\"\",IF($L$526=\"\",\"\",$L$526)))","v":""},{"$f":"IF(TCATrigger=\"No\",\"\",IF(FourPercentTrigger=\"No\",\"\",IF($M$526=\"\",\"\",$M$526)))","v":""},{"$f":"IF(TCATrigger=\"No\",\"\",IF(FourPercentTrigger=\"No\",\"\",IF($N$526=\"\",\"\",$N$526)))","v":""},{"$f":"IF(TCATrigger=\"No\",\"\",IF(FourPercentTrigger=\"No\",\"\",IF($O$526=\"\",\"\",$O$526)))","v":""},{"$f":"IF(TCATrigger=\"No\",\"\",IF(FourPercentTrigger=\"No\",\"\",IF($P$526=\"\",\"\",$P$526)))","v":""}]
[null,null,null,null,null,null,"FIRST MORTGAGE INSURANCE PREMIUM (MIP):",null,{"$f":"IF(rng02_Expense_DebtServiceFirstMortgageInPremium=\"\",\"\",rng02_Expense_DebtServiceFirstMortgageInPremium)","v":0},0,null,0,null,null,0,0,null,null,null,null,null,null,null,null,null,null,null,null,null,null,null,null,null,null,null,null,null,"FIRST MORTGAGE INSURANCE PREMIUM (MIP):",null,{"$f":"IF(TCATrigger=\"No\",\"\",$I527)","v":""},"",{"$f":"IF(TCATrigger=\"No\",\"\",IF(FourPercentTrigger=\"No\",\"\",IF($J$527=\"\",\"\",$J$527)))","v":""},{"$f":"IF(TCATrigger=\"No\",\"\",IF(FourPercentTrigger=\"No\",\"\",IF($K$527=\"\",\"\",$K$527)))","v":""},{"$f":"IF(TCATrigger=\"No\",\"\",IF(FourPercentTrigger=\"No\",\"\",IF($L$527=\"\",\"\",$L$527)))","v":""},{"$f":"IF(TCATrigger=\"No\",\"\",IF(FourPercentTrigger=\"No\",\"\",IF($M$527=\"\",\"\",$M$527)))","v":""},{"$f":"IF(TCATrigger=\"No\",\"\",IF(FourPercentTrigger=\"No\",\"\",IF($N$527=\"\",\"\",$N$527)))","v":""},{"$f":"IF(TCATrigger=\"No\",\"\",IF(FourPercentTrigger=\"No\",\"\",IF($O$527=\"\",\"\",$O$527)))","v":""},{"$f":"IF(TCATrigger=\"No\",\"\",IF(FourPercentTrigger=\"No\",\"\",IF($P$527=\"\",\"\",$P$527)))","v":""}]
[null,null,null,null,null,null,"SECOND MORTGAGE DEBT SERVICE:",null,{"$f":"IF(rng02_Expense_DebtServiceSecondMortgageDebtSrvc=\"\",\"\",rng02_Expense_DebtServiceSecondMortgageDebtSrvc)","v":0},0,null,0,null,null,0,0,null,null,null,null,null,null,null,null,null,null,null,null,null,null,null,null,null,null,null,null,null,"SECOND MORTGAGE DEBT SERVICE:",null,{"$f":"IF(TCATrigger=\"No\",\"\",$I528)","v":""},"",{"$f":"IF(TCATrigger=\"No\",\"\",IF(FourPercentTrigger=\"No\",\"\",IF($J$528=\"\",\"\",$J$528)))","v":""},{"$f":"IF(TCATrigger=\"No\",\"\",IF(FourPercentTrigger=\"No\",\"\",IF($K$528=\"\",\"\",$K$528)))","v":""},{"$f":"IF(TCATrigger=\"No\",\"\",IF(FourPercentTrigger=\"No\",\"\",IF($L$528=\"\",\"\",$L$528)))","v":""},{"$f":"IF(TCATrigger=\"No\",\"\",IF(FourPercentTrigger=\"No\",\"\",IF($M$528=\"\",\"\",$M$528)))","v":""},{"$f":"IF(TCATrigger=\"No\",\"\",IF(FourPercentTrigger=\"No\",\"\",IF($N$528=\"\",\"\",$N$528)))","v":""},{"$f":"IF(TCATrigger=\"No\",\"\",IF(FourPercentTrigger=\"No\",\"\",IF($O$528=\"\",\"\",$O$528)))","v":""},{"$f":"IF(TCATrigger=\"No\",\"\",IF(FourPercentTrigger=\"No\",\"\",IF($P$528=\"\",\"\",$P$528)))","v":""}]
[null,null,null,null,null,null,"OTHER DEBT SERVICE:",null,{"$f":"IF(rng02_Expense_DebtServiceOtherDebtSrvc=\"\",\"\",rng02_Expense_DebtServiceOtherDebtSrvc)","v":0},0,null,0,null,null,0,0,null,null,null,null,null,null,null,null,null,null,null,null,null,null,null,null,null,null,null,null,null,"OTHER DEBT SERVICE:",null,{"$f":"IF(TCATrigger=\"No\",\"\",$I529)","v":""},"",{"$f":"IF(TCATrigger=\"No\",\"\",IF(FourPercentTrigger=\"No\",\"\",IF($J$529=\"\",\"\",$J$529)))","v":""},{"$f":"IF(TCATrigger=\"No\",\"\",IF(FourPercentTrigger=\"No\",\"\",IF($K$529=\"\",\"\",$K$529)))","v":""},{"$f":"IF(TCATrigger=\"No\",\"\",IF(FourPercentTrigger=\"No\",\"\",IF($L$529=\"\",\"\",$L$529)))","v":""},{"$f":"IF(TCATrigger=\"No\",\"\",IF(FourPercentTrigger=\"No\",\"\",IF($M$529=\"\",\"\",$M$529)))","v":""},{"$f":"IF(TCATrigger=\"No\",\"\",IF(FourPercentTrigger=\"No\",\"\",IF($N$529=\"\",\"\",$N$529)))","v":""},{"$f":"IF(TCATrigger=\"No\",\"\",IF(FourPercentTrigger=\"No\",\"\",IF($O$529=\"\",\"\",$O$529)))","v":""},{"$f":"IF(TCATrigger=\"No\",\"\",IF(FourPercentTrigger=\"No\",\"\",IF($P$529=\"\",\"\",$P$529)))","v":""}]
[null,null,null,null,null,null,"TOTAL MORTGAGE DEBT SERVICE:",null,{"$f":"IF(rng02_Expense_TotalMortgageDebtSrvc=\"\",\"\",rng02_Expense_TotalMortgageDebtSrvc)","v":0},0,0,0,null,null,0,0,null,null,null,null,null,null,null,null,null,null,null,null,null,null,null,null,null,null,null,null,null,"TOTAL MORTGAGE DEBT SERVICE:",null,{"$f":"IF(TCATrigger=\"No\",\"\",$I530)","v":""},"",{"$f":"IF(TCATrigger=\"No\",\"\",IF(FourPercentTrigger=\"No\",\"\",IF($J$530=\"\",\"\",$J$530)))","v":""},{"$f":"IF(TCATrigger=\"No\",\"\",IF(FourPercentTrigger=\"No\",\"\",IF($K$530=\"\",\"\",$K$530)))","v":""},{"$f":"IF(TCATrigger=\"No\",\"\",IF(FourPercentTrigger=\"No\",\"\",IF($L$530=\"\",\"\",$L$530)))","v":""},{"$f":"IF(TCATrigger=\"No\",\"\",IF(FourPercentTrigger=\"No\",\"\",IF($M$530=\"\",\"\",$M$530)))","v":""},{"$f":"IF(TCATrigger=\"No\",\"\",IF(FourPercentTrigger=\"No\",\"\",IF($N$530=\"\",\"\",$N$530)))","v":""},{"$f":"IF(TCATrigger=\"No\",\"\",IF(FourPercentTrigger=\"No\",\"\",IF($O$530=\"\",\"\",$O$530)))","v":""},{"$f":"IF(TCATrigger=\"No\",\"\",IF(FourPercentTrigger=\"No\",\"\",IF($P$530=\"\",\"\",$P$530)))","v":""}]
[]
[null,null,null,null,null,null,"First Mortgage DSCR:",null,{"$f":"IF(rng02_Expense_DebtServiceFirtMortgageDSCR=\"\",\"\",rng02_Expense_DebtServiceFirtMortgageDSCR)","v":"NAP"},"NAP","NAP","NAP",null,null,"NAP",null,null,null,null,null,null,null,null,null,null,null,null,null,null,null,null,null,null,null,null,null,null,"First Mortgage DSCR:",null,{"$f":"IF(TCATrigger=\"No\",\"\",$I532)","v":""},{"$f":"IF(AN532=\"\",\"\",AN532)","v":""},{"$f":"IF(TCATrigger=\"No\",\"\",IF(FourPercentTrigger=\"No\",\"\",IF($J$532=\"\",\"\",$J$532)))","v":""},{"$f":"IF(TCATrigger=\"No\",\"\",IF(FourPercentTrigger=\"No\",\"\",IF($K$532=\"\",\"\",$K$532)))","v":""},{"$f":"IF(TCATrigger=\"No\",\"\",IF(FourPercentTrigger=\"No\",\"\",IF($L$532=\"\",\"\",$L$532)))","v":""},{"$f":"IF(TCATrigger=\"No\",\"\",IF(FourPercentTrigger=\"No\",\"\",IF($M$532=\"\",\"\",$M$532)))","v":""},{"$f":"IF(TCATrigger=\"No\",\"\",IF(FourPercentTrigger=\"No\",\"\",IF($N$532=\"\",\"\",$N$532)))","v":""},{"$f":"IF(TCATrigger=\"No\",\"\",IF(FourPercentTrigger=\"No\",\"\",IF($O$532=\"\",\"\",$O$532)))","v":""}]
[]
[]
["Section 5","Fund Sources and Loan Sizing (Tab: 02_3_Sources)",null,null,null,null,null,null,null,null,null,null,"ProLink Mapping","DEV Funding Sources",null,null,null,null,null,null,null,null,null,null,null,null,null,null,null,null,null,null,null,null,null,null,null,"TC Property Financing"]
["Tab","Cell","Range Name","Source Type","Source","Interest Rate","Term (Months)","Total","Annual Debt Service","Program Type",null,null,"Funding Source","Interest Rate","Term (Months)","Amount","Debt Service","Program Type",null,null,null,null,null,null,null,null,null,null,null,null,null,null,null,null,null,null,null,"DEBT","Financing Type","Interest Rate","Loan Term (Months)","Amount","Annual Debt Service Payment"]
["02_3_Sources","B9","rng02_Sources_Debt1","Debt",{"$f":"IF(rng02_Sources_Debt1=\"\",\"\",rng02_Sources_Debt1)","v":""},{"$f":"IF(OR(rng02_Sources_Debt_Rate1=0,rng02_Sources_Debt_Rate1=\"\"),\"\",rng02_Sources_Debt_Rate1)","v":""},{"$f":"IF(OR(rng02_Sources_Debt_Term1=0,rng02_Sources_Debt_Term1=\"\"),\"\",rng02_Sources_Debt_Term1*12)","v":""},{"$f":"IF(rng02_Sources_Debt_Total1=\"\",\"\",rng02_Sources_Debt_Total1)","v":""},{"$f":"IF(rng02_Sources_Debt_AnDebtServPayment1=\"\",\"\",rng02_Sources_Debt_AnDebtServPayment1)","v":0},{"$f":"IF(rng02_Sources_Debt1=\"\",\"\",\"Housing Program\")","v":""},null,null,{"$f":"IF(AND(Table36[[#This Row],[Total]]>0, Table36[[#This Row],[Total]]<>\"\"),Table36[[#This Row],[Source]],\"\")","v":""},{"$f":"IF(Table37[[#This Row],[Funding Source]]=\"\",\"\",Table36[[#This Row],[Interest Rate]])","v":""},{"$f":"IF(Table37[[#This Row],[Funding Source]]=\"\",\"\",Table36[[#This Row],[Term (Months)]])","v":""},{"$f":"IF(Table37[[#This Row],[Funding Source]]=\"\",\"\",Table36[[#This Row],[Total]])","v":""},{"$f":"IF(Table37[[#This Row],[Funding Source]]=\"\",\"\",Table36[[#This Row],[Annual Debt Service]])","v":""},{"$f":"IF(Table37[[#This Row],[Funding Source]]=\"\",\"\",Table36[[#This Row],[Program Type]])","v":""},null,null,null,null,null,null,null,null,null,null,null,null,null,null,null,null,null,null,null,{"$f":"IF(TCATrigger=\"No\",\"\",IF(Table36[[#This Row],[Total]]=\"\",\"\",Table36[[#This Row],[Source]]))","v":""},{"$f":"IF(TCATrigger=\"No\",\"\",IF(Table38[[#This Row],[DEBT]]=\"\",\"\",\"Permanent\"))","v":""},{"$f":"IF(TCATrigger=\"No\",\"\",IF(Table38[[#This Row],[DEBT]]=\"\",\"\",Table36[[#This Row],[Interest Rate]]))","v":""},{"$f":"IF(TCATrigger=\"No\",\"\",IF(Table38[[#This Row],[DEBT]]=\"\",\"\",Table36[[#This Row],[Term (Months)]]))","v":""},{"$f":"IF(TCATrigger=\"No\",\"\",IF(Table38[[#This Row],[DEBT]]=\"\",\"\",Table36[[#This Row],[Total]]))","v":""},{"$f":"IF(TCATrigger=\"No\",\"\",IF(Table38[[#This Row],[DEBT]]=\"\",\"\",Table36[[#This Row],[Annual Debt Service]]))","v":""}]
["02_3_Sources","B10","rng02_Sources_Debt2","Debt",{"$f":"IF(rng02_Sources_Debt2=\"\",\"\",rng02_Sources_Debt2)","v":"RIH Second Mortgage"},{"$f":"IF(OR(rng02_Sources_Debt_Rate2=0,rng02_Sources_Debt_Rate2=\"\"),\"\",rng02_Sources_Debt_Rate2)","v":""},{"$f":"IF(OR(rng02_Sources_Debt_Term2=0,rng02_Sources_Debt_Term2=\"\"),\"\",rng02_Sources_Debt_Term2*12)","v":""},{"$f":"IF(rng02_Sources_Debt_Total2=\"\",\"\",rng02_Sources_Debt_Total2)","v":""},{"$f":"IF(rng02_Sources_Debt_AnDebtServPayment2=\"\",\"\",rng02_Sources_Debt_AnDebtServPayment2)","v":0},{"$f":"IF(rng02_Sources_Debt2=\"\",\"\",\"Housing Program\")","v":"Housing Program"},null,null,{"$f":"IF(AND(Table36[[#This Row],[Total]]>0, Table36[[#This Row],[Total]]<>\"\"),Table36[[#This Row],[Source]],\"\")","v":""},{"$f":"IF(Table37[[#This Row],[Funding Source]]=\"\",\"\",Table36[[#This Row],[Interest Rate]])","v":""},{"$f":"IF(Table37[[#This Row],[Funding Source]]=\"\",\"\",Table36[[#This Row],[Term (Months)]])","v":""},{"$f":"IF(Table37[[#This Row],[Funding Source]]=\"\",\"\",Table36[[#This Row],[Total]])","v":""},{"$f":"IF(Table37[[#This Row],[Funding Source]]=\"\",\"\",Table36[[#This Row],[Annual Debt Service]])","v":""},{"$f":"IF(Table37[[#This Row],[Funding Source]]=\"\",\"\",Table36[[#This Row],[Program Type]])","v":""},null,null,null,null,null,null,null,null,null,null,null,null,null,null,null,null,null,null,null,{"$f":"IF(TCATrigger=\"No\",\"\",IF(Table36[[#This Row],[Total]]=\"\",\"\",Table36[[#This Row],[Source]]))","v":""},{"$f":"IF(TCATrigger=\"No\",\"\",IF(Table38[[#This Row],[DEBT]]=\"\",\"\",\"Permanent\"))","v":""},{"$f":"IF(TCATrigger=\"No\",\"\",IF(Table38[[#This Row],[DEBT]]=\"\",\"\",Table36[[#This Row],[Interest Rate]]))","v":""},{"$f":"IF(TCATrigger=\"No\",\"\",IF(Table38[[#This Row],[DEBT]]=\"\",\"\",Table36[[#This Row],[Term (Months)]]))","v":""},{"$f":"IF(TCATrigger=\"No\",\"\",IF(Table38[[#This Row],[DEBT]]=\"\",\"\",Table36[[#This Row],[Total]]))","v":""},{"$f":"IF(TCATrigger=\"No\",\"\",IF(Table38[[#This Row],[DEBT]]=\"\",\"\",Table36[[#This Row],[Annual Debt Service]]))","v":""}]
["02_3_Sources","B11","rng02_Sources_Debt3","Debt",{"$f":"IF(rng02_Sources_Debt3=\"\",\"\",rng02_Sources_Debt3)","v":""},{"$f":"IF(OR(rng02_Sources_Debt_Rate3=0,rng02_Sources_Debt_Rate3=\"\"),\"\",rng02_Sources_Debt_Rate3)","v":""},{"$f":"IF(OR(rng02_Sources_Debt_Term3=0,rng02_Sources_Debt_Term3=\"\"),\"\",rng02_Sources_Debt_Term3*12)","v":""},{"$f":"IF(rng02_Sources_Debt_Total3=\"\",\"\",rng02_Sources_Debt_Total3)","v":""},{"$f":"IF(rng02_Sources_Debt_AnDebtServPayment3=\"\",\"\",rng02_Sources_Debt_AnDebtServPayment3)","v":0},{"$f":"IF(rng02_Sources_Debt3=\"\",\"\",\"Housing Program\")","v":""},null,null,{"$f":"IF(AND(Table36[[#This Row],[Total]]>0, Table36[[#This Row],[Total]]<>\"\"),Table36[[#This Row],[Source]],\"\")","v":""},{"$f":"IF(Table37[[#This Row],[Funding Source]]=\"\",\"\",Table36[[#This Row],[Interest Rate]])","v":""},{"$f":"IF(Table37[[#This Row],[Funding Source]]=\"\",\"\",Table36[[#This Row],[Term (Months)]])","v":""},{"$f":"IF(Table37[[#This Row],[Funding Source]]=\"\",\"\",Table36[[#This Row],[Total]])","v":""},{"$f":"IF(Table37[[#This Row],[Funding Source]]=\"\",\"\",Table36[[#This Row],[Annual Debt Service]])","v":""},{"$f":"IF(Table37[[#This Row],[Funding Source]]=\"\",\"\",Table36[[#This Row],[Program Type]])","v":""},null,null,null,null,null,null,null,null,null,null,null,null,null,null,null,null,null,null,null,{"$f":"IF(TCATrigger=\"No\",\"\",IF(Table36[[#This Row],[Total]]=\"\",\"\",Table36[[#This Row],[Source]]))","v":""},{"$f":"IF(TCATrigger=\"No\",\"\",IF(Table38[[#This Row],[DEBT]]=\"\",\"\",\"Permanent\"))","v":""},{"$f":"IF(TCATrigger=\"No\",\"\",IF(Table38[[#This Row],[DEBT]]=\"\",\"\",Table36[[#This Row],[Interest Rate]]))","v":""},{"$f":"IF(TCATrigger=\"No\",\"\",IF(Table38[[#This Row],[DEBT]]=\"\",\"\",Table36[[#This Row],[Term (Months)]]))","v":""},{"$f":"IF(TCATrigger=\"No\",\"\",IF(Table38[[#This Row],[DEBT]]=\"\",\"\",Table36[[#This Row],[Total]]))","v":""},{"$f":"IF(TCATrigger=\"No\",\"\",IF(Table38[[#This Row],[DEBT]]=\"\",\"\",Table36[[#This Row],[Annual Debt Service]]))","v":""}]
["02_3_Sources","B12","rng02_Sources_Debt4","Debt",{"$f":"IF(rng02_Sources_Debt4=\"\",\"\",rng02_Sources_Debt4)","v":""},{"$f":"IF(OR(rng02_Sources_Debt_Rate4=0,rng02_Sources_Debt_Rate4=\"\"),\"\",rng02_Sources_Debt_Rate4)","v":""},{"$f":"IF(OR(rng02_Sources_Debt_Term4=0,rng02_Sources_Debt_Term4=\"\"),\"\",rng02_Sources_Debt_Term4*12)","v":""},{"$f":"IF(rng02_Sources_Debt_Total4=\"\",\"\",rng02_Sources_Debt_Total4)","v":""},{"$f":"IF(rng02_Sources_Debt_AnDebtServPayment4=\"\",\"\",rng02_Sources_Debt_AnDebtServPayment4)","v":0},{"$f":"IF(rng02_Sources_Debt4=\"\",\"\",\"Housing Program\")","v":""},null,null,{"$f":"IF(AND(Table36[[#This Row],[Total]]>0, Table36[[#This Row],[Total]]<>\"\"),Table36[[#This Row],[Source]],\"\")","v":""},{"$f":"IF(Table37[[#This Row],[Funding Source]]=\"\",\"\",Table36[[#This Row],[Interest Rate]])","v":""},{"$f":"IF(Table37[[#This Row],[Funding Source]]=\"\",\"\",Table36[[#This Row],[Term (Months)]])","v":""},{"$f":"IF(Table37[[#This Row],[Funding Source]]=\"\",\"\",Table36[[#This Row],[Total]])","v":""},{"$f":"IF(Table37[[#This Row],[Funding Source]]=\"\",\"\",Table36[[#This Row],[Annual Debt Service]])","v":""},{"$f":"IF(Table37[[#This Row],[Funding Source]]=\"\",\"\",Table36[[#This Row],[Program Type]])","v":""},null,null,null,null,null,null,null,null,null,null,null,null,null,null,null,null,null,null,null,{"$f":"IF(TCATrigger=\"No\",\"\",IF(Table36[[#This Row],[Total]]=\"\",\"\",Table36[[#This Row],[Source]]))","v":""},{"$f":"IF(TCATrigger=\"No\",\"\",IF(Table38[[#This Row],[DEBT]]=\"\",\"\",\"Permanent\"))","v":""},{"$f":"IF(TCATrigger=\"No\",\"\",IF(Table38[[#This Row],[DEBT]]=\"\",\"\",Table36[[#This Row],[Interest Rate]]))","v":""},{"$f":"IF(TCATrigger=\"No\",\"\",IF(Table38[[#This Row],[DEBT]]=\"\",\"\",Table36[[#This Row],[Term (Months)]]))","v":""},{"$f":"IF(TCATrigger=\"No\",\"\",IF(Table38[[#This Row],[DEBT]]=\"\",\"\",Table36[[#This Row],[Total]]))","v":""},{"$f":"IF(TCATrigger=\"No\",\"\",IF(Table38[[#This Row],[DEBT]]=\"\",\"\",Table36[[#This Row],[Annual Debt Service]]))","v":""}]
["02_3_Sources","B13","rng02_Sources_Debt5","Debt",{"$f":"IF(rng02_Sources_Debt5=\"\",\"\",rng02_Sources_Debt5)","v":""},{"$f":"IF(OR(rng02_Sources_Debt_Rate5=0,rng02_Sources_Debt_Rate5=\"\"),\"\",rng02_Sources_Debt_Rate5)","v":""},{"$f":"IF(OR(rng02_Sources_Debt_Term5=0,rng02_Sources_Debt_Term5=\"\"),\"\",rng02_Sources_Debt_Term5*12)","v":""},{"$f":"IF(rng02_Sources_Debt_Total5=\"\",\"\",rng02_Sources_Debt_Total5)","v":""},{"$f":"IF(rng02_Sources_Debt_AnDebtServPayment5=\"\",\"\",rng02_Sources_Debt_AnDebtServPayment5)","v":0},{"$f":"IF(rng02_Sources_Debt5=\"\",\"\",\"Housing Program\")","v":""},null,null,{"$f":"IF(AND(Table36[[#This Row],[Total]]>0, Table36[[#This Row],[Total]]<>\"\"),Table36[[#This Row],[Source]],\"\")","v":""},{"$f":"IF(Table37[[#This Row],[Funding Source]]=\"\",\"\",Table36[[#This Row],[Interest Rate]])","v":""},{"$f":"IF(Table37[[#This Row],[Funding Source]]=\"\",\"\",Table36[[#This Row],[Term (Months)]])","v":""},{"$f":"IF(Table37[[#This Row],[Funding Source]]=\"\",\"\",Table36[[#This Row],[Total]])","v":""},{"$f":"IF(Table37[[#This Row],[Funding Source]]=\"\",\"\",Table36[[#This Row],[Annual Debt Service]])","v":""},{"$f":"IF(Table37[[#This Row],[Funding Source]]=\"\",\"\",Table36[[#This Row],[Program Type]])","v":""},null,null,null,null,null,null,null,null,null,null,null,null,null,null,null,null,null,null,null,{"$f":"IF(TCATrigger=\"No\",\"\",IF(Table36[[#This Row],[Total]]=\"\",\"\",Table36[[#This Row],[Source]]))","v":""},{"$f":"IF(TCATrigger=\"No\",\"\",IF(Table38[[#This Row],[DEBT]]=\"\",\"\",\"Permanent\"))","v":""},{"$f":"IF(TCATrigger=\"No\",\"\",IF(Table38[[#This Row],[DEBT]]=\"\",\"\",Table36[[#This Row],[Interest Rate]]))","v":""},{"$f":"IF(TCATrigger=\"No\",\"\",IF(Table38[[#This Row],[DEBT]]=\"\",\"\",Table36[[#This Row],[Term (Months)]]))","v":""},{"$f":"IF(TCATrigger=\"No\",\"\",IF(Table38[[#This Row],[DEBT]]=\"\",\"\",Table36[[#This Row],[Total]]))","v":""},{"$f":"IF(TCATrigger=\"No\",\"\",IF(Table38[[#This Row],[DEBT]]=\"\",\"\",Table36[[#This Row],[Annual Debt Service]]))","v":""}]
["02_3_Sources","B14","rng02_Sources_Debt6","Debt",{"$f":"IF(rng02_Sources_Debt6=\"\",\"\",rng02_Sources_Debt6)","v":""},{"$f":"IF(OR(rng02_Sources_Debt_Rate6=0,rng02_Sources_Debt_Rate6=\"\"),\"\",rng02_Sources_Debt_Rate6)","v":""},{"$f":"IF(OR(rng02_Sources_Debt_Term6=0,rng02_Sources_Debt_Term6=\"\"),\"\",rng02_Sources_Debt_Term6*12)","v":""},{"$f":"IF(rng02_Sources_Debt_Total6=\"\",\"\",rng02_Sources_Debt_Total6)","v":""},{"$f":"IF(rng02_Sources_Debt_AnDebtServPayment6=\"\",\"\",rng02_Sources_Debt_AnDebtServPayment6)","v":0},{"$f":"IF(rng02_Sources_Debt6=\"\",\"\",\"Housing Program\")","v":""},null,null,{"$f":"IF(AND(Table36[[#This Row],[Total]]>0, Table36[[#This Row],[Total]]<>\"\"),Table36[[#This Row],[Source]],\"\")","v":""},{"$f":"IF(Table37[[#This Row],[Funding Source]]=\"\",\"\",Table36[[#This Row],[Interest Rate]])","v":""},{"$f":"IF(Table37[[#This Row],[Funding Source]]=\"\",\"\",Table36[[#This Row],[Term (Months)]])","v":""},{"$f":"IF(Table37[[#This Row],[Funding Source]]=\"\",\"\",Table36[[#This Row],[Total]])","v":""},{"$f":"IF(Table37[[#This Row],[Funding Source]]=\"\",\"\",Table36[[#This Row],[Annual Debt Service]])","v":""},{"$f":"IF(Table37[[#This Row],[Funding Source]]=\"\",\"\",Table36[[#This Row],[Program Type]])","v":""},null,null,null,null,null,null,null,null,null,null,null,null,null,null,null,null,null,null,null,{"$f":"IF(TCATrigger=\"No\",\"\",IF(Table36[[#This Row],[Total]]=\"\",\"\",Table36[[#This Row],[Source]]))","v":""},{"$f":"IF(TCATrigger=\"No\",\"\",IF(Table38[[#This Row],[DEBT]]=\"\",\"\",\"Permanent\"))","v":""},{"$f":"IF(TCATrigger=\"No\",\"\",IF(Table38[[#This Row],[DEBT]]=\"\",\"\",Table36[[#This Row],[Interest Rate]]))","v":""},{"$f":"IF(TCATrigger=\"No\",\"\",IF(Table38[[#This Row],[DEBT]]=\"\",\"\",Table36[[#This Row],[Term (Months)]]))","v":""},{"$f":"IF(TCATrigger=\"No\",\"\",IF(Table38[[#This Row],[DEBT]]=\"\",\"\",Table36[[#This Row],[Total]]))","v":""},{"$f":"IF(TCATrigger=\"No\",\"\",IF(Table38[[#This Row],[DEBT]]=\"\",\"\",Table36[[#This Row],[Annual Debt Service]]))","v":""}]
["02_3_Sources","B15","rng02_Sources_Debt7","Debt",{"$f":"IF(rng02_Sources_Debt7=\"\",\"\",rng02_Sources_Debt7)","v":""},{"$f":"IF(OR(rng02_Sources_Debt_Rate7=0,rng02_Sources_Debt_Rate7=\"\"),\"\",rng02_Sources_Debt_Rate7)","v":""},{"$f":"IF(OR(rng02_Sources_Debt_Term7=0,rng02_Sources_Debt_Term7=\"\"),\"\",rng02_Sources_Debt_Term7*12)","v":""},{"$f":"IF(rng02_Sources_Debt_Total7=\"\",\"\",rng02_Sources_Debt_Total7)","v":""},{"$f":"IF(rng02_Sources_Debt_AnDebtServPayment7=\"\",\"\",rng02_Sources_Debt_AnDebtServPayment7)","v":0},{"$f":"IF(rng02_Sources_Debt7=\"\",\"\",\"Housing Program\")","v":""},null,null,{"$f":"IF(AND(Table36[[#This Row],[Total]]>0, Table36[[#This Row],[Total]]<>\"\"),Table36[[#This Row],[Source]],\"\")","v":""},{"$f":"IF(Table37[[#This Row],[Funding Source]]=\"\",\"\",Table36[[#This Row],[Interest Rate]])","v":""},{"$f":"IF(Table37[[#This Row],[Funding Source]]=\"\",\"\",Table36[[#This Row],[Term (Months)]])","v":""},{"$f":"IF(Table37[[#This Row],[Funding Source]]=\"\",\"\",Table36[[#This Row],[Total]])","v":""},{"$f":"IF(Table37[[#This Row],[Funding Source]]=\"\",\"\",Table36[[#This Row],[Annual Debt Service]])","v":""},{"$f":"IF(Table37[[#This Row],[Funding Source]]=\"\",\"\",Table36[[#This Row],[Program Type]])","v":""},null,null,null,null,null,null,null,null,null,null,null,null,null,null,null,null,null,null,null,{"$f":"IF(TCATrigger=\"No\",\"\",IF(Table36[[#This Row],[Total]]=\"\",\"\",Table36[[#This Row],[Source]]))","v":""},{"$f":"IF(TCATrigger=\"No\",\"\",IF(Table38[[#This Row],[DEBT]]=\"\",\"\",\"Permanent\"))","v":""},{"$f":"IF(TCATrigger=\"No\",\"\",IF(Table38[[#This Row],[DEBT]]=\"\",\"\",Table36[[#This Row],[Interest Rate]]))","v":""},{"$f":"IF(TCATrigger=\"No\",\"\",IF(Table38[[#This Row],[DEBT]]=\"\",\"\",Table36[[#This Row],[Term (Months)]]))","v":""},{"$f":"IF(TCATrigger=\"No\",\"\",IF(Table38[[#This Row],[DEBT]]=\"\",\"\",Table36[[#This Row],[Total]]))","v":""},{"$f":"IF(TCATrigger=\"No\",\"\",IF(Table38[[#This Row],[DEBT]]=\"\",\"\",Table36[[#This Row],[Annual Debt Service]]))","v":""}]
["02_3_Sources","B16","rng02_Sources_Debt8","Debt",{"$f":"IF(rng02_Sources_Debt8=\"\",\"\",rng02_Sources_Debt8)","v":""},{"$f":"IF(OR(rng02_Sources_Debt_Rate8=0,rng02_Sources_Debt_Rate8=\"\"),\"\",rng02_Sources_Debt_Rate8)","v":""},{"$f":"IF(OR(rng02_Sources_Debt_Term8=0,rng02_Sources_Debt_Term8=\"\"),\"\",rng02_Sources_Debt_Term8*12)","v":""},{"$f":"IF(rng02_Sources_Debt_Total8=\"\",\"\",rng02_Sources_Debt_Total8)","v":""},{"$f":"IF(rng02_Sources_Debt_AnDebtServPayment8=\"\",\"\",rng02_Sources_Debt_AnDebtServPayment8)","v":0},{"$f":"IF(rng02_Sources_Debt8=\"\",\"\",\"Housing Program\")","v":""},null,null,{"$f":"IF(AND(Table36[[#This Row],[Total]]>0, Table36[[#This Row],[Total]]<>\"\"),Table36[[#This Row],[Source]],\"\")","v":""},{"$f":"IF(Table37[[#This Row],[Funding Source]]=\"\",\"\",Table36[[#This Row],[Interest Rate]])","v":""},{"$f":"IF(Table37[[#This Row],[Funding Source]]=\"\",\"\",Table36[[#This Row],[Term (Months)]])","v":""},{"$f":"IF(Table37[[#This Row],[Funding Source]]=\"\",\"\",Table36[[#This Row],[Total]])","v":""},{"$f":"IF(Table37[[#This Row],[Funding Source]]=\"\",\"\",Table36[[#This Row],[Annual Debt Service]])","v":""},{"$f":"IF(Table37[[#This Row],[Funding Source]]=\"\",\"\",Table36[[#This Row],[Program Type]])","v":""},null,null,null,null,null,null,null,null,null,null,null,null,null,null,null,null,null,null,null,{"$f":"IF(TCATrigger=\"No\",\"\",IF(Table36[[#This Row],[Total]]=\"\",\"\",Table36[[#This Row],[Source]]))","v":""},{"$f":"IF(TCATrigger=\"No\",\"\",IF(Table38[[#This Row],[DEBT]]=\"\",\"\",\"Permanent\"))","v":""},{"$f":"IF(TCATrigger=\"No\",\"\",IF(Table38[[#This Row],[DEBT]]=\"\",\"\",Table36[[#This Row],[Interest Rate]]))","v":""},{"$f":"IF(TCATrigger=\"No\",\"\",IF(Table38[[#This Row],[DEBT]]=\"\",\"\",Table36[[#This Row],[Term (Months)]]))","v":""},{"$f":"IF(TCATrigger=\"No\",\"\",IF(Table38[[#This Row],[DEBT]]=\"\",\"\",Table36[[#This Row],[Total]]))","v":""},{"$f":"IF(TCATrigger=\"No\",\"\",IF(Table38[[#This Row],[DEBT]]=\"\",\"\",Table36[[#This Row],[Annual Debt Service]]))","v":""}]
["02_3_Sources","B17","rng02_Sources_Debt9","Debt",{"$f":"IF(rng02_Sources_Debt9=\"\",\"\",rng02_Sources_Debt9)","v":""},{"$f":"IF(OR(rng02_Sources_Debt_Rate9=0,rng02_Sources_Debt_Rate9=\"\"),\"\",rng02_Sources_Debt_Rate9)","v":""},{"$f":"IF(OR(rng02_Sources_Debt_Term9=0,rng02_Sources_Debt_Term9=\"\"),\"\",rng02_Sources_Debt_Term9*12)","v":""},{"$f":"IF(rng02_Sources_Debt_Total9=\"\",\"\",rng02_Sources_Debt_Total9)","v":""},{"$f":"IF(rng02_Sources_Debt_AnDebtServPayment9=\"\",\"\",rng02_Sources_Debt_AnDebtServPayment9)","v":0},{"$f":"IF(rng02_Sources_Debt9=\"\",\"\",\"Housing Program\")","v":""},null,null,{"$f":"IF(AND(Table36[[#This Row],[Total]]>0, Table36[[#This Row],[Total]]<>\"\"),Table36[[#This Row],[Source]],\"\")","v":""},{"$f":"IF(Table37[[#This Row],[Funding Source]]=\"\",\"\",Table36[[#This Row],[Interest Rate]])","v":""},{"$f":"IF(Table37[[#This Row],[Funding Source]]=\"\",\"\",Table36[[#This Row],[Term (Months)]])","v":""},{"$f":"IF(Table37[[#This Row],[Funding Source]]=\"\",\"\",Table36[[#This Row],[Total]])","v":""},{"$f":"IF(Table37[[#This Row],[Funding Source]]=\"\",\"\",Table36[[#This Row],[Annual Debt Service]])","v":""},{"$f":"IF(Table37[[#This Row],[Funding Source]]=\"\",\"\",Table36[[#This Row],[Program Type]])","v":""},null,null,null,null,null,null,null,null,null,null,null,null,null,null,null,null,null,null,null,{"$f":"IF(TCATrigger=\"No\",\"\",IF(Table36[[#This Row],[Total]]=\"\",\"\",Table36[[#This Row],[Source]]))","v":""},{"$f":"IF(TCATrigger=\"No\",\"\",IF(Table38[[#This Row],[DEBT]]=\"\",\"\",\"Permanent\"))","v":""},{"$f":"IF(TCATrigger=\"No\",\"\",IF(Table38[[#This Row],[DEBT]]=\"\",\"\",Table36[[#This Row],[Interest Rate]]))","v":""},{"$f":"IF(TCATrigger=\"No\",\"\",IF(Table38[[#This Row],[DEBT]]=\"\",\"\",Table36[[#This Row],[Term (Months)]]))","v":""},{"$f":"IF(TCATrigger=\"No\",\"\",IF(Table38[[#This Row],[DEBT]]=\"\",\"\",Table36[[#This Row],[Total]]))","v":""},{"$f":"IF(TCATrigger=\"No\",\"\",IF(Table38[[#This Row],[DEBT]]=\"\",\"\",Table36[[#This Row],[Annual Debt Service]]))","v":""}]
["02_3_Sources","B18","rng02_Sources_Debt10","Debt",{"$f":"IF(rng02_Sources_Debt10=\"\",\"\",rng02_Sources_Debt10)","v":""},{"$f":"IF(OR(rng02_Sources_Debt_Rate10=0,rng02_Sources_Debt_Rate10=\"\"),\"\",rng02_Sources_Debt_Rate10)","v":""},{"$f":"IF(OR(rng02_Sources_Debt_Term10=0,rng02_Sources_Debt_Term10=\"\"),\"\",rng02_Sources_Debt_Term10*12)","v":""},{"$f":"IF(rng02_Sources_Debt_Total10=\"\",\"\",rng02_Sources_Debt_Total10)","v":""},{"$f":"IF(rng02_Sources_Debt_AnDebtServPayment10=\"\",\"\",rng02_Sources_Debt_AnDebtServPayment10)","v":0},{"$f":"IF(rng02_Sources_Debt10=\"\",\"\",\"Housing Program\")","v":""},null,null,{"$f":"IF(AND(Table36[[#This Row],[Total]]>0, Table36[[#This Row],[Total]]<>\"\"),Table36[[#This Row],[Source]],\"\")","v":""},{"$f":"IF(Table37[[#This Row],[Funding Source]]=\"\",\"\",Table36[[#This Row],[Interest Rate]])","v":""},{"$f":"IF(Table37[[#This Row],[Funding Source]]=\"\",\"\",Table36[[#This Row],[Term (Months)]])","v":""},{"$f":"IF(Table37[[#This Row],[Funding Source]]=\"\",\"\",Table36[[#This Row],[Total]])","v":""},{"$f":"IF(Table37[[#This Row],[Funding Source]]=\"\",\"\",Table36[[#This Row],[Annual Debt Service]])","v":""},{"$f":"IF(Table37[[#This Row],[Funding Source]]=\"\",\"\",Table36[[#This Row],[Program Type]])","v":""},null,null,null,null,null,null,null,null,null,null,null,null,null,null,null,null,null,null,null,{"$f":"IF(TCATrigger=\"No\",\"\",IF(Table36[[#This Row],[Total]]=\"\",\"\",Table36[[#This Row],[Source]]))","v":""},{"$f":"IF(TCATrigger=\"No\",\"\",IF(Table38[[#This Row],[DEBT]]=\"\",\"\",\"Permanent\"))","v":""},{"$f":"IF(TCATrigger=\"No\",\"\",IF(Table38[[#This Row],[DEBT]]=\"\",\"\",Table36[[#This Row],[Interest Rate]]))","v":""},{"$f":"IF(TCATrigger=\"No\",\"\",IF(Table38[[#This Row],[DEBT]]=\"\",\"\",Table36[[#This Row],[Term (Months)]]))","v":""},{"$f":"IF(TCATrigger=\"No\",\"\",IF(Table38[[#This Row],[DEBT]]=\"\",\"\",Table36[[#This Row],[Total]]))","v":""},{"$f":"IF(TCATrigger=\"No\",\"\",IF(Table38[[#This Row],[DEBT]]=\"\",\"\",Table36[[#This Row],[Annual Debt Service]]))","v":""}]
["02_3_Sources","B19","rng02_Sources_Debt11","Debt",{"$f":"IF(rng02_Sources_Debt11=\"\",\"\",rng02_Sources_Debt11)","v":""},{"$f":"IF(OR(rng02_Sources_Debt_Rate11=0,rng02_Sources_Debt_Rate11=\"\"),\"\",rng02_Sources_Debt_Rate11)","v":""},{"$f":"IF(OR(rng02_Sources_Debt_Term11=0,rng02_Sources_Debt_Term11=\"\"),\"\",rng02_Sources_Debt_Term11*12)","v":""},{"$f":"IF(rng02_Sources_Debt_Total11=\"\",\"\",rng02_Sources_Debt_Total11)","v":""},{"$f":"IF(rng02_Sources_Debt_AnDebtServPayment11=\"\",\"\",rng02_Sources_Debt_AnDebtServPayment11)","v":0},{"$f":"IF(rng02_Sources_Debt11=\"\",\"\",\"Housing Program\")","v":""},null,null,{"$f":"IF(AND(Table36[[#This Row],[Total]]>0, Table36[[#This Row],[Total]]<>\"\"),Table36[[#This Row],[Source]],\"\")","v":""},{"$f":"IF(Table37[[#This Row],[Funding Source]]=\"\",\"\",Table36[[#This Row],[Interest Rate]])","v":""},{"$f":"IF(Table37[[#This Row],[Funding Source]]=\"\",\"\",Table36[[#This Row],[Term (Months)]])","v":""},{"$f":"IF(Table37[[#This Row],[Funding Source]]=\"\",\"\",Table36[[#This Row],[Total]])","v":""},{"$f":"IF(Table37[[#This Row],[Funding Source]]=\"\",\"\",Table36[[#This Row],[Annual Debt Service]])","v":""},{"$f":"IF(Table37[[#This Row],[Funding Source]]=\"\",\"\",Table36[[#This Row],[Program Type]])","v":""},null,null,null,null,null,null,null,null,null,null,null,null,null,null,null,null,null,null,null,{"$f":"IF(TCATrigger=\"No\",\"\",IF(Table36[[#This Row],[Total]]=\"\",\"\",Table36[[#This Row],[Source]]))","v":""},{"$f":"IF(TCATrigger=\"No\",\"\",IF(Table38[[#This Row],[DEBT]]=\"\",\"\",\"Permanent\"))","v":""},{"$f":"IF(TCATrigger=\"No\",\"\",IF(Table38[[#This Row],[DEBT]]=\"\",\"\",Table36[[#This Row],[Interest Rate]]))","v":""},{"$f":"IF(TCATrigger=\"No\",\"\",IF(Table38[[#This Row],[DEBT]]=\"\",\"\",Table36[[#This Row],[Term (Months)]]))","v":""},{"$f":"IF(TCATrigger=\"No\",\"\",IF(Table38[[#This Row],[DEBT]]=\"\",\"\",Table36[[#This Row],[Total]]))","v":""},{"$f":"IF(TCATrigger=\"No\",\"\",IF(Table38[[#This Row],[DEBT]]=\"\",\"\",Table36[[#This Row],[Annual Debt Service]]))","v":""}]
["02_3_Sources","B20","rng02_Sources_Debt12","Debt",{"$f":"IF(rng02_Sources_Debt12=\"\",\"\",rng02_Sources_Debt12)","v":""},{"$f":"IF(OR(rng02_Sources_Debt_Rate12=0,rng02_Sources_Debt_Rate12=\"\"),\"\",rng02_Sources_Debt_Rate12)","v":""},{"$f":"IF(OR(rng02_Sources_Debt_Term12=0,rng02_Sources_Debt_Term12=\"\"),\"\",rng02_Sources_Debt_Term12*12)","v":""},{"$f":"IF(rng02_Sources_Debt_Total12=\"\",\"\",rng02_Sources_Debt_Total12)","v":""},{"$f":"IF(rng02_Sources_Debt_AnDebtServPayment12=\"\",\"\",rng02_Sources_Debt_AnDebtServPayment12)","v":0},{"$f":"IF(rng02_Sources_Debt12=\"\",\"\",\"Housing Program\")","v":""},null,null,{"$f":"IF(AND(Table36[[#This Row],[Total]]>0, Table36[[#This Row],[Total]]<>\"\"),Table36[[#This Row],[Source]],\"\")","v":""},{"$f":"IF(Table37[[#This Row],[Funding Source]]=\"\",\"\",Table36[[#This Row],[Interest Rate]])","v":""},{"$f":"IF(Table37[[#This Row],[Funding Source]]=\"\",\"\",Table36[[#This Row],[Term (Months)]])","v":""},{"$f":"IF(Table37[[#This Row],[Funding Source]]=\"\",\"\",Table36[[#This Row],[Total]])","v":""},{"$f":"IF(Table37[[#This Row],[Funding Source]]=\"\",\"\",Table36[[#This Row],[Annual Debt Service]])","v":""},{"$f":"IF(Table37[[#This Row],[Funding Source]]=\"\",\"\",Table36[[#This Row],[Program Type]])","v":""},null,null,null,null,null,null,null,null,null,null,null,null,null,null,null,null,null,null,null,{"$f":"IF(TCATrigger=\"No\",\"\",IF(Table36[[#This Row],[Total]]=\"\",\"\",Table36[[#This Row],[Source]]))","v":""},{"$f":"IF(TCATrigger=\"No\",\"\",IF(Table38[[#This Row],[DEBT]]=\"\",\"\",\"Permanent\"))","v":""},{"$f":"IF(TCATrigger=\"No\",\"\",IF(Table38[[#This Row],[DEBT]]=\"\",\"\",Table36[[#This Row],[Interest Rate]]))","v":""},{"$f":"IF(TCATrigger=\"No\",\"\",IF(Table38[[#This Row],[DEBT]]=\"\",\"\",Table36[[#This Row],[Term (Months)]]))","v":""},{"$f":"IF(TCATrigger=\"No\",\"\",IF(Table38[[#This Row],[DEBT]]=\"\",\"\",Table36[[#This Row],[Total]]))","v":""},{"$f":"IF(TCATrigger=\"No\",\"\",IF(Table38[[#This Row],[DEBT]]=\"\",\"\",Table36[[#This Row],[Annual Debt Service]]))","v":""}]
["02_3_Sources","B21","rng02_Sources_Debt13","Debt",{"$f":"IF(rng02_Sources_Debt13=\"\",\"\",rng02_Sources_Debt13)","v":""},{"$f":"IF(OR(rng02_Sources_Debt_Rate13=0,rng02_Sources_Debt_Rate13=\"\"),\"\",rng02_Sources_Debt_Rate13)","v":""},{"$f":"IF(OR(rng02_Sources_Debt_Term13=0,rng02_Sources_Debt_Term13=\"\"),\"\",rng02_Sources_Debt_Term13*12)","v":""},{"$f":"IF(rng02_Sources_Debt_Total13=\"\",\"\",rng02_Sources_Debt_Total13)","v":""},{"$f":"IF(rng02_Sources_Debt_AnDebtServPayment13=\"\",\"\",rng02_Sources_Debt_AnDebtServPayment13)","v":0},{"$f":"IF(rng02_Sources_Debt13=\"\",\"\",\"Housing Program\")","v":""},null,null,{"$f":"IF(AND(Table36[[#This Row],[Total]]>0, Table36[[#This Row],[Total]]<>\"\"),Table36[[#This Row],[Source]],\"\")","v":""},{"$f":"IF(Table37[[#This Row],[Funding Source]]=\"\",\"\",Table36[[#This Row],[Interest Rate]])","v":""},{"$f":"IF(Table37[[#This Row],[Funding Source]]=\"\",\"\",Table36[[#This Row],[Term (Months)]])","v":""},{"$f":"IF(Table37[[#This Row],[Funding Source]]=\"\",\"\",Table36[[#This Row],[Total]])","v":""},{"$f":"IF(Table37[[#This Row],[Funding Source]]=\"\",\"\",Table36[[#This Row],[Annual Debt Service]])","v":""},{"$f":"IF(Table37[[#This Row],[Funding Source]]=\"\",\"\",Table36[[#This Row],[Program Type]])","v":""},null,null,null,null,null,null,null,null,null,null,null,null,null,null,null,null,null,null,null,{"$f":"IF(TCATrigger=\"No\",\"\",IF(Table36[[#This Row],[Total]]=\"\",\"\",Table36[[#This Row],[Source]]))","v":""},{"$f":"IF(TCATrigger=\"No\",\"\",IF(Table38[[#This Row],[DEBT]]=\"\",\"\",\"Permanent\"))","v":""},{"$f":"IF(TCATrigger=\"No\",\"\",IF(Table38[[#This Row],[DEBT]]=\"\",\"\",Table36[[#This Row],[Interest Rate]]))","v":""},{"$f":"IF(TCATrigger=\"No\",\"\",IF(Table38[[#This Row],[DEBT]]=\"\",\"\",Table36[[#This Row],[Term (Months)]]))","v":""},{"$f":"IF(TCATrigger=\"No\",\"\",IF(Table38[[#This Row],[DEBT]]=\"\",\"\",Table36[[#This Row],[Total]]))","v":""},{"$f":"IF(TCATrigger=\"No\",\"\",IF(Table38[[#This Row],[DEBT]]=\"\",\"\",Table36[[#This Row],[Annual Debt Service]]))","v":""}]
["02_3_Sources","B22","rng02_Sources_Debt14","Debt",{"$f":"IF(rng02_Sources_Debt14=\"\",\"\",rng02_Sources_Debt14)","v":""},{"$f":"IF(OR(rng02_Sources_Debt_Rate14=0,rng02_Sources_Debt_Rate14=\"\"),\"\",rng02_Sources_Debt_Rate14)","v":""},{"$f":"IF(OR(rng02_Sources_Debt_Term14=0,rng02_Sources_Debt_Term14=\"\"),\"\",rng02_Sources_Debt_Term14*12)","v":""},{"$f":"IF(rng02_Sources_Debt_Total14=\"\",\"\",rng02_Sources_Debt_Total14)","v":""},{"$f":"IF(rng02_Sources_Debt_AnDebtServPayment14=\"\",\"\",rng02_Sources_Debt_AnDebtServPayment14)","v":0},{"$f":"IF(rng02_Sources_Debt14=\"\",\"\",\"Housing Program\")","v":""},null,null,{"$f":"IF(AND(Table36[[#This Row],[Total]]>0, Table36[[#This Row],[Total]]<>\"\"),Table36[[#This Row],[Source]],\"\")","v":""},{"$f":"IF(Table37[[#This Row],[Funding Source]]=\"\",\"\",Table36[[#This Row],[Interest Rate]])","v":""},{"$f":"IF(Table37[[#This Row],[Funding Source]]=\"\",\"\",Table36[[#This Row],[Term (Months)]])","v":""},{"$f":"IF(Table37[[#This Row],[Funding Source]]=\"\",\"\",Table36[[#This Row],[Total]])","v":""},{"$f":"IF(Table37[[#This Row],[Funding Source]]=\"\",\"\",Table36[[#This Row],[Annual Debt Service]])","v":""},{"$f":"IF(Table37[[#This Row],[Funding Source]]=\"\",\"\",Table36[[#This Row],[Program Type]])","v":""},null,null,null,null,null,null,null,null,null,null,null,null,null,null,null,null,null,null,null,{"$f":"IF(TCATrigger=\"No\",\"\",IF(Table36[[#This Row],[Total]]=\"\",\"\",Table36[[#This Row],[Source]]))","v":""},{"$f":"IF(TCATrigger=\"No\",\"\",IF(Table38[[#This Row],[DEBT]]=\"\",\"\",\"Permanent\"))","v":""},{"$f":"IF(TCATrigger=\"No\",\"\",IF(Table38[[#This Row],[DEBT]]=\"\",\"\",Table36[[#This Row],[Interest Rate]]))","v":""},{"$f":"IF(TCATrigger=\"No\",\"\",IF(Table38[[#This Row],[DEBT]]=\"\",\"\",Table36[[#This Row],[Term (Months)]]))","v":""},{"$f":"IF(TCATrigger=\"No\",\"\",IF(Table38[[#This Row],[DEBT]]=\"\",\"\",Table36[[#This Row],[Total]]))","v":""},{"$f":"IF(TCATrigger=\"No\",\"\",IF(Table38[[#This Row],[DEBT]]=\"\",\"\",Table36[[#This Row],[Annual Debt Service]]))","v":""}]
["02_3_Sources","B27","rng02_Sources_Equity_LIHTCProceeds_Tot","Equity",{"$f":"IF(rng02_Sources_Equity_LIHTCProceeds_Tot > 0,'02_3_SOURCES'!B27,\"\")","v":""},null,null,{"$f":"IF(rng02_Sources_Equity_LIHTCProceeds_Tot > 0,rng02_Sources_Equity_LIHTCProceeds_Tot,\"\")","v":""},null,null,null,null,{"$f":"IF(AND(Table36[[#This Row],[Total]]>0, Table36[[#This Row],[Total]]<>\"\"),Table36[[#This Row],[Source]],\"\")","v":""},null,null,{"$f":"IF(Table37[[#This Row],[Funding Source]]=\"\",\"\",Table36[[#This Row],[Total]])","v":""},null,null,null,null,null,null,null,null,null,null,null,null,null,null,null,null,null,null,null,null,null,{"$f":"IF(TCATrigger=\"No\",\"\",IF(Table36[[#This Row],[Total]]=\"\",\"\",Table36[[#This Row],[Source]]))","v":""},{"$f":"IF(TCATrigger=\"No\",\"\",IF(Table38[[#This Row],[DEBT]]=\"\",\"\",\"Subsidized Funding\"))","v":""},null,null,{"$f":"IF(TCATrigger=\"No\",\"\",IF(Table38[[#This Row],[DEBT]]=\"\",\"\",Table36[[#This Row],[Total]]))","v":""}]
["02_3_Sources","B28","rng02_Sources_Equiy_FedHistTaxCredProceeds_Tot","Equity",{"$f":"IF(rng02_Sources_Equiy_FedHistTaxCredProceeds_Tot > 0,'02_3_SOURCES'!B28,\"\")","v":""},null,null,{"$f":"IF(rng02_Sources_Equiy_FedHistTaxCredProceeds_Tot > 0,rng02_Sources_Equiy_FedHistTaxCredProceeds_Tot,\"\")","v":""},null,null,null,null,{"$f":"IF(AND(Table36[[#This Row],[Total]]>0, Table36[[#This Row],[Total]]<>\"\"),Table36[[#This Row],[Source]],\"\")","v":""},null,null,{"$f":"IF(Table37[[#This Row],[Funding Source]]=\"\",\"\",Table36[[#This Row],[Total]])","v":""},null,null,null,null,null,null,null,null,null,null,null,null,null,null,null,null,null,null,null,null,null,{"$f":"IF(TCATrigger=\"No\",\"\",IF(Table36[[#This Row],[Total]]=\"\",\"\",Table36[[#This Row],[Source]]))","v":""},{"$f":"IF(TCATrigger=\"No\",\"\",IF(Table38[[#This Row],[DEBT]]=\"\",\"\",\"Subsidized Funding\"))","v":""},null,null,{"$f":"IF(TCATrigger=\"No\",\"\",IF(Table38[[#This Row],[DEBT]]=\"\",\"\",Table36[[#This Row],[Total]]))","v":""}]
["02_3_Sources","B29","rng02_Sources_Equity_GenPartCap_Tot","Equity",{"$f":"IF(rng02_Sources_Equity_GenPartCap_Tot > 0,'02_3_SOURCES'!B29,\"\")","v":""},null,null,{"$f":"IF(rng02_Sources_Equity_GenPartCap_Tot > 0,rng02_Sources_Equity_GenPartCap_Tot,\"\")","v":""},null,null,null,null,{"$f":"IF(AND(Table36[[#This Row],[Total]]>0, Table36[[#This Row],[Total]]<>\"\"),Table36[[#This Row],[Source]],\"\")","v":""},null,null,{"$f":"IF(Table37[[#This Row],[Funding Source]]=\"\",\"\",Table36[[#This Row],[Total]])","v":""},null,null,null,null,null,null,null,null,null,null,null,null,null,null,null,null,null,null,null,null,null,{"$f":"IF(TCATrigger=\"No\",\"\",IF(Table36[[#This Row],[Total]]=\"\",\"\",Table36[[#This Row],[Source]]))","v":""},{"$f":"IF(TCATrigger=\"No\",\"\",IF(Table38[[#This Row],[DEBT]]=\"\",\"\",\"Subsidized Funding\"))","v":""},null,null,{"$f":"IF(TCATrigger=\"No\",\"\",IF(Table38[[#This Row],[DEBT]]=\"\",\"\",Table36[[#This Row],[Total]]))","v":""}]
["02_3_Sources","B30","rng02_Sources_Equity_StateHistTCProceeds_Tot","Equity",{"$f":"IF(rng02_Sources_Equity_StateHistTCProceeds_Tot > 0,'02_3_SOURCES'!B30,\"\")","v":""},null,null,{"$f":"IF(rng02_Sources_Equity_StateHistTCProceeds_Tot > 0,rng02_Sources_Equity_StateHistTCProceeds_Tot,\"\")","v":""},null,null,null,null,{"$f":"IF(AND(Table36[[#This Row],[Total]]>0, Table36[[#This Row],[Total]]<>\"\"),Table36[[#This Row],[Source]],\"\")","v":""},null,null,{"$f":"IF(Table37[[#This Row],[Funding Source]]=\"\",\"\",Table36[[#This Row],[Total]])","v":""},null,null,null,null,null,null,null,null,null,null,null,null,null,null,null,null,null,null,null,null,null,{"$f":"IF(TCATrigger=\"No\",\"\",IF(Table36[[#This Row],[Total]]=\"\",\"\",Table36[[#This Row],[Source]]))","v":""},{"$f":"IF(TCATrigger=\"No\",\"\",IF(Table38[[#This Row],[DEBT]]=\"\",\"\",\"Subsidized Funding\"))","v":""},null,null,{"$f":"IF(TCATrigger=\"No\",\"\",IF(Table38[[#This Row],[DEBT]]=\"\",\"\",Table36[[#This Row],[Total]]))","v":""}]
["02_3_Sources","B31","rng02_Sources_Equity_Other_Tot","Equity",{"$f":"IF(rng02_Sources_Equity_Other_Tot > 0,'02_3_SOURCES'!B32,\"\")","v":""},null,null,{"$f":"IF(rng02_Sources_Equity_Other_Tot > 0,rng02_Sources_Equity_Other_Tot,\"\")","v":""},null,null,null,null,{"$f":"IF(AND(Table36[[#This Row],[Total]]>0, Table36[[#This Row],[Total]]<>\"\"),Table36[[#This Row],[Source]],\"\")","v":""},null,null,{"$f":"IF(Table37[[#This Row],[Funding Source]]=\"\",\"\",Table36[[#This Row],[Total]])","v":""},null,null,null,null,null,null,null,null,null,null,null,null,null,null,null,null,null,null,null,null,null,{"$f":"IF(TCATrigger=\"No\",\"\",IF(Table36[[#This Row],[Total]]=\"\",\"\",Table36[[#This Row],[Source]]))","v":""},{"$f":"IF(TCATrigger=\"No\",\"\",IF(Table38[[#This Row],[DEBT]]=\"\",\"\",\"Subsidized Funding\"))","v":""},null,null,{"$f":"IF(TCATrigger=\"No\",\"\",IF(Table38[[#This Row],[DEBT]]=\"\",\"\",Table36[[#This Row],[Total]]))","v":""}]
["02_3_Sources","B36",null,"Other Source",{"$f":"IF('02_3_SOURCES'!F37>0,'02_3_SOURCES'!B37,\"\")","v":""},null,null,{"$f":"'02_3_SOURCES'!F37","v":0},null,null,null,null,{"$f":"IF(AND(Table36[[#This Row],[Total]]>0, Table36[[#This Row],[Total]]<>\"\"),Table36[[#This Row],[Source]],\"\")","v":""},null,null,{"$f":"IF(Table37[[#This Row],[Funding Source]]=\"\",\"\",Table36[[#This Row],[Total]])","v":""},null,null,null,null,null,null,null,null,null,null,null,null,null,null,null,null,null,null,null,null,null,{"$f":"IF(TCATrigger=\"No\",\"\",IF(Table36[[#This Row],[Total]]=\"\",\"\",Table36[[#This Row],[Source]]))","v":""},{"$f":"IF(TCATrigger=\"No\",\"\",IF(Table38[[#This Row],[DEBT]]=\"\",\"\",\"Grant\"))","v":""},null,null,{"$f":"IF(TCATrigger=\"No\",\"\",IF(Table38[[#This Row],[DEBT]]=\"\",\"\",Table36[[#This Row],[Total]]))","v":""}]
["02_3_Sources","B37",null,"Other Source",{"$f":"IF('02_3_SOURCES'!F38>0,'02_3_SOURCES'!B38,\"\")","v":""},null,null,{"$f":"'02_3_SOURCES'!F38","v":0},null,null,null,null,{"$f":"IF(AND(Table36[[#This Row],[Total]]>0, Table36[[#This Row],[Total]]<>\"\"),Table36[[#This Row],[Source]],\"\")","v":""},null,null,{"$f":"IF(Table37[[#This Row],[Funding Source]]=\"\",\"\",Table36[[#This Row],[Total]])","v":""},null,null,null,null,null,null,null,null,null,null,null,null,null,null,null,null,null,null,null,null,null,{"$f":"IF(TCATrigger=\"No\",\"\",IF(Table36[[#This Row],[Total]]=\"\",\"\",Table36[[#This Row],[Source]]))","v":""},{"$f":"IF(TCATrigger=\"No\",\"\",IF(Table38[[#This Row],[DEBT]]=\"\",\"\",\"Grant\"))","v":""},null,null,{"$f":"IF(TCATrigger=\"No\",\"\",IF(Table38[[#This Row],[DEBT]]=\"\",\"\",Table36[[#This Row],[Total]]))","v":""}]
["02_3_Sources","B38",null,"Other Source",{"$f":"IF('02_3_SOURCES'!F39>0,'02_3_SOURCES'!B39,\"\")","v":""},null,null,{"$f":"'02_3_SOURCES'!F39","v":0},null,null,null,null,{"$f":"IF(AND(Table36[[#This Row],[Total]]>0, Table36[[#This Row],[Total]]<>\"\"),Table36[[#This Row],[Source]],\"\")","v":""},null,null,{"$f":"IF(Table37[[#This Row],[Funding Source]]=\"\",\"\",Table36[[#This Row],[Total]])","v":""},null,null,null,null,null,null,null,null,null,null,null,null,null,null,null,null,null,null,null,null,null,{"$f":"IF(TCATrigger=\"No\",\"\",IF(Table36[[#This Row],[Total]]=\"\",\"\",Table36[[#This Row],[Source]]))","v":""},{"$f":"IF(TCATrigger=\"No\",\"\",IF(Table38[[#This Row],[DEBT]]=\"\",\"\",\"Grant\"))","v":""},null,null,{"$f":"IF(TCATrigger=\"No\",\"\",IF(Table38[[#This Row],[DEBT]]=\"\",\"\",Table36[[#This Row],[Total]]))","v":""}]
["02_3_Sources","B39",null,"Other Source",{"$f":"IF('02_3_SOURCES'!F40>0,'02_3_SOURCES'!B40,\"\")","v":""},null,null,{"$f":"'02_3_SOURCES'!F40","v":0},null,null,null,null,{"$f":"IF(AND(Table36[[#This Row],[Total]]>0, Table36[[#This Row],[Total]]<>\"\"),Table36[[#This Row],[Source]],\"\")","v":""},null,null,{"$f":"IF(Table37[[#This Row],[Funding Source]]=\"\",\"\",Table36[[#This Row],[Total]])","v":""},null,null,null,null,null,null,null,null,null,null,null,null,null,null,null,null,null,null,null,null,null,{"$f":"IF(TCATrigger=\"No\",\"\",IF(Table36[[#This Row],[Total]]=\"\",\"\",Table36[[#This Row],[Source]]))","v":""},{"$f":"IF(TCATrigger=\"No\",\"\",IF(Table38[[#This Row],[DEBT]]=\"\",\"\",\"Grant\"))","v":""},null,null,{"$f":"IF(TCATrigger=\"No\",\"\",IF(Table38[[#This Row],[DEBT]]=\"\",\"\",Table36[[#This Row],[Total]]))","v":""}]
["02_3_Sources","B40",null,"Other Source",{"$f":"IF('02_3_SOURCES'!F41>0,'02_3_SOURCES'!B41,\"\")","v":""},null,null,{"$f":"'02_3_SOURCES'!F41","v":0},null,null,null,null,{"$f":"IF(AND(Table36[[#This Row],[Total]]>0, Table36[[#This Row],[Total]]<>\"\"),Table36[[#This Row],[Source]],\"\")","v":""},null,null,{"$f":"IF(Table37[[#This Row],[Funding Source]]=\"\",\"\",Table36[[#This Row],[Total]])","v":""},null,null,null,null,null,null,null,null,null,null,null,null,null,null,null,null,null,null,null,null,null,{"$f":"IF(TCATrigger=\"No\",\"\",IF(Table36[[#This Row],[Total]]=\"\",\"\",Table36[[#This Row],[Source]]))","v":""},{"$f":"IF(TCATrigger=\"No\",\"\",IF(Table38[[#This Row],[DEBT]]=\"\",\"\",\"Grant\"))","v":""},null,null,{"$f":"IF(TCATrigger=\"No\",\"\",IF(Table38[[#This Row],[DEBT]]=\"\",\"\",Table36[[#This Row],[Total]]))","v":""}]
[]
[]
[]
[]
[]
[null,null,null,null,null,""]
[null,null,null,null,null,""]
[]
["02_4_Uses",null,null,null,null,null,"[Project Name]",null,null,null,null,null,null,null,null,null,null,null,null,null,null,null,null,null,null,null,null,null,null,null,null,"02_4_Uses",null,null,null,null,null,"[Project Name]",{"$f":"$AM$8","v":""}]
[null,null,null,null,null,null,"Current Model Prgress Date:",null,null,null,null,null,null,null,null,null,null,null,null,null,null,null,null,null,null,null,null,null,null,null,null,null,null,null,null,null,null,"Current Model Prgress Date:",{"$f":"$AM$9","v":""}]
[null,null,null,null,null,null,null,null,null,null,null,null,null,null,null,null,null,null,null,null,null,null,null,null,null,null,null,null,null,null,null,null,null,null,null,null,null,null,null,null,null,null,null,null,null,null,null,null,null,null,null,null,null,null,null,null,null,null,null,null,null,null,null,null,null,null,null,null,null,null,null,null,null,"rng05_Proceeds_TotalEligibleUses"]
[null,null,null,null,null,null,null,null,null,null,null,null,null,null,null,null,null,null,null,null,null,null,null,null,null,null,null,null,null,null,null,null,null,null,null,null,null,0.04,"TCATrigger",{"$f":"(IF(AND(NinePercentTrigger=\"No\",AcquisitionTrigger=\"No\"),\"Yes\",\"No\"))","v":"Yes"},null,null,null,null,null,null,null,null,null,null,null,null,null,0.09,"TCATrigger",{"$f":"IF(OR(rng01_CreditType<>\"9%\",AcquisitionTrigger=\"Yes\"),\"No\",\"Yes\")","v":"No"},null,null,null,null,null,null,null,null,null,null,null,null,"Acquisition","TCATrigger",{"$f":"IF(rng02_4_Uses_TotalDevCosts=0,\"No\",\"Yes\")","v":"No"},null,"rng02_4_Uses_TotalDevCosts"]
[]
["Do the whole grid but need one field for the DEV side, but 3 for the TC side",null,null,null,null,null,"Description","Total","Construction \nType 2","Construction \nType 3","MOVED","Each Item as a % of Subtotal",null,"Eligible for Acquisition Credit","Eligible for New Construction / Rehab. Credit","Ineligible for Credit",null,"HOME Eligible Basis","Aggregate Basis plus Land",null,null,null,null,null,null,null,null,null,null,null,null,"Do the whole grid but need one field for the DEV side, but 3 for the TC side",null,null,null,null,null,"Description","Total","Construction \nType 2","Construction \nType 3","MOVED","Each Item as a % of Subtotal",null,"Eligible for Acquisition Credit","Eligible for New Construction / Rehab. Credit","Ineligible for Credit",null,"HOME Eligible Basis","Aggregate Basis plus Land",null,null,null,"Description","Construction \nType 1","Construction \nType 2","Construction \nType 3","Total","Each Item as a % of Subtotal",null,"Eligible for Acquisition Credit","Eligible for New Construction / Rehab. Credit","Ineligible for Credit",null,"HOME Eligible Basis","Aggregate Basis plus Land",null,null,"Description","Construction \nType 1","Construction \nType 2","Construction \nType 3","Total","Each Item as a % of Subtotal",null,"Eligible for Acquisition Credit","Eligible for New Construction / Rehab. Credit","Ineligible for Credit",null,"HOME Eligible Basis","Aggregate Basis plus Land"]
["Do not do the grids at the bottomm",null,null,null,null,null,"ACQUISITION COSTS",null,null,null,null,null,null,null,null,null,null,null,null,null,null,null,null,null,null,null,null,null,null,null,null,"Do not do the grids at the bottomm",null,null,null,null,null,"ACQUISITION COSTS",null,null,null,null,null,null,null,null,null,null,null,null,null,null,null,"ACQUISITION COSTS",null,null,null,null,null,null,null,null,null,null,null,null,null,null,"ACQUISITION COSTS"]
[null,null,null,null,null,null,"Land Cost",{"$f":"IF(rng02_Uses_DevRehabCosts_ACQCosts_LandCost=\"\",\"\",rng02_Uses_DevRehabCosts_ACQCosts_LandCost)","v":0},null,null,null,null,null,null,null,null,null,null,null,null,null,null,null,null,null,null,null,null,null,null,null,null,null,null,null,null,null,"Land Cost",{"$f":"IF(FourPercentTrigger=\"No\",\"\",IF($H576=\"\",\"\",$H576))","v":0},{"$f":"IF(TCATrigger=\"No\",\"\",IF(FourPercentTrigger=\"No\",\"\",IF($I576=\"\",\"\",$I576)))","v":""},{"$f":"IF(TCATrigger=\"No\",\"\",IF(FourPercentTrigger=\"No\",\"\",IF($J576=\"\",\"\",$J576)))","v":""},{"$f":"IF(TCATrigger=\"No\",\"\",IF(FourPercentTrigger=\"No\",\"\",IF($K576=\"\",\"\",$K576)))","v":""},{"$f":"IF(TCATrigger=\"No\",\"\",IF(FourPercentTrigger=\"No\",\"\",IF($L576=\"\",\"\",$L576)))","v":""},null,{"$f":"IF(TCATrigger=\"No\",\"\",IF(FourPercentTrigger=\"No\",\"\",IF($N576=\"\",\"\",$N576)))","v":""},{"$f":"IF(TCATrigger=\"No\",\"\",IF(FourPercentTrigger=\"No\",\"\",IF($O576=\"\",\"\",$O576)))","v":""},{"$f":"IF(TCATrigger=\"No\",\"\",IF(FourPercentTrigger=\"No\",\"\",IF($P576=\"\",\"\",$P576)))","v":""},null,{"$f":"IF(TCATrigger=\"No\",\"\",IF(FourPercentTrigger=\"No\",\"\",IF($R576=\"\",\"\",$R576)))","v":""},{"$f":"IF(TCATrigger=\"No\",\"\",IF(FourPercentTrigger=\"No\",\"\",IF($S576=\"\",\"\",$S576)))","v":""},null,null,null,"Land Cost",{"$f":"IF(TCATrigger=\"No\",\"\",IF(NinePercentTrigger=\"No\",\"\",IF($H576=\"\",\"\",$H576)))","v":""},{"$f":"IF(TCATrigger=\"No\",\"\",IF(NinePercentTrigger=\"No\",\"\",IF($I576=\"\",\"\",$I576)))","v":""},{"$f":"IF(TCATrigger=\"No\",\"\",IF(NinePercentTrigger=\"No\",\"\",IF($J576=\"\",\"\",$J576)))","v":""},{"$f":"IF(TCATrigger=\"No\",\"\",IF(NinePercentTrigger=\"No\",\"\",IF($K576=\"\",\"\",$K576)))","v":""},{"$f":"IF(TCATrigger=\"No\",\"\",IF(NinePercentTrigger=\"No\",\"\",IF($L576=\"\",\"\",$L576)))","v":""},null,{"$f":"IF(TCATrigger=\"No\",\"\",IF(NinePercentTrigger=\"No\",\"\",IF($N576=\"\",\"\",$N576)))","v":""},{"$f":"IF(TCATrigger=\"No\",\"\",IF(NinePercentTrigger=\"No\",\"\",IF($O576=\"\",\"\",$O576)))","v":""},{"$f":"IF(TCATrigger=\"No\",\"\",IF(NinePercentTrigger=\"No\",\"\",IF($P576=\"\",\"\",$P576)))","v":""},null,{"$f":"IF(TCATrigger=\"No\",\"\",IF(NinePercentTrigger=\"No\",\"\",IF($R576=\"\",\"\",$R576)))","v":""},{"$f":"IF(TCATrigger=\"No\",\"\",IF(NinePercentTrigger=\"No\",\"\",IF($S576=\"\",\"\",$S576)))","v":""},null,null,"Land Cost",{"$f":"IF(TCATrigger=\"No\",\"\",IF(AcquisitionTrigger=\"No\",\"\",IF($H576=\"\",\"\",$H576)))","v":""},{"$f":"IF(TCATrigger=\"No\",\"\",IF(AcquisitionTrigger=\"No\",\"\",IF($I576=\"\",\"\",$I576)))","v":""},{"$f":"IF(TCATrigger=\"No\",\"\",IF(AcquisitionTrigger=\"No\",\"\",IF($J576=\"\",\"\",$J576)))","v":""},{"$f":"IF(TCATrigger=\"No\",\"\",IF(AcquisitionTrigger=\"No\",\"\",IF($K576=\"\",\"\",$K576)))","v":""},{"$f":"IF(TCATrigger=\"No\",\"\",IF(AcquisitionTrigger=\"No\",\"\",IF($L576=\"\",\"\",$L576)))","v":""},null,{"$f":"IF(TCATrigger=\"No\",\"\",IF(AcquisitionTrigger=\"No\",\"\",IF($N576=\"\",\"\",$N576)))","v":""},{"$f":"IF(TCATrigger=\"No\",\"\",IF(AcquisitionTrigger=\"No\",\"\",IF($O576=\"\",\"\",$O576)))","v":""},{"$f":"IF(TCATrigger=\"No\",\"\",IF(AcquisitionTrigger=\"No\",\"\",IF($P576=\"\",\"\",$P576)))","v":""},null,{"$f":"IF(TCATrigger=\"No\",\"\",IF(AcquisitionTrigger=\"No\",\"\",IF($R576=\"\",\"\",$R576)))","v":""},{"$f":"IF(TCATrigger=\"No\",\"\",IF(AcquisitionTrigger=\"No\",\"\",IF($S576=\"\",\"\",$S576)))","v":""}]
[null,null,null,null,null,null,"Existing Structures",{"$f":"IF(rng02_Uses_DevRehabCosts_ACQCosts_ExistingStructures=\"\",\"\",rng02_Uses_DevRehabCosts_ACQCosts_ExistingStructures)","v":0},null,null,null,null,null,null,null,null,null,null,null,null,null,null,null,null,null,null,null,null,null,null,null,null,null,null,null,null,null,"Existing Structures",0,"","","","",null,"","","",null,"","",null,null,null,"Existing Structures","","","","","",null,"","","",null,"","",null,null,"Existing Structures","","","","","",null,"","","",null,"",""]
[null,null,null,null,null,null,"Off-site Improvements",{"$f":"IF(rng02_Uses_DevRehabCosts_ACQCosts_OffSiteImp=\"\",\"\",rng02_Uses_DevRehabCosts_ACQCosts_OffSiteImp)","v":0},null,null,null,null,null,null,null,null,null,null,null,null,null,null,null,null,null,null,null,null,null,null,null,null,null,null,null,null,null,"Off-site Improvements",0,"","","","",null,"","","",null,"","",null,null,null,"Off-site Improvements","",{"$f":"IF(TCATrigger=\"No\",\"\",IF(NinePercentTrigger=\"No\",\"\",IF($I578=\"\",\"\",$I578)))","v":""},"","","",null,"","","",null,"","",null,null,"Off-site Improvements","","","","","",null,"","","",null,"",""]
[null,null,null,null,null,null,"Demolition",{"$f":"IF(rng02_Uses_DevRehabCosts_ACQCosts_Demo=\"\",\"\",rng02_Uses_DevRehabCosts_ACQCosts_Demo)","v":0},null,null,null,null,null,null,null,null,null,null,null,null,null,null,null,null,null,null,null,null,null,null,null,null,null,null,null,null,null,"Demolition",0,"","","","",null,"","","",null,"","",null,null,null,"Demolition","","","","","",null,"","","",null,"","",null,null,"Demolition","","","","","",null,"","","",null,"",""]
[null,null,null,null,null,null,{"$f":"Other_1","v":"Other"},{"$f":"IF(rng02_Uses_DevRehabCosts_ACQCosts_Other1=\"\",\"\",rng02_Uses_DevRehabCosts_ACQCosts_Other1)","v":0},null,null,null,null,null,null,null,null,null,null,null,null,null,null,null,null,null,null,null,null,null,null,null,null,null,null,null,null,null,{"$f":"IF(FourPercentTrigger=\"No\",\"\",G580)","v":"Other"},0,"","","","",null,"","","",null,"","",null,null,null,{"$f":"IF(BC580=\"\",\"\",G580)","v":""},"","","","","",null,"","","",null,"","",null,null,{"$f":"IF(BR580=\"\",\"\",G580)","v":""},"","","","","",null,"","","",null,"",""]
[null,null,null,null,null,null,{"$f":"Other_2","v":"Other"},{"$f":"IF(rng02_Uses_DevRehabCosts_ACQCosts_Other2=\"\",\"\",rng02_Uses_DevRehabCosts_ACQCosts_Other2)","v":0},null,null,null,null,null,null,null,null,null,null,null,null,null,null,null,null,null,null,null,null,null,null,null,null,null,null,null,null,null,{"$f":"IF(FourPercentTrigger=\"No\",\"\",G581)","v":"Other"},0,"","","","",null,"","","",null,"","",null,null,null,{"$f":"IF(BC581=\"\",\"\",G581)","v":""},"","","","","",null,"","","",null,"","",null,null,{"$f":"IF(BR581=\"\",\"\",G581)","v":""},"","","","","",null,"","","",null,"",""]
[null,null,null,null,null,null,{"$f":"Other_3","v":"Other"},{"$f":"IF(rng02_Uses_DevRehabCosts_ACQCosts_Other3=\"\",\"\",rng02_Uses_DevRehabCosts_ACQCosts_Other3)","v":0},null,null,null,null,null,null,null,null,null,null,null,null,null,null,null,null,null,null,null,null,null,null,null,null,null,null,null,null,null,{"$f":"IF(FourPercentTrigger=\"No\",\"\",G582)","v":"Other"},0,"","","","",null,"","","",null,"","",null,null,null,{"$f":"IF(BC582=\"\",\"\",G582)","v":""},"","","","","",null,"","","",null,"","",null,null,{"$f":"IF(BR582=\"\",\"\",G582)","v":""},"","","","","",null,"","","",null,"",""]
[null,null,null,null,null,null,"TOTAL ACQUISITION",{"$f":"IF(rng02_Uses_DevRehabCosts_ACQCosts_TotalAcq=\"\",\"\",rng02_Uses_DevRehabCosts_ACQCosts_TotalAcq)","v":0},null,null,null,null,null,0,0,0,null,0,0,null,null,null,null,null,null,null,null,null,null,null,null,null,null,null,null,null,null,"TOTAL ACQUISITION",0,"","","","",null,"","","",null,"","",null,null,null,"TOTAL ACQUISITION","","","","","",null,"","","",null,"","",null,null,"TOTAL ACQUISITION","","","","","",null,"","","",null,"",""]
[]
[null,null,null,null,null,null,"CONSTRUCTION/REHAB. COSTS (input on Construction Cost tab)",null,null,null,null,null,null,null,null,null,null,null,null,null,null,null,null,null,null,null,null,null,null,null,null,null,null,null,null,null,null,"CONSTRUCTION/REHAB. COSTS (input on Construction Cost tab)",null,null,null,null,null,null,null,null,null,null,null,null,null,null,null,"CONSTRUCTION/REHAB. COSTS (input on Construction Cost tab)",null,null,null,null,null,null,null,null,null,null,null,null,null,null,"CONSTRUCTION/REHAB. COSTS (input on Construction Cost tab)"]
[null,null,null,null,null,null,"Buildings",{"$f":"IF(rng02_Uses_DevRehabCosts_ConstRehabCosts_Buildings=\"\",\"\",rng02_Uses_DevRehabCosts_ConstRehabCosts_Buildings)","v":0},null,null,null,null,null,null,null,null,null,null,null,null,null,null,null,null,null,null,null,null,null,null,null,null,null,null,null,null,null,"Buildings",{"$f":"IF(FourPercentTrigger=\"No\",\"\",IF($H586=\"\",\"\",$H586))","v":0},{"$f":"IF(TCATrigger=\"No\",\"\",IF(FourPercentTrigger=\"No\",\"\",IF($I586=\"\",\"\",$I586)))","v":""},{"$f":"IF(TCATrigger=\"No\",\"\",IF(FourPercentTrigger=\"No\",\"\",IF($J586=\"\",\"\",$J586)))","v":""},{"$f":"IF(TCATrigger=\"No\",\"\",IF(FourPercentTrigger=\"No\",\"\",IF($K586=\"\",\"\",$K586)))","v":""},{"$f":"IF(TCATrigger=\"No\",\"\",IF(FourPercentTrigger=\"No\",\"\",IF($L586=\"\",\"\",$L586)))","v":""},null,{"$f":"IF(TCATrigger=\"No\",\"\",IF(FourPercentTrigger=\"No\",\"\",IF($N586=\"\",\"\",$N586)))","v":""},{"$f":"IF(TCATrigger=\"No\",\"\",IF(FourPercentTrigger=\"No\",\"\",IF($O586=\"\",\"\",$O586)))","v":""},{"$f":"IF(TCATrigger=\"No\",\"\",IF(FourPercentTrigger=\"No\",\"\",IF($P586=\"\",\"\",$P586)))","v":""},null,{"$f":"IF(TCATrigger=\"No\",\"\",IF(FourPercentTrigger=\"No\",\"\",IF($R586=\"\",\"\",$R586)))","v":""},{"$f":"IF(TCATrigger=\"No\",\"\",IF(FourPercentTrigger=\"No\",\"\",IF($S586=\"\",\"\",$S586)))","v":""},null,null,null,"Buildings",{"$f":"IF(TCATrigger=\"No\",\"\",IF(NinePercentTrigger=\"No\",\"\",IF($H586=\"\",\"\",$H586)))","v":""},{"$f":"IF(TCATrigger=\"No\",\"\",IF(NinePercentTrigger=\"No\",\"\",IF($I586=\"\",\"\",$I586)))","v":""},{"$f":"IF(TCATrigger=\"No\",\"\",IF(NinePercentTrigger=\"No\",\"\",IF($J586=\"\",\"\",$J586)))","v":""},{"$f":"IF(TCATrigger=\"No\",\"\",IF(NinePercentTrigger=\"No\",\"\",IF($K586=\"\",\"\",$K586)))","v":""},{"$f":"IF(TCATrigger=\"No\",\"\",IF(NinePercentTrigger=\"No\",\"\",IF($L586=\"\",\"\",$L586)))","v":""},null,{"$f":"IF(TCATrigger=\"No\",\"\",IF(NinePercentTrigger=\"No\",\"\",IF($N586=\"\",\"\",$N586)))","v":""},{"$f":"IF(TCATrigger=\"No\",\"\",IF(NinePercentTrigger=\"No\",\"\",IF($O586=\"\",\"\",$O586)))","v":""},{"$f":"IF(TCATrigger=\"No\",\"\",IF(NinePercentTrigger=\"No\",\"\",IF($P586=\"\",\"\",$P586)))","v":""},null,{"$f":"IF(TCATrigger=\"No\",\"\",IF(NinePercentTrigger=\"No\",\"\",IF($R586=\"\",\"\",$R586)))","v":""},{"$f":"IF(TCATrigger=\"No\",\"\",IF(NinePercentTrigger=\"No\",\"\",IF($S586=\"\",\"\",$S586)))","v":""},null,null,"Buildings",{"$f":"IF(TCATrigger=\"No\",\"\",IF(AcquisitionTrigger=\"No\",\"\",IF($H586=\"\",\"\",$H586)))","v":""},{"$f":"IF(TCATrigger=\"No\",\"\",IF(AcquisitionTrigger=\"No\",\"\",IF($I586=\"\",\"\",$I586)))","v":""},{"$f":"IF(TCATrigger=\"No\",\"\",IF(AcquisitionTrigger=\"No\",\"\",IF($J586=\"\",\"\",$J586)))","v":""},{"$f":"IF(TCATrigger=\"No\",\"\",IF(AcquisitionTrigger=\"No\",\"\",IF($K586=\"\",\"\",$K586)))","v":""},{"$f":"IF(TCATrigger=\"No\",\"\",IF(AcquisitionTrigger=\"No\",\"\",IF($L586=\"\",\"\",$L586)))","v":""},null,{"$f":"IF(TCATrigger=\"No\",\"\",IF(AcquisitionTrigger=\"No\",\"\",IF($N586=\"\",\"\",$N586)))","v":""},{"$f":"IF(TCATrigger=\"No\",\"\",IF(AcquisitionTrigger=\"No\",\"\",IF($O586=\"\",\"\",$O586)))","v":""},{"$f":"IF(TCATrigger=\"No\",\"\",IF(AcquisitionTrigger=\"No\",\"\",IF($P586=\"\",\"\",$P586)))","v":""},null,{"$f":"IF(TCATrigger=\"No\",\"\",IF(AcquisitionTrigger=\"No\",\"\",IF($R586=\"\",\"\",$R586)))","v":""},{"$f":"IF(TCATrigger=\"No\",\"\",IF(AcquisitionTrigger=\"No\",\"\",IF($S586=\"\",\"\",$S586)))","v":""}]
[null,null,null,null,null,null,"Site Work",{"$f":"IF(rng02_Uses_DevRehabCosts_ConstRehabCosts_SiteWork=\"\",\"\",rng02_Uses_DevRehabCosts_ConstRehabCosts_SiteWork)","v":0},null,null,null,null,null,null,null,null,null,null,null,null,null,null,null,null,null,null,null,null,null,null,null,null,null,null,null,null,null,"Site Work",0,"","","","",null,"","","",null,"","",null,null,null,"Site Work","","","","","",null,"","","",null,"","",null,null,"Site Work","","","","","",null,"","","",null,"",""]
[null,null,null,null,null,null,"General Requirements: Typically 8%",{"$f":"IF(rng02_Uses_DevRehabCosts_ConstRehabCosts_GenReq=\"\",\"\",rng02_Uses_DevRehabCosts_ConstRehabCosts_GenReq)","v":0},null,null,null,null,null,null,null,null,null,null,null,null,null,null,null,null,null,null,null,null,null,null,null,null,null,null,null,null,null,"General Requirements: Typically 8%",0,"","","","",null,"","","",null,"","",null,null,null,"General Requirements: Typically 8%","","","","","",null,"","","",null,"","",null,null,"General Requirements: Typically 8%","","","","","",null,"","","",null,"",""]
[null,null,null,null,null,null,"Builders General Overhead: Typically 2%",{"$f":"IF(rng02_Uses_DevRehabCosts_ConstRehabCosts_BuildersGenOverhead=\"\",\"\",rng02_Uses_DevRehabCosts_ConstRehabCosts_BuildersGenOverhead)","v":0},null,null,null,null,null,null,null,null,null,null,null,null,null,null,null,null,null,null,null,null,null,null,null,null,null,null,null,null,null,"Builders General Overhead: Typically 2%",0,"","","","",null,"","","",null,"","",null,null,null,"Builders General Overhead: Typically 2%","","","","","",null,"","","",null,"","",null,null,"Builders General Overhead: Typically 2%","","","","","",null,"","","",null,"",""]
[null,null,null,null,null,null,"Builders Profit: Typically 9%",{"$f":"IF(rng02_Uses_DevRehabCosts_ConstRehabCosts_BuildersProfit=\"\",\"\",rng02_Uses_DevRehabCosts_ConstRehabCosts_BuildersProfit)","v":0},null,null,null,null,null,null,null,null,null,null,null,null,null,null,null,null,null,null,null,null,null,null,null,null,null,null,null,null,null,"Builders Profit: Typically 9%",0,"","","","",null,"","","",null,"","",null,null,null,"Builders Profit: Typically 9%","","","","","",null,"","","",null,"","",null,null,"Builders Profit: Typically 9%","","","","","",null,"","","",null,"",""]
[null,null,null,null,null,null,"Bond Premium",{"$f":"IF(rng02_Uses_DevRehabCosts_ConstRehabCosts_BondPrem=\"\",\"\",rng02_Uses_DevRehabCosts_ConstRehabCosts_BondPrem)","v":0},null,null,null,null,null,null,null,null,null,null,null,null,null,null,null,null,null,null,null,null,null,null,null,null,null,null,null,null,null,"Bond Premium",0,"","","","",null,"","","",null,"","",null,null,null,"Bond Premium","","","","","",null,"","","",null,"","",null,null,"Bond Premium","","","","","",null,"","","",null,"",""]
[null,null,null,null,null,null,"Extraordinary Conditions",{"$f":"IF(rng02_Uses_DevRehabCosts_ConstRehabCosts_ExtraConditions=\"\",\"\",rng02_Uses_DevRehabCosts_ConstRehabCosts_ExtraConditions)","v":0},null,null,null,null,null,null,null,null,null,null,null,null,null,null,null,null,null,null,null,null,null,null,null,null,null,null,null,null,null,"Extraordinary Conditions",0,"","","","",null,"","","",null,"","",null,null,null,"Extraordinary Conditions","","","","","",null,"","","",null,"","",null,null,"Extraordinary Conditions","","","","","",null,"","","",null,"",""]
[null,null,null,null,null,null,{"$f":"Other_Fees","v":"Other Fees"},{"$f":"IF(rng02_Uses_DevRehabCosts_ConstRehabCosts_OtherFees=\"\",\"\",rng02_Uses_DevRehabCosts_ConstRehabCosts_OtherFees)","v":0},null,null,null,null,null,null,null,null,null,null,null,null,null,null,null,null,null,null,null,null,null,null,null,null,null,null,null,null,null,{"$f":"IF(FourPercentTrigger=\"No\",\"\",G593)","v":"Other Fees"},0,"","","","",null,"","","",null,"","",null,null,"Under Owner Costs",{"$f":"IF(BC593=\"\",\"\",G593)","v":""},"","","","","",null,"","","",null,"","",null,null,{"$f":"IF(BR593=\"\",\"\",G593)","v":""},"","","","","",null,"","","",null,"",""]
[null,null,null,null,null,null,"TOTAL HARD COSTS",{"$f":"IF(rng02_Uses_DevRehabCosts_ConstRehabCosts_TotalHardCosts=\"\",\"\",rng02_Uses_DevRehabCosts_ConstRehabCosts_TotalHardCosts)","v":0},null,null,null,null,null,null,null,null,null,null,null,null,null,null,null,null,null,null,null,null,null,null,null,null,null,null,null,null,null,"TOTAL HARD COSTS",0,"","","","",null,"","","",null,"","",null,null,null,"TOTAL HARD COSTS","","","","","",null,"","","",null,"","",null,null,"TOTAL HARD COSTS","","","","","",null,"","","",null,"",""]
[null,null,null,null,null,null,"Construction Contingency: Typically 10%",{"$f":"IF(rng02_Uses_DevRehabCosts_ConstRehabCosts_ConstructContigency=\"\",\"\",rng02_Uses_DevRehabCosts_ConstRehabCosts_ConstructContigency)","v":0},null,null,null,null,null,null,null,null,null,null,null,null,null,null,null,null,null,null,null,null,null,null,null,null,null,null,null,null,null,"Construction Contingency: Typically 10%",0,"","","","",null,"","","",null,"","",null,null,null,"Construction Contingency: Typically 10%","","","","","",null,"","","",null,"","",null,null,"Construction Contingency: Typically 10%","","","","","",null,"","","",null,"",""]
[null,null,null,null,null,null,"TOTAL CONSTRUCTION/REHABILITATION",{"$f":"IF(rng02_Uses_DevRehabCosts_ConstRehabCosts_TotalConstRehab=\"\",\"\",rng02_Uses_DevRehabCosts_ConstRehabCosts_TotalConstRehab)","v":0},null,null,null,null,null,0,0,0,null,0,0,null,null,null,null,null,null,null,null,null,null,null,null,null,null,null,null,null,null,"TOTAL CONSTRUCTION/REHABILITATION",0,"","","","",null,"","","",null,"","",null,null,null,"TOTAL CONSTRUCTION/REHABILITATION","","","","","",null,"","","",null,"","",null,null,"TOTAL CONSTRUCTION/REHABILITATION","","","","","",null,"","","",null,"",""]
[null,null,null,null,null,null,"",null,null,null,null,null,null,null,null,null,null,null,null,null,null,null,null,null,null,null,null,null,null,null,null,null,null,null,null,null,null,"",null,null,null,null,null,null,null,null,null,null,null,null,null,null,null,"",null,null,null,null,null,null,null,null,null,null,null,null,null,null,""]
[null,null,null,null,null,null,"SOFT COSTS",null,null,null,null,null,null,null,null,null,null,null,null,null,null,null,null,null,null,null,null,null,null,null,null,null,null,null,null,null,null,"SOFT COSTS",null,null,null,null,null,null,null,null,null,null,null,null,null,null,null,"SOFT COSTS",null,null,null,null,null,null,null,null,null,null,null,null,null,null,"SOFT COSTS"]
[null,null,null,null,null,null,"Architect Fee - Design",{"$f":"IF(rng02_Uses_DevRehabCosts_SoftCosts_ArchFeeDesign=\"\",\"\",rng02_Uses_DevRehabCosts_SoftCosts_ArchFeeDesign)","v":0},null,null,null,null,null,null,null,null,null,null,null,null,null,null,null,null,null,null,null,null,null,null,null,null,null,null,null,null,null,"Architect Fee - Design",{"$f":"IF(FourPercentTrigger=\"No\",\"\",IF($H599=\"\",\"\",$H599))","v":0},{"$f":"IF(TCATrigger=\"No\",\"\",IF(FourPercentTrigger=\"No\",\"\",IF($I599=\"\",\"\",$I599)))","v":""},{"$f":"IF(TCATrigger=\"No\",\"\",IF(FourPercentTrigger=\"No\",\"\",IF($J599=\"\",\"\",$J599)))","v":""},{"$f":"IF(TCATrigger=\"No\",\"\",IF(FourPercentTrigger=\"No\",\"\",IF($K599=\"\",\"\",$K599)))","v":""},{"$f":"IF(TCATrigger=\"No\",\"\",IF(FourPercentTrigger=\"No\",\"\",IF($L599=\"\",\"\",$L599)))","v":""},null,{"$f":"IF(TCATrigger=\"No\",\"\",IF(FourPercentTrigger=\"No\",\"\",IF($N599=\"\",\"\",$N599)))","v":""},{"$f":"IF(TCATrigger=\"No\",\"\",IF(FourPercentTrigger=\"No\",\"\",IF($O599=\"\",\"\",$O599)))","v":""},{"$f":"IF(TCATrigger=\"No\",\"\",IF(FourPercentTrigger=\"No\",\"\",IF($P599=\"\",\"\",$P599)))","v":""},null,{"$f":"IF(TCATrigger=\"No\",\"\",IF(FourPercentTrigger=\"No\",\"\",IF($R599=\"\",\"\",$R599)))","v":""},{"$f":"IF(TCATrigger=\"No\",\"\",IF(FourPercentTrigger=\"No\",\"\",IF($S599=\"\",\"\",$S599)))","v":""},null,null,null,"Architect Fee - Design",{"$f":"IF(TCATrigger=\"No\",\"\",IF(NinePercentTrigger=\"No\",\"\",IF($H599=\"\",\"\",$H599)))","v":""},{"$f":"IF(TCATrigger=\"No\",\"\",IF(NinePercentTrigger=\"No\",\"\",IF($I599=\"\",\"\",$I599)))","v":""},{"$f":"IF(TCATrigger=\"No\",\"\",IF(NinePercentTrigger=\"No\",\"\",IF($J599=\"\",\"\",$J599)))","v":""},{"$f":"IF(TCATrigger=\"No\",\"\",IF(NinePercentTrigger=\"No\",\"\",IF($K599=\"\",\"\",$K599)))","v":""},{"$f":"IF(TCATrigger=\"No\",\"\",IF(NinePercentTrigger=\"No\",\"\",IF($L599=\"\",\"\",$L599)))","v":""},null,{"$f":"IF(TCATrigger=\"No\",\"\",IF(NinePercentTrigger=\"No\",\"\",IF($N599=\"\",\"\",$N599)))","v":""},{"$f":"IF(TCATrigger=\"No\",\"\",IF(NinePercentTrigger=\"No\",\"\",IF($O599=\"\",\"\",$O599)))","v":""},{"$f":"IF(TCATrigger=\"No\",\"\",IF(NinePercentTrigger=\"No\",\"\",IF($P599=\"\",\"\",$P599)))","v":""},null,{"$f":"IF(TCATrigger=\"No\",\"\",IF(NinePercentTrigger=\"No\",\"\",IF($R599=\"\",\"\",$R599)))","v":""},{"$f":"IF(TCATrigger=\"No\",\"\",IF(NinePercentTrigger=\"No\",\"\",IF($S599=\"\",\"\",$S599)))","v":""},null,null,"Architect Fee - Design",{"$f":"IF(TCATrigger=\"No\",\"\",IF(AcquisitionTrigger=\"No\",\"\",IF($H599=\"\",\"\",$H599)))","v":""},{"$f":"IF(TCATrigger=\"No\",\"\",IF(AcquisitionTrigger=\"No\",\"\",IF($I599=\"\",\"\",$I599)))","v":""},{"$f":"IF(TCATrigger=\"No\",\"\",IF(AcquisitionTrigger=\"No\",\"\",IF($J599=\"\",\"\",$J599)))","v":""},{"$f":"IF(TCATrigger=\"No\",\"\",IF(AcquisitionTrigger=\"No\",\"\",IF($K599=\"\",\"\",$K599)))","v":""},{"$f":"IF(TCATrigger=\"No\",\"\",IF(AcquisitionTrigger=\"No\",\"\",IF($L599=\"\",\"\",$L599)))","v":""},null,{"$f":"IF(TCATrigger=\"No\",\"\",IF(AcquisitionTrigger=\"No\",\"\",IF($N599=\"\",\"\",$N599)))","v":""},{"$f":"IF(TCATrigger=\"No\",\"\",IF(AcquisitionTrigger=\"No\",\"\",IF($O599=\"\",\"\",$O599)))","v":""},{"$f":"IF(TCATrigger=\"No\",\"\",IF(AcquisitionTrigger=\"No\",\"\",IF($P599=\"\",\"\",$P599)))","v":""},null,{"$f":"IF(TCATrigger=\"No\",\"\",IF(AcquisitionTrigger=\"No\",\"\",IF($R599=\"\",\"\",$R599)))","v":""},{"$f":"IF(TCATrigger=\"No\",\"\",IF(AcquisitionTrigger=\"No\",\"\",IF($S599=\"\",\"\",$S599)))","v":""}]
[null,null,null,null,null,null,"Architect Fee - Supervision",{"$f":"IF(rng02_Uses_DevRehabCosts_SoftCosts_ArchFeeSup=\"\",\"\",rng02_Uses_DevRehabCosts_SoftCosts_ArchFeeSup)","v":0},null,null,null,null,null,null,null,null,null,null,null,null,null,null,null,null,null,null,null,null,null,null,null,null,null,null,null,null,null,"Architect Fee - Supervision",0,"","","","",null,"","","",null,"","",null,null,null,"Architect Fee - Supervision","","","","","",null,"","","",null,"","",null,null,"Architect Fee - Supervision","","","","","",null,"","","",null,"",""]
[null,null,null,null,null,null,"Survey",{"$f":"IF(rng02_Uses_DevRehabCosts_SoftCosts_Survey=\"\",\"\",rng02_Uses_DevRehabCosts_SoftCosts_Survey)","v":0},null,null,null,null,null,null,null,null,null,null,null,null,null,null,null,null,null,null,null,null,null,null,null,null,null,null,null,null,null,"Survey",0,"","","","",null,"","","",null,"","",null,null,null,"Survey","","","","","",null,"","","",null,"","",null,null,"Survey","","","","","",null,"","","",null,"",""]
[null,null,null,null,null,null,"Environmental",{"$f":"IF(rng02_Uses_DevRehabCosts_SoftCosts_Environmental=\"\",\"\",rng02_Uses_DevRehabCosts_SoftCosts_Environmental)","v":0},null,null,null,null,null,null,null,null,null,null,null,null,null,null,null,null,null,null,null,null,null,null,null,null,null,null,null,null,null,"Environmental",0,"","","","",null,"","","",null,"","",null,null,null,"Environmental","","","","","",null,"","","",null,"","",null,null,"Environmental","","","","","",null,"","","",null,"",""]
[null,null,null,null,null,null,"Structural Engineering & Reports",{"$f":"IF(rng02_Uses_DevRehabCosts_SoftCosts_StructEngReports=\"\",\"\",rng02_Uses_DevRehabCosts_SoftCosts_StructEngReports)","v":0},{"$f":"IF(SUM(H603:H604)=0,\"\",SUM(H603:H604))","v":""},null,null,null,null,null,null,null,null,null,null,null,null,null,null,null,null,null,null,null,null,null,null,null,null,null,null,null,null,"Structural Engineering & Reports",0,{"$f":"IF(FourPercentTrigger=\"No\",\"\",IF($I603=\"\",\"\",$I603))","v":""},"","","",null,"","","",null,"","",null,null,null,"Structural Engineering & Reports","","","","","",null,"","","",null,"","",null,null,"Structural Engineering & Reports","","","","","",null,"","","",null,"",""]
[null,null,null,null,null,null,"Fire Code Compliance Report",{"$f":"IF(rng02_Uses_DevRehabCosts_SoftCosts_FireCodeCompRpt=\"\",\"\",rng02_Uses_DevRehabCosts_SoftCosts_FireCodeCompRpt)","v":0},null,null,null,null,null,null,null,null,null,null,null,null,null,null,null,null,null,null,null,null,null,null,null,null,null,null,null,null,null,"Fire Code Compliance Report",0,"","","","",null,"","","",null,"","",null,null,null,"Fire Code Compliance Report","","","","","",null,"","","",null,"","",null,null,"Fire Code Compliance Report","","","","","",null,"","","",null,"",""]
[null,null,null,null,null,null,"Builders Risk Insurance",{"$f":"IF(rng02_Uses_DevRehabCosts_SoftCosts_BuildersRiskIns=\"\",\"\",rng02_Uses_DevRehabCosts_SoftCosts_BuildersRiskIns)","v":0},null,null,null,null,null,null,null,null,null,null,null,null,null,null,null,null,null,null,null,null,null,null,null,null,null,null,null,null,null,"Builders Risk Insurance",0,"","","","",null,"","","",null,"","",null,null,null,"Builders Risk Insurance","","","","","",null,"","","",null,"","",null,null,"Builders Risk Insurance","","","","","",null,"","","",null,"",""]
[null,null,null,null,null,null,"Clerk of the Works",{"$f":"IF(rng02_Uses_DevRehabCosts_SoftCosts_ClerkofWorks=\"\",\"\",rng02_Uses_DevRehabCosts_SoftCosts_ClerkofWorks)","v":0},null,null,null,null,null,null,null,null,null,null,null,null,null,null,null,null,null,null,null,null,null,null,null,null,null,null,null,null,null,"Clerk of the Works",0,"","","","",null,"","","",null,"","",null,null,null,"Clerk of the Works","","","","","",null,"","","",null,"","",null,null,"Clerk of the Works","","","","","",null,"","","",null,"",""]
[null,null,null,null,null,null,"Owner Legal Fees",{"$f":"IF(rng02_Uses_DevRehabCosts_SoftCosts_OwnerLegalFees=\"\",\"\",rng02_Uses_DevRehabCosts_SoftCosts_OwnerLegalFees)","v":0},null,null,null,null,null,null,null,null,null,null,null,null,null,null,null,null,null,null,null,null,null,null,null,null,null,null,null,null,null,"Owner Legal Fees",0,"","","","",null,"","","",null,"","",null,null,null,"Owner Legal Fees","","","","","",null,"","","",null,"","",null,null,"Owner Legal Fees","","","","","",null,"","","",null,"",""]
[null,null,null,null,null,null,"RIH Legal Fees",{"$f":"IF(rng02_Uses_DevRehabCosts_SoftCosts_RIHLegalFees=\"\",\"\",rng02_Uses_DevRehabCosts_SoftCosts_RIHLegalFees)","v":0},{"$f":"IF(SUM(H608,H635)=0,\"\",SUM(H608,H635))","v":""},null,null,null,null,null,null,null,null,null,null,null,null,null,null,null,null,null,null,null,null,null,null,null,null,null,null,null,null,"RIH Legal Fees",0,{"$f":"IF(FourPercentTrigger=\"No\",\"\",IF($I608=\"\",\"\",$I608))","v":""},"","","",null,"","","",null,"","",null,null,null,"RIH Legal Fees","","","","","",null,"","","",null,"","",null,null,"RIH Legal Fees","","","","","",null,"","","",null,"",""]
[null,null,null,null,null,null,"Syndicator Legal",{"$f":"IF(rng02_Uses_DevRehabCosts_SoftCosts_SyndicatorLegal=\"\",\"\",rng02_Uses_DevRehabCosts_SoftCosts_SyndicatorLegal)","v":0},null,null,null,null,null,null,null,null,null,null,null,null,null,null,null,null,null,null,null,null,null,null,null,null,null,null,null,null,null,"Syndicator Legal",0,"","","","",null,"","","",null,"","",null,null,null,"Syndicator Legal","","","","","",null,"","","",null,"","",null,null,"Syndicator Legal","","","","","",null,"","","",null,"",""]
[null,null,null,null,null,null,"Title and Recording",{"$f":"IF(rng02_Uses_DevRehabCosts_SoftCosts_TitleRecording=\"\",\"\",rng02_Uses_DevRehabCosts_SoftCosts_TitleRecording)","v":0},null,null,null,null,null,null,null,null,null,null,null,null,null,null,null,null,null,null,null,null,null,null,null,null,null,null,null,null,null,"Title and Recording",0,"","","","",null,"","","",null,"","",null,null,null,"Title and Recording","","","","","",null,"","","",null,"","",null,null,"Title and Recording","","","","","",null,"","","",null,"",""]
[null,null,null,null,null,null,"Cost Certification",{"$f":"IF(rng02_Uses_DevRehabCosts_SoftCosts_CostCert=\"\",\"\",rng02_Uses_DevRehabCosts_SoftCosts_CostCert)","v":0},null,null,null,null,null,null,null,null,null,null,null,null,null,null,null,null,null,null,null,null,null,null,null,null,null,null,null,null,null,"Cost Certification",0,"","","","",null,"","","",null,"","",null,null,null,"Cost Certification","","","","","",null,"","","",null,"","",null,null,"Cost Certification","","","","","",null,"","","",null,"",""]
[null,null,null,null,null,null,"LIHTC Accounting",{"$f":"IF(rng02_Uses_DevRehabCosts_SoftCosts_LIHTCAccounting=\"\",\"\",rng02_Uses_DevRehabCosts_SoftCosts_LIHTCAccounting)","v":0},null,null,null,null,null,null,null,null,null,null,null,null,null,null,null,null,null,null,null,null,null,null,null,null,null,null,null,null,null,"LIHTC Accounting",0,"","","","",null,"","","",null,"","",null,null,null,"LIHTC Accounting","","","","","",null,"","","",null,"","",null,null,"LIHTC Accounting","","","","","",null,"","","",null,"",""]
[null,null,null,null,null,null,"Appraisal",{"$f":"IF(rng02_Uses_DevRehabCosts_SoftCosts_Appraisal=\"\",\"\",rng02_Uses_DevRehabCosts_SoftCosts_Appraisal)","v":0},null,null,null,null,null,null,null,null,null,null,null,null,null,null,null,null,null,null,null,null,null,null,null,null,null,null,null,null,null,"Appraisal",0,"","","","",null,"","","",null,"","",null,null,null,"Appraisal","","","","","",null,"","","",null,"","",null,null,"Appraisal","","","","","",null,"","","",null,"",""]
[null,null,null,null,null,null,"Market Study",{"$f":"IF(rng02_Uses_DevRehabCosts_SoftCosts_MktStdy=\"\",\"\",rng02_Uses_DevRehabCosts_SoftCosts_MktStdy)","v":0},null,null,null,null,null,null,null,null,null,null,null,null,null,null,null,null,null,null,null,null,null,null,null,null,null,null,null,null,null,"Market Study",0,"","","","",null,"","","",null,"","",null,null,null,"Market Study","","","","","",null,"","","",null,"","",null,null,"Market Study","","","","","",null,"","","",null,"",""]
[null,null,null,null,null,null,"Capital Needs Assessment",{"$f":"IF(rng02_Uses_DevRehabCosts_SoftCosts_CapNeedsAssess=\"\",\"\",rng02_Uses_DevRehabCosts_SoftCosts_CapNeedsAssess)","v":0},null,null,null,null,null,null,null,null,null,null,null,null,null,null,null,null,null,null,null,null,null,null,null,null,null,null,null,null,null,"Capital Needs Assessment",0,"","","","",null,"","","",null,"","",null,null,null,"Capital Needs Assessment","","","","","",null,"","","",null,"","",null,null,"Capital Needs Assessment","","","","","",null,"","","",null,"",""]
[null,null,null,null,null,null,"Furniture, Fixtures and Equipment",{"$f":"IF(rng02_Uses_DevRehabCosts_SoftCosts_FurnFixEquip=\"\",\"\",rng02_Uses_DevRehabCosts_SoftCosts_FurnFixEquip)","v":0},null,null,null,null,null,null,null,null,null,null,null,null,null,null,null,null,null,null,null,null,null,null,null,null,null,null,null,null,null,"Furniture, Fixtures and Equipment",0,"","","","",null,"","","",null,"","",null,null,null,"Furniture, Fixtures and Equipment","","","","","",null,"","","",null,"","",null,null,"Furniture, Fixtures and Equipment","","","","","",null,"","","",null,"",""]
[null,null,null,null,null,null,"Marketing and Lease-up",{"$f":"IF(rng02_Uses_DevRehabCosts_SoftCosts_MktngLeaseUp=\"\",\"\",rng02_Uses_DevRehabCosts_SoftCosts_MktngLeaseUp)","v":0},null,null,null,null,null,null,null,null,null,null,null,null,null,null,null,null,null,null,null,null,null,null,null,null,null,null,null,null,null,"Marketing and Lease-up",0,"","","","",null,"","","",null,"","",null,null,null,"Marketing and Lease-up","","","","","",null,"","","",null,"","",null,null,"Marketing and Lease-up","","","","","",null,"","","",null,"",""]
[null,null,null,null,null,null,"Sewer, Water and Utility Hookups",{"$f":"IF(rng02_Uses_DevRehabCosts_SoftCosts_SewerWaterUtilHkUps=\"\",\"\",rng02_Uses_DevRehabCosts_SoftCosts_SewerWaterUtilHkUps)","v":0},null,null,null,null,null,null,null,null,null,null,null,null,null,null,null,null,null,null,null,null,null,null,null,null,null,null,null,null,null,"Sewer, Water and Utility Hookups",0,"","","","",null,"","","",null,"","",null,null,null,"Sewer, Water and Utility Hookups","","","","","",null,"","","",null,"","",null,null,"Sewer, Water and Utility Hookups","","","","","",null,"","","",null,"",""]
[null,null,null,null,null,null,"Relocation",{"$f":"IF(rng02_Uses_DevRehabCosts_SoftCosts_Relocation=\"\",\"\",rng02_Uses_DevRehabCosts_SoftCosts_Relocation)","v":0},null,null,null,null,null,null,null,null,null,null,null,null,null,null,null,null,null,null,null,null,null,null,null,null,null,null,null,null,null,"Relocation",0,"","","","",null,"","","",null,"","",null,null,null,"Relocation","","","","","",null,"","","",null,"","",null,null,"Relocation","","","","","",null,"","","",null,"",""]
[null,null,null,null,null,null,"RE Tax Fee Set up",{"$f":"IF(rng02_Uses_DevRehabCosts_SoftCosts_RETaxFeeSetUp=\"\",\"\",rng02_Uses_DevRehabCosts_SoftCosts_RETaxFeeSetUp)","v":0},null,null,null,null,null,null,null,null,null,null,null,null,null,null,null,null,null,null,null,null,null,null,null,null,null,null,null,null,null,"RE Tax Fee Set up",0,"","","","",null,"","","",null,"","",null,null,null,"RE Tax Fee Set up","","","","","",null,"","","",null,"","",null,null,"RE Tax Fee Set up","","","","","",null,"","","",null,"",""]
[null,null,null,null,null,null,"Credit Report",{"$f":"IF(rng02_Uses_DevRehabCosts_SoftCosts_CreditRpt=\"\",\"\",rng02_Uses_DevRehabCosts_SoftCosts_CreditRpt)","v":0},null,null,null,null,null,null,null,null,null,null,null,null,null,null,null,null,null,null,null,null,null,null,null,null,null,null,null,null,null,"Credit Report",0,"","","","",null,"","","",null,"","",null,null,null,"Credit Report","","","","","",null,"","","",null,"","",null,null,"Credit Report","","","","","",null,"","","",null,"",""]
[null,null,null,null,null,null,"Additional Soft Costs",null,{"$f":"IF(SUM(H623:H626)=0,\"\",SUM(H623:H626))","v":""},null,null,null,null,null,null,null,null,null,null,null,null,null,null,null,null,null,null,null,null,null,null,null,null,null,null,null,null,"Additional Soft Costs",null,{"$f":"IF(FourPercentTrigger=\"No\",\"\",IF($I623=\"\",\"\",$I623))","v":""},null,null,null,null,null,null,null,null,null,null,null,null,null,"Additional Soft Costs",null,{"$f":"IF(TCATrigger=\"No\",\"\",IF(NinePercentTrigger=\"No\",\"\",IF($I623=\"\",\"\",$I623)))","v":""},null,null,null,null,null,null,null,null,null,null,null,null,"Additional Soft Costs",null,{"$f":"IF(TCATrigger=\"No\",\"\",IF(AcquisitionTrigger=\"No\",\"\",IF($I623=\"\",\"\",$I623)))","v":""}]
[null,null,null,null,null,null,{"$f":"Other_4","v":"Other"},{"$f":"IF(rng02_Uses_DevRehabCosts_SoftCosts_Other1=\"\",\"\",rng02_Uses_DevRehabCosts_SoftCosts_Other1)","v":0},{"$f":"IF(SUM(H623:H626)=0,\"\",SUM(H623:H626))","v":""},null,null,null,null,null,null,null,null,null,null,null,null,null,null,null,null,null,null,null,null,null,null,null,null,null,null,null,null,{"$f":"IF(AM623=\"\",\"\",G623)","v":"Other"},0,null,"","","",null,"","","",null,"","",null,null,null,{"$f":"IF(BC623=\"\",\"\",G623)","v":""},"",null,"","","",null,"","","",null,"","",null,null,{"$f":"IF(BR623=\"\",\"\",G623)","v":""},"",null,"","","",null,"","","",null,"",""]
[null,null,null,null,null,null,{"$f":"Other_5","v":"Other"},{"$f":"IF(rng02_Uses_DevRehabCosts_SoftCosts_Other2=\"\",\"\",rng02_Uses_DevRehabCosts_SoftCosts_Other2)","v":0},null,null,null,null,null,null,null,null,null,null,null,null,null,null,null,null,null,null,null,null,null,null,null,null,null,null,null,null,null,{"$f":"IF(AM624=\"\",\"\",G624)","v":"Other"},0,"","","","",null,"","","",null,"","",null,null,null,{"$f":"IF(BC624=\"\",\"\",G624)","v":""},"","","","","",null,"","","",null,"","",null,null,{"$f":"IF(BR624=\"\",\"\",G624)","v":""},"","","","","",null,"","","",null,"",""]
[null,null,null,null,null,null,{"$f":"Other_6","v":"Other"},{"$f":"IF(rng02_Uses_DevRehabCosts_SoftCosts_Other3=\"\",\"\",rng02_Uses_DevRehabCosts_SoftCosts_Other3)","v":0},null,null,null,null,null,null,null,null,null,null,null,null,null,null,null,null,null,null,null,null,null,null,null,null,null,null,null,null,null,"Other",0,"","","","",null,"","","",null,"","",null,null,null,{"$f":"IF(BC625=\"\",\"\",G625)","v":""},"","","","","",null,"","","",null,"","",null,null,{"$f":"IF(BR625=\"\",\"\",G625)","v":""},"","","","","",null,"","","",null,"",""]
[null,null,null,null,null,null,{"$f":"Other_7","v":"Other"},{"$f":"IF(rng02_Uses_DevRehabCosts_SoftCosts_Other4=\"\",\"\",rng02_Uses_DevRehabCosts_SoftCosts_Other4)","v":0},null,null,null,null,null,null,null,null,null,null,null,null,null,null,null,null,null,null,null,null,null,null,null,null,null,null,null,null,null,"Other",0,"","","","",null,"","","",null,"","",null,null,null,{"$f":"IF(BC626=\"\",\"\",G626)","v":""},"","","","","",null,"","","",null,"","",null,null,{"$f":"IF(BR626=\"\",\"\",G626)","v":""},"","","","","",null,"","","",null,"",""]
[null,null,null,null,null,null,"Soft Cost Contingency",{"$f":"IF(rng02_Uses_DevRehabCosts_SoftCosts_SCContigency=\"\",\"\",rng02_Uses_DevRehabCosts_SoftCosts_SCContigency)","v":0},null,null,null,null,null,null,null,null,null,null,null,null,null,null,null,null,null,null,null,null,null,null,null,null,null,null,null,null,null,"Soft Cost Contingency",0,"","","","",null,"","","",null,"","",null,null,null,"Soft Cost Contingency","","","","","",null,"","","",null,"","",null,null,"Soft Cost Contingency","","","","","",null,"","","",null,"",""]
[null,null,null,null,null,null,"TOTAL SOFT COSTS",{"$f":"IF(rng02_Uses_DevRehabCosts_SoftCosts_TotalSC=\"\",\"\",rng02_Uses_DevRehabCosts_SoftCosts_TotalSC)","v":0},0,0,0,0,null,0,0,0,null,0,0,null,null,null,null,null,null,null,null,null,null,null,null,null,null,null,null,null,null,"TOTAL SOFT COSTS",0,"","","","",null,"","","",null,"","",null,null,null,"TOTAL SOFT COSTS","","","","","",null,"","","",null,"","",null,null,"TOTAL SOFT COSTS","","","","","",null,"","","",null,"",""]
[]
[null,null,null,null,null,null,"FINANCING ",null,null,null,null,null,null,null,null,null,null,null,null,null,null,null,null,null,null,null,null,null,null,null,null,null,null,null,null,null,null,"FINANCING ",null,null,null,null,null,null,null,null,null,null,null,null,null,null,null,"FINANCING ",null,null,null,null,null,null,null,null,null,null,null,null,null,null,"FINANCING "]
[null,null,null,null,null,null,"Taxes During Construction",{"$f":"IF(rng02_Uses_DevRehabCosts_Financing_TaxDurConstruct=\"\",\"\",rng02_Uses_DevRehabCosts_Financing_TaxDurConstruct)","v":0},null,null,null,null,null,null,null,null,null,null,null,null,null,null,null,null,null,null,null,null,null,null,null,null,null,null,null,null,null,"Taxes During Construction",{"$f":"IF(FourPercentTrigger=\"No\",\"\",IF($H631=\"\",\"\",$H631))","v":0},{"$f":"IF(TCATrigger=\"No\",\"\",IF(FourPercentTrigger=\"No\",\"\",IF($I631=\"\",\"\",$I631)))","v":""},{"$f":"IF(TCATrigger=\"No\",\"\",IF(FourPercentTrigger=\"No\",\"\",IF($J631=\"\",\"\",$J631)))","v":""},{"$f":"IF(TCATrigger=\"No\",\"\",IF(FourPercentTrigger=\"No\",\"\",IF($K631=\"\",\"\",$K631)))","v":""},{"$f":"IF(TCATrigger=\"No\",\"\",IF(FourPercentTrigger=\"No\",\"\",IF($L631=\"\",\"\",$L631)))","v":""},null,{"$f":"IF(TCATrigger=\"No\",\"\",IF(FourPercentTrigger=\"No\",\"\",IF($N631=\"\",\"\",$N631)))","v":""},{"$f":"IF(TCATrigger=\"No\",\"\",IF(FourPercentTrigger=\"No\",\"\",IF($O631=\"\",\"\",$O631)))","v":""},{"$f":"IF(TCATrigger=\"No\",\"\",IF(FourPercentTrigger=\"No\",\"\",IF($P631=\"\",\"\",$P631)))","v":""},null,{"$f":"IF(TCATrigger=\"No\",\"\",IF(FourPercentTrigger=\"No\",\"\",IF($R631=\"\",\"\",$R631)))","v":""},{"$f":"IF(TCATrigger=\"No\",\"\",IF(FourPercentTrigger=\"No\",\"\",IF($S631=\"\",\"\",$S631)))","v":""},null,null,null,"Taxes During Construction",{"$f":"IF(TCATrigger=\"No\",\"\",IF(NinePercentTrigger=\"No\",\"\",IF($H631=\"\",\"\",$H631)))","v":""},{"$f":"IF(TCATrigger=\"No\",\"\",IF(NinePercentTrigger=\"No\",\"\",IF($I631=\"\",\"\",$I631)))","v":""},{"$f":"IF(TCATrigger=\"No\",\"\",IF(NinePercentTrigger=\"No\",\"\",IF($J631=\"\",\"\",$J631)))","v":""},{"$f":"IF(TCATrigger=\"No\",\"\",IF(NinePercentTrigger=\"No\",\"\",IF($K631=\"\",\"\",$K631)))","v":""},{"$f":"IF(TCATrigger=\"No\",\"\",IF(NinePercentTrigger=\"No\",\"\",IF($L631=\"\",\"\",$L631)))","v":""},null,{"$f":"IF(TCATrigger=\"No\",\"\",IF(NinePercentTrigger=\"No\",\"\",IF($N631=\"\",\"\",$N631)))","v":""},{"$f":"IF(TCATrigger=\"No\",\"\",IF(NinePercentTrigger=\"No\",\"\",IF($O631=\"\",\"\",$O631)))","v":""},{"$f":"IF(TCATrigger=\"No\",\"\",IF(NinePercentTrigger=\"No\",\"\",IF($P631=\"\",\"\",$P631)))","v":""},null,{"$f":"IF(TCATrigger=\"No\",\"\",IF(NinePercentTrigger=\"No\",\"\",IF($R631=\"\",\"\",$R631)))","v":""},{"$f":"IF(TCATrigger=\"No\",\"\",IF(NinePercentTrigger=\"No\",\"\",IF($S631=\"\",\"\",$S631)))","v":""},null,null,"Taxes During Construction",{"$f":"IF(TCATrigger=\"No\",\"\",IF(AcquisitionTrigger=\"No\",\"\",IF($H631=\"\",\"\",$H631)))","v":""},{"$f":"IF(TCATrigger=\"No\",\"\",IF(AcquisitionTrigger=\"No\",\"\",IF($I631=\"\",\"\",$I631)))","v":""},{"$f":"IF(TCATrigger=\"No\",\"\",IF(AcquisitionTrigger=\"No\",\"\",IF($J631=\"\",\"\",$J631)))","v":""},{"$f":"IF(TCATrigger=\"No\",\"\",IF(AcquisitionTrigger=\"No\",\"\",IF($K631=\"\",\"\",$K631)))","v":""},{"$f":"IF(TCATrigger=\"No\",\"\",IF(AcquisitionTrigger=\"No\",\"\",IF($L631=\"\",\"\",$L631)))","v":""},null,{"$f":"IF(TCATrigger=\"No\",\"\",IF(AcquisitionTrigger=\"No\",\"\",IF($N631=\"\",\"\",$N631)))","v":""},{"$f":"IF(TCATrigger=\"No\",\"\",IF(AcquisitionTrigger=\"No\",\"\",IF($O631=\"\",\"\",$O631)))","v":""},{"$f":"IF(TCATrigger=\"No\",\"\",IF(AcquisitionTrigger=\"No\",\"\",IF($P631=\"\",\"\",$P631)))","v":""},null,{"$f":"IF(TCATrigger=\"No\",\"\",IF(AcquisitionTrigger=\"No\",\"\",IF($R631=\"\",\"\",$R631)))","v":""},{"$f":"IF(TCATrigger=\"No\",\"\",IF(AcquisitionTrigger=\"No\",\"\",IF($S631=\"\",\"\",$S631)))","v":""}]
[null,null,null,null,null,null,"Risk Sharing Premium",{"$f":"IF(rng02_Uses_DevRehabCosts_Financing_RiskSharingPrem=\"\",\"\",rng02_Uses_DevRehabCosts_Financing_RiskSharingPrem)","v":0},{"$f":"IF(H632+H634+H636+H637+H638=0,\"\",H632+H634+H636+H637+H638)","v":""},null,null,null,null,null,null,null,null,null,null,null,null,null,null,null,null,null,null,null,null,null,null,null,null,null,null,null,null,"Risk Sharing Premium",0,"","","","",null,"","","",null,"","",null,null,null,"Risk Sharing Premium","","","","","",null,"","","",null,"","",null,null,"Risk Sharing Premium","","","","","",null,"","","",null,"",""]
[null,null,null,null,null,null,"Construction Loan Interest",{"$f":"IF(rng02_Uses_DevRehabCosts_Financing_ConstructLoanInt=\"\",\"\",rng02_Uses_DevRehabCosts_Financing_ConstructLoanInt)","v":0},null,null,null,null,null,null,null,null,null,null,null,null,null,null,null,null,null,null,null,null,null,null,null,null,null,null,null,null,null,"Construction Loan Interest",0,"","","","",null,"","","",null,"","",null,null,null,"Construction Loan Interest","","","","","",null,"","","",null,"","",null,null,"Construction Loan Interest","","","","","",null,"","","",null,"",""]
[null,null,null,null,null,null,"Construction Loan Origination Fee",{"$f":"IF(rng02_Uses_DevRehabCosts_Financing_ConstructLoanOrigFee=\"\",\"\",rng02_Uses_DevRehabCosts_Financing_ConstructLoanOrigFee)","v":0},null,null,null,null,null,null,null,null,null,null,null,null,null,null,null,null,null,null,null,null,null,null,null,null,null,null,null,null,null,"Construction Loan Origination Fee",0,"","","","",null,"","","",null,"","",null,null,null,"Construction Loan Origination Fee","","","","","",null,"","","",null,"","",null,null,"Construction Loan Origination Fee","","","","","",null,"","","",null,"",""]
[null,null,null,null,null,null,"RIH Origination Fee",{"$f":"IF(rng02_Uses_DevRehabCosts_Financing_RIHOrigFee=\"\",\"\",rng02_Uses_DevRehabCosts_Financing_RIHOrigFee)","v":0},null,null,null,null,null,null,null,null,null,null,null,null,null,null,null,null,null,null,null,null,null,null,null,null,null,null,null,null,null,"RIH Origination Fee",0,"","","","",null,"","","",null,"","",null,null,null,"RIH Origination Fee","","","","","",null,"","","",null,"","",null,null,"RIH Origination Fee","","","","","",null,"","","",null,"",""]
[null,null,null,null,null,null,"Other Lender Origination Fee",{"$f":"IF(rng02_Uses_DevRehabCosts_Financing_OtherLenderOrigFee=\"\",\"\",rng02_Uses_DevRehabCosts_Financing_OtherLenderOrigFee)","v":0},null,null,null,null,null,null,null,null,null,null,null,null,null,null,null,null,null,null,null,null,null,null,null,null,null,null,null,null,null,"Other Lender Origination Fee",0,"","","","",null,"","","",null,"","",null,null,null,"Other Lender Origination Fee","","","","","",null,"","","",null,"","",null,null,"Other Lender Origination Fee","","","","","",null,"","","",null,"",""]
[null,null,null,null,null,null,"Cost of Issuance (bond deals only)",{"$f":"IF(rng02_Uses_DevRehabCosts_Financing_CostofIns=\"\",\"\",rng02_Uses_DevRehabCosts_Financing_CostofIns)","v":0},null,null,null,null,null,null,null,null,null,null,null,null,null,null,null,null,null,null,null,null,null,null,null,null,null,null,null,null,null,"Cost of Issuance (bond deals only)",0,"","","","",null,"","","",null,"","",null,null,null,"Cost of Issuance (bond deals only)","","","","","",null,"","","",null,"","",null,null,"Cost of Issuance (bond deals only)","","","","","",null,"","","",null,"",""]
[null,null,null,null,null,null,{"$f":"'02_4_USES'!B69","v":"Tax Credit Allocation Fee: Typ. $0"},{"$f":"IF(rng02_Uses_DevRehabCosts_Financing_TCAFee=\"\",\"\",rng02_Uses_DevRehabCosts_Financing_TCAFee)","v":0},null,null,null,null,null,null,null,null,null,null,null,null,null,null,null,null,null,null,null,null,null,null,null,null,null,null,null,null,null,"Tax Credit Allocation Fee: Typ $0",0,"","","","",null,"","","",null,"","",null,null,null,"Tax Credit Allocation Fee: Typ $0","","","","","",null,"","","",null,"","",null,null,"Tax Credit Allocation Fee: Typ $0","","","","","",null,"","","",null,"",""]
[null,null,null,null,null,null,"Additional Financing Costs",null,{"$f":"IF(SUM(H640:H643)=0,\"\",SUM(H640:H643))","v":""},null,null,null,null,null,null,null,null,null,null,null,null,null,null,null,null,null,null,null,null,null,null,null,null,null,null,null,null,"Additional Financing Costs",null,{"$f":"IF(FourPercentTrigger=\"No\",\"\",IF($I639=\"\",\"\",$I639))","v":""},null,null,null,null,null,null,null,null,null,null,null,null,null,"Additional Financing Costs",null,{"$f":"IF(TCATrigger=\"No\",\"\",IF(NinePercentTrigger=\"No\",\"\",IF($I639=\"\",\"\",$I639)))","v":""},null,null,null,null,null,null,null,null,null,null,null,null,"Additional Financing Costs",null,{"$f":"IF(TCATrigger=\"No\",\"\",IF(AcquisitionTrigger=\"No\",\"\",IF($I639=\"\",\"\",$I639)))","v":""}]
[null,null,null,null,null,null,"Other",{"$f":"IF(rng02_Uses_DevRehabCosts_Financing_Other1=\"\",\"\",rng02_Uses_DevRehabCosts_Financing_Other1)","v":0},null,null,null,null,null,null,null,null,null,null,null,null,null,null,null,null,null,null,null,null,null,null,null,null,null,null,null,null,null,"Other",0,{"$f":"IF(FourPercentTrigger=\"No\",\"\",IF($I640=\"\",\"\",$I640))","v":""},{"$f":"IF(TCATrigger=\"No\",\"\",IF(FourPercentTrigger=\"No\",\"\",IF($J640=\"\",\"\",$J640)))","v":""},{"$f":"IF(TCATrigger=\"No\",\"\",IF(FourPercentTrigger=\"No\",\"\",IF($K640=\"\",\"\",$K640)))","v":""},"",null,"","","",null,"","",null,null,null,"Other","",{"$f":"IF(TCATrigger=\"No\",\"\",IF(NinePercentTrigger=\"No\",\"\",IF($I640=\"\",\"\",$I640)))","v":""},{"$f":"IF(TCATrigger=\"No\",\"\",IF(NinePercentTrigger=\"No\",\"\",IF($J640=\"\",\"\",$J640)))","v":""},{"$f":"IF(TCATrigger=\"No\",\"\",IF(NinePercentTrigger=\"No\",\"\",IF($K640=\"\",\"\",$K640)))","v":""},"",null,"","","",null,"","",null,null,"Other","",{"$f":"IF(TCATrigger=\"No\",\"\",IF(AcquisitionTrigger=\"No\",\"\",IF($I640=\"\",\"\",$I640)))","v":""},{"$f":"IF(TCATrigger=\"No\",\"\",IF(AcquisitionTrigger=\"No\",\"\",IF($J640=\"\",\"\",$J640)))","v":""},{"$f":"IF(TCATrigger=\"No\",\"\",IF(AcquisitionTrigger=\"No\",\"\",IF($K640=\"\",\"\",$K640)))","v":""},"",null,"","","",null,"",""]
[null,null,null,null,null,null,"Other",{"$f":"IF(rng02_Uses_DevRehabCosts_Financing_Other2=\"\",\"\",rng02_Uses_DevRehabCosts_Financing_Other2)","v":0},null,null,null,null,null,null,null,null,null,null,null,null,null,null,null,null,null,null,null,null,null,null,null,null,null,null,null,null,null,"Other",0,"","","","",null,"","","",null,"","",null,null,null,"Other","","","","","",null,"","","",null,"","",null,null,"Other","","","","","",null,"","","",null,"",""]
[null,null,null,null,null,null,"Other",{"$f":"IF(rng02_Uses_DevRehabCosts_Financing_Other3=\"\",\"\",rng02_Uses_DevRehabCosts_Financing_Other3)","v":0},null,null,null,null,null,null,null,null,null,null,null,null,null,null,null,null,null,null,null,null,null,null,null,null,null,null,null,null,null,"Other",0,"","","","",null,"","","",null,"","",null,null,null,"Other","","","","","",null,"","","",null,"","",null,null,"Other","","","","","",null,"","","",null,"",""]
[null,null,null,null,null,null,"Other",{"$f":"IF(rng02_Uses_DevRehabCosts_Financing_Other4=\"\",\"\",rng02_Uses_DevRehabCosts_Financing_Other4)","v":0},null,null,null,null,null,null,null,null,null,null,null,null,null,null,null,null,null,null,null,null,null,null,null,null,null,null,null,null,null,"Other",0,"","","","",null,"","","",null,"","",null,null,null,"Other","","","","","",null,"","","",null,"","",null,null,"Other","","","","","",null,"","","",null,"",""]
[null,null,null,null,null,null,"TOTAL FINANCING COSTS",{"$f":"IF(rng02_Uses_DevRehabCosts_Financing_TotFinCosts=\"\",\"\",rng02_Uses_DevRehabCosts_Financing_TotFinCosts)","v":0},0,0,0,0,null,0,0,0,null,0,0,null,null,null,null,null,null,null,null,null,null,null,null,null,null,null,null,null,null,"TOTAL FINANCING COSTS",0,"","","","",null,"","","",null,"","",null,null,null,"TOTAL FINANCING COSTS","","","","","",null,"","","",null,"","",null,null,"TOTAL FINANCING COSTS","","","","","",null,"","","",null,"",""]
[]
[null,null,null,null,null,null,"RESERVES",null,null,null,null,null,null,null,null,null,null,null,null,null,null,null,null,null,null,null,null,null,null,null,null,null,null,null,null,null,null,"RESERVES",null,null,null,null,null,null,null,null,null,null,null,null,null,null,null,"RESERVES",null,null,null,null,null,null,null,null,null,null,null,null,null,null,"RESERVES"]
[null,null,null,null,null,null,"1st Year Property Tax Escrow",{"$f":"IF(rng02_Uses_DevRehabCosts_Reserves_1YrPropTaxEscrow=\"\",\"\",rng02_Uses_DevRehabCosts_Reserves_1YrPropTaxEscrow)","v":0},null,null,null,null,null,null,null,null,null,null,null,null,null,null,null,null,null,null,null,null,null,null,null,null,null,null,null,null,null,"1st Year Property Tax Escrow",{"$f":"IF(FourPercentTrigger=\"No\",\"\",IF($H647=\"\",\"\",$H647))","v":0},{"$f":"IF(TCATrigger=\"No\",\"\",IF(FourPercentTrigger=\"No\",\"\",IF($I647=\"\",\"\",$I647)))","v":""},{"$f":"IF(TCATrigger=\"No\",\"\",IF(FourPercentTrigger=\"No\",\"\",IF($J647=\"\",\"\",$J647)))","v":""},{"$f":"IF(TCATrigger=\"No\",\"\",IF(FourPercentTrigger=\"No\",\"\",IF($K647=\"\",\"\",$K647)))","v":""},{"$f":"IF(TCATrigger=\"No\",\"\",IF(FourPercentTrigger=\"No\",\"\",IF($L647=\"\",\"\",$L647)))","v":""},null,{"$f":"IF(TCATrigger=\"No\",\"\",IF(FourPercentTrigger=\"No\",\"\",IF($N647=\"\",\"\",$N647)))","v":""},{"$f":"IF(TCATrigger=\"No\",\"\",IF(FourPercentTrigger=\"No\",\"\",IF($O647=\"\",\"\",$O647)))","v":""},{"$f":"IF(TCATrigger=\"No\",\"\",IF(FourPercentTrigger=\"No\",\"\",IF($P647=\"\",\"\",$P647)))","v":""},null,{"$f":"IF(TCATrigger=\"No\",\"\",IF(FourPercentTrigger=\"No\",\"\",IF($R647=\"\",\"\",$R647)))","v":""},{"$f":"IF(TCATrigger=\"No\",\"\",IF(FourPercentTrigger=\"No\",\"\",IF($S647=\"\",\"\",$S647)))","v":""},null,null,null,"1st Year Property Tax Escrow",{"$f":"IF(TCATrigger=\"No\",\"\",IF(NinePercentTrigger=\"No\",\"\",IF($H647=\"\",\"\",$H647)))","v":""},{"$f":"IF(TCATrigger=\"No\",\"\",IF(NinePercentTrigger=\"No\",\"\",IF($I647=\"\",\"\",$I647)))","v":""},{"$f":"IF(TCATrigger=\"No\",\"\",IF(NinePercentTrigger=\"No\",\"\",IF($J647=\"\",\"\",$J647)))","v":""},{"$f":"IF(TCATrigger=\"No\",\"\",IF(NinePercentTrigger=\"No\",\"\",IF($K647=\"\",\"\",$K647)))","v":""},{"$f":"IF(TCATrigger=\"No\",\"\",IF(NinePercentTrigger=\"No\",\"\",IF($L647=\"\",\"\",$L647)))","v":""},null,{"$f":"IF(TCATrigger=\"No\",\"\",IF(NinePercentTrigger=\"No\",\"\",IF($N647=\"\",\"\",$N647)))","v":""},{"$f":"IF(TCATrigger=\"No\",\"\",IF(NinePercentTrigger=\"No\",\"\",IF($O647=\"\",\"\",$O647)))","v":""},{"$f":"IF(TCATrigger=\"No\",\"\",IF(NinePercentTrigger=\"No\",\"\",IF($P647=\"\",\"\",$P647)))","v":""},null,{"$f":"IF(TCATrigger=\"No\",\"\",IF(NinePercentTrigger=\"No\",\"\",IF($R647=\"\",\"\",$R647)))","v":""},{"$f":"IF(TCATrigger=\"No\",\"\",IF(NinePercentTrigger=\"No\",\"\",IF($S647=\"\",\"\",$S647)))","v":""},null,null,"1st Year Property Tax Escrow",{"$f":"IF(TCATrigger=\"No\",\"\",IF(AcquisitionTrigger=\"No\",\"\",IF($H647=\"\",\"\",$H647)))","v":""},{"$f":"IF(TCATrigger=\"No\",\"\",IF(AcquisitionTrigger=\"No\",\"\",IF($I647=\"\",\"\",$I647)))","v":""},{"$f":"IF(TCATrigger=\"No\",\"\",IF(AcquisitionTrigger=\"No\",\"\",IF($J647=\"\",\"\",$J647)))","v":""},{"$f":"IF(TCATrigger=\"No\",\"\",IF(AcquisitionTrigger=\"No\",\"\",IF($K647=\"\",\"\",$K647)))","v":""},{"$f":"IF(TCATrigger=\"No\",\"\",IF(AcquisitionTrigger=\"No\",\"\",IF($L647=\"\",\"\",$L647)))","v":""},null,{"$f":"IF(TCATrigger=\"No\",\"\",IF(AcquisitionTrigger=\"No\",\"\",IF($N647=\"\",\"\",$N647)))","v":""},{"$f":"IF(TCATrigger=\"No\",\"\",IF(AcquisitionTrigger=\"No\",\"\",IF($O647=\"\",\"\",$O647)))","v":""},{"$f":"IF(TCATrigger=\"No\",\"\",IF(AcquisitionTrigger=\"No\",\"\",IF($P647=\"\",\"\",$P647)))","v":""},null,{"$f":"IF(TCATrigger=\"No\",\"\",IF(AcquisitionTrigger=\"No\",\"\",IF($R647=\"\",\"\",$R647)))","v":""},{"$f":"IF(TCATrigger=\"No\",\"\",IF(AcquisitionTrigger=\"No\",\"\",IF($S647=\"\",\"\",$S647)))","v":""}]
[null,null,null,null,null,null,"1st Year Insurance Escrow",{"$f":"IF(rng02_Uses_DevRehabCosts_Reserves_1YrInsEscrow=\"\",\"\",rng02_Uses_DevRehabCosts_Reserves_1YrInsEscrow)","v":0},null,null,null,null,null,null,null,null,null,null,null,null,null,null,null,null,null,null,null,null,null,null,null,null,null,null,null,null,null,"1st Year Insurance Escrow",0,"","","","",null,"","","",null,"","",null,null,null,"1st Year Insurance Escrow","","","","","",null,"","","",null,"","",null,null,"1st Year Insurance Escrow","","","","","",null,"","","",null,"",""]
[null,null,null,null,null,null,"Operating Reserve: Typ. $000",{"$f":"IF(rng02_Uses_DevRehabCosts_Reserves_OperatingReserve=\"\",\"\",rng02_Uses_DevRehabCosts_Reserves_OperatingReserve)","v":0},null,null,null,null,null,null,null,null,null,null,null,null,null,null,null,null,null,null,null,null,null,null,null,null,null,null,null,null,null,"Operating Reserve: Typ. $000",0,"","","","",null,"","","",null,"","",null,null,null,"Operating Reserve: Typ. $000","","","","","",null,"","","",null,"","",null,null,"Operating Reserve: Typ. $000","","","","","",null,"","","",null,"",""]
[null,null,null,null,null,null,"Replacement Reserve",{"$f":"IF(rng02_Uses_DevRehabCosts_Reserves_ReplacementReserve=\"\",\"\",rng02_Uses_DevRehabCosts_Reserves_ReplacementReserve)","v":0},null,null,null,null,null,null,null,null,null,null,null,null,null,null,null,null,null,null,null,null,null,null,null,null,null,null,null,null,null,"Replacement Reserve",0,"","","","",null,"","","",null,"","",null,null,null,"Replacement Reserve","","","","","",null,"","","",null,"","",null,null,"Replacement Reserve","","","","","",null,"","","",null,"",""]
[null,null,null,null,null,null,"Additional Reserves Costs",null,{"$f":"SUM(H652:H653)","v":0},null,null,null,null,null,null,null,null,null,null,null,null,null,null,null,null,null,null,null,null,null,null,null,null,null,null,null,null,"Additional Reserve Costs",null,{"$f":"IF(FourPercentTrigger=\"No\",\"\",IF($I651=\"\",\"\",$I651))","v":0},null,null,null,null,null,null,null,null,null,null,null,null,null,"Additional Reserve Costs",null,"",null,null,null,null,null,null,null,null,null,null,null,null,"Additional Reserve Costs",null,{"$f":"IF(TCATrigger=\"No\",\"\",IF(AcquisitionTrigger=\"No\",\"\",IF($I651=\"\",\"\",$I651)))","v":""}]
[null,null,null,null,null,null,"Lease-up Reserve",{"$f":"IF(rng02_Uses_DevRehabCosts_Reserves_LeaseUpReserve=\"\",\"\",rng02_Uses_DevRehabCosts_Reserves_LeaseUpReserve)","v":0},null,null,null,null,null,null,null,null,null,null,null,null,null,null,null,null,null,null,null,null,null,null,null,null,null,null,null,null,null,"Lease-up Reserve",0,null,"","","",null,"","","",null,"","",null,null,null,"Lease-up Reserve","","","","","",null,"","","",null,"","",null,null,"Lease-up Reserve","","","","","",null,"","","",null,"",""]
[null,null,null,null,null,null,"Other",{"$f":"IF(rng02_Uses_DevRehabCosts_Reserves_Other1=\"\",\"\",rng02_Uses_DevRehabCosts_Reserves_Other1)","v":0},null,null,null,null,null,null,null,null,null,null,null,null,null,null,null,null,null,null,null,null,null,null,null,null,null,null,null,null,null,"Other",0,"","","","",null,"","","",null,"","",null,null,null,"Other","","","","","",null,"","","",null,"","",null,null,"Other","","","","","",null,"","","",null,"",""]
[null,null,null,null,null,null,"TOTAL RESERVES",{"$f":"IF(rng02_Uses_DevRehabCosts_Reserves_TotReserves=\"\",\"\",rng02_Uses_DevRehabCosts_Reserves_TotReserves)","v":0},{"$f":"IF(SUM(H647:H653)=0,\"\",SUM(H647:H653))","v":""},0,0,0,null,0,0,0,null,0,0,null,null,null,null,null,null,null,null,null,null,null,null,null,null,null,null,null,null,"TOTAL RESERVES",0,"","","","",null,"","","",null,"","",null,null,null,"TOTAL RESERVES","","","","","",null,"","","",null,"","",null,null,"TOTAL RESERVES","","","","","",null,"","","",null,"",""]
[null,null,null,null,null,null,"PLEASE ADJUST THE ORIGINATION FEE, MINIMUM ORIGINATION FEE IS $20,000",null,null,null,null,null,null,null,null,null,null,null,null,null,null,null,null,null,null,null,null,null,null,null,null,null,null,null,null,null,null,"PLEASE ADJUST THE ORIGINATION FEE, MINIMUM ORIGINATION FEE IS $20,000",null,null,null,null,null,null,null,null,null,null,null,null,null,null,null,"PLEASE ADJUST THE ORIGINATION FEE, MINIMUM ORIGINATION FEE IS $20,000",null,null,null,null,null,null,null,null,null,null,null,null,null,null,"PLEASE ADJUST THE ORIGINATION FEE, MINIMUM ORIGINATION FEE IS $20,000"]
[null,null,null,null,null,null,"DEVELOPER FEE",null,null,null,null,null,null,null,null,null,null,null,null,null,null,null,null,null,null,null,null,null,null,null,null,null,null,null,null,null,null,"DEVELOPER FEE",null,null,null,null,null,null,null,null,null,null,null,null,null,null,null,"DEVELOPER FEE",null,null,null,null,null,null,null,null,null,null,null,null,null,null,"DEVELOPER FEE"]
[null,null,null,null,null,null,"Base Developer Fee: Typ. $000",{"$f":"IF(rng02_Uses_DevRehabCosts_DevFee_BaseDevFee=\"\",\"\",rng02_Uses_DevRehabCosts_DevFee_BaseDevFee)","v":0},{"$f":"IF(SUM(H657:H658)=0,\"\",SUM(H657:H658))","v":""},null,null,null,null,null,null,null,null,null,null,null,null,null,null,null,null,null,null,null,null,null,null,null,null,null,null,null,null,"Base Developer Fee: Typ. $000",{"$f":"IF(FourPercentTrigger=\"No\",\"\",IF($H657=\"\",\"\",$H657))","v":0},{"$f":"IF(FourPercentTrigger=\"No\",\"\",IF($I657=\"\",\"\",$I657))","v":""},{"$f":"IF(TCATrigger=\"No\",\"\",IF(FourPercentTrigger=\"No\",\"\",IF($J657=\"\",\"\",$J657)))","v":""},{"$f":"IF(TCATrigger=\"No\",\"\",IF(FourPercentTrigger=\"No\",\"\",IF($K657=\"\",\"\",$K657)))","v":""},{"$f":"IF(TCATrigger=\"No\",\"\",IF(FourPercentTrigger=\"No\",\"\",IF($L657=\"\",\"\",$L657)))","v":""},null,{"$f":"IF(TCATrigger=\"No\",\"\",IF(FourPercentTrigger=\"No\",\"\",IF($N657=\"\",\"\",$N657)))","v":""},{"$f":"IF(TCATrigger=\"No\",\"\",IF(FourPercentTrigger=\"No\",\"\",IF($O657=\"\",\"\",$O657)))","v":""},{"$f":"IF(TCATrigger=\"No\",\"\",IF(FourPercentTrigger=\"No\",\"\",IF($P657=\"\",\"\",$P657)))","v":""},null,{"$f":"IF(TCATrigger=\"No\",\"\",IF(FourPercentTrigger=\"No\",\"\",IF($R657=\"\",\"\",$R657)))","v":""},{"$f":"IF(TCATrigger=\"No\",\"\",IF(FourPercentTrigger=\"No\",\"\",IF($S657=\"\",\"\",$S657)))","v":""},null,null,null,"Base Developer Fee: Typ. $000",{"$f":"IF(TCATrigger=\"No\",\"\",IF(NinePercentTrigger=\"No\",\"\",IF($H657=\"\",\"\",$H657)))","v":""},{"$f":"IF(TCATrigger=\"No\",\"\",IF(NinePercentTrigger=\"No\",\"\",IF($I657=\"\",\"\",$I657)))","v":""},{"$f":"IF(TCATrigger=\"No\",\"\",IF(NinePercentTrigger=\"No\",\"\",IF($J657=\"\",\"\",$J657)))","v":""},{"$f":"IF(TCATrigger=\"No\",\"\",IF(NinePercentTrigger=\"No\",\"\",IF($K657=\"\",\"\",$K657)))","v":""},{"$f":"IF(TCATrigger=\"No\",\"\",IF(NinePercentTrigger=\"No\",\"\",IF($L657=\"\",\"\",$L657)))","v":""},null,{"$f":"IF(TCATrigger=\"No\",\"\",IF(NinePercentTrigger=\"No\",\"\",IF($N657=\"\",\"\",$N657)))","v":""},{"$f":"IF(TCATrigger=\"No\",\"\",IF(NinePercentTrigger=\"No\",\"\",IF($O657=\"\",\"\",$O657)))","v":""},{"$f":"IF(TCATrigger=\"No\",\"\",IF(NinePercentTrigger=\"No\",\"\",IF($P657=\"\",\"\",$P657)))","v":""},null,{"$f":"IF(TCATrigger=\"No\",\"\",IF(NinePercentTrigger=\"No\",\"\",IF($R657=\"\",\"\",$R657)))","v":""},{"$f":"IF(TCATrigger=\"No\",\"\",IF(NinePercentTrigger=\"No\",\"\",IF($S657=\"\",\"\",$S657)))","v":""},null,null,"Base Developer Fee: Typ. $000",{"$f":"IF(TCATrigger=\"No\",\"\",IF(AcquisitionTrigger=\"No\",\"\",IF($H657=\"\",\"\",$H657)))","v":""},{"$f":"IF(TCATrigger=\"No\",\"\",IF(AcquisitionTrigger=\"No\",\"\",IF($I657=\"\",\"\",$I657)))","v":""},{"$f":"IF(TCATrigger=\"No\",\"\",IF(AcquisitionTrigger=\"No\",\"\",IF($J657=\"\",\"\",$J657)))","v":""},{"$f":"IF(TCATrigger=\"No\",\"\",IF(AcquisitionTrigger=\"No\",\"\",IF($K657=\"\",\"\",$K657)))","v":""},{"$f":"IF(TCATrigger=\"No\",\"\",IF(AcquisitionTrigger=\"No\",\"\",IF($L657=\"\",\"\",$L657)))","v":""},null,{"$f":"IF(TCATrigger=\"No\",\"\",IF(AcquisitionTrigger=\"No\",\"\",IF($N657=\"\",\"\",$N657)))","v":""},{"$f":"IF(TCATrigger=\"No\",\"\",IF(AcquisitionTrigger=\"No\",\"\",IF($O657=\"\",\"\",$O657)))","v":""},{"$f":"IF(TCATrigger=\"No\",\"\",IF(AcquisitionTrigger=\"No\",\"\",IF($P657=\"\",\"\",$P657)))","v":""},null,{"$f":"IF(TCATrigger=\"No\",\"\",IF(AcquisitionTrigger=\"No\",\"\",IF($R657=\"\",\"\",$R657)))","v":""},{"$f":"IF(TCATrigger=\"No\",\"\",IF(AcquisitionTrigger=\"No\",\"\",IF($S657=\"\",\"\",$S657)))","v":""}]
[null,null,null,null,null,null,"Eligible Incentive Developer Fee",{"$f":"IF(rng02_Uses_DevRehabCosts_DevFee_EligIncDevFee=\"\",\"\",rng02_Uses_DevRehabCosts_DevFee_EligIncDevFee)","v":0},null,null,null,null,null,null,null,null,null,null,null,null,null,null,null,null,null,null,null,null,null,null,null,null,null,null,null,null,null,"Eligible Incentive Developer Fee",{"$f":"IF(FourPercentTrigger=\"No\",\"\",IF($H658=\"\",\"\",$H658))","v":0},{"$f":"IF(FourPercentTrigger=\"No\",\"\",IF($I658=\"\",\"\",$I658))","v":""},{"$f":"IF(TCATrigger=\"No\",\"\",IF(FourPercentTrigger=\"No\",\"\",IF($J658=\"\",\"\",$J658)))","v":""},{"$f":"IF(TCATrigger=\"No\",\"\",IF(FourPercentTrigger=\"No\",\"\",IF($K658=\"\",\"\",$K658)))","v":""},{"$f":"IF(TCATrigger=\"No\",\"\",IF(FourPercentTrigger=\"No\",\"\",IF($L658=\"\",\"\",$L658)))","v":""},null,{"$f":"IF(TCATrigger=\"No\",\"\",IF(FourPercentTrigger=\"No\",\"\",IF($N658=\"\",\"\",$N658)))","v":""},{"$f":"IF(TCATrigger=\"No\",\"\",IF(FourPercentTrigger=\"No\",\"\",IF($O658=\"\",\"\",$O658)))","v":""},{"$f":"IF(TCATrigger=\"No\",\"\",IF(FourPercentTrigger=\"No\",\"\",IF($P658=\"\",\"\",$P658)))","v":""},null,{"$f":"IF(TCATrigger=\"No\",\"\",IF(FourPercentTrigger=\"No\",\"\",IF($R658=\"\",\"\",$R658)))","v":""},{"$f":"IF(TCATrigger=\"No\",\"\",IF(FourPercentTrigger=\"No\",\"\",IF($S658=\"\",\"\",$S658)))","v":""},null,null,null,"Eligible Incentive Developer Fee",{"$f":"IF(TCATrigger=\"No\",\"\",IF(NinePercentTrigger=\"No\",\"\",IF($H658=\"\",\"\",$H658)))","v":""},{"$f":"IF(TCATrigger=\"No\",\"\",IF(NinePercentTrigger=\"No\",\"\",IF($I658=\"\",\"\",$I658)))","v":""},{"$f":"IF(TCATrigger=\"No\",\"\",IF(NinePercentTrigger=\"No\",\"\",IF($J658=\"\",\"\",$J658)))","v":""},{"$f":"IF(TCATrigger=\"No\",\"\",IF(NinePercentTrigger=\"No\",\"\",IF($K658=\"\",\"\",$K658)))","v":""},{"$f":"IF(TCATrigger=\"No\",\"\",IF(NinePercentTrigger=\"No\",\"\",IF($L658=\"\",\"\",$L658)))","v":""},null,{"$f":"IF(TCATrigger=\"No\",\"\",IF(NinePercentTrigger=\"No\",\"\",IF($N658=\"\",\"\",$N658)))","v":""},{"$f":"IF(TCATrigger=\"No\",\"\",IF(NinePercentTrigger=\"No\",\"\",IF($O658=\"\",\"\",$O658)))","v":""},{"$f":"IF(TCATrigger=\"No\",\"\",IF(NinePercentTrigger=\"No\",\"\",IF($P658=\"\",\"\",$P658)))","v":""},null,{"$f":"IF(TCATrigger=\"No\",\"\",IF(NinePercentTrigger=\"No\",\"\",IF($R658=\"\",\"\",$R658)))","v":""},{"$f":"IF(TCATrigger=\"No\",\"\",IF(NinePercentTrigger=\"No\",\"\",IF($S658=\"\",\"\",$S658)))","v":""},null,null,"Eligible Incentive Developer Fee",{"$f":"IF(TCATrigger=\"No\",\"\",IF(AcquisitionTrigger=\"No\",\"\",IF($H658=\"\",\"\",$H658)))","v":""},{"$f":"IF(TCATrigger=\"No\",\"\",IF(AcquisitionTrigger=\"No\",\"\",IF($I658=\"\",\"\",$I658)))","v":""},{"$f":"IF(TCATrigger=\"No\",\"\",IF(AcquisitionTrigger=\"No\",\"\",IF($J658=\"\",\"\",$J658)))","v":""},{"$f":"IF(TCATrigger=\"No\",\"\",IF(AcquisitionTrigger=\"No\",\"\",IF($K658=\"\",\"\",$K658)))","v":""},{"$f":"IF(TCATrigger=\"No\",\"\",IF(AcquisitionTrigger=\"No\",\"\",IF($L658=\"\",\"\",$L658)))","v":""},null,{"$f":"IF(TCATrigger=\"No\",\"\",IF(AcquisitionTrigger=\"No\",\"\",IF($N658=\"\",\"\",$N658)))","v":""},{"$f":"IF(TCATrigger=\"No\",\"\",IF(AcquisitionTrigger=\"No\",\"\",IF($O658=\"\",\"\",$O658)))","v":""},{"$f":"IF(TCATrigger=\"No\",\"\",IF(AcquisitionTrigger=\"No\",\"\",IF($P658=\"\",\"\",$P658)))","v":""},null,{"$f":"IF(TCATrigger=\"No\",\"\",IF(AcquisitionTrigger=\"No\",\"\",IF($R658=\"\",\"\",$R658)))","v":""},{"$f":"IF(TCATrigger=\"No\",\"\",IF(AcquisitionTrigger=\"No\",\"\",IF($S658=\"\",\"\",$S658)))","v":""}]
[null,null,null,null,null,null,"TOTAL DEVELOPER FEE",{"$f":"IF(rng02_Uses_DevRehabCosts_DevFee_TotDevFee=\"\",\"\",rng02_Uses_DevRehabCosts_DevFee_TotDevFee)","v":0},null,null,null,null,null,null,null,null,null,null,null,null,null,null,null,null,null,null,null,null,null,null,null,null,null,null,null,null,null,"TOTAL DEVELOPER FEE",{"$f":"IF(FourPercentTrigger=\"No\",\"\",IF($H659=\"\",\"\",$H659))","v":0},{"$f":"IF(TCATrigger=\"No\",\"\",IF(FourPercentTrigger=\"No\",\"\",IF($I659=\"\",\"\",$I659)))","v":""},{"$f":"IF(TCATrigger=\"No\",\"\",IF(FourPercentTrigger=\"No\",\"\",IF($J659=\"\",\"\",$J659)))","v":""},{"$f":"IF(TCATrigger=\"No\",\"\",IF(FourPercentTrigger=\"No\",\"\",IF($K659=\"\",\"\",$K659)))","v":""},{"$f":"IF(TCATrigger=\"No\",\"\",IF(FourPercentTrigger=\"No\",\"\",IF($L659=\"\",\"\",$L659)))","v":""},null,{"$f":"IF(TCATrigger=\"No\",\"\",IF(FourPercentTrigger=\"No\",\"\",IF($N659=\"\",\"\",$N659)))","v":""},{"$f":"IF(TCATrigger=\"No\",\"\",IF(FourPercentTrigger=\"No\",\"\",IF($O659=\"\",\"\",$O659)))","v":""},{"$f":"IF(TCATrigger=\"No\",\"\",IF(FourPercentTrigger=\"No\",\"\",IF($P659=\"\",\"\",$P659)))","v":""},null,{"$f":"IF(TCATrigger=\"No\",\"\",IF(FourPercentTrigger=\"No\",\"\",IF($R659=\"\",\"\",$R659)))","v":""},{"$f":"IF(TCATrigger=\"No\",\"\",IF(FourPercentTrigger=\"No\",\"\",IF($S659=\"\",\"\",$S659)))","v":""},null,null,null,"TOTAL DEVELOPER FEE",{"$f":"IF(TCATrigger=\"No\",\"\",IF(NinePercentTrigger=\"No\",\"\",IF($H659=\"\",\"\",$H659)))","v":""},{"$f":"IF(TCATrigger=\"No\",\"\",IF(NinePercentTrigger=\"No\",\"\",IF($I659=\"\",\"\",$I659)))","v":""},{"$f":"IF(TCATrigger=\"No\",\"\",IF(NinePercentTrigger=\"No\",\"\",IF($J659=\"\",\"\",$J659)))","v":""},{"$f":"IF(TCATrigger=\"No\",\"\",IF(NinePercentTrigger=\"No\",\"\",IF($K659=\"\",\"\",$K659)))","v":""},{"$f":"IF(TCATrigger=\"No\",\"\",IF(NinePercentTrigger=\"No\",\"\",IF($L659=\"\",\"\",$L659)))","v":""},null,{"$f":"IF(TCATrigger=\"No\",\"\",IF(NinePercentTrigger=\"No\",\"\",IF($N659=\"\",\"\",$N659)))","v":""},{"$f":"IF(TCATrigger=\"No\",\"\",IF(NinePercentTrigger=\"No\",\"\",IF($O659=\"\",\"\",$O659)))","v":""},{"$f":"IF(TCATrigger=\"No\",\"\",IF(NinePercentTrigger=\"No\",\"\",IF($P659=\"\",\"\",$P659)))","v":""},null,{"$f":"IF(TCATrigger=\"No\",\"\",IF(NinePercentTrigger=\"No\",\"\",IF($R659=\"\",\"\",$R659)))","v":""},{"$f":"IF(TCATrigger=\"No\",\"\",IF(NinePercentTrigger=\"No\",\"\",IF($S659=\"\",\"\",$S659)))","v":""},null,null,"TOTAL DEVELOPER FEE",{"$f":"IF(TCATrigger=\"No\",\"\",IF(AcquisitionTrigger=\"No\",\"\",IF($H659=\"\",\"\",$H659)))","v":""},{"$f":"IF(TCATrigger=\"No\",\"\",IF(AcquisitionTrigger=\"No\",\"\",IF($I659=\"\",\"\",$I659)))","v":""},{"$f":"IF(TCATrigger=\"No\",\"\",IF(AcquisitionTrigger=\"No\",\"\",IF($J659=\"\",\"\",$J659)))","v":""},{"$f":"IF(TCATrigger=\"No\",\"\",IF(AcquisitionTrigger=\"No\",\"\",IF($K659=\"\",\"\",$K659)))","v":""},{"$f":"IF(TCATrigger=\"No\",\"\",IF(AcquisitionTrigger=\"No\",\"\",IF($L659=\"\",\"\",$L659)))","v":""},null,{"$f":"IF(TCATrigger=\"No\",\"\",IF(AcquisitionTrigger=\"No\",\"\",IF($N659=\"\",\"\",$N659)))","v":""},{"$f":"IF(TCATrigger=\"No\",\"\",IF(AcquisitionTrigger=\"No\",\"\",IF($O659=\"\",\"\",$O659)))","v":""},{"$f":"IF(TCATrigger=\"No\",\"\",IF(AcquisitionTrigger=\"No\",\"\",IF($P659=\"\",\"\",$P659)))","v":""},null,{"$f":"IF(TCATrigger=\"No\",\"\",IF(AcquisitionTrigger=\"No\",\"\",IF($R659=\"\",\"\",$R659)))","v":""},{"$f":"IF(TCATrigger=\"No\",\"\",IF(AcquisitionTrigger=\"No\",\"\",IF($S659=\"\",\"\",$S659)))","v":""}]
[null,null,null,null,null,null,"SUBTOTAL CONSTRUCTION & SOFT COSTS",{"$f":"IF(rng02_Uses_DevRehabCosts_SubtotalConstructionCosts=\"\",\"\",rng02_Uses_DevRehabCosts_SubtotalConstructionCosts)","v":0},0,0,0,"N/A",null,null,null,null,null,null,null,null,null,null,null,null,null,null,null,null,null,null,null,null,null,null,null,null,null,"SUBTOTAL CONSTRUCTION & SOFT COSTS",{"$f":"IF(FourPercentTrigger=\"No\",\"\",IF($H660=\"\",\"\",$H660))","v":0},{"$f":"IF(TCATrigger=\"No\",\"\",IF(FourPercentTrigger=\"No\",\"\",IF($I660=\"\",\"\",$I660)))","v":""},{"$f":"IF(TCATrigger=\"No\",\"\",IF(FourPercentTrigger=\"No\",\"\",IF($J660=\"\",\"\",$J660)))","v":""},{"$f":"IF(TCATrigger=\"No\",\"\",IF(FourPercentTrigger=\"No\",\"\",IF($K660=\"\",\"\",$K660)))","v":""},{"$f":"IF(TCATrigger=\"No\",\"\",IF(FourPercentTrigger=\"No\",\"\",IF($L660=\"\",\"\",$L660)))","v":""},null,{"$f":"IF(TCATrigger=\"No\",\"\",IF(FourPercentTrigger=\"No\",\"\",IF($N660=\"\",\"\",$N660)))","v":""},{"$f":"IF(TCATrigger=\"No\",\"\",IF(FourPercentTrigger=\"No\",\"\",IF($O660=\"\",\"\",$O660)))","v":""},{"$f":"IF(TCATrigger=\"No\",\"\",IF(FourPercentTrigger=\"No\",\"\",IF($P660=\"\",\"\",$P660)))","v":""},null,{"$f":"IF(TCATrigger=\"No\",\"\",IF(FourPercentTrigger=\"No\",\"\",IF($R660=\"\",\"\",$R660)))","v":""},{"$f":"IF(TCATrigger=\"No\",\"\",IF(FourPercentTrigger=\"No\",\"\",IF($S660=\"\",\"\",$S660)))","v":""},null,null,null,"SUBTOTAL CONSTRUCTION & SOFT COSTS",{"$f":"IF(TCATrigger=\"No\",\"\",IF(NinePercentTrigger=\"No\",\"\",IF($H660=\"\",\"\",$H660)))","v":""},{"$f":"IF(TCATrigger=\"No\",\"\",IF(NinePercentTrigger=\"No\",\"\",IF($I660=\"\",\"\",$I660)))","v":""},{"$f":"IF(TCATrigger=\"No\",\"\",IF(NinePercentTrigger=\"No\",\"\",IF($J660=\"\",\"\",$J660)))","v":""},{"$f":"IF(TCATrigger=\"No\",\"\",IF(NinePercentTrigger=\"No\",\"\",IF($K660=\"\",\"\",$K660)))","v":""},{"$f":"IF(TCATrigger=\"No\",\"\",IF(NinePercentTrigger=\"No\",\"\",IF($L660=\"\",\"\",$L660)))","v":""},null,{"$f":"IF(TCATrigger=\"No\",\"\",IF(NinePercentTrigger=\"No\",\"\",IF($N660=\"\",\"\",$N660)))","v":""},{"$f":"IF(TCATrigger=\"No\",\"\",IF(NinePercentTrigger=\"No\",\"\",IF($O660=\"\",\"\",$O660)))","v":""},{"$f":"IF(TCATrigger=\"No\",\"\",IF(NinePercentTrigger=\"No\",\"\",IF($P660=\"\",\"\",$P660)))","v":""},null,{"$f":"IF(TCATrigger=\"No\",\"\",IF(NinePercentTrigger=\"No\",\"\",IF($R660=\"\",\"\",$R660)))","v":""},{"$f":"IF(TCATrigger=\"No\",\"\",IF(NinePercentTrigger=\"No\",\"\",IF($S660=\"\",\"\",$S660)))","v":""},null,null,"SUBTOTAL CONSTRUCTION & SOFT COSTS",{"$f":"IF(TCATrigger=\"No\",\"\",IF(AcquisitionTrigger=\"No\",\"\",IF($H660=\"\",\"\",$H660)))","v":""},{"$f":"IF(TCATrigger=\"No\",\"\",IF(AcquisitionTrigger=\"No\",\"\",IF($I660=\"\",\"\",$I660)))","v":""},{"$f":"IF(TCATrigger=\"No\",\"\",IF(AcquisitionTrigger=\"No\",\"\",IF($J660=\"\",\"\",$J660)))","v":""},{"$f":"IF(TCATrigger=\"No\",\"\",IF(AcquisitionTrigger=\"No\",\"\",IF($K660=\"\",\"\",$K660)))","v":""},{"$f":"IF(TCATrigger=\"No\",\"\",IF(AcquisitionTrigger=\"No\",\"\",IF($L660=\"\",\"\",$L660)))","v":""},null,{"$f":"IF(TCATrigger=\"No\",\"\",IF(AcquisitionTrigger=\"No\",\"\",IF($N660=\"\",\"\",$N660)))","v":""},{"$f":"IF(TCATrigger=\"No\",\"\",IF(AcquisitionTrigger=\"No\",\"\",IF($O660=\"\",\"\",$O660)))","v":""},{"$f":"IF(TCATrigger=\"No\",\"\",IF(AcquisitionTrigger=\"No\",\"\",IF($P660=\"\",\"\",$P660)))","v":""},null,{"$f":"IF(TCATrigger=\"No\",\"\",IF(AcquisitionTrigger=\"No\",\"\",IF($R660=\"\",\"\",$R660)))","v":""},{"$f":"IF(TCATrigger=\"No\",\"\",IF(AcquisitionTrigger=\"No\",\"\",IF($S660=\"\",\"\",$S660)))","v":""}]
[null,null,null,null,null,null,"TOTAL DEVELOPMENT COSTS",{"$f":"IF(rng02_Uses_DevRehabCosts_TotDevCosts=\"\",\"\",rng02_Uses_DevRehabCosts_TotDevCosts)","v":0},0,0,0,"N/A",null,0,0,0,null,0,0,null,null,null,null,null,null,null,null,null,null,null,null,null,null,null,null,null,null,"TOTAL DEVELOPMENT COSTS",{"$f":"IF(FourPercentTrigger=\"No\",\"\",IF($H661=\"\",\"\",$H661))","v":0},{"$f":"IF(TCATrigger=\"No\",\"\",IF(FourPercentTrigger=\"No\",\"\",IF($I661=\"\",\"\",$I661)))","v":""},{"$f":"IF(TCATrigger=\"No\",\"\",IF(FourPercentTrigger=\"No\",\"\",IF($J661=\"\",\"\",$J661)))","v":""},{"$f":"IF(TCATrigger=\"No\",\"\",IF(FourPercentTrigger=\"No\",\"\",IF($K661=\"\",\"\",$K661)))","v":""},{"$f":"IF(TCATrigger=\"No\",\"\",IF(FourPercentTrigger=\"No\",\"\",IF($L661=\"\",\"\",$L661)))","v":""},null,{"$f":"IF(TCATrigger=\"No\",\"\",IF(FourPercentTrigger=\"No\",\"\",IF($N661=\"\",\"\",$N661)))","v":""},{"$f":"IF(TCATrigger=\"No\",\"\",IF(FourPercentTrigger=\"No\",\"\",IF($O661=\"\",\"\",$O661)))","v":""},{"$f":"IF(TCATrigger=\"No\",\"\",IF(FourPercentTrigger=\"No\",\"\",IF($P661=\"\",\"\",$P661)))","v":""},null,{"$f":"IF(TCATrigger=\"No\",\"\",IF(FourPercentTrigger=\"No\",\"\",IF($R661=\"\",\"\",$R661)))","v":""},{"$f":"IF(TCATrigger=\"No\",\"\",IF(FourPercentTrigger=\"No\",\"\",IF($S661=\"\",\"\",$S661)))","v":""},null,null,null,"TOTAL DEVELOPMENT COSTS",{"$f":"IF(TCATrigger=\"No\",\"\",IF(NinePercentTrigger=\"No\",\"\",IF($H661=\"\",\"\",$H661)))","v":""},{"$f":"IF(TCATrigger=\"No\",\"\",IF(NinePercentTrigger=\"No\",\"\",IF($I661=\"\",\"\",$I661)))","v":""},{"$f":"IF(TCATrigger=\"No\",\"\",IF(NinePercentTrigger=\"No\",\"\",IF($J661=\"\",\"\",$J661)))","v":""},{"$f":"IF(TCATrigger=\"No\",\"\",IF(NinePercentTrigger=\"No\",\"\",IF($K661=\"\",\"\",$K661)))","v":""},{"$f":"IF(TCATrigger=\"No\",\"\",IF(NinePercentTrigger=\"No\",\"\",IF($L661=\"\",\"\",$L661)))","v":""},null,{"$f":"IF(TCATrigger=\"No\",\"\",IF(NinePercentTrigger=\"No\",\"\",IF($N661=\"\",\"\",$N661)))","v":""},{"$f":"IF(TCATrigger=\"No\",\"\",IF(NinePercentTrigger=\"No\",\"\",IF($O661=\"\",\"\",$O661)))","v":""},{"$f":"IF(TCATrigger=\"No\",\"\",IF(NinePercentTrigger=\"No\",\"\",IF($P661=\"\",\"\",$P661)))","v":""},null,{"$f":"IF(TCATrigger=\"No\",\"\",IF(NinePercentTrigger=\"No\",\"\",IF($R661=\"\",\"\",$R661)))","v":""},{"$f":"IF(TCATrigger=\"No\",\"\",IF(NinePercentTrigger=\"No\",\"\",IF($S661=\"\",\"\",$S661)))","v":""},null,null,"TOTAL DEVELOPMENT COSTS",{"$f":"IF(TCATrigger=\"No\",\"\",IF(AcquisitionTrigger=\"No\",\"\",IF($H661=\"\",\"\",$H661)))","v":""},{"$f":"IF(TCATrigger=\"No\",\"\",IF(AcquisitionTrigger=\"No\",\"\",IF($I661=\"\",\"\",$I661)))","v":""},{"$f":"IF(TCATrigger=\"No\",\"\",IF(AcquisitionTrigger=\"No\",\"\",IF($J661=\"\",\"\",$J661)))","v":""},{"$f":"IF(TCATrigger=\"No\",\"\",IF(AcquisitionTrigger=\"No\",\"\",IF($K661=\"\",\"\",$K661)))","v":""},{"$f":"IF(TCATrigger=\"No\",\"\",IF(AcquisitionTrigger=\"No\",\"\",IF($L661=\"\",\"\",$L661)))","v":""},null,{"$f":"IF(TCATrigger=\"No\",\"\",IF(AcquisitionTrigger=\"No\",\"\",IF($N661=\"\",\"\",$N661)))","v":""},{"$f":"IF(TCATrigger=\"No\",\"\",IF(AcquisitionTrigger=\"No\",\"\",IF($O661=\"\",\"\",$O661)))","v":""},{"$f":"IF(TCATrigger=\"No\",\"\",IF(AcquisitionTrigger=\"No\",\"\",IF($P661=\"\",\"\",$P661)))","v":""},null,{"$f":"IF(TCATrigger=\"No\",\"\",IF(AcquisitionTrigger=\"No\",\"\",IF($R661=\"\",\"\",$R661)))","v":""},{"$f":"IF(TCATrigger=\"No\",\"\",IF(AcquisitionTrigger=\"No\",\"\",IF($S661=\"\",\"\",$S661)))","v":""}]
[]
[]
[]
["02_4_Uses","Developer Fee Property & Program Information:",null,null,null,null,null,null,null,null,null,null,null,null,null,null,null,null,null,null,null,null,null,null,null,null,null,null,null,null,null,"02_4_Uses","Developer Fee Property & Program Information:"]
[]
[]
[]
["02_5_LIHTC Proceeds",null,null,null,null,null,"LINE ITEMS","ACQUISITION","NEW / REHAB","Custom Calculation",null,null,null,null,null,null,null,null,null,null,null,null,null,null,null,null,null,null,null,null,null,"02_5_LIHTC Proceeds",null,null,null,null,null,"LINE ITEMS","ACQUISITION","NEW / REHAB","Custom Calculation",null,null,"Need some clarification"]
[null,null,null,null,null,null,"Total Eligible Uses (from Uses tab)",{"$f":"N661","v":0},{"$f":"O660","v":0},null,null,null,null,null,null,null,null,null,null,null,null,null,null,null,null,null,null,null,null,null,null,null,null,null,null,null,null,"Total Eligible Uses (from Uses tab)",{"$f":"IF(TCATrigger=\"No\",\"\",IF(H670=\"\",\"\",H670))","v":""},{"$f":"IF(TCATrigger=\"No\",\"\",IF(I670=\"\",\"\",I670))","v":""},{"$f":"IF(TCATrigger=\"No\",\"\",IF(J670=\"\",\"\",J670))","v":""}]
[null,null,null,null,null,"Edit Deal>Deal Funding>Funding Source","minus Historic Tax Credit  ",0,0,null,null,null,null,null,null,null,null,null,null,null,null,null,null,null,null,null,null,null,null,null,null,null,null,null,null,null,null,"minus Historic Tax Credit  ","","",""]
[null,null,null,null,null,"Edit Deal>Deal Funding>Funding Source","minus Other Non-Qualifying Financing or Adjustments",0,0,null,null,null,null,null,null,null,null,null,null,null,null,null,null,null,null,null,null,null,null,null,null,null,null,null,null,null,null,"minus Other Non-Qualifying Financing or Adjustments","","",""]
[null,null,null,null,null,null,"Adjusted Project Costs",0,0,0,null,null,null,null,null,null,null,null,null,null,null,null,null,null,null,null,null,null,null,null,null,null,null,null,null,null,null,"Adjusted Project Costs","","",""]
[null,null,null,null,null,null,"Adjustment for QCT / DDA",null,null,null,null,null,null,null,null,null,null,null,null,null,null,null,null,null,null,null,null,null,null,null,null,null,null,null,null,null,null,"Adjustment for QCT / DDA","","",""]
[null,null,null,null,null,null,"Eligible Basis",0,0,0,null,null,null,null,null,null,null,null,null,null,null,null,null,null,null,null,null,null,null,null,null,null,null,null,null,null,null,"Eligible Basis","","",""]
[null,null,null,null,null,null,"Applicable Fraction",{"$error":"#DIV/0!"},{"$error":"#DIV/0!"},{"$error":"#DIV/0!"},null,null,null,null,null,null,null,null,null,null,null,null,null,null,null,null,null,null,null,null,null,null,null,null,null,null,null,"Applicable Fraction","","",""]
[null,null,null,null,null,null,"Qualified Basis",{"$error":"#DIV/0!"},{"$error":"#DIV/0!"},{"$error":"#DIV/0!"},null,null,null,null,null,null,null,null,null,null,null,null,null,null,null,null,null,null,null,null,null,null,null,null,null,null,null,"Qualified Basis","","",""]
[null,null,null,null,null,null,"Tax Credit Percentage",null,null,null,null,null,null,null,null,null,null,null,null,null,null,null,null,null,null,null,null,null,null,null,null,null,null,null,null,null,null,"Tax Credit Percentage","","",""]
[null,null,null,null,null,null,"Maximum Annual Tax Credit",{"$error":"#DIV/0!"},{"$error":"#DIV/0!"},{"$error":"#DIV/0!"},null,null,null,null,null,null,null,null,null,null,null,null,null,null,null,null,null,null,null,null,null,null,null,null,null,null,null,"Maximum Annual Tax Credit","","",""]
[null,null,null,null,null,null,"Allocation Adjustment",null,null,null,null,null,null,null,null,null,null,null,null,null,null,null,null,null,null,null,null,null,null,null,null,null,null,null,null,null,null,"Allocation Adjustment","","",""]
[null,null,null,null,null,null,"Actual Allocation",{"$error":"#DIV/0!"},{"$error":"#DIV/0!"},{"$error":"#DIV/0!"},null,null,null,null,null,null,null,null,null,null,null,null,null,null,null,null,null,null,null,null,null,null,null,null,null,null,null,"Actual Allocation","","",""]
[null,null,null,null,null,null,"Years of Eligibility",10,10,10,null,null,null,null,null,null,null,null,null,null,null,null,null,null,null,null,null,null,null,null,null,null,null,null,null,null,null,"Years of Eligibility","","",""]
[null,null,null,null,null,null,"Total 10 Years of Credit",{"$error":"#DIV/0!"},{"$error":"#DIV/0!"},{"$error":"#DIV/0!"},null,null,null,null,null,null,null,null,null,null,null,null,null,null,null,null,null,null,null,null,null,null,null,null,null,null,null,"Total 10 Years of Credit","","",""]
[null,null,null,null,null,null,"Investor Percentage",null,null,null,null,null,null,null,null,null,null,null,null,null,null,null,null,null,null,null,null,null,null,null,null,null,null,null,null,null,null,"Investor Percentage","","",""]
[null,null,null,null,null,null,"Price for Credits",null,null,null,null,null,null,null,null,null,null,null,null,null,null,null,null,null,null,null,null,null,null,null,null,null,null,null,null,null,null,"Price for Credits","","",""]
[null,null,null,null,null,null,"Total Credit Syndication Proceeds",{"$error":"#DIV/0!"},{"$error":"#DIV/0!"},{"$error":"#DIV/0!"},null,null,null,null,null,null,null,null,null,null,null,null,null,null,null,null,null,null,null,null,null,null,null,null,null,null,null,"Total Credit Syndication Proceeds","","",""]
[]
[]
[null,null,null,null,null,null,"ABOVE TAX CREDIT TOTALS","Total","To Investor",null,null,null,null,null,null,null,null,null,null,null,null,null,null,null,null,null,null,null,null,null,null,null,null,null,null,null,null,"ABOVE TAX CREDIT TOTALS","Total","To Investor"]
[null,null,null,null,null,null,"Annual Tax Credit Amount",{"$error":"#DIV/0!"},{"$error":"#DIV/0!"},null,null,null,null,null,null,null,null,null,null,null,null,null,null,null,null,null,null,null,null,null,null,null,null,null,null,null,null,"Annual Tax Credit Amount",{"$f":"IF(TCATrigger=\"No\",\"\",IF(H690=\"\",\"\",H690))","v":""},{"$f":"IF(TCATrigger=\"No\",\"\",IF(I690=\"\",\"\",I690))","v":""}]
[null,null,null,null,null,null,"Ten Year Totals",{"$error":"#DIV/0!"},{"$error":"#DIV/0!"},null,null,null,null,null,null,null,null,null,null,null,null,null,null,null,null,null,null,null,null,null,null,null,null,null,null,null,null,"Ten Year Totals",{"$f":"IF(TCATrigger=\"No\",\"\",IF(H691=\"\",\"\",H691))","v":""},{"$f":"IF(TCATrigger=\"No\",\"\",IF(I691=\"\",\"\",I691))","v":""}]
[]
[null,null,null,null,null,null,"HISTORIC TAX CREDIT","FEDERAL","STATE",null,null,null,null,null,null,null,null,null,null,null,null,null,null,null,null,null,null,null,null,null,null,null,null,null,null,null,null,"HISTORIC TAX CREDIT","FEDERAL","STATE"]
[null,null,null,null,null,null,"Qualified Basis",null,null,null,null,null,null,null,null,null,null,null,null,null,null,null,null,null,null,null,null,null,null,null,null,null,null,null,null,null,null,"Qualified Basis",{"$f":"IF(TCATrigger=\"No\",\"\",IF(H694=\"\",\"\",H694))","v":""},""]
[null,null,null,null,null,null,"Tax Credit Percentage",null,null,null,null,null,null,null,null,null,null,null,null,null,null,null,null,null,null,null,null,null,null,null,null,null,null,null,null,null,null,"Tax Credit Percentage","",""]
[null,null,null,null,null,null,"Historic Tax Credit Amount",0,0,null,null,null,null,null,null,null,null,null,null,null,null,null,null,null,null,null,null,null,null,null,null,null,null,null,null,null,null,"Historic Tax Credit Amount","",""]
[null,null,null,null,null,null,"Price for Credits",null,null,null,null,null,null,null,null,null,null,null,null,null,null,null,null,null,null,null,null,null,null,null,null,null,null,null,null,null,null,"Price for Credits","",""]
[null,null,null,null,null,null,"Historic Tax Credit Actual",0,0,null,null,null,null,null,null,null,null,null,null,null,null,null,null,null,null,null,null,null,null,null,null,null,null,null,null,null,null,"Historic Tax Credit Actual","",""]
[]
["06_8_Operating Subsidy",null,"HPF-ELI Program Information",null,null,null,"RIH Program Type","HPF-ELI",null,null,null,null,null,null,null,null,null,null,null,null,null,null,null,null,null,null,null,null,null,null,null,null,null,"HPF-ELI Program Information",null,null,null,"RIH Program Type","HPF-ELI"]
[null,null,null,null,null,null,"Program Award",{"$f":"IF(HPFELI_Program_Award=0, \"\", HPFELI_Program_Award)","v":""},null,null,null,null,null,null,null,null,null,null,null,null,null,null,null,null,null,null,null,null,null,null,null,null,null,null,null,null,null,"Program Award",{"$f":"IF(HPFELI_Program_Award=0, \"\", HPFELI_Program_Award)","v":""}]
[null,null,null,null,null,null,"Total 30% HPF-ELI Units",{"$f":"IF(Total_HPF_ELI_30__Units=0, \"\", Total_HPF_ELI_30__Units)","v":""},null,null,null,null,null,null,null,null,null,null,null,null,null,null,null,null,null,null,null,null,null,null,null,null,null,null,null,null,null,"Total 30% HPF-ELI Units",{"$f":"IF(Total_HPF_ELI_30__Units=0, \"\", Total_HPF_ELI_30__Units)","v":""}]
[null,null,null,null,null,null,"Total HPF-ELI Units",{"$f":"IF(Total_HPF_ELI_Units=0, \"\", Total_HPF_ELI_Units)","v":""},null,null,null,null,null,null,null,null,null,null,null,null,null,null,null,null,null,null,null,null,null,null,null,null,null,null,null,null,null,"Total HPF-ELI Units",{"$f":"IF(Total_HPF_ELI_Units=0, \"\", Total_HPF_ELI_Units)","v":""}]
[]
[null,null,"HPF-ELI Unit Commitment",null,null,null,"Unit Size","30%",null,null,null,null,null,null,null,null,null,null,null,null,null,null,null,null,null,null,null,null,null,null,null,null,null,"HPF-ELI Unit Commitment",null,null,null,"Unit Size","30%"]
[null,null,null,null,null,null,"SRO",{"$f":"IF(HPFELI_SRO_30=0, \"\", HPFELI_SRO_30)","v":""},null,null,null,null,null,null,null,null,null,null,null,null,null,null,null,null,null,null,null,null,null,null,null,null,null,null,null,null,null,"SRO",{"$f":"IF(HPFELI_SRO_30=0, \"\", HPFELI_SRO_30)","v":""}]
[null,null,null,null,null,null,"EFF",{"$f":"IF(HPFELI_EFF_30=0, \"\", HPFELI_EFF_30)","v":""},null,null,null,null,null,null,null,null,null,null,null,null,null,null,null,null,null,null,null,null,null,null,null,null,null,null,null,null,null,"EFF",{"$f":"IF(HPFELI_EFF_30=0, \"\", HPFELI_EFF_30)","v":""}]
[null,null,null,null,null,null,1,{"$f":"IF(HPFELI_1BR_30=0, \"\",HPFELI_1BR_30)","v":""},null,null,null,null,null,null,null,null,null,null,null,null,null,null,null,null,null,null,null,null,null,null,null,null,null,null,null,null,null,1,{"$f":"IF(HPFELI_1BR_30=0, \"\",HPFELI_1BR_30)","v":""}]
[null,null,null,null,null,null,2,{"$f":"IF(HPFELI_2BR_30=0, \"\", HPFELI_2BR_30)","v":""},null,null,null,null,null,null,null,null,null,null,null,null,null,null,null,null,null,null,null,null,null,null,null,null,null,null,null,null,null,2,{"$f":"IF(HPFELI_2BR_30=0, \"\", HPFELI_2BR_30)","v":""}]
[null,null,null,null,null,null,3,{"$f":"IF(HPFELI_3BR_30=0, \"\", HPFELI_3BR_30)","v":""},null,null,null,null,null,null,null,null,null,null,null,null,null,null,null,null,null,null,null,null,null,null,null,null,null,null,null,null,null,3,{"$f":"IF(HPFELI_3BR_30=0, \"\", HPFELI_3BR_30)","v":""}]
[null,null,null,null,null,null,4,{"$f":"IF(HPFELI_4BR_30=0, \"\", HPFELI_4BR_30)","v":""},null,null,null,null,null,null,null,null,null,null,null,null,null,null,null,null,null,null,null,null,null,null,null,null,null,null,null,null,null,4,{"$f":"IF(HPFELI_4BR_30=0, \"\", HPFELI_4BR_30)","v":""}]
[null,null,null,null,null,null,5,{"$f":"IF(HPFELI_5BR_30=0, \"\", HPFELI_5BR_30)","v":""},null,null,null,null,null,null,null,null,null,null,null,null,null,null,null,null,null,null,null,null,null,null,null,null,null,null,null,null,null,5,{"$f":"IF(HPFELI_5BR_30=0, \"\", HPFELI_5BR_30)","v":""}]
[]
[null,null,"RIH-ELI Program Information",null,null,null,"RIH Program Type","RIH-ELI"]
[null,null,null,null,null,null,"Program Award",""]
[null,null,null,null,null,null,"Total 30% RIH-ELI Units",""]
[null,null,null,null,null,null,"Total RIH-ELI Units",""]
[]
[null,null,"RIH-ELI Unit Commitment",null,null,null,"Unit Size","30%"]
[null,null,null,null,null,null,"SRO",""]
[null,null,null,null,null,null,"EFF",""]
[null,null,null,null,null,null,1,""]
[null,null,null,null,null,null,2,""]
[null,null,null,null,null,null,3,""]
[null,null,null,null,null,null,4,""]
[null,null,null,null,null,null,5,""]

{"sheet":"01_1_General Data","index":10,"n_rows":316,"n_cols":50,"rows_kept":316,"cut":false,"hidden":true,"merged":[[78,13,78,14],[79,13,79,14],[175,8,175,10],[189,3,189,5],[190,3,190,5],[191,3,191,5],[188,3,188,5],[185,3,185,5],[186,3,186,5],[187,3,187,5],[165,8,165,10],[166,8,166,10],[167,8,167,10],[168,8,168,10],[169,8,169,10],[170,8,170,10],[171,8,171,10],[172,8,172,10],[173,8,173,10],[171,3,171,5],[172,3,172,5],[173,3,173,5],[165,3,165,5],[166,3,166,5],[28,2,28,4],[13,2,13,4],[49,2,49,4],[50,2,50,4],[13,10,13,11],[10,10,10,11],[11,10,11,11],[14,10,14,11],[15,10,15,11],[12,10,12,11],[16,10,16,11],[22,10,22,11],[30,10,30,11],[31,10,31,11],[32,10,32,11],[28,10,28,11],[29,10,29,11],[35,10,35,11],[36,10,36,11],[37,10,37,11],[38,10,38,11],[39,10,39,11],[40,10,40,11],[41,10,41,11],[10,2,10,4],[11,2,11,4],[12,2,12,4],[17,2,17,4],[18,2,18,4],[14,2,14,4],[15,2,15,4],[16,2,16,4],[20,2,20,4],[19,2,19,4],[209,8,209,10],[210,8,210,10],[211,8,211,10],[212,8,212,10],[213,8,213,10],[72,13,72,14],[201,8,201,10],[202,8,202,10],[203,8,203,10],[205,8,205,10],[186,8,186,10],[206,8,206,10],[187,8,187,10],[188,8,188,10],[189,8,189,10],[190,8,190,10],[191,8,191,10],[192,8,192,10],[80,13,80,14],[73,13,73,14],[74,13,74,14],[75,13,75,14],[76,13,76,14],[77,13,77,14],[193,8,193,10],[192,3,192,5],[193,3,193,5],[195,8,195,10],[196,8,196,10],[197,8,197,10],[198,8,198,10],[207,8,207,10],[208,8,208,10],[199,8,199,10],[200,8,200,10],[202,3,202,5],[203,3,203,5],[195,3,195,5],[196,3,196,5],[197,3,197,5],[198,3,198,5],[199,3,199,5],[200,3,200,5],[201,3,201,5],[212,3,212,5],[213,3,213,5],[205,3,205,5],[206,3,206,5],[207,3,207,5],[208,3,208,5],[209,3,209,5],[210,3,210,5],[211,3,211,5],[185,8,185,10],[46,10,46,11],[47,10,47,11],[55,5,55,6],[175,3,175,5],[176,3,176,5],[177,3,177,5],[178,3,178,5],[179,3,179,5],[180,3,180,5],[80,4,80,5],[46,2,46,4],[47,2,47,4],[48,2,48,4],[169,3,169,5],[170,3,170,5],[58,5,58,6],[57,5,57,6],[56,5,56,6],[167,3,167,5],[168,3,168,5],[163,2,163,10],[32,2,32,4],[33,2,33,4],[34,2,34,4],[35,2,35,4],[36,2,36,4],[181,3,181,5],[182,3,182,5],[183,3,183,5],[183,8,183,10],[176,8,176,10],[177,8,177,10],[178,8,178,10],[179,8,179,10],[180,8,180,10],[181,8,181,10],[182,8,182,10],[41,2,41,4],[39,2,39,4],[40,2,40,4],[42,2,42,4],[55,10,55,11],[23,10,23,11],[24,10,24,11],[22,2,22,4],[17,10,17,11],[21,2,21,4],[77,4,77,5],[78,4,78,5],[79,4,79,5],[24,2,24,4],[23,2,23,4],[48,10,48,11],[31,2,31,4],[38,2,38,4],[59,5,59,6],[60,5,60,6],[73,4,73,5],[74,4,74,5],[75,4,75,5],[76,4,76,5],[37,2,37,4],[33,10,33,11],[34,10,34,11],[30,2,30,4],[29,2,29,4]]}
["General Data"]
[{"$f":"IF(rng01_ProjectName=\"\",\"[Project Name]\", rng01_ProjectName)","v":"[Project Name]"},null,null,null,"Current Model Progress Date:",{"$f":"tbl00ModelProgress[[#Totals],[Date of Progress /\nLast Edit]]","v":"00:00:00"}]
[]
[]
[]
[]
[]
[null,"GENERAL INFORMATION"]
[]
[null,"Project Information",null,null,null,null,null,"First Mortgage Information"]
[null,"Project Name",null,null,null,null,null,"RIH Mortgage (Yes/No)?"]
[null,"Primary Address",null,null,null,null,null,"Risk Sharing (Yes/No)?"]
[null,"City ",null,null,null,null,null,"RIH Mortgage Interest Rate"]
[null,"State","RI",null,null,null,null,"Debt Service Coverage Ratio (DSCR):"]
[null,"Zip Code (five digits only)",null,null,null,null,null,"RIH Mortgage Term (Years)"]
[null,"Census Tract",null,null,null,null,null,"Taxable Financing or Tax Exempt Financing?"]
[null,"Property Type",null,null,null,null,null,"Mortgage Insurance Premium"]
[null,"Development Type",null,null,null,null,null,"Mortgage Program Type"]
[null,"Tenancy Type"]
[null,"Tenant Status"]
[null,"Credit Type"]
[null,"Construction Type",null,null,null,null,null,"Construction Loan Information"]
[null,"RIH Underwriter",null,null,null,null,null,"Construction Loan lender is RIH? (Yes/No)"]
[null,"Model Revision Date","2024-11-25",null,null,null,null,"Construction Loan Total Amount"]
[null,"Model Version number","v12.1m",null,null,null,null,"Construction Loan Interest"]
[]
[]
[null,"Property Information",null,null,null,null,null,"Owner/Borrower Information"]
[null,"Date Acquired",null,null,null,null,null,"Borrower Name"]
[null,"Total Land Area (sf)",null,null,null,null,null,"Address"]
[null,"Zoning Status",null,null,null,null,null,"City "]
[null,"Ground Lease/Fee/Other",null,null,null,null,null,"State"]
[null,"Brownfield Site (Yes/No)?",null,null,null,null,null,"Zip Code"]
[null,"Historic Credit (Yes/No)?",null,null,null,null,null,"Telephone Number"]
[null,"Public Water (Yes/No)?",null,null,null,null,null,"Major Principal(s)"]
[null,"Public Sewer (Yes/No)?",null,null,null,null,null,"     Principal 1:"]
[null,"Year Built",null,null,null,null,null,"     Principal 2:"]
[null,"Type of Project",null,null,null,null,null,"     Principal 3:"]
[null,"Number of Buildings",{"$f":"SUM(C57:C58)","v":0},null,null,null,null,"     Principal 4:"]
[null,"Number of Elevators",null,null,null,null,null,"Nonprofit (Yes/No)?"]
[null,"Sprinklered (Yes/No)?",null,null,null,null,null,"Borrowing Entity"]
[null,"Number of Parking Spaces",null,null,null,null,null,"Single Asset Entity (Yes/No)?"]
[null,"Total Number of Units",{"$f":"IF(ISBLANK(rng02_TotalUnit), \"\", rng02_TotalUnit)","v":0}]
[]
[]
[null,"Program and Rental Assistance Information",null,null,null,null,null,{"$f":"IF(K16=\"Tax Exempt\",\"Tax Exempt Bond Financing: General 50% Financing to Basis Test\",\"Tax Exempt Financing - Not Applicable\")","v":"Tax Exempt Financing - Not Applicable"}]
[null,"RIH Program Type",null,null,null,null,null,"Total Tax Exempt Financing Amount",null,null,{"$f":"'02_3_SOURCES'!F44","v":0}]
[null,"Is this a Section 8 Project (Yes/No)?",null,null,null,null,null,{"$f":"'02_4_USES'!N5","v":"Aggregate Basis plus Land"},null,null,{"$f":"'02_4_USES'!N90","v":0}]
[null,"Other Assistance (Yes/No)?",null,null,null,null,null,"Estimated \"50%\" Test",null,null,{"$f":"IF(K16=\"Tax Exempt\",IF(K48=0,0,K47/K48),\"Not Applicable\")","v":"Not Applicable"}]
[null,"Type of  Other Assistance",null,null,null,null,null,"Above ratio should be subject to analysis and confirmation by bond counsel."]
[null,"Low-Income Set Aside"]
[]
[]
[null,"BUILDING CONFIGURATION"]
[]
[null,"Type of Structure(s)","Number of Buildings","Number of Stories","Structural System","Exterior Finish",null,"Building Type","Gross Square Feet",null,"Accessibility & Adaptability"]
[null,"Residential",null,null,null,null,null,null,null,null,"Accessible Units"]
[null,"Residential",null,null,null,null,null,null,null,null,"Adaptable Units",null,"Refer to D&C Standards for Adaptable standards"]
[null,"Commercial"]
[null,"Community"]
[null,"Other"]
[null,"Total Building Count",{"$f":"SUM(C57:C61)","v":0}]
[null,"Total Unit Count",{"$f":"rng02_TotalUnit","v":0}]
[]
[null,"Gross Square Feet Residential",{"$f":"SUM(I57:I58)","v":0},null,"NRSF Residential",null,{"$f":"SUM(rng02_Summary_Res_Config_NRSFLIHTC_TOTAL, rng02_Summary_Res_Config_NRSFMkt_TOTAL)","v":0}]
[null,"Gross Square Feet Commercial",{"$f":"I59","v":0},null,"NRSF Commercial",null,{"$f":"SUMPRODUCT('02_1_INCOME'!E48:E59,'02_1_INCOME'!F48:F59)","v":0}]
[null,"Gross Square Feet Community",{"$f":"I60","v":0},null,"Total NRSF",null,{"$f":"SUM(G65:G66)","v":0}]
[null,"Gross Square Feet Unfinished",null,null,"% NRSF Residential",null,{"$f":"G65/G67","v":{"$error":"#DIV/0!"}}]
[null,"Total Gross Square Feet",{"$f":"SUM(C65:C68)+I61","v":0},null,"% NRSF Commercial",null,{"$f":"G66/G67","v":{"$error":"#DIV/0!"}}]
[]
[null,"Residential Equipment and Utilities/Amenities beyond basic requirements"]
[]
[null,"Unit Equipment/Amenities:",null,null,"Project Amenities",null,"Comment",null,"Services/Utilities:",null,"Provided","Included in Rent","Energy Type","Heating System"]
[null,"Air Conditioning Units",null,null,null,null,null,null,"Heat"]
[null,"Cable Hookup",null,null,null,null,null,null,"Hot Water"]
[null,"Dishwasher",null,null,null,null,null,null,"Cooking"]
[null,"Garbage Disposal",null,null,null,null,null,null,"Central Air Conditioning"]
[null,"Kitchen Exhaust",null,null,null,null,null,null,"Cable TV"]
[null,"Laundry: Hookups",null,null,null,null,null,null,"Electricity"]
[null,"Laundry: In each unit",null,null,null,null,null,null,"Water"]
[null,"Security/Video System",null,null,null,null,null,null,"Sewer"]
[null,"Other (Describe)"]
[null,"Other (Describe)"]
[]
[]
[null,"EQUITY PAY-IN SCHEDULE"]
[]
[null,"Milestones","Expected/\nActual Date","Equity Pay-in","Equity Pay-in %"]
[null,"Closing:",null,null,{"$f":"D89/$D$103","v":{"$error":"#DIV/0!"}}]
[{"$f":"\"Month 1\"","v":"Month 1"},"Construction begins:",null,null,{"$f":"D90/$D$103","v":{"$error":"#DIV/0!"}}]
[{"$f":"\"Month \"&ROUND((C91-$C$90)/30+1,0)","v":"Month 1"},"Other (describe)",null,null,{"$error":"#DIV/0!"}]
[{"$f":"\"Month \"&ROUND((C92-$C$90)/30+1,0)","v":"Month 1"},"Other (describe)",null,null,{"$error":"#DIV/0!"}]
[{"$f":"\"Month \"&ROUND((C93-$C$90)/30+1,0)","v":"Month 1"},"Other (describe)",null,null,{"$error":"#DIV/0!"}]
[{"$f":"\"Month \"&ROUND((C94-$C$90)/30+1,0)","v":"Month 1"},"Construction completion:",null,null,{"$error":"#DIV/0!"}]
[{"$f":"\"Month \"&ROUND((C95-$C$90)/30+1,0)","v":"Month 1"},"Other (describe)",null,null,{"$error":"#DIV/0!"}]
["Month 1","Other (describe)",null,null,{"$error":"#DIV/0!"}]
["Month 1","Lease-up Start:",null,null,{"$error":"#DIV/0!"},"The lease-up date must be filled in to populate the absorption schedule correctly. "]
[{"$f":"\"Month \"&ROUND((C98-$C$90)/30+1,0)","v":"Month 1"},"Other (describe)",null,null,{"$error":"#DIV/0!"}]
[{"$f":"\"Month \"&ROUND((C99-$C$90)/30+1,0)","v":"Month 1"},"Other (describe)",null,null,{"$error":"#DIV/0!"}]
["Month 1","Stabilization:",null,null,{"$error":"#DIV/0!"},"Stabilization date should correspond with the amortization start date on the Sources page"]
["Month 1","Rental achievement:",null,null,{"$error":"#DIV/0!"}]
["Month 1","Other (describe)",null,null,{"$error":"#DIV/0!"}]
[null,"Total",null,{"$f":"SUM(D89:D102)","v":0},{"$f":"SUM(E89:E102)","v":{"$error":"#DIV/0!"}}]
[null,null,null,{"$f":"IF(ROUNDDOWN(D103-'02_5_LIHTC Proceeds'!$D$24+'02_5_LIHTC Proceeds'!$C$24,0)<>0, \"Amount doesn't tie with LIHTC Proceeds calculation. The difference is \" & TEXT(ROUNDDOWN(D103-'02_5_LIHTC Proceeds'!$D$24-'02_5_LIHTC Proceeds'!$C$24,0),\"$0,00\")&\".\", \"Amount ties with LIHTC Proceeds calculation.\")","v":"Amount ties with LIHTC Proceeds calculation."}]
[]
[null,"TRENDING ASSUMPTION"]
[]
[]
[null,"Income and Expense Trending"]
[null,"First Year of Pro Forma:",null,{"$f":"YEAR(C100)+1","v":1901},null,null,null,null,"Year 1","Year 2","Year 3","Year 4","Year 5","Year 6","Year 7","Year 8","Year 9","Year 10","Year 11","Year 12","Year 13","Year 14","Year 15","Year 16","Year 17","Year 18","Year 19","Year 20","Year 21","Year 22","Year 23","Year 24","Year 25","Year 26","Year 27","Year 28","Year 29","Year 30","Year 31","Year 32","Year 33","Year 34","Year 35","Year 36","Year 37","Year 38","Year 39","Year 40","Year 41","Year 42"]
[null,null,null,null,null,"YEARS:",null,null,{"$f":"'01_1_General Data'!D110","v":1901},{"$f":"I111+1","v":1902},{"$f":"J111+1","v":1903},1904,1905,1906,1907,1908,1909,1910,1911,1912,1913,1914,1915,1916,1917,1918,1919,1920,1921,1922,1923,1924,1925,1926,1927,1928,1929,1930,1931,1932,1933,1934,1935,1936,1937,1938,1939,1940,1941,1942]
[null,"Rental Income Trending Rate:",null,null,null,{"$f":"B112","v":"Rental Income Trending Rate:"},null,null,{"$f":"$D112","v":0},0,0,0,0,0,0,0,0,0,{"$f":"$D112","v":0},0,0,0,0,0,0,0,0,0,{"$f":"$D112","v":0},0,0,0,0,0,0,0,0,0,{"$f":"$D112","v":0},0,0,0,0,0,0,0,0,0,0,0]
[null,"Commercial Income Trending Rate:",null,null,null,{"$f":"B113","v":"Commercial Income Trending Rate:"},null,null,0,0,0,0,0,0,0,0,0,0,0,0,0,0,0,0,0,0,0,0,0,0,0,0,0,0,0,0,0,0,0,0,0,0,0,0,0,0,0,0,0,0]
[null,"Other Income Trending Rate:",null,null,null,"Other Income Trending Rate:",null,null,0,0,0,0,0,0,0,0,0,0,0,0,0,0,0,0,0,0,0,0,0,0,0,0,0,0,0,0,0,0,0,0,0,0,0,0,0,0,0,0,0,0]
[null,"Nursing Home / Assisted Living Income Trending Rate:",null,null,null,{"$f":"B115","v":"Nursing Home / Assisted Living Income Trending Rate:"},null,null,0,0,0,0,0,0,0,0,0,0,0,0,0,0,0,0,0,0,0,0,0,0,0,0,0,0,0,0,0,0,0,0,0,0,0,0,0,0,0,0,0,0]
[null,"Real Estate Tax Trending Rate:",null,null,null,"Real Estate Tax Trending Rate:",null,null,0,0,0,0,0,0,0,0,0,0,0,0,0,0,0,0,0,0,0,0,0,0,0,0,0,0,0,0,0,0,0,0,0,0,0,0,0,0,0,0,0,0]
[null,"Property & Liability Insurance Trending Rate:",null,null,null,"Property & Liability Insurance Trending Rate:",null,null,0,0,0,0,0,0,0,0,0,0,0,0,0,0,0,0,0,0,0,0,0,0,0,0,0,0,0,0,0,0,0,0,0,0,0,0,0,0,0,0,0,0]
[null,"Operating Expense Trending Rate:",null,null,null,"Operating Expense Trending Rate:",null,null,0,0,0,0,0,0,0,0,0,0,0,0,0,0,0,0,0,0,0,0,0,0,0,0,0,0,0,0,0,0,0,0,0,0,0,0,0,0,0,0,0,0]
[null,"Management Fee (% of EGI):"]
[]
[null,"Vacancy Rate"]
[null,"Residential Market Vacancy:"]
[null,"Residential Affordable Vacancy:"]
[null,"Commercial Market Vacancy:"]
[null,"NH/Assisted/Congregate Care Vacancy:"]
[null,"Other Income Vacancy:"]
[]
[null,"Reserves"]
[null,"Reserves Deposit Trending Rate:"]
[null,"Reserve Account Interest Rate:"]
[]
[]
[null,"ABSORPTION SCHEDULE"]
[]
[null,"First Lease-up date",{"$f":"C97","v":"00:00:00"},null,"Please fill out Total Unit Occupied each month for Affordable Units / Market Rate Units."]
[null,null,null,null,"Please fill out percentage of Commercial or Other units occupied each month."]
[]
[null,{"$f":"YEAR(C135)","v":1900},"January","February","March","April","May","June","July","August","September","October","November","December"]
[null,"Affordable Units Occupied",null,0,0,0,0,0,0,0,0,0,0]
[null,"Market Rate Units Occupied",null,0,0,0,0,0,0,0,0,0,0,null,"Annual %"]
[null,"% Affordable Units Occupancy",{"$f":"C139/rng02_TotalUnits_LIHTC","v":{"$error":"#DIV/0!"}},{"$error":"#DIV/0!"},{"$error":"#DIV/0!"},{"$error":"#DIV/0!"},{"$error":"#DIV/0!"},{"$error":"#DIV/0!"},{"$error":"#DIV/0!"},{"$error":"#DIV/0!"},{"$error":"#DIV/0!"},{"$error":"#DIV/0!"},{"$error":"#DIV/0!"},{"$error":"#DIV/0!"},{"$f":"AVERAGE(C141:N141)","v":{"$error":"#DIV/0!"}}]
[null,"% Market Occupancy",{"$f":"IF(C140>0,C140/rng02_TotalUnits_Market,0)","v":0},0,0,0,0,0,0,0,0,0,0,0,{"$f":"AVERAGE(C142:N142)","v":0}]
[null,"Commercial Units Occupancy",null,null,null,null,null,null,null,null,null,null,null,null,{"$f":"AVERAGE(C143:N143)","v":{"$error":"#DIV/0!"}}]
[null,"Other Income Occupancy",null,null,null,null,null,null,null,null,null,null,null,null,{"$f":"AVERAGE(C144:N144)","v":{"$error":"#DIV/0!"}}]
[]
[null,{"$f":"B138+1","v":1901},{"$f":"TEXT(MONTH(A103), \"mmmm\")","v":"January"},"February","March","April","May","June","July","August","September","October","November","December"]
[null,"Affordable Units Occupied"]
[null,"Market Rate Units Occupied",null,null,null,null,null,null,null,null,null,null,null,null,"Annual %"]
[null,"% Affordable Units Occupancy",{"$f":"C147/rng02_TotalUnits_LIHTC","v":{"$error":"#DIV/0!"}},{"$error":"#DIV/0!"},{"$error":"#DIV/0!"},{"$error":"#DIV/0!"},{"$error":"#DIV/0!"},{"$error":"#DIV/0!"},{"$error":"#DIV/0!"},{"$error":"#DIV/0!"},{"$error":"#DIV/0!"},{"$error":"#DIV/0!"},{"$error":"#DIV/0!"},{"$error":"#DIV/0!"},{"$f":"AVERAGE(C149:N149)","v":{"$error":"#DIV/0!"}}]
[null,"% Market Occupancy",{"$f":"IF(C148>0,C148/rng02_TotalUnits_Market,0)","v":0},0,0,0,0,0,0,0,0,0,0,0,{"$f":"AVERAGE(C150:N150)","v":0}]
[null,"Commercial Units Occupancy",null,null,null,null,null,null,null,null,null,null,null,null,{"$f":"AVERAGE(C151:N151)","v":{"$error":"#DIV/0!"}}]
[null,"Other Income Occupancy",null,null,null,null,null,null,null,null,null,null,null,null,{"$f":"AVERAGE(C152:N152)","v":{"$error":"#DIV/0!"}}]
[]
[null,{"$f":"B146+1","v":1902},{"$f":"TEXT(MONTH(A313), \"mmmm\")","v":"January"},"February","March","April","May","June","July","August","September","October","November","December"]
[null,"Affordable Units Occupied"]
[null,"Market Rate Units Occupied",null,null,null,null,null,null,null,null,null,null,null,null,"Annual %"]
[null,"% Affordable Units Occupancy",{"$f":"C155/rng02_TotalUnits_LIHTC","v":{"$error":"#DIV/0!"}},{"$f":"D155/rng02_TotalUnits_LIHTC","v":{"$error":"#DIV/0!"}},{"$error":"#DIV/0!"},{"$error":"#DIV/0!"},{"$error":"#DIV/0!"},{"$error":"#DIV/0!"},{"$error":"#DIV/0!"},{"$error":"#DIV/0!"},{"$error":"#DIV/0!"},{"$error":"#DIV/0!"},{"$error":"#DIV/0!"},{"$error":"#DIV/0!"},{"$f":"AVERAGE(C157:N157)","v":{"$error":"#DIV/0!"}}]
[null,"% Market Occupancy",{"$f":"IF(C156>0,C156/rng02_TotalUnits_Market,0)","v":0},{"$f":"IF(D156>0,D156/rng02_TotalUnits_Market,0)","v":0},0,0,0,0,0,0,0,0,0,0,{"$f":"AVERAGE(C158:N158)","v":0}]
[null,"Commercial Units Occupancy",null,null,null,null,null,null,null,null,null,null,null,null,{"$f":"AVERAGE(C159:N159)","v":{"$error":"#DIV/0!"}}]
[null,"Other Income Occupancy",null,null,null,null,null,null,null,null,null,null,null,null,{"$f":"AVERAGE(C160:N160)","v":{"$error":"#DIV/0!"}}]
[]
[null,"DEVELOPMENT TEAM INFORMATION"]
[]
[null,null,"All telephone numbers listed below must consist of ten (10) digits."]
[]
[null,null,"Sponsor",null,null,null,null,"Legal"]
[null,null,"Contact",null,null,null,null,"Contact"]
[null,null,"Address",null,null,null,null,"Address"]
[null,null,"City",null,null,null,null,"City"]
[null,null,"State/Zip",null,null,null,null,"State/Zip"]
[null,null,"Phone",null,null,null,null,"Phone"]
[null,null,"Fax",null,null,null,null,"Fax"]
[null,null,"Cell",null,null,null,null,"Cell"]
[null,null,"Email",null,null,null,null,"Email"]
[null,null,null,""]
[null,null,"Co-Sponsor",null,null,null,null,"LIHTC Legal"]
[null,null,"Contact",null,null,null,null,"Contact"]
[null,null,"Address",null,null,null,null,"Address"]
[null,null,"City",null,null,null,null,"City"]
[null,null,"State/Zip",null,null,null,null,"State/Zip"]
[null,null,"Phone",null,null,null,null,"Phone"]
[null,null,"Fax",null,null,null,null,"Fax"]
[null,null,"Cell",null,null,null,null,"Cell"]
[null,null,"Email",null,null,null,null,"Email"]
[null,null,null,"",null,null,null,null,""]
[null,null,"Manager",null,null,null,null,"Contractor"]
[null,null,"Contact",null,null,null,null,"Contact"]
[null,null,"Address",null,null,null,null,"Address"]
[null,null,"City",null,null,null,null,"City"]
[null,null,"State/Zip",null,null,null,null,"State/Zip"]
[null,null,"Phone",null,null,null,null,"Phone"]
[null,null,"Fax",null,null,null,null,"Fax"]
[null,null,"Cell",null,null,null,null,"Cell"]
[null,null,"Email",null,null,null,null,"Email"]
[null,null,null,"",null,null,null,null,""]
[null,null,"Architect",null,null,null,null,"Syndicator"]
[null,null,"Contact",null,null,null,null,"Contact"]
[null,null,"Address",null,null,null,null,"Address"]
[null,null,"City",null,null,null,null,"City"]
[null,null,"State/Zip",null,null,null,null,"State/Zip"]
[null,null,"Phone",null,null,null,null,"Phone"]
[null,null,"Fax",null,null,null,null,"Fax"]
[null,null,"Cell",null,null,null,null,"Cell"]
[null,null,"Email",null,null,null,null,"Email"]
[null,null,null,"",null,null,null,null,""]
[null,null,"Consultant",null,null,null,null,"Consultant"]
[null,null,"Contact",null,null,null,null,"Contact"]
[null,null,"Address",null,null,null,null,"Address"]
[null,null,"City",null,null,null,null,"City"]
[null,null,"State/Zip",null,null,null,null,"State/Zip"]
[null,null,"Phone",null,null,null,null,"Phone"]
[null,null,"Fax",null,null,null,null,"Fax"]
[null,null,"Cell",null,null,null,null,"Cell"]
[null,null,"Email",null,null,null,null,"Email"]
[]
[]
[null,"ACQUISITION"]
[]
[null,"Number of properties at time of purchase:"," "]
[]
[]
[null,"Address","As Is Appraised","Sale Price","City","Zip Code","Census Tract","QCT/DDA","Opportunity Zone"]
[null,{"$f":"IF(rng01_Address1=\"\",\"\",rng01_Address1)","v":""},null,null,{"$f":"IF(rng01_City1=\"\",\"\",rng01_City1)","v":""},{"$f":"IF(rng01_Zip1=\"\",\"\",rng01_Zip1)","v":""},null,null,{"$f":"VLOOKUP(_xlfn.CONCAT(VLOOKUP('00_5_LIHTC Data'!$B$10,'00_4_Reference Tables'!$C$7:$AO$45, 32, FALSE),G223),'00_4_Reference Tables'!$F$79:$H$322,3,FALSE)","v":{"$error":"#N/A"}}]
[null,null,null,null,null,null,null,null,{"$f":"VLOOKUP(_xlfn.CONCAT(VLOOKUP(E224,'00_4_Reference Tables'!$C$7:$AH$45, 32,FALSE),G224),'00_4_Reference Tables'!$F$79:$H$322,3,FALSE)","v":{"$error":"#N/A"}}]
[null,null,null,null,null,null,null,null,{"$f":"VLOOKUP(_xlfn.CONCAT(VLOOKUP(E225,'00_4_Reference Tables'!$C$7:$AH$45, 32,FALSE),G225),'00_4_Reference Tables'!$F$79:$H$322,3,FALSE)","v":{"$error":"#N/A"}}]
[null,null,null,null,null,null,null,null,{"$f":"VLOOKUP(_xlfn.CONCAT(VLOOKUP(E226,'00_4_Reference Tables'!$C$7:$AH$45, 32,FALSE),G226),'00_4_Reference Tables'!$F$79:$H$322,3,FALSE)","v":{"$error":"#N/A"}}]
[null,null,null,null,null,null,null,null,{"$f":"VLOOKUP(_xlfn.CONCAT(VLOOKUP(E227,'00_4_Reference Tables'!$C$7:$AH$45, 32,FALSE),G227),'00_4_Reference Tables'!$F$79:$H$322,3,FALSE)","v":{"$error":"#N/A"}}]
[null,null,null,null,null,null,null,null,{"$f":"VLOOKUP(_xlfn.CONCAT(VLOOKUP(E228,'00_4_Reference Tables'!$C$7:$AH$45, 32,FALSE),G228),'00_4_Reference Tables'!$F$79:$H$322,3,FALSE)","v":{"$error":"#N/A"}}]
[null,null,null,null,null,null,null,null,{"$f":"VLOOKUP(_xlfn.CONCAT(VLOOKUP(E229,'00_4_Reference Tables'!$C$7:$AH$45, 32,FALSE),G229),'00_4_Reference Tables'!$F$79:$H$322,3,FALSE)","v":{"$error":"#N/A"}}]
[null,null,null,null,null,null,null,null,{"$f":"VLOOKUP(_xlfn.CONCAT(VLOOKUP(E230,'00_4_Reference Tables'!$C$7:$AH$45, 32,FALSE),G230),'00_4_Reference Tables'!$F$79:$H$322,3,FALSE)","v":{"$error":"#N/A"}}]
[null,null,null,null,null,null,null,null,{"$f":"VLOOKUP(_xlfn.CONCAT(VLOOKUP(E231,'00_4_Reference Tables'!$C$7:$AH$45, 32,FALSE),G231),'00_4_Reference Tables'!$F$79:$H$322,3,FALSE)","v":{"$error":"#N/A"}}]
[null,null,null,null,null,null,null,null,{"$f":"VLOOKUP(_xlfn.CONCAT(VLOOKUP(E232,'00_4_Reference Tables'!$C$7:$AH$45, 32,FALSE),G232),'00_4_Reference Tables'!$F$79:$H$322,3,FALSE)","v":{"$error":"#N/A"}}]
[null,null,null,null,null,null,null,null,{"$f":"VLOOKUP(_xlfn.CONCAT(VLOOKUP(E233,'00_4_Reference Tables'!$C$7:$AH$45, 32,FALSE),G233),'00_4_Reference Tables'!$F$79:$H$322,3,FALSE)","v":{"$error":"#N/A"}}]
[null,null,null,null,null,null,null,null,{"$f":"VLOOKUP(_xlfn.CONCAT(VLOOKUP(E234,'00_4_Reference Tables'!$C$7:$AH$45, 32,FALSE),G234),'00_4_Reference Tables'!$F$79:$H$322,3,FALSE)","v":{"$error":"#N/A"}}]
[null,null,null,null,null,null,null,null,{"$f":"VLOOKUP(_xlfn.CONCAT(VLOOKUP(E235,'00_4_Reference Tables'!$C$7:$AH$45, 32,FALSE),G235),'00_4_Reference Tables'!$F$79:$H$322,3,FALSE)","v":{"$error":"#N/A"}}]
[null,null,null,null,null,null,null,null,{"$f":"VLOOKUP(_xlfn.CONCAT(VLOOKUP(E236,'00_4_Reference Tables'!$C$7:$AH$45, 32,FALSE),G236),'00_4_Reference Tables'!$F$79:$H$322,3,FALSE)","v":{"$error":"#N/A"}}]
[null,null,null,null,null,null,null,null,{"$f":"VLOOKUP(_xlfn.CONCAT(VLOOKUP(E237,'00_4_Reference Tables'!$C$7:$AH$45, 32,FALSE),G237),'00_4_Reference Tables'!$F$79:$H$322,3,FALSE)","v":{"$error":"#N/A"}}]
[null,null,null,null,null,null,null,null,{"$f":"VLOOKUP(_xlfn.CONCAT(VLOOKUP(E238,'00_4_Reference Tables'!$C$7:$AH$45, 32,FALSE),G238),'00_4_Reference Tables'!$F$79:$H$322,3,FALSE)","v":{"$error":"#N/A"}}]
[null,null,null,null,null,null,null,null,{"$f":"VLOOKUP(_xlfn.CONCAT(VLOOKUP(E239,'00_4_Reference Tables'!$C$7:$AH$45, 32,FALSE),G239),'00_4_Reference Tables'!$F$79:$H$322,3,FALSE)","v":{"$error":"#N/A"}}]
[null,null,null,null,null,null,null,null,{"$f":"VLOOKUP(_xlfn.CONCAT(VLOOKUP(E240,'00_4_Reference Tables'!$C$7:$AH$45, 32,FALSE),G240),'00_4_Reference Tables'!$F$79:$H$322,3,FALSE)","v":{"$error":"#N/A"}}]
[null,null,null,null,null,null,null,null,{"$f":"VLOOKUP(_xlfn.CONCAT(VLOOKUP(E241,'00_4_Reference Tables'!$C$7:$AH$45, 32,FALSE),G241),'00_4_Reference Tables'!$F$79:$H$322,3,FALSE)","v":{"$error":"#N/A"}}]
[null,null,null,null,null,null,null,null,{"$f":"VLOOKUP(_xlfn.CONCAT(VLOOKUP(E242,'00_4_Reference Tables'!$C$7:$AH$45, 32,FALSE),G242),'00_4_Reference Tables'!$F$79:$H$322,3,FALSE)","v":{"$error":"#N/A"}}]
[null,null,null,null,null,null,null,null,{"$f":"VLOOKUP(_xlfn.CONCAT(VLOOKUP(E243,'00_4_Reference Tables'!$C$7:$AH$45, 32,FALSE),G243),'00_4_Reference Tables'!$F$79:$H$322,3,FALSE)","v":{"$error":"#N/A"}}]
[null,null,null,null,null,null,null,null,{"$f":"VLOOKUP(_xlfn.CONCAT(VLOOKUP(E244,'00_4_Reference Tables'!$C$7:$AH$45, 32,FALSE),G244),'00_4_Reference Tables'!$F$79:$H$322,3,FALSE)","v":{"$error":"#N/A"}}]
[null,null,null,null,null,null,null,null,{"$f":"VLOOKUP(_xlfn.CONCAT(VLOOKUP(E245,'00_4_Reference Tables'!$C$7:$AH$45, 32,FALSE),G245),'00_4_Reference Tables'!$F$79:$H$322,3,FALSE)","v":{"$error":"#N/A"}}]
[null,null,null,null,null,null,null,null,{"$f":"VLOOKUP(_xlfn.CONCAT(VLOOKUP(E246,'00_4_Reference Tables'!$C$7:$AH$45, 32,FALSE),G246),'00_4_Reference Tables'!$F$79:$H$322,3,FALSE)","v":{"$error":"#N/A"}}]
[null,null,null,null,null,null,null,null,{"$f":"VLOOKUP(_xlfn.CONCAT(VLOOKUP(E247,'00_4_Reference Tables'!$C$7:$AH$45, 32,FALSE),G247),'00_4_Reference Tables'!$F$79:$H$322,3,FALSE)","v":{"$error":"#N/A"}}]
[null,null,null,null,null,null,null,null,{"$f":"VLOOKUP(_xlfn.CONCAT(VLOOKUP(E248,'00_4_Reference Tables'!$C$7:$AH$45, 32,FALSE),G248),'00_4_Reference Tables'!$F$79:$H$322,3,FALSE)","v":{"$error":"#N/A"}}]
[null,null,null,null,null,null,null,null,{"$f":"VLOOKUP(_xlfn.CONCAT(VLOOKUP(E249,'00_4_Reference Tables'!$C$7:$AH$45, 32,FALSE),G249),'00_4_Reference Tables'!$F$79:$H$322,3,FALSE)","v":{"$error":"#N/A"}}]
[null,null,null,null,null,null,null,null,{"$f":"VLOOKUP(_xlfn.CONCAT(VLOOKUP(E250,'00_4_Reference Tables'!$C$7:$AH$45, 32,FALSE),G250),'00_4_Reference Tables'!$F$79:$H$322,3,FALSE)","v":{"$error":"#N/A"}}]
[null,null,null,null,null,null,null,null,{"$f":"VLOOKUP(_xlfn.CONCAT(VLOOKUP(E251,'00_4_Reference Tables'!$C$7:$AH$45, 32,FALSE),G251),'00_4_Reference Tables'!$F$79:$H$322,3,FALSE)","v":{"$error":"#N/A"}}]
[null,null,null,null,null,null,null,null,{"$f":"VLOOKUP(_xlfn.CONCAT(VLOOKUP(E252,'00_4_Reference Tables'!$C$7:$AH$45, 32,FALSE),G252),'00_4_Reference Tables'!$F$79:$H$322,3,FALSE)","v":{"$error":"#N/A"}}]
[null,null,null,null,null,null,null,null,{"$f":"VLOOKUP(_xlfn.CONCAT(VLOOKUP(E253,'00_4_Reference Tables'!$C$7:$AH$45, 32,FALSE),G253),'00_4_Reference Tables'!$F$79:$H$322,3,FALSE)","v":{"$error":"#N/A"}}]
[null,null,null,null,null,null,null,null,{"$f":"VLOOKUP(_xlfn.CONCAT(VLOOKUP(E254,'00_4_Reference Tables'!$C$7:$AH$45, 32,FALSE),G254),'00_4_Reference Tables'!$F$79:$H$322,3,FALSE)","v":{"$error":"#N/A"}}]
[null,null,null,null,null,null,null,null,{"$f":"VLOOKUP(_xlfn.CONCAT(VLOOKUP(E255,'00_4_Reference Tables'!$C$7:$AH$45, 32,FALSE),G255),'00_4_Reference Tables'!$F$79:$H$322,3,FALSE)","v":{"$error":"#N/A"}}]
[null,null,null,null,null,null,null,null,{"$f":"VLOOKUP(_xlfn.CONCAT(VLOOKUP(E256,'00_4_Reference Tables'!$C$7:$AH$45, 32,FALSE),G256),'00_4_Reference Tables'!$F$79:$H$322,3,FALSE)","v":{"$error":"#N/A"}}]
[null,null,null,null,null,null,null,null,{"$f":"VLOOKUP(_xlfn.CONCAT(VLOOKUP(E257,'00_4_Reference Tables'!$C$7:$AH$45, 32,FALSE),G257),'00_4_Reference Tables'!$F$79:$H$322,3,FALSE)","v":{"$error":"#N/A"}}]
[null,null,null,null,null,null,null,null,{"$f":"VLOOKUP(_xlfn.CONCAT(VLOOKUP(E258,'00_4_Reference Tables'!$C$7:$AH$45, 32,FALSE),G258),'00_4_Reference Tables'!$F$79:$H$322,3,FALSE)","v":{"$error":"#N/A"}}]
[null,null,null,null,null,null,null,null,{"$f":"VLOOKUP(_xlfn.CONCAT(VLOOKUP(E259,'00_4_Reference Tables'!$C$7:$AH$45, 32,FALSE),G259),'00_4_Reference Tables'!$F$79:$H$322,3,FALSE)","v":{"$error":"#N/A"}}]
[null,null,null,null,null,null,null,null,{"$f":"VLOOKUP(_xlfn.CONCAT(VLOOKUP(E260,'00_4_Reference Tables'!$C$7:$AH$45, 32,FALSE),G260),'00_4_Reference Tables'!$F$79:$H$322,3,FALSE)","v":{"$error":"#N/A"}}]
[null,null,null,null,null,null,null,null,{"$f":"VLOOKUP(_xlfn.CONCAT(VLOOKUP(E261,'00_4_Reference Tables'!$C$7:$AH$45, 32,FALSE),G261),'00_4_Reference Tables'!$F$79:$H$322,3,FALSE)","v":{"$error":"#N/A"}}]
[null,null,null,null,null,null,null,null,{"$f":"VLOOKUP(_xlfn.CONCAT(VLOOKUP(E262,'00_4_Reference Tables'!$C$7:$AH$45, 32,FALSE),G262),'00_4_Reference Tables'!$F$79:$H$322,3,FALSE)","v":{"$error":"#N/A"}}]
[null,null,null,null,null,null,null,null,{"$f":"VLOOKUP(_xlfn.CONCAT(VLOOKUP(E263,'00_4_Reference Tables'!$C$7:$AH$45, 32,FALSE),G263),'00_4_Reference Tables'!$F$79:$H$322,3,FALSE)","v":{"$error":"#N/A"}}]
[null,null,null,null,null,null,null,null,{"$f":"VLOOKUP(_xlfn.CONCAT(VLOOKUP(E264,'00_4_Reference Tables'!$C$7:$AH$45, 32,FALSE),G264),'00_4_Reference Tables'!$F$79:$H$322,3,FALSE)","v":{"$error":"#N/A"}}]
[null,null,null,null,null,null,null,null,{"$f":"VLOOKUP(_xlfn.CONCAT(VLOOKUP(E265,'00_4_Reference Tables'!$C$7:$AH$45, 32,FALSE),G265),'00_4_Reference Tables'!$F$79:$H$322,3,FALSE)","v":{"$error":"#N/A"}}]
[null,null,null,null,null,null,null,null,{"$f":"VLOOKUP(_xlfn.CONCAT(VLOOKUP(E266,'00_4_Reference Tables'!$C$7:$AH$45, 32,FALSE),G266),'00_4_Reference Tables'!$F$79:$H$322,3,FALSE)","v":{"$error":"#N/A"}}]
[null,null,null,null,null,null,null,null,{"$f":"VLOOKUP(_xlfn.CONCAT(VLOOKUP(E267,'00_4_Reference Tables'!$C$7:$AH$45, 32,FALSE),G267),'00_4_Reference Tables'!$F$79:$H$322,3,FALSE)","v":{"$error":"#N/A"}}]
[null,null,null,null,null,null,null,null,{"$f":"VLOOKUP(_xlfn.CONCAT(VLOOKUP(E268,'00_4_Reference Tables'!$C$7:$AH$45, 32,FALSE),G268),'00_4_Reference Tables'!$F$79:$H$322,3,FALSE)","v":{"$error":"#N/A"}}]
[null,null,null,null,null,null,null,null,{"$f":"VLOOKUP(_xlfn.CONCAT(VLOOKUP(E269,'00_4_Reference Tables'!$C$7:$AH$45, 32,FALSE),G269),'00_4_Reference Tables'!$F$79:$H$322,3,FALSE)","v":{"$error":"#N/A"}}]
[null,null,null,null,null,null,null,null,{"$f":"VLOOKUP(_xlfn.CONCAT(VLOOKUP(E270,'00_4_Reference Tables'!$C$7:$AH$45, 32,FALSE),G270),'00_4_Reference Tables'!$F$79:$H$322,3,FALSE)","v":{"$error":"#N/A"}}]
[null,null,null,null,null,null,null,null,{"$f":"VLOOKUP(_xlfn.CONCAT(VLOOKUP(E271,'00_4_Reference Tables'!$C$7:$AH$45, 32,FALSE),G271),'00_4_Reference Tables'!$F$79:$H$322,3,FALSE)","v":{"$error":"#N/A"}}]
[null,null,null,null,null,null,null,null,{"$f":"VLOOKUP(_xlfn.CONCAT(VLOOKUP(E272,'00_4_Reference Tables'!$C$7:$AH$45, 32,FALSE),G272),'00_4_Reference Tables'!$F$79:$H$322,3,FALSE)","v":{"$error":"#N/A"}}]
[null,null,null,null,null,null,null,null,{"$f":"VLOOKUP(_xlfn.CONCAT(VLOOKUP(E273,'00_4_Reference Tables'!$C$7:$AH$45, 32,FALSE),G273),'00_4_Reference Tables'!$F$79:$H$322,3,FALSE)","v":{"$error":"#N/A"}}]
[null,null,null,null,null,null,null,null,{"$f":"VLOOKUP(_xlfn.CONCAT(VLOOKUP(E274,'00_4_Reference Tables'!$C$7:$AH$45, 32,FALSE),G274),'00_4_Reference Tables'!$F$79:$H$322,3,FALSE)","v":{"$error":"#N/A"}}]
[null,null,null,null,null,null,null,null,{"$f":"VLOOKUP(_xlfn.CONCAT(VLOOKUP(E275,'00_4_Reference Tables'!$C$7:$AH$45, 32,FALSE),G275),'00_4_Reference Tables'!$F$79:$H$322,3,FALSE)","v":{"$error":"#N/A"}}]
[null,null,null,null,null,null,null,null,{"$f":"VLOOKUP(_xlfn.CONCAT(VLOOKUP(E276,'00_4_Reference Tables'!$C$7:$AH$45, 32,FALSE),G276),'00_4_Reference Tables'!$F$79:$H$322,3,FALSE)","v":{"$error":"#N/A"}}]
[null,null,null,null,null,null,null,null,{"$f":"VLOOKUP(_xlfn.CONCAT(VLOOKUP(E277,'00_4_Reference Tables'!$C$7:$AH$45, 32,FALSE),G277),'00_4_Reference Tables'!$F$79:$H$322,3,FALSE)","v":{"$error":"#N/A"}}]
[null,null,null,null,null,null,null,null,{"$f":"VLOOKUP(_xlfn.CONCAT(VLOOKUP(E278,'00_4_Reference Tables'!$C$7:$AH$45, 32,FALSE),G278),'00_4_Reference Tables'!$F$79:$H$322,3,FALSE)","v":{"$error":"#N/A"}}]
[null,null,null,null,null,null,null,null,{"$f":"VLOOKUP(_xlfn.CONCAT(VLOOKUP(E279,'00_4_Reference Tables'!$C$7:$AH$45, 32,FALSE),G279),'00_4_Reference Tables'!$F$79:$H$322,3,FALSE)","v":{"$error":"#N/A"}}]
[null,null,null,null,null,null,null,null,{"$f":"VLOOKUP(_xlfn.CONCAT(VLOOKUP(E280,'00_4_Reference Tables'!$C$7:$AH$45, 32,FALSE),G280),'00_4_Reference Tables'!$F$79:$H$322,3,FALSE)","v":{"$error":"#N/A"}}]
[null,null,null,null,null,null,null,null,{"$f":"VLOOKUP(_xlfn.CONCAT(VLOOKUP(E281,'00_4_Reference Tables'!$C$7:$AH$45, 32,FALSE),G281),'00_4_Reference Tables'!$F$79:$H$322,3,FALSE)","v":{"$error":"#N/A"}}]
[null,null,null,null,null,null,null,null,{"$f":"VLOOKUP(_xlfn.CONCAT(VLOOKUP(E282,'00_4_Reference Tables'!$C$7:$AH$45, 32,FALSE),G282),'00_4_Reference Tables'!$F$79:$H$322,3,FALSE)","v":{"$error":"#N/A"}}]
[null,null,null,null,null,null,null,null,{"$f":"VLOOKUP(_xlfn.CONCAT(VLOOKUP(E283,'00_4_Reference Tables'!$C$7:$AH$45, 32,FALSE),G283),'00_4_Reference Tables'!$F$79:$H$322,3,FALSE)","v":{"$error":"#N/A"}}]
[null,null,null,null,null,null,null,null,{"$f":"VLOOKUP(_xlfn.CONCAT(VLOOKUP(E284,'00_4_Reference Tables'!$C$7:$AH$45, 32,FALSE),G284),'00_4_Reference Tables'!$F$79:$H$322,3,FALSE)","v":{"$error":"#N/A"}}]
[null,null,null,null,null,null,null,null,{"$f":"VLOOKUP(_xlfn.CONCAT(VLOOKUP(E285,'00_4_Reference Tables'!$C$7:$AH$45, 32,FALSE),G285),'00_4_Reference Tables'!$F$79:$H$322,3,FALSE)","v":{"$error":"#N/A"}}]
[null,null,null,null,null,null,null,null,{"$f":"VLOOKUP(_xlfn.CONCAT(VLOOKUP(E286,'00_4_Reference Tables'!$C$7:$AH$45, 32,FALSE),G286),'00_4_Reference Tables'!$F$79:$H$322,3,FALSE)","v":{"$error":"#N/A"}}]
[null,null,null,null,null,null,null,null,{"$f":"VLOOKUP(_xlfn.CONCAT(VLOOKUP(E287,'00_4_Reference Tables'!$C$7:$AH$45, 32,FALSE),G287),'00_4_Reference Tables'!$F$79:$H$322,3,FALSE)","v":{"$error":"#N/A"}}]
[null,null,null,null,null,null,null,null,{"$f":"VLOOKUP(_xlfn.CONCAT(VLOOKUP(E288,'00_4_Reference Tables'!$C$7:$AH$45, 32,FALSE),G288),'00_4_Reference Tables'!$F$79:$H$322,3,FALSE)","v":{"$error":"#N/A"}}]
[null,null,null,null,null,null,null,null,{"$f":"VLOOKUP(_xlfn.CONCAT(VLOOKUP(E289,'00_4_Reference Tables'!$C$7:$AH$45, 32,FALSE),G289),'00_4_Reference Tables'!$F$79:$H$322,3,FALSE)","v":{"$error":"#N/A"}}]
[null,null,null,null,null,null,null,null,{"$f":"VLOOKUP(_xlfn.CONCAT(VLOOKUP(E290,'00_4_Reference Tables'!$C$7:$AH$45, 32,FALSE),G290),'00_4_Reference Tables'!$F$79:$H$322,3,FALSE)","v":{"$error":"#N/A"}}]
[null,null,null,null,null,null,null,null,{"$f":"VLOOKUP(_xlfn.CONCAT(VLOOKUP(E291,'00_4_Reference Tables'!$C$7:$AH$45, 32,FALSE),G291),'00_4_Reference Tables'!$F$79:$H$322,3,FALSE)","v":{"$error":"#N/A"}}]
[null,null,null,null,null,null,null,null,{"$f":"VLOOKUP(_xlfn.CONCAT(VLOOKUP(E292,'00_4_Reference Tables'!$C$7:$AH$45, 32,FALSE),G292),'00_4_Reference Tables'!$F$79:$H$322,3,FALSE)","v":{"$error":"#N/A"}}]
[null,null,null,null,null,null,null,null,{"$f":"VLOOKUP(_xlfn.CONCAT(VLOOKUP(E293,'00_4_Reference Tables'!$C$7:$AH$45, 32,FALSE),G293),'00_4_Reference Tables'!$F$79:$H$322,3,FALSE)","v":{"$error":"#N/A"}}]
[null,null,null,null,null,null,null,null,{"$f":"VLOOKUP(_xlfn.CONCAT(VLOOKUP(E294,'00_4_Reference Tables'!$C$7:$AH$45, 32,FALSE),G294),'00_4_Reference Tables'!$F$79:$H$322,3,FALSE)","v":{"$error":"#N/A"}}]
[null,null,null,null,null,null,null,null,{"$f":"VLOOKUP(_xlfn.CONCAT(VLOOKUP(E295,'00_4_Reference Tables'!$C$7:$AH$45, 32,FALSE),G295),'00_4_Reference Tables'!$F$79:$H$322,3,FALSE)","v":{"$error":"#N/A"}}]
[null,null,null,null,null,null,null,null,{"$f":"VLOOKUP(_xlfn.CONCAT(VLOOKUP(E296,'00_4_Reference Tables'!$C$7:$AH$45, 32,FALSE),G296),'00_4_Reference Tables'!$F$79:$H$322,3,FALSE)","v":{"$error":"#N/A"}}]
[null,null,null,null,null,null,null,null,{"$f":"VLOOKUP(_xlfn.CONCAT(VLOOKUP(E297,'00_4_Reference Tables'!$C$7:$AH$45, 32,FALSE),G297),'00_4_Reference Tables'!$F$79:$H$322,3,FALSE)","v":{"$error":"#N/A"}}]
[null,null,null,null,null,null,null,null,{"$f":"VLOOKUP(_xlfn.CONCAT(VLOOKUP(E298,'00_4_Reference Tables'!$C$7:$AH$45, 32,FALSE),G298),'00_4_Reference Tables'!$F$79:$H$322,3,FALSE)","v":{"$error":"#N/A"}}]
[null,null,null,null,null,null,null,null,{"$f":"VLOOKUP(_xlfn.CONCAT(VLOOKUP(E299,'00_4_Reference Tables'!$C$7:$AH$45, 32,FALSE),G299),'00_4_Reference Tables'!$F$79:$H$322,3,FALSE)","v":{"$error":"#N/A"}}]
[null,null,null,null,null,null,null,null,{"$f":"VLOOKUP(_xlfn.CONCAT(VLOOKUP(E300,'00_4_Reference Tables'!$C$7:$AH$45, 32,FALSE),G300),'00_4_Reference Tables'!$F$79:$H$322,3,FALSE)","v":{"$error":"#N/A"}}]
[null,null,null,null,null,null,null,null,{"$f":"VLOOKUP(_xlfn.CONCAT(VLOOKUP(E301,'00_4_Reference Tables'!$C$7:$AH$45, 32,FALSE),G301),'00_4_Reference Tables'!$F$79:$H$322,3,FALSE)","v":{"$error":"#N/A"}}]
[null,null,null,null,null,null,null,null,{"$f":"VLOOKUP(_xlfn.CONCAT(VLOOKUP(E302,'00_4_Reference Tables'!$C$7:$AH$45, 32,FALSE),G302),'00_4_Reference Tables'!$F$79:$H$322,3,FALSE)","v":{"$error":"#N/A"}}]
[null,"TOTALS",{"$f":"SUM(C223:C302)","v":0},{"$f":"SUM(D223:D302)","v":0}]
[]
[]
[null,"EXISTING DEBT"]
[null,"Sources","Principal amount","Accrued Interest","Interest Rate","Maturity Date"]
[]
[]
[]
[]
[]
[]
[]
[]
[null,"TOTALS",{"$f":"SUM(C308:C315)","v":0},{"$f":"SUM(D308:D315)","v":0}]

{"sheet":"02_1_INCOME","index":11,"n_rows":115,"n_cols":97,"rows_kept":115,"cut":false,"hidden":true,"merged":[[57,1,57,3],[58,1,58,3],[52,1,52,3],[53,1,53,3],[54,1,54,3],[55,1,55,3],[56,1,56,3],[79,1,79,3],[73,1,73,3],[74,1,74,3],[75,1,75,3],[76,1,76,3],[77,1,77,3],[38,33,38,34],[67,1,67,3],[5,12,6,12],[5,11,6,11],[78,1,78,3],[68,1,68,3],[69,1,69,3],[70,1,70,3],[71,1,71,3],[72,1,72,3],[44,1,44,2],[47,1,47,3],[48,1,48,3],[49,1,49,3],[50,1,50,3],[51,1,51,3]]}
[{"$f":"\"Residential and Commercial Rent Summary\"","v":"Residential and Commercial Rent Summary"}]
[{"$f":"IF(rng01_ProjectName=\"\",\"[Project Name]\", rng01_ProjectName)","v":"[Project Name]"},null,null,null,null,null,null,"Current Model Progress Date:",{"$f":"tbl00ModelProgress[[#Totals],[Date of Progress /\nLast Edit]]","v":"00:00:00"}]
[]
[null,"Number of Lines needed",null,10]
[]
[null,"Residential Summary: Underwritten Year One Rents",null,null,null,null,null,null,null,null,null,"RIH Year 1 Proposed Gross Rent PUPM","RIH Year 1 Proposed Net Rent PUPM","Note: Max LIHTC Rents Include Utility Allowances (U/A).  See cell T8 comment at right.",null,null,null,null,null,null,null,null,null,null,null,null,null,"Below: SRO or EFF weighting data",null,null,null,null,null,null,null,"0BR-SRO Summary",null,null,"Net","Net","Net",null,null,null,"0BR-EFF  Summary",null,null,"Net","Net","Net",null,null,null,"1BR  Summary",null,null,"Net","Net","Net",null,null,null,"2BR  Summary",null,null,"Net","Net","Net",null,null,null,"3BR  Summary",null,null,"Net","Net","Net",null,null,null,"4BR  Summary",null,null,"Net","Net","Net",null,null,null,"5BR  Summary",null,null,"Net","Net","Net"]
[null,"Number of Bedrooms: SRO, EFF, 1 through 5","Number of Baths","AMI","Construction Type","Number of Units","NRSF per Unit","Project based Subsidy","Contract Expiration","Contract Administrator","Tenant Paid Utilities (U/A)",null,null,"Gross Market Rent Per Unit Per Month ","Net Market Rent Per Unit Per Month ","Discount from Market Rent","Gross Contract Rent PUPM (If applicable)","Net Contract Rent PUPM (If applicable)","LIHTC Max Rent PUPM","Discount from LIHTC rent","Total NRSF","Bedroom","Bedroom x Units","Sub Units","Mkt Units","Sub Annl. Net Inc.","Mkt Annl. Net Inc.","Type Lookup","SRO Subz","EFF Subz","SRO Mkt","EFF Mkt",null,null,null,"Bath #","Unit #","SF","RIH","Mkt","Contract",0.5,0.6,null,"Bath #","Unit #","SF","RIH","Mkt","Contract",0.5,0.6,null,"Bath #","Unit #","SF","RIH","Mkt","Contract",0.5,0.6,null,"Bath #","Unit #","SF","RIH","Mkt","Contract",0.5,0.6,null,"Bath #","Unit #","SF","RIH","Mkt","Contract",0.5,0.6,null,"Bath #","Unit #","SF","RIH","Mkt","Contract",0.5,0.6,null,"Bath #","Unit #","SF","RIH","Mkt","Contract",0.5,0.6]
[null,null,null,null,null,null,null,null,null,null,{"$f":"_xlfn.IFNA(HLOOKUP(B8,$C$87:$I$99,13,FALSE), 0)","v":0},null,{"$f":"MAX(0,L8-K8)","v":0},null,{"$f":"MAX(0,N8-K8)","v":0},{"$f":"-IF(O8<>0,(M8-O8)/O8,0)","v":0},null,{"$f":"MAX(0,Q8-K8)","v":0},{"$f":"IF(OR(D8=\"80% Non-LIHTC\",D8=\"100%\",D8=\"120%\",D8=\"Over 120%\", D8=\"\"), 0, IF(D8=\"80% LIHTC\", VLOOKUP(0.8,'00_5_LIHTC Data'!$C$20:$J$26,MATCH('02_1_INCOME'!B8,'00_5_LIHTC Data'!$D$18:$J$18,0)+1,FALSE), VLOOKUP(VALUE(D8),'00_5_LIHTC Data'!$C$20:$J$26,MATCH('02_1_INCOME'!B8,'00_5_LIHTC Data'!$D$18:$J$18,0)+1,FALSE)))","v":0},{"$f":"-IF(S8<>0,(L8-S8)/S8,0)","v":0},{"$f":"F8*G8","v":0},{"$f":"IF(OR(B8=\"EFF\",B8=\"SRO\"),0.5,B8)","v":0},{"$f":"IF(OR(B8=\"EFF\",B8=\"SRO\"),0.5,B8)*F8","v":0},{"$f":"IF(AND(D8<>\"80% Non-LIHTC\",D8<>\"100%\",D8<>\"120%\", D8<>\"Over 120%\", D8<>\"\"),$F8,0)","v":0},{"$f":"IF(OR(D8=\"80% Non-LIHTC\",D8=\"100%\",D8=\"120%\",D8=\"Over 120%\",D8=\"\"),$F8,0)","v":0},{"$f":"IF(X8>0,X8*M8*12,0)","v":0},{"$f":"IF(Y8>0,Y8*O8*12,0)","v":0},{"$f":"B8","v":0},{"$f":"IF(B8=\"SRO\",X8,0)","v":0},{"$f":"IF(B8=\"EFF\",X8,0)","v":0},{"$f":"IF(B8=\"SRO\",Y8,0)","v":0},{"$f":"IF(B8=\"EFF\",Y8,0)","v":0},null,null,null,{"$f":"IF($B8=\"SRO\",$C8,\"\")","v":""},{"$f":"IF($B8=\"SRO\",$F8,\"\")","v":""},{"$f":"IF($B8=\"SRO\",$G8,\"\")","v":""},{"$f":"IF($B8=\"SRO\",$M8,\"\")","v":""},{"$f":"IF($B8=\"SRO\",$O8,\"\")","v":""},{"$f":"IF($B8=\"SRO\",$R8,\"\")","v":""},{"$f":"IF($B8=\"SRO\",$S8,\"\")","v":""},{"$f":"IF($B8=\"SRO\",$T8,\"\")","v":""},null,{"$f":"IF($B8=\"EFF\",$C8,\"\")","v":""},{"$f":"IF($B8=\"EFF\",$F8,\"\")","v":""},{"$f":"IF($B8=\"EFF\",$G8,\"\")","v":""},{"$f":"IF($B8=\"EFF\",$M8,\"\")","v":""},{"$f":"IF($B8=\"EFF\",$O8,\"\")","v":""},{"$f":"IF($B8=\"EFF\",$R8,\"\")","v":""},{"$f":"IF($B8=\"EFF\",$S8,\"\")","v":""},{"$f":"IF($B8=\"EFF\",$T8,\"\")","v":""},null,{"$f":"IF($B8=1,$C8,\"\")","v":""},{"$f":"IF($B8=1,$F8,\"\")","v":""},{"$f":"IF($B8=1,$G8,\"\")","v":""},{"$f":"IF($B8=1,$M8,\"\")","v":""},{"$f":"IF($B8=1,$O8,\"\")","v":""},{"$f":"IF($B8=1,$R8,\"\")","v":""},{"$f":"IF($B8=1,$S8,\"\")","v":""},{"$f":"IF($B8=1,$T8,\"\")","v":""},null,{"$f":"IF($B8=2,$C8,\"\")","v":""},{"$f":"IF($B8=2,$F8,\"\")","v":""},{"$f":"IF($B8=2,$G8,\"\")","v":""},{"$f":"IF($B8=2,$M8,\"\")","v":""},{"$f":"IF($B8=2,$O8,\"\")","v":""},{"$f":"IF($B8=2,$R8,\"\")","v":""},{"$f":"IF($B8=2,$S8,\"\")","v":""},{"$f":"IF($B8=2,$T8,\"\")","v":""},null,{"$f":"IF($B8=3,$C8,\"\")","v":""},{"$f":"IF($B8=3,$F8,\"\")","v":""},{"$f":"IF($B8=3,$G8,\"\")","v":""},{"$f":"IF($B8=3,$M8,\"\")","v":""},{"$f":"IF($B8=3,$O8,\"\")","v":""},{"$f":"IF($B8=3,$R8,\"\")","v":""},{"$f":"IF($B8=3,$S8,\"\")","v":""},{"$f":"IF($B8=3,$T8,\"\")","v":""},null,{"$f":"IF($B8=4,$C8,\"\")","v":""},{"$f":"IF($B8=4,$F8,\"\")","v":""},{"$f":"IF($B8=4,$G8,\"\")","v":""},{"$f":"IF($B8=4,$M8,\"\")","v":""},{"$f":"IF($B8=4,$O8,\"\")","v":""},{"$f":"IF($B8=4,$R8,\"\")","v":""},{"$f":"IF($B8=4,$S8,\"\")","v":""},{"$f":"IF($B8=4,$T8,\"\")","v":""},null,{"$f":"IF($B8=5,$C8,\"\")","v":""},{"$f":"IF($B8=5,$F8,\"\")","v":""},{"$f":"IF($B8=5,$G8,\"\")","v":""},{"$f":"IF($B8=5,$M8,\"\")","v":""},{"$f":"IF($B8=5,$O8,\"\")","v":""},{"$f":"IF($B8=5,$R8,\"\")","v":""},{"$f":"IF($B8=5,$S8,\"\")","v":""},{"$f":"IF($B8=5,$T8,\"\")","v":""}]
[null,null,null,null,null,null,null,null,null,null,0,null,0,null,0,0,null,0,{"$f":"IF(OR(D9=\"80% Non-LIHTC\",D9=\"100%\",D9=\"120%\",D9=\"Over 120%\", D9=\"\"), 0, IF(D9=\"80% LIHTC\", VLOOKUP(0.8,'00_5_LIHTC Data'!$C$20:$J$26,MATCH('02_1_INCOME'!B9,'00_5_LIHTC Data'!$D$18:$J$18,0)+1,FALSE), VLOOKUP(VALUE(D9),'00_5_LIHTC Data'!$C$20:$J$26,MATCH('02_1_INCOME'!B9,'00_5_LIHTC Data'!$D$18:$J$18,0)+1,FALSE)))","v":0},0,0,{"$f":"IF(OR(B9=\"EFF\",B9=\"SRO\"),0.5,B9)","v":0},{"$f":"IF(OR(B9=\"EFF\",B9=\"SRO\"),0.5,B9)*F9","v":0},0,0,0,0,{"$f":"B9","v":0},0,0,0,0,1,null,null,{"$f":"IF($B9=\"SRO\",$C9,\"\")","v":""},{"$f":"IF($B9=\"SRO\",$F9,\"\")","v":""},{"$f":"IF($B9=\"SRO\",$G9,\"\")","v":""},{"$f":"IF($B9=\"SRO\",$M9,\"\")","v":""},{"$f":"IF($B9=\"SRO\",$O9,\"\")","v":""},{"$f":"IF($B9=\"SRO\",$R9,\"\")","v":""},{"$f":"IF($B9=\"SRO\",$S9,\"\")","v":""},{"$f":"IF($B9=\"SRO\",$T9,\"\")","v":""},null,{"$f":"IF($B9=\"EFF\",$C9,\"\")","v":""},{"$f":"IF($B9=\"EFF\",$F9,\"\")","v":""},{"$f":"IF($B9=\"EFF\",$G9,\"\")","v":""},{"$f":"IF($B9=\"EFF\",$M9,\"\")","v":""},{"$f":"IF($B9=\"EFF\",$O9,\"\")","v":""},{"$f":"IF($B9=\"EFF\",$R9,\"\")","v":""},{"$f":"IF($B9=\"EFF\",$S9,\"\")","v":""},{"$f":"IF($B9=\"EFF\",$T9,\"\")","v":""},null,{"$f":"IF($B9=1,$C9,\"\")","v":""},{"$f":"IF($B9=1,$F9,\"\")","v":""},{"$f":"IF($B9=1,$G9,\"\")","v":""},{"$f":"IF($B9=1,$M9,\"\")","v":""},{"$f":"IF($B9=1,$O9,\"\")","v":""},{"$f":"IF($B9=1,$R9,\"\")","v":""},{"$f":"IF($B9=1,$S9,\"\")","v":""},{"$f":"IF($B9=1,$T9,\"\")","v":""},null,{"$f":"IF($B9=2,$C9,\"\")","v":""},{"$f":"IF($B9=2,$F9,\"\")","v":""},{"$f":"IF($B9=2,$G9,\"\")","v":""},{"$f":"IF($B9=2,$M9,\"\")","v":""},{"$f":"IF($B9=2,$O9,\"\")","v":""},{"$f":"IF($B9=2,$R9,\"\")","v":""},{"$f":"IF($B9=2,$S9,\"\")","v":""},{"$f":"IF($B9=2,$T9,\"\")","v":""},null,{"$f":"IF($B9=3,$C9,\"\")","v":""},{"$f":"IF($B9=3,$F9,\"\")","v":""},{"$f":"IF($B9=3,$G9,\"\")","v":""},{"$f":"IF($B9=3,$M9,\"\")","v":""},{"$f":"IF($B9=3,$O9,\"\")","v":""},{"$f":"IF($B9=3,$R9,\"\")","v":""},{"$f":"IF($B9=3,$S9,\"\")","v":""},{"$f":"IF($B9=3,$T9,\"\")","v":""},null,{"$f":"IF($B9=4,$C9,\"\")","v":""},{"$f":"IF($B9=4,$F9,\"\")","v":""},{"$f":"IF($B9=4,$G9,\"\")","v":""},{"$f":"IF($B9=4,$M9,\"\")","v":""},{"$f":"IF($B9=4,$O9,\"\")","v":""},{"$f":"IF($B9=4,$R9,\"\")","v":""},{"$f":"IF($B9=4,$S9,\"\")","v":""},{"$f":"IF($B9=4,$T9,\"\")","v":""},null,{"$f":"IF($B9=5,$C9,\"\")","v":""},{"$f":"IF($B9=5,$F9,\"\")","v":""},{"$f":"IF($B9=5,$G9,\"\")","v":""},{"$f":"IF($B9=5,$M9,\"\")","v":""},{"$f":"IF($B9=5,$O9,\"\")","v":""},{"$f":"IF($B9=5,$R9,\"\")","v":""},{"$f":"IF($B9=5,$S9,\"\")","v":""},{"$f":"IF($B9=5,$T9,\"\")","v":""}]
[null,null,null,null,null,null,null,null,null,null,0,null,0,null,0,0,null,0,{"$f":"IF(OR(D10=\"80% Non-LIHTC\",D10=\"100%\",D10=\"120%\",D10=\"Over 120%\", D10=\"\"), 0, IF(D10=\"80% LIHTC\", VLOOKUP(0.8,'00_5_LIHTC Data'!$C$20:$J$26,MATCH('02_1_INCOME'!B10,'00_5_LIHTC Data'!$D$18:$J$18,0)+1,FALSE), VLOOKUP(VALUE(D10),'00_5_LIHTC Data'!$C$20:$J$26,MATCH('02_1_INCOME'!B10,'00_5_LIHTC Data'!$D$18:$J$18,0)+1,FALSE)))","v":0},0,0,0,0,0,0,0,0,0,0,0,0,0,{"$f":"AG9+1","v":2},null,null,"","","","","","","","",null,"","","","","","","","",null,"","","","","","","","",null,"","","","","","","","",null,"","","","","","","","",null,"","","","","","","","",null,"","","","","","","",""]
[null,null,null,null,null,null,null,null,null,null,0,null,0,null,0,0,null,0,{"$f":"IF(OR(D11=\"80% Non-LIHTC\",D11=\"100%\",D11=\"120%\",D11=\"Over 120%\", D11=\"\"), 0, IF(D11=\"80% LIHTC\", VLOOKUP(0.8,'00_5_LIHTC Data'!$C$20:$J$26,MATCH('02_1_INCOME'!B11,'00_5_LIHTC Data'!$D$18:$J$18,0)+1,FALSE), VLOOKUP(VALUE(D11),'00_5_LIHTC Data'!$C$20:$J$26,MATCH('02_1_INCOME'!B11,'00_5_LIHTC Data'!$D$18:$J$18,0)+1,FALSE)))","v":0},0,0,0,0,0,0,0,0,0,0,0,0,0,{"$f":"AG10+1","v":3},null,null,"","","","","","","","",null,"","","","","","","","",null,"","","","","","","","",null,"","","","","","","","",null,"","","","","","","","",null,"","","","","","","","",null,"","","","","","","",""]
[null,null,null,null,null,null,null,null,null,null,0,null,0,null,0,0,null,0,{"$f":"IF(OR(D12=\"80% Non-LIHTC\",D12=\"100%\",D12=\"120%\",D12=\"Over 120%\", D12=\"\"), 0, IF(D12=\"80% LIHTC\", VLOOKUP(0.8,'00_5_LIHTC Data'!$C$20:$J$26,MATCH('02_1_INCOME'!B12,'00_5_LIHTC Data'!$D$18:$J$18,0)+1,FALSE), VLOOKUP(VALUE(D12),'00_5_LIHTC Data'!$C$20:$J$26,MATCH('02_1_INCOME'!B12,'00_5_LIHTC Data'!$D$18:$J$18,0)+1,FALSE)))","v":0},0,0,0,0,0,0,0,0,0,0,0,0,0,4,null,null,"","","","","","","","",null,"","","","","","","","",null,"","","","","","","","",null,"","","","","","","","",null,"","","","","","","","",null,"","","","","","","","",null,"","","","","","","",""]
[null,null,null,null,null,null,null,null,null,null,0,null,0,null,0,0,null,0,{"$f":"IF(OR(D13=\"80% Non-LIHTC\",D13=\"100%\",D13=\"120%\",D13=\"Over 120%\", D13=\"\"), 0, IF(D13=\"80% LIHTC\", VLOOKUP(0.8,'00_5_LIHTC Data'!$C$20:$J$26,MATCH('02_1_INCOME'!B13,'00_5_LIHTC Data'!$D$18:$J$18,0)+1,FALSE), VLOOKUP(VALUE(D13),'00_5_LIHTC Data'!$C$20:$J$26,MATCH('02_1_INCOME'!B13,'00_5_LIHTC Data'!$D$18:$J$18,0)+1,FALSE)))","v":0},0,0,0,0,0,0,0,0,0,0,0,0,0,5,null,null,"","","","","","","","",null,"","","","","","","","",null,"","","","","","","","",null,"","","","","","","","",null,"","","","","","","","",null,"","","","","","","","",null,"","","","","","","",""]
[null,null,null,null,null,null,null,null,null,null,0,null,0,null,0,0,null,0,{"$f":"IF(OR(D14=\"80% Non-LIHTC\",D14=\"100%\",D14=\"120%\",D14=\"Over 120%\", D14=\"\"), 0, IF(D14=\"80% LIHTC\", VLOOKUP(0.8,'00_5_LIHTC Data'!$C$20:$J$26,MATCH('02_1_INCOME'!B14,'00_5_LIHTC Data'!$D$18:$J$18,0)+1,FALSE), VLOOKUP(VALUE(D14),'00_5_LIHTC Data'!$C$20:$J$26,MATCH('02_1_INCOME'!B14,'00_5_LIHTC Data'!$D$18:$J$18,0)+1,FALSE)))","v":0},0,0,0,0,0,0,0,0,0,0,0,0,0,6,null,null,"","","","","","","","",null,"","","","","","","","",null,"","","","","","","","",null,"","","","","","","","",null,"","","","","","","","",null,"","","","","","","","",null,"","","","","","","",""]
[null,null,null,null,null,null,null,null,null,null,0,null,0,null,0,0,null,0,{"$f":"IF(OR(D15=\"80% Non-LIHTC\",D15=\"100%\",D15=\"120%\",D15=\"Over 120%\", D15=\"\"), 0, IF(D15=\"80% LIHTC\", VLOOKUP(0.8,'00_5_LIHTC Data'!$C$20:$J$26,MATCH('02_1_INCOME'!B15,'00_5_LIHTC Data'!$D$18:$J$18,0)+1,FALSE), VLOOKUP(VALUE(D15),'00_5_LIHTC Data'!$C$20:$J$26,MATCH('02_1_INCOME'!B15,'00_5_LIHTC Data'!$D$18:$J$18,0)+1,FALSE)))","v":0},0,0,0,0,0,0,0,0,0,0,0,0,0,7,null,null,"","","","","","","","",null,"","","","","","","","",null,"","","","","","","","",null,"","","","","","","","",null,"","","","","","","","",null,"","","","","","","","",null,"","","","","","","",""]
[null,null,null,null,null,null,null,null,null,null,0,null,0,null,0,0,null,0,{"$f":"IF(OR(D16=\"80% Non-LIHTC\",D16=\"100%\",D16=\"120%\",D16=\"Over 120%\", D16=\"\"), 0, IF(D16=\"80% LIHTC\", VLOOKUP(0.8,'00_5_LIHTC Data'!$C$20:$J$26,MATCH('02_1_INCOME'!B16,'00_5_LIHTC Data'!$D$18:$J$18,0)+1,FALSE), VLOOKUP(VALUE(D16),'00_5_LIHTC Data'!$C$20:$J$26,MATCH('02_1_INCOME'!B16,'00_5_LIHTC Data'!$D$18:$J$18,0)+1,FALSE)))","v":0},0,0,0,0,0,0,0,0,0,0,0,0,0,8,null,null,"","","","","","","","",null,"","","","","","","","",null,"","","","","","","","",null,"","","","","","","","",null,"","","","","","","","",null,"","","","","","","","",null,"","","","","","","",""]
[null,null,null,null,null,null,null,null,null,null,0,null,0,null,0,0,null,0,{"$f":"IF(OR(D17=\"80% Non-LIHTC\",D17=\"100%\",D17=\"120%\",D17=\"Over 120%\", D17=\"\"), 0, IF(D17=\"80% LIHTC\", VLOOKUP(0.8,'00_5_LIHTC Data'!$C$20:$J$26,MATCH('02_1_INCOME'!B17,'00_5_LIHTC Data'!$D$18:$J$18,0)+1,FALSE), VLOOKUP(VALUE(D17),'00_5_LIHTC Data'!$C$20:$J$26,MATCH('02_1_INCOME'!B17,'00_5_LIHTC Data'!$D$18:$J$18,0)+1,FALSE)))","v":0},0,0,0,0,0,0,0,0,0,0,0,0,0,9,null,null,"","","","","","","","",null,"","","","","","","","",null,"","","","","","","","",null,"","","","","","","","",null,"","","","","","","","",null,"","","","","","","","",null,"","","","","","","",""]
[null,null,null,null,null,null,null,null,null,null,0,null,0,null,0,0,null,0,{"$f":"IF(OR(D18=\"80% Non-LIHTC\",D18=\"100%\",D18=\"120%\",D18=\"Over 120%\", D18=\"\"), 0, IF(D18=\"80% LIHTC\", VLOOKUP(0.8,'00_5_LIHTC Data'!$C$20:$J$26,MATCH('02_1_INCOME'!B18,'00_5_LIHTC Data'!$D$18:$J$18,0)+1,FALSE), VLOOKUP(VALUE(D18),'00_5_LIHTC Data'!$C$20:$J$26,MATCH('02_1_INCOME'!B18,'00_5_LIHTC Data'!$D$18:$J$18,0)+1,FALSE)))","v":0},0,0,0,0,0,0,0,0,0,0,0,0,0,10,null,null,"","","","","","","","",null,"","","","","","","","",null,"","","","","","","","",null,"","","","","","","","",null,"","","","","","","","",null,"","","","","","","","",null,"","","","","","","",""]
[null,null,null,null,null,null,null,null,null,null,0,null,0,null,0,0,null,0,{"$f":"IF(OR(D19=\"80% Non-LIHTC\",D19=\"100%\",D19=\"120%\",D19=\"Over 120%\", D19=\"\"), 0, IF(D19=\"80% LIHTC\", VLOOKUP(0.8,'00_5_LIHTC Data'!$C$20:$J$26,MATCH('02_1_INCOME'!B19,'00_5_LIHTC Data'!$D$18:$J$18,0)+1,FALSE), VLOOKUP(VALUE(D19),'00_5_LIHTC Data'!$C$20:$J$26,MATCH('02_1_INCOME'!B19,'00_5_LIHTC Data'!$D$18:$J$18,0)+1,FALSE)))","v":0},0,0,0,0,0,0,0,0,0,0,0,0,0,11,null,null,"","","","","","","","",null,"","","","","","","","",null,"","","","","","","","",null,"","","","","","","","",null,"","","","","","","","",null,"","","","","","","","",null,"","","","","","","",""]
[null,null,null,null,null,null,null,null,null,null,0,null,0,null,0,0,null,0,{"$f":"IF(OR(D20=\"80% Non-LIHTC\",D20=\"100%\",D20=\"120%\",D20=\"Over 120%\", D20=\"\"), 0, IF(D20=\"80% LIHTC\", VLOOKUP(0.8,'00_5_LIHTC Data'!$C$20:$J$26,MATCH('02_1_INCOME'!B20,'00_5_LIHTC Data'!$D$18:$J$18,0)+1,FALSE), VLOOKUP(VALUE(D20),'00_5_LIHTC Data'!$C$20:$J$26,MATCH('02_1_INCOME'!B20,'00_5_LIHTC Data'!$D$18:$J$18,0)+1,FALSE)))","v":0},0,0,0,0,0,0,0,0,0,0,0,0,0,12,null,null,"","","","","","","","",null,"","","","","","","","",null,"","","","","","","","",null,"","","","","","","","",null,"","","","","","","","",null,"","","","","","","","",null,"","","","","","","",""]
[null,null,null,null,null,null,null,null,null,null,0,null,0,null,0,0,null,0,{"$f":"IF(OR(D21=\"80% Non-LIHTC\",D21=\"100%\",D21=\"120%\",D21=\"Over 120%\", D21=\"\"), 0, IF(D21=\"80% LIHTC\", VLOOKUP(0.8,'00_5_LIHTC Data'!$C$20:$J$26,MATCH('02_1_INCOME'!B21,'00_5_LIHTC Data'!$D$18:$J$18,0)+1,FALSE), VLOOKUP(VALUE(D21),'00_5_LIHTC Data'!$C$20:$J$26,MATCH('02_1_INCOME'!B21,'00_5_LIHTC Data'!$D$18:$J$18,0)+1,FALSE)))","v":0},0,0,0,0,0,0,0,0,0,0,0,0,0,13,null,null,"","","","","","","","",null,"","","","","","","","",null,"","","","","","","","",null,"","","","","","","","",null,"","","","","","","","",null,"","","","","","","","",null,"","","","","","","",""]
[null,null,null,null,null,null,null,null,null,null,{"$f":"_xlfn.IFNA(HLOOKUP(B22,$C$87:$I$99,13,FALSE), 0)","v":0},null,{"$f":"MAX(0,L22-K22)","v":0},null,{"$f":"MAX(0,N22-K22)","v":0},{"$f":"-IF(O22<>0,(M22-O22)/O22,0)","v":0},null,{"$f":"MAX(0,Q22-K22)","v":0},{"$f":"IF(OR(D22=\"80% Non-LIHTC\",D22=\"100%\",D22=\"120%\",D22=\"Over 120%\", D22=\"\"), 0, IF(D22=\"80% LIHTC\", VLOOKUP(0.8,'00_5_LIHTC Data'!$C$20:$J$26,MATCH('02_1_INCOME'!B22,'00_5_LIHTC Data'!$D$18:$J$18,0)+1,FALSE), VLOOKUP(VALUE(D22),'00_5_LIHTC Data'!$C$20:$J$26,MATCH('02_1_INCOME'!B22,'00_5_LIHTC Data'!$D$18:$J$18,0)+1,FALSE)))","v":0},{"$f":"-IF(S22<>0,(L22-S22)/S22,0)","v":0},{"$f":"F22*G22","v":0},{"$f":"IF(OR(B22=\"EFF\",B22=\"SRO\"),0.5,B22)","v":0},{"$f":"IF(OR(B22=\"EFF\",B22=\"SRO\"),0.5,B22)*F22","v":0},{"$f":"IF(AND(D22<>\"80% Non-LIHTC\",D22<>\"100%\",D22<>\"120%\", D22<>\"Over 120%\", D22<>\"\"),$F22,0)","v":0},{"$f":"IF(OR(D22=\"80% Non-LIHTC\",D22=\"100%\",D22=\"120%\",D22=\"Over 120%\",D22=\"\"),$F22,0)","v":0},{"$f":"IF(X22>0,X22*M22*12,0)","v":0},{"$f":"IF(Y22>0,Y22*O22*12,0)","v":0},0,{"$f":"IF(B22=\"SRO\",X22,0)","v":0},{"$f":"IF(B22=\"EFF\",X22,0)","v":0},{"$f":"IF(B22=\"SRO\",Y22,0)","v":0},{"$f":"IF(B22=\"EFF\",Y22,0)","v":0},14,null,null,"","","","","","","","",null,"","","","","","","","",null,"","","","","","","","",null,"","","","","","","","",null,"","","","","","","","",null,"","","","","","","","",null,"","","","","","","",""]
[null,null,null,null,null,null,null,null,null,null,0,null,0,null,0,0,null,0,{"$f":"IF(OR(D23=\"80% Non-LIHTC\",D23=\"100%\",D23=\"120%\",D23=\"Over 120%\", D23=\"\"), 0, IF(D23=\"80% LIHTC\", VLOOKUP(0.8,'00_5_LIHTC Data'!$C$20:$J$26,MATCH('02_1_INCOME'!B23,'00_5_LIHTC Data'!$D$18:$J$18,0)+1,FALSE), VLOOKUP(VALUE(D23),'00_5_LIHTC Data'!$C$20:$J$26,MATCH('02_1_INCOME'!B23,'00_5_LIHTC Data'!$D$18:$J$18,0)+1,FALSE)))","v":0},0,0,0,0,0,0,0,0,0,0,0,0,0,15,null,null,"","","","","","","","",null,"","","","","","","","",null,"","","","","","","","",null,"","","","","","","","",null,"","","","","","","","",null,"","","","","","","","",null,"","","","","","","",""]
[null,null,null,null,null,null,null,null,null,null,0,null,0,null,0,0,null,0,{"$f":"IF(OR(D24=\"80% Non-LIHTC\",D24=\"100%\",D24=\"120%\",D24=\"Over 120%\", D24=\"\"), 0, IF(D24=\"80% LIHTC\", VLOOKUP(0.8,'00_5_LIHTC Data'!$C$20:$J$26,MATCH('02_1_INCOME'!B24,'00_5_LIHTC Data'!$D$18:$J$18,0)+1,FALSE), VLOOKUP(VALUE(D24),'00_5_LIHTC Data'!$C$20:$J$26,MATCH('02_1_INCOME'!B24,'00_5_LIHTC Data'!$D$18:$J$18,0)+1,FALSE)))","v":0},0,0,0,0,0,0,0,0,0,0,0,0,0,16,null,null,"","","","","","","","",null,"","","","","","","","",null,"","","","","","","","",null,"","","","","","","","",null,"","","","","","","","",null,"","","","","","","","",null,"","","","","","","",""]
[null,null,null,null,null,null,null,null,null,null,0,null,0,null,0,0,null,0,{"$f":"IF(OR(D25=\"80% Non-LIHTC\",D25=\"100%\",D25=\"120%\",D25=\"Over 120%\", D25=\"\"), 0, IF(D25=\"80% LIHTC\", VLOOKUP(0.8,'00_5_LIHTC Data'!$C$20:$J$26,MATCH('02_1_INCOME'!B25,'00_5_LIHTC Data'!$D$18:$J$18,0)+1,FALSE), VLOOKUP(VALUE(D25),'00_5_LIHTC Data'!$C$20:$J$26,MATCH('02_1_INCOME'!B25,'00_5_LIHTC Data'!$D$18:$J$18,0)+1,FALSE)))","v":0},0,0,0,0,0,0,0,0,0,0,0,0,0,17,null,null,"","","","","","","","",null,"","","","","","","","",null,"","","","","","","","",null,"","","","","","","","",null,"","","","","","","","",null,"","","","","","","","",null,"","","","","","","",""]
[null,null,null,null,null,null,null,null,null,null,0,null,0,null,0,0,null,0,{"$f":"IF(OR(D26=\"80% Non-LIHTC\",D26=\"100%\",D26=\"120%\",D26=\"Over 120%\", D26=\"\"), 0, IF(D26=\"80% LIHTC\", VLOOKUP(0.8,'00_5_LIHTC Data'!$C$20:$J$26,MATCH('02_1_INCOME'!B26,'00_5_LIHTC Data'!$D$18:$J$18,0)+1,FALSE), VLOOKUP(VALUE(D26),'00_5_LIHTC Data'!$C$20:$J$26,MATCH('02_1_INCOME'!B26,'00_5_LIHTC Data'!$D$18:$J$18,0)+1,FALSE)))","v":0},0,0,0,0,0,0,0,0,0,0,0,0,0,18,null,null,"","","","","","","","",null,"","","","","","","","",null,"","","","","","","","",null,"","","","","","","","",null,"","","","","","","","",null,"","","","","","","","",null,"","","","","","","",""]
[null,null,null,null,null,null,null,null,null,null,0,null,0,null,0,0,null,0,{"$f":"IF(OR(D27=\"80% Non-LIHTC\",D27=\"100%\",D27=\"120%\",D27=\"Over 120%\", D27=\"\"), 0, IF(D27=\"80% LIHTC\", VLOOKUP(0.8,'00_5_LIHTC Data'!$C$20:$J$26,MATCH('02_1_INCOME'!B27,'00_5_LIHTC Data'!$D$18:$J$18,0)+1,FALSE), VLOOKUP(VALUE(D27),'00_5_LIHTC Data'!$C$20:$J$26,MATCH('02_1_INCOME'!B27,'00_5_LIHTC Data'!$D$18:$J$18,0)+1,FALSE)))","v":0},0,0,0,0,0,0,0,0,0,0,0,0,0,19,null,null,"","","","","","","","",null,"","","","","","","","",null,"","","","","","","","",null,"","","","","","","","",null,"","","","","","","","",null,"","","","","","","","",null,"","","","","","","",""]
[null,null,null,null,null,null,null,null,null,null,0,null,0,null,0,0,null,0,{"$f":"IF(OR(D28=\"80% Non-LIHTC\",D28=\"100%\",D28=\"120%\",D28=\"Over 120%\", D28=\"\"), 0, IF(D28=\"80% LIHTC\", VLOOKUP(0.8,'00_5_LIHTC Data'!$C$20:$J$26,MATCH('02_1_INCOME'!B28,'00_5_LIHTC Data'!$D$18:$J$18,0)+1,FALSE), VLOOKUP(VALUE(D28),'00_5_LIHTC Data'!$C$20:$J$26,MATCH('02_1_INCOME'!B28,'00_5_LIHTC Data'!$D$18:$J$18,0)+1,FALSE)))","v":0},0,0,0,0,0,0,0,0,0,0,0,0,0,20,null,null,"","","","","","","","",null,"","","","","","","","",null,"","","","","","","","",null,"","","","","","","","",null,"","","","","","","","",null,"","","","","","","","",null,"","","","","","","",""]
[null,null,null,null,null,null,null,null,null,null,0,null,0,null,0,0,null,0,{"$f":"IF(OR(D29=\"80% Non-LIHTC\",D29=\"100%\",D29=\"120%\",D29=\"Over 120%\", D29=\"\"), 0, IF(D29=\"80% LIHTC\", VLOOKUP(0.8,'00_5_LIHTC Data'!$C$20:$J$26,MATCH('02_1_INCOME'!B29,'00_5_LIHTC Data'!$D$18:$J$18,0)+1,FALSE), VLOOKUP(VALUE(D29),'00_5_LIHTC Data'!$C$20:$J$26,MATCH('02_1_INCOME'!B29,'00_5_LIHTC Data'!$D$18:$J$18,0)+1,FALSE)))","v":0},0,0,0,0,0,0,0,0,0,0,0,0,0,21,null,null,"","","","","","","","",null,"","","","","","","","",null,"","","","","","","","",null,"","","","","","","","",null,"","","","","","","","",null,"","","","","","","","",null,"","","","","","","",""]
[null,null,null,null,null,null,null,null,null,null,0,null,0,null,0,0,null,0,{"$f":"IF(OR(D30=\"80% Non-LIHTC\",D30=\"100%\",D30=\"120%\",D30=\"Over 120%\", D30=\"\"), 0, IF(D30=\"80% LIHTC\", VLOOKUP(0.8,'00_5_LIHTC Data'!$C$20:$J$26,MATCH('02_1_INCOME'!B30,'00_5_LIHTC Data'!$D$18:$J$18,0)+1,FALSE), VLOOKUP(VALUE(D30),'00_5_LIHTC Data'!$C$20:$J$26,MATCH('02_1_INCOME'!B30,'00_5_LIHTC Data'!$D$18:$J$18,0)+1,FALSE)))","v":0},0,0,0,0,0,0,0,0,0,0,0,0,0,22,null,null,"","","","","","","","",null,"","","","","","","","",null,"","","","","","","","",null,"","","","","","","","",null,"","","","","","","","",null,"","","","","","","","",null,"","","","","","","",""]
[null,null,null,null,null,null,null,null,null,null,0,null,0,null,0,0,null,0,{"$f":"IF(OR(D31=\"80% Non-LIHTC\",D31=\"100%\",D31=\"120%\",D31=\"Over 120%\", D31=\"\"), 0, IF(D31=\"80% LIHTC\", VLOOKUP(0.8,'00_5_LIHTC Data'!$C$20:$J$26,MATCH('02_1_INCOME'!B31,'00_5_LIHTC Data'!$D$18:$J$18,0)+1,FALSE), VLOOKUP(VALUE(D31),'00_5_LIHTC Data'!$C$20:$J$26,MATCH('02_1_INCOME'!B31,'00_5_LIHTC Data'!$D$18:$J$18,0)+1,FALSE)))","v":0},0,0,0,0,0,0,0,0,0,0,0,0,0,23,null,null,"","","","","","","","",null,"","","","","","","","",null,"","","","","","","","",null,"","","","","","","","",null,"","","","","","","","",null,"","","","","","","","",null,"","","","","","","",""]
[null,null,null,null,null,null,null,null,null,null,0,null,0,null,0,0,null,0,{"$f":"IF(OR(D32=\"80% Non-LIHTC\",D32=\"100%\",D32=\"120%\",D32=\"Over 120%\", D32=\"\"), 0, IF(D32=\"80% LIHTC\", VLOOKUP(0.8,'00_5_LIHTC Data'!$C$20:$J$26,MATCH('02_1_INCOME'!B32,'00_5_LIHTC Data'!$D$18:$J$18,0)+1,FALSE), VLOOKUP(VALUE(D32),'00_5_LIHTC Data'!$C$20:$J$26,MATCH('02_1_INCOME'!B32,'00_5_LIHTC Data'!$D$18:$J$18,0)+1,FALSE)))","v":0},0,0,0,0,0,0,0,0,0,0,0,0,0,24,null,null,"","","","","","","","",null,"","","","","","","","",null,"","","","","","","","",null,"","","","","","","","",null,"","","","","","","","",null,"","","","","","","","",null,"","","","","","","",""]
[null,null,null,null,null,null,null,null,null,null,0,null,0,null,0,0,null,0,{"$f":"IF(OR(D33=\"80% Non-LIHTC\",D33=\"100%\",D33=\"120%\",D33=\"Over 120%\", D33=\"\"), 0, IF(D33=\"80% LIHTC\", VLOOKUP(0.8,'00_5_LIHTC Data'!$C$20:$J$26,MATCH('02_1_INCOME'!B33,'00_5_LIHTC Data'!$D$18:$J$18,0)+1,FALSE), VLOOKUP(VALUE(D33),'00_5_LIHTC Data'!$C$20:$J$26,MATCH('02_1_INCOME'!B33,'00_5_LIHTC Data'!$D$18:$J$18,0)+1,FALSE)))","v":0},0,0,0,0,0,0,0,0,0,0,0,0,0,25,null,null,"","","","","","","","",null,"","","","","","","","",null,"","","","","","","","",null,"","","","","","","","",null,"","","","","","","","",null,"","","","","","","","",null,"","","","","","","",""]
[null,null,null,null,null,null,null,null,null,null,0,null,0,null,0,0,null,0,{"$f":"IF(OR(D34=\"80% Non-LIHTC\",D34=\"100%\",D34=\"120%\",D34=\"Over 120%\", D34=\"\"), 0, IF(D34=\"80% LIHTC\", VLOOKUP(0.8,'00_5_LIHTC Data'!$C$20:$J$26,MATCH('02_1_INCOME'!B34,'00_5_LIHTC Data'!$D$18:$J$18,0)+1,FALSE), VLOOKUP(VALUE(D34),'00_5_LIHTC Data'!$C$20:$J$26,MATCH('02_1_INCOME'!B34,'00_5_LIHTC Data'!$D$18:$J$18,0)+1,FALSE)))","v":0},0,0,0,0,0,0,0,0,0,0,0,0,0,26,null,null,"","","","","","","","",null,"","","","","","","","",null,"","","","","","","","",null,"","","","","","","","",null,"","","","","","","","",null,"","","","","","","","",null,"","","","","","","",""]
[null,null,null,null,null,null,null,null,null,null,0,null,0,null,0,0,null,0,{"$f":"IF(OR(D35=\"80% Non-LIHTC\",D35=\"100%\",D35=\"120%\",D35=\"Over 120%\", D35=\"\"), 0, IF(D35=\"80% LIHTC\", VLOOKUP(0.8,'00_5_LIHTC Data'!$C$20:$J$26,MATCH('02_1_INCOME'!B35,'00_5_LIHTC Data'!$D$18:$J$18,0)+1,FALSE), VLOOKUP(VALUE(D35),'00_5_LIHTC Data'!$C$20:$J$26,MATCH('02_1_INCOME'!B35,'00_5_LIHTC Data'!$D$18:$J$18,0)+1,FALSE)))","v":0},0,0,0,0,0,0,0,0,0,0,0,0,0,27,null,null,"","","","","","","","",null,"","","","","","","","",null,"","","","","","","","",null,"","","","","","","","",null,"","","","","","","","",null,"","","","","","","","",null,"","","","","","","",""]
[null,null,null,null,null,null,null,null,null,null,0,null,0,null,0,0,null,0,{"$f":"IF(OR(D36=\"80% Non-LIHTC\",D36=\"100%\",D36=\"120%\",D36=\"Over 120%\", D36=\"\"), 0, IF(D36=\"80% LIHTC\", VLOOKUP(0.8,'00_5_LIHTC Data'!$C$20:$J$26,MATCH('02_1_INCOME'!B36,'00_5_LIHTC Data'!$D$18:$J$18,0)+1,FALSE), VLOOKUP(VALUE(D36),'00_5_LIHTC Data'!$C$20:$J$26,MATCH('02_1_INCOME'!B36,'00_5_LIHTC Data'!$D$18:$J$18,0)+1,FALSE)))","v":0},0,0,0,0,0,0,0,0,0,0,0,0,0,28,null,null,"","","","","","","","",null,"","","","","","","","",null,"","","","","","","","",null,"","","","","","","","",null,"","","","","","","","",null,"","","","","","","","",null,"","","","","","","",""]
[null,null,null,null,null,null,null,null,null,null,0,null,0,null,0,0,null,0,{"$f":"IF(OR(D37=\"80% Non-LIHTC\",D37=\"100%\",D37=\"120%\",D37=\"Over 120%\", D37=\"\"), 0, IF(D37=\"80% LIHTC\", VLOOKUP(0.8,'00_5_LIHTC Data'!$C$20:$J$26,MATCH('02_1_INCOME'!B37,'00_5_LIHTC Data'!$D$18:$J$18,0)+1,FALSE), VLOOKUP(VALUE(D37),'00_5_LIHTC Data'!$C$20:$J$26,MATCH('02_1_INCOME'!B37,'00_5_LIHTC Data'!$D$18:$J$18,0)+1,FALSE)))","v":0},0,0,0,0,0,0,0,0,0,0,0,0,0,29,null,null,"","","","","","","","",null,"","","","","","","","",null,"","","","","","","","",null,"","","","","","","","",null,"","","","","","","","",null,"","","","","","","","",null,"","","","","","","",""]
[null,"Totals",null,null,null,{"$f":"SUM(F8:F37)","v":0},null,null,null,null,{"$f":"SUMPRODUCT($F$8:$F$37, K8:K37)*12","v":0},{"$f":"SUMPRODUCT($F$8:$F$37, L8:L37)*12","v":0},{"$f":"SUMPRODUCT($F$8:$F$37, M8:M37)*12","v":0},{"$f":"SUMPRODUCT($F$8:$F$37, N8:N37)*12","v":0},{"$f":"SUMPRODUCT($F$8:$F$37, O8:O37)*12","v":0},{"$f":"SUMPRODUCT($F$8:$F$37,$P$8:$P$37)/SUM(F8:F37)","v":{"$error":"#DIV/0!"}},{"$f":"SUMPRODUCT($F$8:$F$37, Q8:Q37)*12","v":0},{"$f":"SUMPRODUCT($F$8:$F$37, R8:R37)*12","v":0},{"$f":"SUMPRODUCT($F$8:$F$37, S8:S37)*12","v":0},{"$f":"SUMPRODUCT($F$8:$F$37,$T$8:$T$37)/rng02_TotalUnits_LIHTC","v":{"$error":"#DIV/0!"}},{"$f":"SUM(U8:U37)","v":0},0,0,0,0,0,0,null,{"$f":"SUM(AC8:AC37)","v":0},{"$f":"SUM(AD8:AD37)","v":0},{"$f":"SUM(AE8:AE37)","v":0},{"$f":"SUM(AF8:AF37)","v":0},30,null,null,{"$f":"IF(ISERROR(AVERAGE(AJ8:AJ37)),0,AVERAGE(AJ8:AJ37))","v":0},{"$f":"SUM(AK8:AK37)","v":0},{"$f":"IFERROR(SUMPRODUCT(AL8:AL37,AK8:AK37)/AK38,0)","v":0},{"$f":"IFERROR(SUMPRODUCT(AM8:AM37,AK8:AK37)/AK38,0)","v":0},{"$f":"IFERROR(SUMPRODUCT(AN8:AN37,AK8:AK37)/AK38,0)","v":0},{"$f":"IFERROR(SUMPRODUCT(AO8:AO37,AK8:AK37)/AK38,0)","v":0},{"$f":"IFERROR(SUMPRODUCT(AP8:AP37,AK8:AK37)/AK38,0)","v":0},{"$f":"IFERROR(SUMPRODUCT(AQ8:AQ37,AK8:AK37)/AK38,0)","v":0},null,{"$f":"IF(ISERROR(AVERAGE(AS8:AS37)),0,AVERAGE(AS8:AS37))","v":0},{"$f":"SUM(AT8:AT37)","v":0},{"$f":"IFERROR(SUMPRODUCT(AU8:AU37,AT8:AT37)/AT38,0)","v":0},{"$f":"IFERROR(SUMPRODUCT(AV8:AV37,AT8:AT37)/AT38,0)","v":0},{"$f":"IFERROR(SUMPRODUCT(AW8:AW37,AT8:AT37)/AT38,0)","v":0},{"$f":"IFERROR(SUMPRODUCT(AX8:AX37,AT8:AT37)/AT38,0)","v":0},{"$f":"IFERROR(SUMPRODUCT(AY8:AY37,AT8:AT37)/AT38,0)","v":0},{"$f":"IFERROR(SUMPRODUCT(AZ8:AZ37,AT8:AT37)/AT38,0)","v":0},null,{"$f":"IF(ISERROR(AVERAGE(BB8:BB37)),0,AVERAGE(BB8:BB37))","v":0},{"$f":"SUM(BC8:BC37)","v":0},{"$f":"IFERROR(SUMPRODUCT(BD8:BD37,BC8:BC37)/BC38,0)","v":0},{"$f":"IFERROR(SUMPRODUCT(BE8:BE37,BC8:BC37)/BC38,0)","v":0},{"$f":"IFERROR(SUMPRODUCT(BF8:BF37,BC8:BC37)/BC38,0)","v":0},{"$f":"IFERROR(SUMPRODUCT(BG8:BG37,BC8:BC37)/BC38,0)","v":0},{"$f":"IFERROR(SUMPRODUCT(BH8:BH37,BC8:BC37)/BC38,0)","v":0},{"$f":"IFERROR(SUMPRODUCT(BI8:BI37,BC8:BC37)/BC38,0)","v":0},null,{"$f":"IF(ISERROR(AVERAGE(BK8:BK37)),0,AVERAGE(BK8:BK37))","v":0},{"$f":"SUM(BL8:BL37)","v":0},{"$f":"IFERROR(SUMPRODUCT(BM8:BM37,BL8:BL37)/BL38,0)","v":0},{"$f":"IFERROR(SUMPRODUCT(BN8:BN37,BL8:BL37)/BL38,0)","v":0},{"$f":"IFERROR(SUMPRODUCT(BO8:BO37,BL8:BL37)/BL38,0)","v":0},{"$f":"IFERROR(SUMPRODUCT(BP8:BP37,BL8:BL37)/BL38,0)","v":0},{"$f":"IFERROR(SUMPRODUCT(BQ8:BQ37,BL8:BL37)/BL38,0)","v":0},{"$f":"IFERROR(SUMPRODUCT(BR8:BR37,BL8:BL37)/BL38,0)","v":0},null,{"$f":"IF(ISERROR(AVERAGE(BT8:BT37)),0,AVERAGE(BT8:BT37))","v":0},{"$f":"SUM(BU8:BU37)","v":0},{"$f":"IFERROR(SUMPRODUCT(BV8:BV37,BU8:BU37)/BU38,0)","v":0},{"$f":"IFERROR(SUMPRODUCT(BW8:BW37,BU8:BU37)/BU38,0)","v":0},{"$f":"IFERROR(SUMPRODUCT(BX8:BX37,BU8:BU37)/BU38,0)","v":0},{"$f":"IFERROR(SUMPRODUCT(BY8:BY37,BU8:BU37)/BU38,0)","v":0},{"$f":"IFERROR(SUMPRODUCT(BZ8:BZ37,BU8:BU37)/BU38,0)","v":0},{"$f":"IFERROR(SUMPRODUCT(CA8:CA37,BU8:BU37)/BU38,0)","v":0},null,{"$f":"IF(ISERROR(AVERAGE(CC8:CC37)),0,AVERAGE(CC8:CC37))","v":0},{"$f":"SUM(CD8:CD37)","v":0},{"$f":"IFERROR(SUMPRODUCT(CE8:CE37,CD8:CD37)/CD38,0)","v":0},{"$f":"IFERROR(SUMPRODUCT(CF8:CF37,CD8:CD37)/CD38,0)","v":0},{"$f":"IFERROR(SUMPRODUCT(CG8:CG37,CD8:CD37)/CD38,0)","v":0},{"$f":"IFERROR(SUMPRODUCT(CH8:CH37,CD8:CD37)/CD38,0)","v":0},{"$f":"IFERROR(SUMPRODUCT(CI8:CI37,CD8:CD37)/CD38,0)","v":0},{"$f":"IFERROR(SUMPRODUCT(CJ8:CJ37,CD8:CD37)/CD38,0)","v":0},null,{"$f":"IF(ISERROR(AVERAGE(CL8:CL37)),0,AVERAGE(CL8:CL37))","v":0},{"$f":"SUM(CM8:CM37)","v":0},{"$f":"IFERROR(SUMPRODUCT(CN8:CN37,CM8:CM37)/CM38,0)","v":0},{"$f":"IFERROR(SUMPRODUCT(CO8:CO37,CM8:CM37)/CM38,0)","v":0},{"$f":"IFERROR(SUMPRODUCT(CP8:CP37,CM8:CM37)/CM38,0)","v":0},{"$f":"IFERROR(SUMPRODUCT(CQ8:CQ37,CM8:CM37)/CM38,0)","v":0},{"$f":"IFERROR(SUMPRODUCT(CR8:CR37,CM8:CM37)/CM38,0)","v":0},{"$f":"IFERROR(SUMPRODUCT(CS8:CS37,CM8:CM37)/CM38,0)","v":0}]
[null,{"$f":"'01_1_General Data'!B122","v":"Residential Market Vacancy:"},null,null,null,null,null,null,null,null,null,null,{"$f":"'01_1_General Data'!$D$122","v":0},null,null,null,null,null,null,null,null,null,null,null,null,null,null,null,null,null,null,null,null,"Ave/Total/Wgt. Ave"]
[null,{"$f":"'01_1_General Data'!B123","v":"Residential Affordable Vacancy:"},null,null,null,null,null,null,null,null,null,null,{"$f":"'01_1_General Data'!$D$123","v":0}]
[null,"Effective Gross Income",null,null,null,null,null,null,null,null,null,null,{"$f":"SUMPRODUCT(--(D8:D37<>\"80% Non-LIHTC\"),--(D8:D37<>\"Over 120%\"),--(D8:D37<>\"100%\"),--(D8:D37<>\"120%\"),$F$8:$F$37, M8:M37)*12*(1-M40)+SUMPRODUCT(((D8:D37=\"80% Non-LIHTC\")+(D8:D37=\"Over 120%\")+(D8:D37=\"100%\")+(D8:D37=\"120%\"))*$F$8:$F$37, M8:M37)*12*(1-M39)","v":0}]
[null,null,null,null,null,null,null,null,null,null,null,null,null,null,null,null,null,null,null,null,null,null,null,null,null,null,null,null,"Total SRO/EFF Subz",null,{"$f":"SUM(AC38:AD38)","v":0}]
[null," Commercial Summary: Underwritten Year One Rents",null,null,null,null,null,null,null,null,null,null,null,null,null,null,null,null,null,null,null,null,null,null,null,null,null,null,"Total SRO/EFF Mkt",null,{"$f":"SUM(AE38:AF38)","v":0}]
[null,"Complete if applicable",null,null,null,null,null,null,null,"Number of units - New Construction",null,null,{"$f":"SUMIF(E8:E37,\"New Construction\", F8:F37)","v":0}]
[null,"Type of Space:",null,null,null,null,null,null,null,"Number of units - Rehabilitation",null,null,{"$f":"rng02_TotalUnit - rng02_TotalUnit_New","v":0}]
[null,null,null,null,null,null,null,null,null,null,null,null,null,null,null,null,null,null,null,null,null,"SCRATCH PAD - this section is for any side calculation"]
[null,"Commercial Income Type",null,null,"Number of Units","NRSF Per Unit","Rent per Units","Yearly Rent",null,"Number of bedrooms - New Construction",null,null,{"$f":"SUMIF(E8:E37,\"New Construction\", W8:W37)","v":0}]
[null,null,null,null,null,null,null,{"$f":"F48*G48*12","v":0},null,"Number of bedrooms - Rehabilitation",null,null,{"$f":"W38-M47","v":0}]
[null,null,null,null,null,null,null,0]
[null,null,null,null,null,null,null,0]
[null,null,null,null,null,null,null,0]
[null,null,null,null,null,null,null,0]
[null,null,null,null,null,null,null,0]
[null,null,null,null,null,null,null,0]
[null,null,null,null,null,null,null,0]
[null,null,null,null,null,null,null,0]
[null,null,null,null,null,null,null,0]
[null,null,null,null,null,null,null,0]
[null,null,null,null,null,null,null,0]
[null,"TOTALS",null,null,{"$f":"SUM(E48:E59)","v":0},{"$f":"SUM(F48:F59)","v":0},"N/A",{"$f":"SUM(H48:H59)","v":0}]
[null,"Vacancy",null,null,null,null,null,{"$f":"'01_1_General Data'!$D$124","v":0}]
[null,"Effective Gross Income",null,null,null,null,null,{"$f":"H60*(1-H61)","v":0}]
[]
[]
[null," Other Income Summary: Underwritten Year One"]
[null,"Complete if applicable"]
[]
[null,"Income Type",null,null,"Number of Units","NRSF Per Unit","Rent per Units","Yearly Rent"]
[null,null,null,null,null,null,null,{"$f":"E69*G69*12","v":0}]
[null,null,null,null,null,null,null,{"$f":"E70*G70*12","v":0}]
[null,null,null,null,null,null,null,0]
[null,null,null,null,null,null,null,0]
[null,null,null,null,null,null,null,0]
[null,null,null,null,null,null,null,0]
[null,null,null,null,null,null,null,0]
[null,null,null,null,null,null,null,0]
[null,null,null,null,null,null,null,0]
[null,null,null,null,null,null,null,0]
[null,null,null,null,null,null,null,0]
[null,null,null,null,null,null,null,0]
[null,"TOTALS",null,null,{"$f":"SUM(E69:E80)","v":0},{"$f":"SUMPRODUCT(F69:F80,E69:E80)","v":0},"N/A",{"$f":"SUM(H69:H80)","v":0}]
[null,"Vacancy",null,null,null,null,null,{"$f":"'01_1_General Data'!$D$126","v":0}]
[null,"Effective Gross Income",null,null,null,null,null,{"$f":"H81*(1-H82)","v":0}]
[]
[]
[null,"Utilities Table: Detailed Utilities for SRO, EFF or 1 through 5 bedroom units",null,null,null,null,null,null,null,null,null,null,"Information from Data Input page"]
[null,"Utilities Type","SRO","EFF",1,2,3,4,5,"Tenant Paid?","Data Year",null,{"$f":"'01_1_General Data'!I73","v":"Services/Utilities:"},null,{"$f":"'01_1_General Data'!K73","v":"Provided"},{"$f":"'01_1_General Data'!L73","v":"Included in Rent"},{"$f":"'01_1_General Data'!M73","v":"Energy Type"}]
[null,null,null,null,null,null,null,null,null,null,null,null,{"$f":"'01_1_General Data'!I74","v":"Heat"},null,{"$f":"'01_1_General Data'!K74","v":0},{"$f":"'01_1_General Data'!L74","v":0},{"$f":"'01_1_General Data'!M74","v":0}]
[null,null,null,null,null,null,null,null,null,null,null,null,{"$f":"'01_1_General Data'!I75","v":"Hot Water"},null,{"$f":"'01_1_General Data'!K75","v":0},{"$f":"'01_1_General Data'!L75","v":0},{"$f":"'01_1_General Data'!M75","v":0}]
[null,null,null,null,null,null,null,null,null,null,null,null,{"$f":"'01_1_General Data'!I76","v":"Cooking"},null,{"$f":"'01_1_General Data'!K76","v":0},{"$f":"'01_1_General Data'!L76","v":0},{"$f":"'01_1_General Data'!M76","v":0}]
[null,null,null,null,null,null,null,null,null,null,null,null,{"$f":"'01_1_General Data'!I77","v":"Central Air Conditioning"},null,{"$f":"'01_1_General Data'!K77","v":0},{"$f":"'01_1_General Data'!L77","v":0},{"$f":"'01_1_General Data'!M77","v":0}]
[null,null,null,null,null,null,null,null,null,null,null,null,{"$f":"'01_1_General Data'!I78","v":"Cable TV"},null,{"$f":"'01_1_General Data'!K78","v":0},{"$f":"'01_1_General Data'!L78","v":0},{"$f":"'01_1_General Data'!M78","v":0}]
[null,null,null,null,null,null,null,null,null,null,null,null,{"$f":"'01_1_General Data'!I79","v":"Electricity"},null,{"$f":"'01_1_General Data'!K79","v":0},{"$f":"'01_1_General Data'!L79","v":0},{"$f":"'01_1_General Data'!M79","v":0}]
[null,null,null,null,null,null,null,null,null,null,null,null,{"$f":"'01_1_General Data'!I80","v":"Water"},null,{"$f":"'01_1_General Data'!K80","v":0},{"$f":"'01_1_General Data'!L80","v":0},{"$f":"'01_1_General Data'!M80","v":0}]
[null,null,null,null,null,null,null,null,null,null,null,null,{"$f":"'01_1_General Data'!I81","v":"Sewer"},null,{"$f":"'01_1_General Data'!K81","v":0},{"$f":"'01_1_General Data'!L81","v":0},{"$f":"'01_1_General Data'!M81","v":0}]
[]
[]
[]
[null,"Total Tenant Paid",{"$f":"SUMIF($J$88:$J$98,\"Yes\", C88:C98)","v":0},{"$f":"SUMIF($J$88:$J$98,\"Yes\", D88:D98)","v":0},0,{"$f":"SUMIF($J$88:$J$98,\"Yes\", F88:F98)","v":0},0,0,0]
[]
[]
[null,"Summary Residential Configuration",null,null,null,null,null,null,null,null,"Number of Bedroom"]
[null,"Number of Bedrooms","# LIHTC Units","# Market Units","NRSF/Unit (Weighted Average)","Net Rentable Square Feet LIHTC","Net Rentable Square Feet Market","RIH Proposed Rent (LIHTC calculation)","RIH Proposed Rent (Market calculation)","Current Contract Rent"]
[null,"SRO",{"$f":"SUMIF('02_1_INCOME'!$AB$8:$AB$37,B104,'02_1_INCOME'!$X$8:$X$37)","v":0},{"$f":"SUMIF('02_1_INCOME'!$AB$8:$AB$37,B104,'02_1_INCOME'!$Y$8:$Y$37)","v":0},{"$f":"IFERROR(('02_1_INCOME'!$AL$38*('02_1_INCOME'!$AK$38/SUM('02_1_INCOME'!$AE$42+$AE$43)))+('02_1_INCOME'!$AU$38*('02_1_INCOME'!$AT$38/SUM('02_1_INCOME'!$AE$42+$AE$43))),0)","v":0},{"$f":"C104*E104","v":0},{"$f":"D104*E104","v":0},{"$f":"IFERROR(('02_1_INCOME'!$AM$38*('02_1_INCOME'!$AK$38/SUM('02_1_INCOME'!$AE$42+$AE$43)))+('02_1_INCOME'!$AV$38*('02_1_INCOME'!$AT$38/SUM('02_1_INCOME'!$AE$42+$AE$43))),0)","v":0},{"$f":"IFERROR(('02_1_INCOME'!$AM$38*('02_1_INCOME'!$AK$38/SUM('02_1_INCOME'!$AE$42+$AE$43)))+('02_1_INCOME'!$AV$38*('02_1_INCOME'!$AT$38/SUM('02_1_INCOME'!$AE$42+$AE$43))),0)","v":0},{"$f":"IFERROR(('02_1_INCOME'!$AO$38*('02_1_INCOME'!$AK$38/SUM('02_1_INCOME'!$AE$42+$AE$43)))+('02_1_INCOME'!$AX$38*('02_1_INCOME'!$AT$38/SUM('02_1_INCOME'!$AE$42+$AE$43))),0)","v":0}]
[null,"EFF",{"$f":"SUMIF('02_1_INCOME'!$AB$8:$AB$37,B105,'02_1_INCOME'!$X$8:$X$37)","v":0},{"$f":"SUMIF('02_1_INCOME'!$AB$8:$AB$37,B105,'02_1_INCOME'!$Y$8:$Y$37)","v":0},{"$f":"IFERROR(('02_1_INCOME'!$AL$38*('02_1_INCOME'!$AK$38/SUM('02_1_INCOME'!$AE$42+$AE$43)))+('02_1_INCOME'!$AU$38*('02_1_INCOME'!$AT$38/SUM('02_1_INCOME'!$AE$42+$AE$43))),0)","v":0},0,0,{"$f":"IFERROR(('02_1_INCOME'!$AM$38*('02_1_INCOME'!$AK$38/SUM('02_1_INCOME'!$AE$42+$AE$43)))+('02_1_INCOME'!$AV$38*('02_1_INCOME'!$AT$38/SUM('02_1_INCOME'!$AE$42+$AE$43))),0)","v":0},{"$f":"IFERROR(('02_1_INCOME'!$AM$38*('02_1_INCOME'!$AK$38/SUM('02_1_INCOME'!$AE$42+$AE$43)))+('02_1_INCOME'!$AV$38*('02_1_INCOME'!$AT$38/SUM('02_1_INCOME'!$AE$42+$AE$43))),0)","v":0},{"$f":"IFERROR(('02_1_INCOME'!$AO$38*('02_1_INCOME'!$AK$38/SUM('02_1_INCOME'!$AE$42+$AE$43)))+('02_1_INCOME'!$AX$38*('02_1_INCOME'!$AT$38/SUM('02_1_INCOME'!$AE$42+$AE$43))),0)","v":0}]
[null,1,{"$f":"SUMIF('02_1_INCOME'!$AB$8:$AB$37,B106,'02_1_INCOME'!$X$8:$X$37)","v":0},{"$f":"SUMIF('02_1_INCOME'!$AB$8:$AB$37,B106,'02_1_INCOME'!$Y$8:$Y$37)","v":0},{"$f":"'02_1_INCOME'!$BD$38","v":0},{"$f":"C106*E106","v":0},{"$f":"D106*E106","v":0},{"$f":"'02_1_INCOME'!$BE$38","v":0},{"$f":"'02_1_INCOME'!$BE$38","v":0},{"$f":"'02_1_INCOME'!$BG$38","v":0}]
[null,2,{"$f":"SUMIF('02_1_INCOME'!$AB$8:$AB$37,B107,'02_1_INCOME'!$X$8:$X$37)","v":0},{"$f":"SUMIF('02_1_INCOME'!$AB$8:$AB$37,B107,'02_1_INCOME'!$Y$8:$Y$37)","v":0},{"$f":"'02_1_INCOME'!$BM$38","v":0},0,0,{"$f":"'02_1_INCOME'!$BN$38","v":0},{"$f":"'02_1_INCOME'!$BN$38","v":0},{"$f":"'02_1_INCOME'!$BP$38","v":0}]
[null,3,{"$f":"SUMIF('02_1_INCOME'!$AB$8:$AB$37,B108,'02_1_INCOME'!$X$8:$X$37)","v":0},{"$f":"SUMIF('02_1_INCOME'!$AB$8:$AB$37,B108,'02_1_INCOME'!$Y$8:$Y$37)","v":0},{"$f":"'02_1_INCOME'!$BV$38","v":0},0,0,{"$f":"'02_1_INCOME'!$BW$38","v":0},{"$f":"'02_1_INCOME'!$BW$38","v":0},{"$f":"'02_1_INCOME'!$BY$38","v":0}]
[null,4,{"$f":"SUMIF('02_1_INCOME'!$AB$8:$AB$37,B109,'02_1_INCOME'!$X$8:$X$37)","v":0},{"$f":"SUMIF('02_1_INCOME'!$AB$8:$AB$37,B109,'02_1_INCOME'!$Y$8:$Y$37)","v":0},{"$f":"'02_1_INCOME'!$CE$38","v":0},0,0,{"$f":"'02_1_INCOME'!$CF$38","v":0},{"$f":"'02_1_INCOME'!$CF$38","v":0},{"$f":"'02_1_INCOME'!$CH$38","v":0}]
[null,5,{"$f":"SUMIF('02_1_INCOME'!$AB$8:$AB$37,B110,'02_1_INCOME'!$X$8:$X$37)","v":0},{"$f":"SUMIF('02_1_INCOME'!$AB$8:$AB$37,B110,'02_1_INCOME'!$Y$8:$Y$37)","v":0},{"$f":"'02_1_INCOME'!$CN$38","v":0},0,0,{"$f":"'02_1_INCOME'!$CO$38","v":0},{"$f":"'02_1_INCOME'!$CO$38","v":0},{"$f":"'02_1_INCOME'!$CQ$38","v":0}]
[null,"Total",{"$f":"SUM(C104:C110)","v":0},{"$f":"SUM(D104:D110)","v":0},"N/A",{"$f":"SUM(F104:F110)","v":0},{"$f":"SUM(G104:G110)","v":0},{"$f":"SUMPRODUCT(--(D8:D37<>\"80% Non-LIHTC\"),--(D8:D37<>\"Over 120%\"),--(D8:D37<>\"100%\"),--(D8:D37<>\"120%\"),$F$8:$F$37, M8:M37)*12","v":0},{"$f":"SUMPRODUCT(((D8:D37=\"80% Non-LIHTC\")+(D8:D37=\"Over 120%\")+(D8:D37=\"100%\")+(D8:D37=\"120%\"))*$F$8:$F$37, M8:M37)*12","v":0}]
[]
[]
[null,"Applicable Fraction - Units",{"$f":"IF(SUM(C111:D111)=0,\"\",rng02_TotalUnits_LIHTC/SUM(C111:D111))","v":""}]
[null,"Applicable Fraction - NRSF",{"$f":"IF(SUM(F111:G111)=0,\"\",F111/SUM(F111:G111))","v":""}]

{"sheet":"02_2_EXPENSE","index":12,"n_rows":134,"n_cols":42,"rows_kept":134,"cut":false,"hidden":true,"merged":[[5,10,9,10],[4,1,9,1],[4,2,9,2],[5,8,9,8],[5,7,9,7],[5,9,9,9]]}
["Projected Income and Expenses"]
[{"$f":"IF(rng01_ProjectName=\"\",\"[Project Name]\", rng01_ProjectName)","v":"[Project Name]"},null,null,null,null,"Current Model Progress Date:",{"$f":"tbl00ModelProgress[[#Totals],[Date of Progress /\nLast Edit]]","v":"00:00:00"}]
[]
[]
[null,"INCOME AND EXPENSE","Chart of Acct. #","PROJECTED",null,null,null,"COMPARISON",null,null,null,"OTHER PROJECTION 1",null,"OTHER PROJECTION 2",null,"OTHER PROJECTION 3",null,"OTHER PROJECTION 4",null,"OTHER PROJECTION 5",null,"OTHER PROJECTION 6",null,"OTHER PROJECTION 7",null,"OTHER PROJECTION 8",null,"OTHER PROJECTION 9",null,"OTHER PROJECTION 10",null,"OTHER PROJECTION 11",null,"OTHER PROJECTION 12",null,null,"Line Item Specific Comments"]
[null,null,null,"Projection Type","Underwritten","Projection Type","Appraisal","Average Comparable Per Unit","Percentage Difference","Average Trended Historical Per Unit","Percentage Difference","Projection Type",null,"Projection Type",null,"Projection Type",null,"Projection Type",null,"Projection Type",null,"Projection Type",null,"Projection Type",null,"Projection Type",null,"Projection Type",null,"Projection Type",null,"Projection Type",null,"Projection Type"]
[null,null,null,"Property Name",{"$f":"rng01_ProjectName","v":0},"Property Name",{"$f":"rng01_ProjectName","v":0},null,null,null,null,"Property Name",null,"Property Name",null,"Property Name",null,"Property Name",null,"Property Name",null,"Property Name",null,"Property Name",null,"Property Name",null,"Property Name",null,"Property Name",null,"Property Name",null,"Property Name"]
[null,null,null,"Number of Units",{"$f":"'02_1_INCOME'!$F$38","v":0},"Number of Units",{"$f":"'02_1_INCOME'!$F$38","v":0},null,null,null,null,"Number of Units",null,"Number of Units",null,"Number of Units",null,"Number of Units",null,"Number of Units",null,"Number of Units",null,"Number of Units",null,"Number of Units",null,"Number of Units",null,"Number of Units",null,"Number of Units",null,"Number of Units"]
[null,null,null,"Year",{"$f":"'01_1_General Data'!I111","v":1901},"Year",{"$f":"'01_1_General Data'!I111","v":1901},null,null,null,null,"Year",null,"Year",null,"Year",null,"Year",null,"Year",null,"Year",null,"Year",null,"Year",null,"Year",null,"Year",null,"Year",null,"Year"]
[null,null,null,"$ Amt","$/Unit/Year","$ Amt","$/Unit/Year",null,null,null,null,"$ Amt","$/Unit/Year","$ Amt","$/Unit/Year","$ Amt",null,"$ Amt","$/Unit/Year","$ Amt","$/Unit/Year","$ Amt","$/Unit/Year","$ Amt","$/Unit/Year","$ Amt","$/Unit/Year","$ Amt","$/Unit/Year","$ Amt","$/Unit/Year","$ Amt","$/Unit/Year","$ Amt","$/Unit/Year"]
[null,"INCOME",null,null,null,null,null,null,null,null,null,null,null,null,null,null,null,null,null,null,null,null,null,null,null,null,null,null,null,null,null,null,null,null,null,null,null,null,null,null,null,"SCRATCH PAD - this section is for any side calculation"]
[null,"Rental Revenue Gross Potential",5100,{"$f":"'02_1_INCOME'!M38","v":0},{"$f":"IF('02_1_INCOME'!$F$38=0,0,D12/'02_1_INCOME'!$F$38)","v":0},null,{"$f":"IF('02_1_INCOME'!$F$38=0,0,F12/'02_1_INCOME'!$F$38)","v":0},{"$f":"IFERROR(AVERAGEIFS($L12:$AJ12,$L$6:$AJ$6,\"Comparable\",$L12:$AJ12, \">0\"),0)","v":0},{"$f":"IF(AND(H12<>0, E12<>0),(H12-E12)/E12,0)","v":0},{"$f":"IFERROR(AVERAGEIFS($L12:$AJ12,$L$6:$AJ$6,\"Historical\", $L12:$AJ12,\">0\"),0)","v":0},{"$f":"IF(AND(J12<>0, $E12<>0),(J12-$E12)/$E12,0)","v":0},null,{"$f":"IF(rng02_Projections_Unit_1<>0, (L12*(1+rng01_RentalIncomeRate)^(rng01_FirstYearProforma-rng02_Projections_Year_1))/rng02_Projections_Unit_1,0)","v":0},null,{"$f":"IF(rng02_Projections_Unit_2<>0, (N12*(1+rng01_RentalIncomeRate)^(rng01_FirstYearProforma-rng02_Projections_Year_2))/rng02_Projections_Unit_2,0)","v":0},0,{"$f":"IF(rng02_Projections_Unit_3<>0, (P12*(1+rng01_RentalIncomeRate)^(rng01_FirstYearProforma-rng02_Projections_Year_3))/rng02_Projections_Unit_3,0)","v":0},0,{"$f":"IF(rng02_Projections_Unit_4<>0, (R12*(1+rng01_RentalIncomeRate)^(rng01_FirstYearProforma-rng02_Projections_Year_4))/rng02_Projections_Unit_4,0)","v":0},0,{"$f":"IF(rng02_Projections_Unit_5<>0, (T12*(1+rng01_RentalIncomeRate)^(rng01_FirstYearProforma-rng02_Projections_Year_5))/rng02_Projections_Unit_5,0)","v":0},0,{"$f":"IF(rng02_Projections_Unit_6<>0, (V12*(1+rng01_RentalIncomeRate)^(rng01_FirstYearProforma-rng02_Projections_Year_6))/rng02_Projections_Unit_6,0)","v":0},0,{"$f":"IF(rng02_Projections_Unit_7<>0, (X12*(1+rng01_RentalIncomeRate)^(rng01_FirstYearProforma-rng02_Projections_Year_7))/rng02_Projections_Unit_7,0)","v":0},0,{"$f":"IF(rng02_Projections_Unit_8<>0, (Z12*(1+rng01_RentalIncomeRate)^(rng01_FirstYearProforma-rng02_Projections_Year_8))/rng02_Projections_Unit_8,0)","v":0},0,{"$f":"IF(rng02_Projections_Unit_9<>0, (AB12*(1+rng01_RentalIncomeRate)^(rng01_FirstYearProforma-rng02_Projections_Year_9))/rng02_Projections_Unit_9,0)","v":0},0,{"$f":"IF(rng02_Projections_Unit_10<>0, (AD12*(1+rng01_RentalIncomeRate)^(rng01_FirstYearProforma-rng02_Projections_Year_10))/rng02_Projections_Unit_10,0)","v":0},0,{"$f":"IF(rng02_Projections_Unit_10<>0, (AF12*(1+rng01_RentalIncomeRate)^(rng01_FirstYearProforma-rng02_Projections_Year_10))/rng02_Projections_Unit_10,0)","v":0},0,{"$f":"IF(rng02_Projections_Unit_10<>0, (AH12*(1+rng01_RentalIncomeRate)^(rng01_FirstYearProforma-rng02_Projections_Year_10))/rng02_Projections_Unit_10,0)","v":0}]
[null,"Stores & Commercial Revenue",5140,{"$f":"'02_1_INCOME'!H60","v":0},{"$f":"IF('02_1_INCOME'!$F$38=0,0,D13/'02_1_INCOME'!$F$38)","v":0},null,{"$f":"IF('02_1_INCOME'!$F$38=0,0,F13/'02_1_INCOME'!$F$38)","v":0},{"$f":"IFERROR(AVERAGEIFS($L13:$AJ13,$L$6:$AJ$6,\"Comparable\",$L13:$AJ13, \">0\"),0)","v":0},{"$f":"IF(AND(H13<>0, E13<>0),(H13-E13)/E13,0)","v":0},0,0,null,0,null,0,0,0,0,0,0,0,0,0,0,0,0,0,0,0,0,0,0,0,0,0]
[null,"Vacancies (enter as negative)",5200,{"$f":"-(('02_1_INCOME'!M38-'02_1_INCOME'!M41)+'02_1_INCOME'!H60*'02_1_INCOME'!H61+'02_1_INCOME'!H81*'02_1_INCOME'!H82)","v":0},{"$f":"IF('02_1_INCOME'!$F$38=0,0,D14/'02_1_INCOME'!$F$38)","v":0},null,{"$f":"IF('02_1_INCOME'!$F$38=0,0,F14/'02_1_INCOME'!$F$38)","v":0},{"$f":"IFERROR(AVERAGEIFS($L14:$AJ14,$L$6:$AJ$6,\"Comparable\",$L14:$AJ14, \">0\"),0)","v":0},{"$f":"IF(AND(H14<>0, E14<>0),(H14-E14)/E14,0)","v":0},0,0,null,0,null,0,0,0,0,0,0,0,0,0,0,0,0,0,0,0,0,0,0,0,0,0]
[null,"Total NH/Asst Living/Elderly Care",5300,{"$f":"'03_4_NH-Assisted Living Data'!C18","v":0},{"$f":"IF('02_1_INCOME'!$F$38=0,0,D15/'02_1_INCOME'!$F$38)","v":0},null,{"$f":"IF('02_1_INCOME'!$F$38=0,0,F15/'02_1_INCOME'!$F$38)","v":0},{"$f":"IFERROR(AVERAGEIFS($L15:$AJ15,$L$6:$AJ$6,\"Comparable\",$L15:$AJ15, \">0\"),0)","v":0},{"$f":"IF(AND(H15<>0, E15<>0),(H15-E15)/E15,0)","v":0},0,0,null,0,null,0,0,0,0,0,0,0,0,0,0,0,0,0,0,0,0,0,0,0,0,0]
[null,"Other Rev","5900T",{"$f":"'02_1_INCOME'!H81","v":0},{"$f":"IF('02_1_INCOME'!$F$38=0,0,D16/'02_1_INCOME'!$F$38)","v":0},null,{"$f":"IF('02_1_INCOME'!$F$38=0,0,F16/'02_1_INCOME'!$F$38)","v":0},{"$f":"IFERROR(AVERAGEIFS($L16:$AJ16,$L$6:$AJ$6,\"Comparable\",$L16:$AJ16, \">0\"),0)","v":0},{"$f":"IF(AND(H16<>0, E16<>0),(H16-E16)/E16,0)","v":0},0,0,null,0,null,0,0,0,0,0,0,0,0,0,0,0,0,0,0,0,0,0,0,0,0,0]
[null,"EFFECTIVE GROSS INCOME",null,{"$f":"SUM(D12:D16)","v":0},{"$f":"IF('02_1_INCOME'!$F$38=0,0,D17/'02_1_INCOME'!$F$38)","v":0},{"$f":"SUM(F12:F16)","v":0},{"$f":"IF('02_1_INCOME'!$F$38=0,0,F17/'02_1_INCOME'!$F$38)","v":0},null,null,0,0,{"$f":"SUM(L12:L16)","v":0},0,{"$f":"SUM(N12:N16)","v":0},0,{"$f":"SUM(P12:P16)","v":0},0,{"$f":"SUM(R12:R16)","v":0},0,{"$f":"SUM(T12:T16)","v":0},0,{"$f":"SUM(V12:V16)","v":0},0,{"$f":"SUM(X12:X16)","v":0},0,{"$f":"SUM(Z12:Z16)","v":0},0,{"$f":"SUM(AB12:AB16)","v":0},0,{"$f":"SUM(AD12:AD16)","v":0},0,{"$f":"SUM(AF12:AF16)","v":0},0,{"$f":"SUM(AH12:AH16)","v":0},0]
[null,"OPERATING EXPENSES:"]
[null,"Administrative Expenses "]
[null,"Conventions & Meetings",6203,null,{"$f":"IF('02_1_INCOME'!$F$38=0,0,D20/'02_1_INCOME'!$F$38)","v":0},null,{"$f":"IF('02_1_INCOME'!$F$38=0,0,F20/'02_1_INCOME'!$F$38)","v":0},{"$f":"IFERROR(AVERAGEIFS($L20:$AJ20,$L$6:$AJ$6,\"Comparable\",$L20:$AJ20, \">0\"),0)","v":0},{"$f":"IF(AND(H20<>0, E20<>0),(H20-E20)/E20,0)","v":0},{"$f":"IFERROR(AVERAGEIFS($L20:$AJ20,$L$6:$AJ$6,\"Historical\", $L20:$AJ20,\">0\"),0)","v":0},{"$f":"IF(AND(J20<>0, $E20<>0),(J20-$E20)/$E20,0)","v":0},null,{"$f":"IF(rng02_Projections_Unit_1<>0, (L20*(1+rng01_OpExRate)^(rng01_FirstYearProforma-rng02_Projections_Year_1))/rng02_Projections_Unit_1,0)","v":0},null,{"$f":"IF(rng02_Projections_Unit_2<>0, (N20*(1+rng01_OpExRate)^(rng01_FirstYearProforma-rng02_Projections_Year_2))/rng02_Projections_Unit_2,0)","v":0},null,{"$f":"IF(rng02_Projections_Unit_3<>0, (P20*(1+rng01_OpExRate)^(rng01_FirstYearProforma-rng02_Projections_Year_3))/rng02_Projections_Unit_3,0)","v":0},null,{"$f":"IF(rng02_Projections_Unit_4<>0, (R20*(1+rng01_OpExRate)^(rng01_FirstYearProforma-rng02_Projections_Year_4))/rng02_Projections_Unit_4,0)","v":0},null,{"$f":"IF(rng02_Projections_Unit_5<>0, (T20*(1+rng01_OpExRate)^(rng01_FirstYearProforma-rng02_Projections_Year_5))/rng02_Projections_Unit_5,0)","v":0},null,{"$f":"IF(rng02_Projections_Unit_6<>0, (V20*(1+rng01_OpExRate)^(rng01_FirstYearProforma-rng02_Projections_Year_6))/rng02_Projections_Unit_6,0)","v":0},null,{"$f":"IF(rng02_Projections_Unit_7<>0, (X20*(1+rng01_OpExRate)^(rng01_FirstYearProforma-rng02_Projections_Year_7))/rng02_Projections_Unit_7,0)","v":0},null,{"$f":"IF(rng02_Projections_Unit_8<>0, (Z20*(1+rng01_OpExRate)^(rng01_FirstYearProforma-rng02_Projections_Year_8))/rng02_Projections_Unit_8,0)","v":0},null,{"$f":"IF(rng02_Projections_Unit_9<>0, (AB20*(1+rng01_OpExRate)^(rng01_FirstYearProforma-rng02_Projections_Year_9))/rng02_Projections_Unit_9,0)","v":0},null,{"$f":"IF(rng02_Projections_Unit_10<>0, (AD20*(1+rng01_OpExRate)^(rng01_FirstYearProforma-rng02_Projections_Year_10))/rng02_Projections_Unit_10,0)","v":0},null,{"$f":"IF(rng02_Projections_Unit_10<>0, (AF20*(1+rng01_OpExRate)^(rng01_FirstYearProforma-rng02_Projections_Year_10))/rng02_Projections_Unit_10,0)","v":0},null,{"$f":"IF(rng02_Projections_Unit_10<>0, (AH20*(1+rng01_OpExRate)^(rng01_FirstYearProforma-rng02_Projections_Year_10))/rng02_Projections_Unit_10,0)","v":0}]
[null,"Consulting Fees",6204,null,{"$f":"IF('02_1_INCOME'!$F$38=0,0,D21/'02_1_INCOME'!$F$38)","v":0},null,{"$f":"IF('02_1_INCOME'!$F$38=0,0,F21/'02_1_INCOME'!$F$38)","v":0},0,0,0,0,null,0,null,0,null,0,null,0,null,0,null,0,null,0,null,0,null,0,null,0,null,0,null,0]
[null,"Advertising",6210,null,{"$f":"IF('02_1_INCOME'!$F$38=0,0,D22/'02_1_INCOME'!$F$38)","v":0},null,{"$f":"IF('02_1_INCOME'!$F$38=0,0,F22/'02_1_INCOME'!$F$38)","v":0},0,0,0,0,null,0,null,0,null,0,null,0,null,0,null,0,null,0,null,0,null,0,null,0,null,0,null,0]
[null,"Rent Expense",6250,null,{"$f":"IF('02_1_INCOME'!$F$38=0,0,D23/'02_1_INCOME'!$F$38)","v":0},null,{"$f":"IF('02_1_INCOME'!$F$38=0,0,F23/'02_1_INCOME'!$F$38)","v":0},0,0,0,0,null,0,null,0,null,0,null,0,null,0,null,0,null,0,null,0,null,0,null,0,null,0,null,0]
[null,"Office Salaries",6310,null,{"$f":"IF('02_1_INCOME'!$F$38=0,0,D24/'02_1_INCOME'!$F$38)","v":0},null,{"$f":"IF('02_1_INCOME'!$F$38=0,0,F24/'02_1_INCOME'!$F$38)","v":0},0,0,0,0,null,0,null,0,null,0,null,0,null,0,null,0,null,0,null,0,null,0,null,0,null,0,null,0]
[null,"Office Expense",6311,null,{"$f":"IF('02_1_INCOME'!$F$38=0,0,D25/'02_1_INCOME'!$F$38)","v":0},null,{"$f":"IF('02_1_INCOME'!$F$38=0,0,F25/'02_1_INCOME'!$F$38)","v":0},0,0,0,0,null,0,null,0,null,0,null,0,null,0,null,0,null,0,null,0,null,0,null,0,null,0,null,0]
[null,"Office or Model Apartment Rent",6312,null,{"$f":"IF('02_1_INCOME'!$F$38=0,0,D26/'02_1_INCOME'!$F$38)","v":0},null,{"$f":"IF('02_1_INCOME'!$F$38=0,0,F26/'02_1_INCOME'!$F$38)","v":0},0,0,0,0,null,0,null,0,null,0,null,0,null,0,null,0,null,0,null,0,null,0,null,0,null,0,null,0]
[null,"Postage",6312,null,{"$f":"IF('02_1_INCOME'!$F$38=0,0,D27/'02_1_INCOME'!$F$38)","v":0},null,{"$f":"IF('02_1_INCOME'!$F$38=0,0,F27/'02_1_INCOME'!$F$38)","v":0},0,{"$f":"IF(AND(H27<>0, E27<>0),(H27-E27)/E27,0)","v":0},0,{"$f":"IF(AND(J27<>0, $E27<>0),(J27-$E27)/$E27,0)","v":0},null,{"$f":"IF(rng02_Projections_Unit_1<>0, (L27*(1+rng01_OpExRate)^(rng01_FirstYearProforma-rng02_Projections_Year_1))/rng02_Projections_Unit_1,0)","v":0},null,{"$f":"IF(rng02_Projections_Unit_2<>0, (N27*(1+rng01_OpExRate)^(rng01_FirstYearProforma-rng02_Projections_Year_2))/rng02_Projections_Unit_2,0)","v":0},null,{"$f":"IF(rng02_Projections_Unit_3<>0, (P27*(1+rng01_OpExRate)^(rng01_FirstYearProforma-rng02_Projections_Year_3))/rng02_Projections_Unit_3,0)","v":0},null,{"$f":"IF(rng02_Projections_Unit_4<>0, (R27*(1+rng01_OpExRate)^(rng01_FirstYearProforma-rng02_Projections_Year_4))/rng02_Projections_Unit_4,0)","v":0},null,{"$f":"IF(rng02_Projections_Unit_5<>0, (T27*(1+rng01_OpExRate)^(rng01_FirstYearProforma-rng02_Projections_Year_5))/rng02_Projections_Unit_5,0)","v":0},null,{"$f":"IF(rng02_Projections_Unit_6<>0, (V27*(1+rng01_OpExRate)^(rng01_FirstYearProforma-rng02_Projections_Year_6))/rng02_Projections_Unit_6,0)","v":0},null,{"$f":"IF(rng02_Projections_Unit_7<>0, (X27*(1+rng01_OpExRate)^(rng01_FirstYearProforma-rng02_Projections_Year_7))/rng02_Projections_Unit_7,0)","v":0},null,0,null,0,null,0,null,0,null,0]
[null,{"$f":"_xlfn.CONCAT(\"Management Fee: \",TEXT(rng01_ManagementFee,\"0.00%\"), \" of EGI\")","v":"Management Fee: 0.00% of EGI"},6320,{"$f":"D17*rng01_ManagementFee","v":0},{"$f":"IF('02_1_INCOME'!$F$38=0,0,D28/'02_1_INCOME'!$F$38)","v":0},null,{"$f":"IF('02_1_INCOME'!$F$38=0,0,F28/'02_1_INCOME'!$F$38)","v":0},0,0,0,0,null,0,null,0,null,0,null,0,null,0,null,0,null,0,null,0,null,0,null,0,null,0,null,0]
[null,"Managers Salary",6330,null,{"$f":"IF('02_1_INCOME'!$F$38=0,0,D29/'02_1_INCOME'!$F$38)","v":0},null,{"$f":"IF('02_1_INCOME'!$F$38=0,0,F29/'02_1_INCOME'!$F$38)","v":0},0,0,0,0,null,0,null,0,null,0,null,0,null,0,null,0,null,0,null,0,null,0,null,0,null,0,null,0]
[null,"Admin Rent Free Unit",6331,null,{"$f":"IF('02_1_INCOME'!$F$38=0,0,D30/'02_1_INCOME'!$F$38)","v":0},null,{"$f":"IF('02_1_INCOME'!$F$38=0,0,F30/'02_1_INCOME'!$F$38)","v":0},0,0,0,0,null,0,null,0,null,0,null,0,null,0,null,0,null,0,null,0,null,0,null,0,null,0,null,0]
[null,"Legal Expense",6340,null,{"$f":"IF('02_1_INCOME'!$F$38=0,0,D31/'02_1_INCOME'!$F$38)","v":0},null,{"$f":"IF('02_1_INCOME'!$F$38=0,0,F31/'02_1_INCOME'!$F$38)","v":0},0,0,0,0,null,0,null,0,null,0,null,0,null,0,null,0,null,0,null,0,null,0,null,0,null,0,null,0]
[null,"Auditing Expense",6350,null,{"$f":"IF('02_1_INCOME'!$F$38=0,0,D32/'02_1_INCOME'!$F$38)","v":0},null,{"$f":"IF('02_1_INCOME'!$F$38=0,0,F32/'02_1_INCOME'!$F$38)","v":0},0,0,0,0,null,0,null,0,null,0,null,0,null,0,null,0,null,0,null,0,null,0,null,0,null,0,null,0]
[null,"Bookkeeping- Acctg fees",6351,null,{"$f":"IF('02_1_INCOME'!$F$38=0,0,D33/'02_1_INCOME'!$F$38)","v":0},null,{"$f":"IF('02_1_INCOME'!$F$38=0,0,F33/'02_1_INCOME'!$F$38)","v":0},0,0,0,0,null,0,null,0,null,0,null,0,null,0,null,0,null,0,null,0,null,0,null,0,null,0,null,0]
[null,"Telephone & Answering Svc",6360,null,{"$f":"IF('02_1_INCOME'!$F$38=0,0,D34/'02_1_INCOME'!$F$38)","v":0},null,{"$f":"IF('02_1_INCOME'!$F$38=0,0,F34/'02_1_INCOME'!$F$38)","v":0},0,0,0,0,null,0,null,0,null,0,null,0,null,0,null,0,null,0,null,0,null,0,null,0,null,0,null,0]
[null,"Tax Credit Monitoring",null,null,{"$f":"IF('02_1_INCOME'!$F$38=0,0,D35/'02_1_INCOME'!$F$38)","v":0},null,{"$f":"IF('02_1_INCOME'!$F$38=0,0,F35/'02_1_INCOME'!$F$38)","v":0},0,0,0,0,null,0,null,0,null,0,null,0,null,0,null,0,null,0,null,0,null,0,null,0,null,0,null,0]
[null,"Office Equipment Lease",6361,null,{"$f":"IF('02_1_INCOME'!$F$38=0,0,D36/'02_1_INCOME'!$F$38)","v":0},null,{"$f":"IF('02_1_INCOME'!$F$38=0,0,F36/'02_1_INCOME'!$F$38)","v":0},0,{"$f":"IF(AND(H36<>0, E36<>0),(H36-E36)/E36,0)","v":0},0,{"$f":"IF(AND(J36<>0, $E36<>0),(J36-$E36)/$E36,0)","v":0},null,{"$f":"IF(rng02_Projections_Unit_1<>0, (L36*(1+rng01_OpExRate)^(rng01_FirstYearProforma-rng02_Projections_Year_1))/rng02_Projections_Unit_1,0)","v":0},null,{"$f":"IF(rng02_Projections_Unit_2<>0, (N36*(1+rng01_OpExRate)^(rng01_FirstYearProforma-rng02_Projections_Year_2))/rng02_Projections_Unit_2,0)","v":0},null,{"$f":"IF(rng02_Projections_Unit_3<>0, (P36*(1+rng01_OpExRate)^(rng01_FirstYearProforma-rng02_Projections_Year_3))/rng02_Projections_Unit_3,0)","v":0},null,{"$f":"IF(rng02_Projections_Unit_4<>0, (R36*(1+rng01_OpExRate)^(rng01_FirstYearProforma-rng02_Projections_Year_4))/rng02_Projections_Unit_4,0)","v":0},null,{"$f":"IF(rng02_Projections_Unit_5<>0, (T36*(1+rng01_OpExRate)^(rng01_FirstYearProforma-rng02_Projections_Year_5))/rng02_Projections_Unit_5,0)","v":0},null,{"$f":"IF(rng02_Projections_Unit_6<>0, (V36*(1+rng01_OpExRate)^(rng01_FirstYearProforma-rng02_Projections_Year_6))/rng02_Projections_Unit_6,0)","v":0},null,{"$f":"IF(rng02_Projections_Unit_7<>0, (X36*(1+rng01_OpExRate)^(rng01_FirstYearProforma-rng02_Projections_Year_7))/rng02_Projections_Unit_7,0)","v":0},null,0,null,0,null,0,null,0,null,0]
[null,"Bad Debts",6370,null,{"$f":"IF('02_1_INCOME'!$F$38=0,0,D37/'02_1_INCOME'!$F$38)","v":0},null,{"$f":"IF('02_1_INCOME'!$F$38=0,0,F37/'02_1_INCOME'!$F$38)","v":0},0,{"$f":"IF(AND(H37<>0, E37<>0),(H37-E37)/E37,0)","v":0},0,{"$f":"IF(AND(J37<>0, $E37<>0),(J37-$E37)/$E37,0)","v":0},null,{"$f":"IF(rng02_Projections_Unit_1<>0, (L37*(1+rng01_OpExRate)^(rng01_FirstYearProforma-rng02_Projections_Year_1))/rng02_Projections_Unit_1,0)","v":0},null,{"$f":"IF(rng02_Projections_Unit_2<>0, (N37*(1+rng01_OpExRate)^(rng01_FirstYearProforma-rng02_Projections_Year_2))/rng02_Projections_Unit_2,0)","v":0},null,{"$f":"IF(rng02_Projections_Unit_3<>0, (P37*(1+rng01_OpExRate)^(rng01_FirstYearProforma-rng02_Projections_Year_3))/rng02_Projections_Unit_3,0)","v":0},null,{"$f":"IF(rng02_Projections_Unit_4<>0, (R37*(1+rng01_OpExRate)^(rng01_FirstYearProforma-rng02_Projections_Year_4))/rng02_Projections_Unit_4,0)","v":0},null,{"$f":"IF(rng02_Projections_Unit_5<>0, (T37*(1+rng01_OpExRate)^(rng01_FirstYearProforma-rng02_Projections_Year_5))/rng02_Projections_Unit_5,0)","v":0},null,{"$f":"IF(rng02_Projections_Unit_6<>0, (V37*(1+rng01_OpExRate)^(rng01_FirstYearProforma-rng02_Projections_Year_6))/rng02_Projections_Unit_6,0)","v":0},null,{"$f":"IF(rng02_Projections_Unit_7<>0, (X37*(1+rng01_OpExRate)^(rng01_FirstYearProforma-rng02_Projections_Year_7))/rng02_Projections_Unit_7,0)","v":0},null,0,null,0,null,0,null,0,null,0]
[null,"Miscellaneous Administrative Expenses ",6390,null,{"$f":"IF('02_1_INCOME'!$F$38=0,0,D38/'02_1_INCOME'!$F$38)","v":0},null,{"$f":"IF('02_1_INCOME'!$F$38=0,0,F38/'02_1_INCOME'!$F$38)","v":0},0,0,0,0,null,0,null,0,null,0,null,0,null,0,null,0,null,0,null,0,null,0,null,0,null,0,null,0]
[null,"Total Administrative Expenses:",null,{"$f":"SUM(D20:D38)","v":0},{"$f":"IF('02_1_INCOME'!$F$38=0,0,D39/'02_1_INCOME'!$F$38)","v":0},{"$f":"SUM(F20:F38)","v":0},{"$f":"IF('02_1_INCOME'!$F$38=0,0,F39/'02_1_INCOME'!$F$38)","v":0},0,0,0,0,{"$f":"SUM(L20:L38)","v":0},0,{"$f":"SUM(N20:N38)","v":0},0,{"$f":"SUM(P20:P38)","v":0},0,{"$f":"SUM(R20:R38)","v":0},0,{"$f":"SUM(T20:T38)","v":0},0,{"$f":"SUM(V20:V38)","v":0},0,{"$f":"SUM(X20:X38)","v":0},0,{"$f":"SUM(Z20:Z38)","v":0},0,{"$f":"SUM(AB20:AB38)","v":0},0,{"$f":"SUM(AD20:AD38)","v":0},0,{"$f":"SUM(AF20:AF38)","v":0},0,{"$f":"SUM(AH20:AH38)","v":0},0]
[null,"Utilities Expense "]
[null,"Fuel Oil/Coal ",6420,null,{"$f":"IF('02_1_INCOME'!$F$38=0,0,D41/'02_1_INCOME'!$F$38)","v":0},null,{"$f":"IF('02_1_INCOME'!$F$38=0,0,F41/'02_1_INCOME'!$F$38)","v":0},{"$f":"IFERROR(AVERAGEIFS($L41:$AJ41,$L$6:$AJ$6,\"Comparable\",$L41:$AJ41, \">0\"),0)","v":0},{"$f":"IF(AND(H41<>0, E41<>0),(H41-E41)/E41,0)","v":0},{"$f":"IFERROR(AVERAGEIFS($L41:$AJ41,$L$6:$AJ$6,\"Historical\", $L41:$AJ41,\">0\"),0)","v":0},{"$f":"IF(AND(J41<>0, $E41<>0),(J41-$E41)/$E41,0)","v":0},null,{"$f":"IF(rng02_Projections_Unit_1<>0, (L41*(1+rng01_OpExRate)^(rng01_FirstYearProforma-rng02_Projections_Year_1))/rng02_Projections_Unit_1,0)","v":0},null,{"$f":"IF(rng02_Projections_Unit_2<>0, (N41*(1+rng01_OpExRate)^(rng01_FirstYearProforma-rng02_Projections_Year_2))/rng02_Projections_Unit_2,0)","v":0},null,{"$f":"IF(rng02_Projections_Unit_3<>0, (P41*(1+rng01_OpExRate)^(rng01_FirstYearProforma-rng02_Projections_Year_3))/rng02_Projections_Unit_3,0)","v":0},null,{"$f":"IF(rng02_Projections_Unit_4<>0, (R41*(1+rng01_OpExRate)^(rng01_FirstYearProforma-rng02_Projections_Year_4))/rng02_Projections_Unit_4,0)","v":0},null,{"$f":"IF(rng02_Projections_Unit_5<>0, (T41*(1+rng01_OpExRate)^(rng01_FirstYearProforma-rng02_Projections_Year_5))/rng02_Projections_Unit_5,0)","v":0},null,{"$f":"IF(rng02_Projections_Unit_6<>0, (V41*(1+rng01_OpExRate)^(rng01_FirstYearProforma-rng02_Projections_Year_6))/rng02_Projections_Unit_6,0)","v":0},null,{"$f":"IF(rng02_Projections_Unit_7<>0, (X41*(1+rng01_OpExRate)^(rng01_FirstYearProforma-rng02_Projections_Year_7))/rng02_Projections_Unit_7,0)","v":0},null,{"$f":"IF(rng02_Projections_Unit_8<>0, (Z41*(1+rng01_OpExRate)^(rng01_FirstYearProforma-rng02_Projections_Year_8))/rng02_Projections_Unit_8,0)","v":0},null,{"$f":"IF(rng02_Projections_Unit_9<>0, (AB41*(1+rng01_OpExRate)^(rng01_FirstYearProforma-rng02_Projections_Year_9))/rng02_Projections_Unit_9,0)","v":0},null,{"$f":"IF(rng02_Projections_Unit_10<>0, (AD41*(1+rng01_OpExRate)^(rng01_FirstYearProforma-rng02_Projections_Year_10))/rng02_Projections_Unit_10,0)","v":0},null,{"$f":"IF(rng02_Projections_Unit_10<>0, (AF41*(1+rng01_OpExRate)^(rng01_FirstYearProforma-rng02_Projections_Year_10))/rng02_Projections_Unit_10,0)","v":0},null,{"$f":"IF(rng02_Projections_Unit_10<>0, (AH41*(1+rng01_OpExRate)^(rng01_FirstYearProforma-rng02_Projections_Year_10))/rng02_Projections_Unit_10,0)","v":0}]
[null,"Electricity ",6450,null,{"$f":"IF('02_1_INCOME'!$F$38=0,0,D42/'02_1_INCOME'!$F$38)","v":0},null,{"$f":"IF('02_1_INCOME'!$F$38=0,0,F42/'02_1_INCOME'!$F$38)","v":0},0,0,0,0,null,0,null,0,null,0,null,0,null,0,null,0,null,0,null,0,null,0,null,0,null,0,null,0]
[null,"Water ",6451,null,{"$f":"IF('02_1_INCOME'!$F$38=0,0,D43/'02_1_INCOME'!$F$38)","v":0},null,{"$f":"IF('02_1_INCOME'!$F$38=0,0,F43/'02_1_INCOME'!$F$38)","v":0},0,0,0,0,null,0,null,0,null,0,null,0,null,0,null,0,null,0,null,0,null,0,null,0,null,0,null,0]
[null,"Gas ",6452,null,{"$f":"IF('02_1_INCOME'!$F$38=0,0,D44/'02_1_INCOME'!$F$38)","v":0},null,{"$f":"IF('02_1_INCOME'!$F$38=0,0,F44/'02_1_INCOME'!$F$38)","v":0},0,0,0,0,null,0,null,0,null,0,null,0,null,0,null,0,null,0,null,0,null,0,null,0,null,0,null,0]
[null,"Sewer ",6453,null,{"$f":"IF('02_1_INCOME'!$F$38=0,0,D45/'02_1_INCOME'!$F$38)","v":0},null,{"$f":"IF('02_1_INCOME'!$F$38=0,0,F45/'02_1_INCOME'!$F$38)","v":0},0,0,0,0,null,0,null,0,null,0,null,0,null,0,null,0,null,{"$f":"IF(rng02_Projections_Unit_7<>0, (X45*(1+rng01_OpExRate)^(rng01_FirstYearProforma-rng02_Projections_Year_7))/rng02_Projections_Unit_7,0)","v":0},null,0,null,0,null,0,null,0,null,0]
[null,"Cable TV / Internet",6454,null,{"$f":"IF('02_1_INCOME'!F39=0,0,D46/'02_1_INCOME'!F39)","v":0},null,{"$f":"IF('02_1_INCOME'!$F$38=0,0,F46/'02_1_INCOME'!$F$38)","v":0},0,0,0,{"$f":"IF(AND(J46<>0, $E46<>0),(J46-$E46)/$E46,0)","v":0},null,{"$f":"IF(rng02_Projections_Unit_1<>0, (L46*(1+rng01_OpExRate)^(rng01_FirstYearProforma-rng02_Projections_Year_1))/rng02_Projections_Unit_1,0)","v":0},null,{"$f":"IF(rng02_Projections_Unit_2<>0, (N46*(1+rng01_OpExRate)^(rng01_FirstYearProforma-rng02_Projections_Year_2))/rng02_Projections_Unit_2,0)","v":0},null,{"$f":"IF(rng02_Projections_Unit_3<>0, (P46*(1+rng01_OpExRate)^(rng01_FirstYearProforma-rng02_Projections_Year_3))/rng02_Projections_Unit_3,0)","v":0},null,{"$f":"IF(rng02_Projections_Unit_4<>0, (R46*(1+rng01_OpExRate)^(rng01_FirstYearProforma-rng02_Projections_Year_4))/rng02_Projections_Unit_4,0)","v":0},null,{"$f":"IF(rng02_Projections_Unit_5<>0, (T46*(1+rng01_OpExRate)^(rng01_FirstYearProforma-rng02_Projections_Year_5))/rng02_Projections_Unit_5,0)","v":0},null,{"$f":"IF(rng02_Projections_Unit_6<>0, (V46*(1+rng01_OpExRate)^(rng01_FirstYearProforma-rng02_Projections_Year_6))/rng02_Projections_Unit_6,0)","v":0},null,{"$f":"IF(rng02_Projections_Unit_7<>0, (X46*(1+rng01_OpExRate)^(rng01_FirstYearProforma-rng02_Projections_Year_7))/rng02_Projections_Unit_7,0)","v":0},null,0,null,0,null,0,null,0,null,0]
[null,"Total Utilities Expenses:",null,{"$f":"SUM(D41:D46)","v":0},{"$f":"IF('02_1_INCOME'!$F$38=0,0,D47/'02_1_INCOME'!$F$38)","v":0},{"$f":"SUM(F41:F46)","v":0},{"$f":"IF('02_1_INCOME'!$F$38=0,0,F47/'02_1_INCOME'!$F$38)","v":0},0,0,0,0,{"$f":"SUM(L41:L46)","v":0},0,{"$f":"SUM(N41:N46)","v":0},0,{"$f":"SUM(P41:P46)","v":0},0,{"$f":"SUM(R41:R46)","v":0},0,{"$f":"SUM(T41:T46)","v":0},0,{"$f":"SUM(V41:V46)","v":0},0,{"$f":"SUM(X41:X46)","v":0},0,{"$f":"SUM(Z41:Z46)","v":0},0,{"$f":"SUM(AB41:AB46)","v":0},0,{"$f":"SUM(AD41:AD46)","v":0},0,{"$f":"SUM(AF41:AF46)","v":0},0,{"$f":"SUM(AH41:AH46)","v":0},0]
[null,"Operations & Maintenance Expenses "]
[null,"Payroll",6510,null,{"$f":"IF('02_1_INCOME'!$F$38=0,0,D49/'02_1_INCOME'!$F$38)","v":0},null,{"$f":"IF('02_1_INCOME'!$F$38=0,0,F49/'02_1_INCOME'!$F$38)","v":0},{"$f":"IFERROR(AVERAGEIFS($L49:$AJ49,$L$6:$AJ$6,\"Comparable\",$L49:$AJ49, \">0\"),0)","v":0},{"$f":"IF(AND(H49<>0, E49<>0),(H49-E49)/E49,0)","v":0},{"$f":"IFERROR(AVERAGEIFS($L49:$AJ49,$L$6:$AJ$6,\"Historical\", $L49:$AJ49,\">0\"),0)","v":0},{"$f":"IF(AND(J49<>0, $E49<>0),(J49-$E49)/$E49,0)","v":0},null,{"$f":"IF(rng02_Projections_Unit_1<>0, (L49*(1+rng01_OpExRate)^(rng01_FirstYearProforma-rng02_Projections_Year_1))/rng02_Projections_Unit_1,0)","v":0},null,{"$f":"IF(rng02_Projections_Unit_2<>0, (N49*(1+rng01_OpExRate)^(rng01_FirstYearProforma-rng02_Projections_Year_2))/rng02_Projections_Unit_2,0)","v":0},null,{"$f":"IF(rng02_Projections_Unit_3<>0, (P49*(1+rng01_OpExRate)^(rng01_FirstYearProforma-rng02_Projections_Year_3))/rng02_Projections_Unit_3,0)","v":0},null,{"$f":"IF(rng02_Projections_Unit_4<>0, (R49*(1+rng01_OpExRate)^(rng01_FirstYearProforma-rng02_Projections_Year_4))/rng02_Projections_Unit_4,0)","v":0},null,{"$f":"IF(rng02_Projections_Unit_5<>0, (T49*(1+rng01_OpExRate)^(rng01_FirstYearProforma-rng02_Projections_Year_5))/rng02_Projections_Unit_5,0)","v":0},null,{"$f":"IF(rng02_Projections_Unit_6<>0, (V49*(1+rng01_OpExRate)^(rng01_FirstYearProforma-rng02_Projections_Year_6))/rng02_Projections_Unit_6,0)","v":0},null,{"$f":"IF(rng02_Projections_Unit_7<>0, (X49*(1+rng01_OpExRate)^(rng01_FirstYearProforma-rng02_Projections_Year_7))/rng02_Projections_Unit_7,0)","v":0},null,{"$f":"IF(rng02_Projections_Unit_8<>0, (Z49*(1+rng01_OpExRate)^(rng01_FirstYearProforma-rng02_Projections_Year_8))/rng02_Projections_Unit_8,0)","v":0},null,{"$f":"IF(rng02_Projections_Unit_9<>0, (AB49*(1+rng01_OpExRate)^(rng01_FirstYearProforma-rng02_Projections_Year_9))/rng02_Projections_Unit_9,0)","v":0},null,{"$f":"IF(rng02_Projections_Unit_10<>0, (AD49*(1+rng01_OpExRate)^(rng01_FirstYearProforma-rng02_Projections_Year_10))/rng02_Projections_Unit_10,0)","v":0},null,{"$f":"IF(rng02_Projections_Unit_10<>0, (AF49*(1+rng01_OpExRate)^(rng01_FirstYearProforma-rng02_Projections_Year_10))/rng02_Projections_Unit_10,0)","v":0},null,{"$f":"IF(rng02_Projections_Unit_10<>0, (AH49*(1+rng01_OpExRate)^(rng01_FirstYearProforma-rng02_Projections_Year_10))/rng02_Projections_Unit_10,0)","v":0}]
[null,"Supplies",6515,null,{"$f":"IF('02_1_INCOME'!$F$38=0,0,D50/'02_1_INCOME'!$F$38)","v":0},null,{"$f":"IF('02_1_INCOME'!$F$38=0,0,F50/'02_1_INCOME'!$F$38)","v":0},0,0,0,0,null,0,null,0,null,0,null,0,null,0,null,0,null,0,null,0,null,0,null,0,null,0,null,0]
[null,"Contracts",6517,null,{"$f":"IF('02_1_INCOME'!$F$38=0,0,D51/'02_1_INCOME'!$F$38)","v":0},null,{"$f":"IF('02_1_INCOME'!$F$38=0,0,F51/'02_1_INCOME'!$F$38)","v":0},0,0,0,0,null,0,null,0,null,0,null,0,null,0,null,0,null,0,null,0,null,0,null,0,null,0,null,0]
[null,"Exterminating Contract",6519,null,{"$f":"IF('02_1_INCOME'!$F$38=0,0,D52/'02_1_INCOME'!$F$38)","v":0},null,{"$f":"IF('02_1_INCOME'!$F$38=0,0,F52/'02_1_INCOME'!$F$38)","v":0},0,0,0,0,null,0,null,0,null,0,null,0,null,0,null,0,null,0,null,0,null,0,null,0,null,0,null,0]
[null,"Exterminating Supplies",6520,null,{"$f":"IF('02_1_INCOME'!$F$38=0,0,D53/'02_1_INCOME'!$F$38)","v":0},null,{"$f":"IF('02_1_INCOME'!$F$38=0,0,F53/'02_1_INCOME'!$F$38)","v":0},0,0,0,0,null,0,null,0,null,0,null,0,null,0,null,0,null,0,null,0,null,0,null,0,null,0,null,0]
[null,"Maint Rent Free Unit",6521,null,{"$f":"IF('02_1_INCOME'!$F$38=0,0,D54/'02_1_INCOME'!$F$38)","v":0},null,{"$f":"IF('02_1_INCOME'!$F$38=0,0,F54/'02_1_INCOME'!$F$38)","v":0},0,0,0,0,null,0,null,0,null,0,null,0,null,0,null,0,null,0,null,0,null,0,null,0,null,0,null,0]
[null,"Trash Removal",6525,null,{"$f":"IF('02_1_INCOME'!$F$38=0,0,D55/'02_1_INCOME'!$F$38)","v":0},null,{"$f":"IF('02_1_INCOME'!$F$38=0,0,F55/'02_1_INCOME'!$F$38)","v":0},0,{"$f":"IF(AND(H55<>0, E55<>0),(H55-E55)/E55,0)","v":0},0,{"$f":"IF(AND(J55<>0, $E55<>0),(J55-$E55)/$E55,0)","v":0},null,{"$f":"IF(rng02_Projections_Unit_1<>0, (L55*(1+rng01_OpExRate)^(rng01_FirstYearProforma-rng02_Projections_Year_1))/rng02_Projections_Unit_1,0)","v":0},null,{"$f":"IF(rng02_Projections_Unit_2<>0, (N55*(1+rng01_OpExRate)^(rng01_FirstYearProforma-rng02_Projections_Year_2))/rng02_Projections_Unit_2,0)","v":0},null,{"$f":"IF(rng02_Projections_Unit_3<>0, (P55*(1+rng01_OpExRate)^(rng01_FirstYearProforma-rng02_Projections_Year_3))/rng02_Projections_Unit_3,0)","v":0},null,{"$f":"IF(rng02_Projections_Unit_4<>0, (R55*(1+rng01_OpExRate)^(rng01_FirstYearProforma-rng02_Projections_Year_4))/rng02_Projections_Unit_4,0)","v":0},null,{"$f":"IF(rng02_Projections_Unit_5<>0, (T55*(1+rng01_OpExRate)^(rng01_FirstYearProforma-rng02_Projections_Year_5))/rng02_Projections_Unit_5,0)","v":0},null,{"$f":"IF(rng02_Projections_Unit_6<>0, (V55*(1+rng01_OpExRate)^(rng01_FirstYearProforma-rng02_Projections_Year_6))/rng02_Projections_Unit_6,0)","v":0},null,{"$f":"IF(rng02_Projections_Unit_7<>0, (X55*(1+rng01_OpExRate)^(rng01_FirstYearProforma-rng02_Projections_Year_7))/rng02_Projections_Unit_7,0)","v":0},null,0,null,0,null,0,null,0,null,0]
[null,"Security Payroll/Contracts",6530,null,{"$f":"IF('02_1_INCOME'!$F$38=0,0,D56/'02_1_INCOME'!$F$38)","v":0},null,{"$f":"IF('02_1_INCOME'!$F$38=0,0,F56/'02_1_INCOME'!$F$38)","v":0},0,0,0,0,null,0,null,0,null,0,null,0,null,0,null,0,null,0,null,0,null,0,null,0,null,0,null,0]
[null,"Grounds Payroll",6535,null,{"$f":"IF('02_1_INCOME'!$F$38=0,0,D57/'02_1_INCOME'!$F$38)","v":0},null,{"$f":"IF('02_1_INCOME'!$F$38=0,0,F57/'02_1_INCOME'!$F$38)","v":0},0,0,0,0,null,0,null,0,null,0,null,0,null,0,null,0,null,0,null,0,null,0,null,0,null,0,null,0]
[null,"Grounds Supplies",6536,null,{"$f":"IF('02_1_INCOME'!$F$38=0,0,D58/'02_1_INCOME'!$F$38)","v":0},null,{"$f":"IF('02_1_INCOME'!$F$38=0,0,F58/'02_1_INCOME'!$F$38)","v":0},0,0,0,0,null,0,null,0,null,0,null,0,null,0,null,0,null,0,null,0,null,0,null,0,null,0,null,0]
[null,"Grounds Contracts",6537,null,{"$f":"IF('02_1_INCOME'!$F$38=0,0,D59/'02_1_INCOME'!$F$38)","v":0},null,{"$f":"IF('02_1_INCOME'!$F$38=0,0,F59/'02_1_INCOME'!$F$38)","v":0},0,0,0,0,null,0,null,0,null,0,null,0,null,0,null,0,null,0,null,0,null,0,null,0,null,0,null,0]
[null,"Repairs Payroll",6540,null,{"$f":"IF('02_1_INCOME'!$F$38=0,0,D60/'02_1_INCOME'!$F$38)","v":0},null,{"$f":"IF('02_1_INCOME'!$F$38=0,0,F60/'02_1_INCOME'!$F$38)","v":0},0,0,0,0,null,0,null,0,null,0,null,0,null,0,null,0,null,0,null,0,null,0,null,0,null,0,null,0]
[null,"Repairs Supplies",6541,null,{"$f":"IF('02_1_INCOME'!$F$38=0,0,D61/'02_1_INCOME'!$F$38)","v":0},null,{"$f":"IF('02_1_INCOME'!$F$38=0,0,F61/'02_1_INCOME'!$F$38)","v":0},0,0,0,0,null,0,null,0,null,0,null,0,null,0,null,0,null,0,null,0,null,0,null,0,null,0,null,0]
[null,"Repairs Contract",6542,null,{"$f":"IF('02_1_INCOME'!$F$38=0,0,D62/'02_1_INCOME'!$F$38)","v":0},null,{"$f":"IF('02_1_INCOME'!$F$38=0,0,F62/'02_1_INCOME'!$F$38)","v":0},0,0,0,0,null,0,null,0,null,0,null,0,null,0,null,0,null,0,null,0,null,0,null,0,null,0,null,0]
[null,"Plumbing Maint.",6543,null,{"$f":"IF('02_1_INCOME'!$F$38=0,0,D63/'02_1_INCOME'!$F$38)","v":0},null,{"$f":"IF('02_1_INCOME'!$F$38=0,0,F63/'02_1_INCOME'!$F$38)","v":0},0,{"$f":"IF(AND(H63<>0, E63<>0),(H63-E63)/E63,0)","v":0},0,{"$f":"IF(AND(J63<>0, $E63<>0),(J63-$E63)/$E63,0)","v":0},null,{"$f":"IF(rng02_Projections_Unit_1<>0, (L63*(1+rng01_OpExRate)^(rng01_FirstYearProforma-rng02_Projections_Year_1))/rng02_Projections_Unit_1,0)","v":0},null,{"$f":"IF(rng02_Projections_Unit_2<>0, (N63*(1+rng01_OpExRate)^(rng01_FirstYearProforma-rng02_Projections_Year_2))/rng02_Projections_Unit_2,0)","v":0},null,{"$f":"IF(rng02_Projections_Unit_3<>0, (P63*(1+rng01_OpExRate)^(rng01_FirstYearProforma-rng02_Projections_Year_3))/rng02_Projections_Unit_3,0)","v":0},null,{"$f":"IF(rng02_Projections_Unit_4<>0, (R63*(1+rng01_OpExRate)^(rng01_FirstYearProforma-rng02_Projections_Year_4))/rng02_Projections_Unit_4,0)","v":0},null,{"$f":"IF(rng02_Projections_Unit_5<>0, (T63*(1+rng01_OpExRate)^(rng01_FirstYearProforma-rng02_Projections_Year_5))/rng02_Projections_Unit_5,0)","v":0},null,{"$f":"IF(rng02_Projections_Unit_6<>0, (V63*(1+rng01_OpExRate)^(rng01_FirstYearProforma-rng02_Projections_Year_6))/rng02_Projections_Unit_6,0)","v":0},null,{"$f":"IF(rng02_Projections_Unit_7<>0, (X63*(1+rng01_OpExRate)^(rng01_FirstYearProforma-rng02_Projections_Year_7))/rng02_Projections_Unit_7,0)","v":0},null,0,null,0,null,0,null,0,null,0]
[null,"Electrical Maint.",6544,null,{"$f":"IF('02_1_INCOME'!$F$38=0,0,D64/'02_1_INCOME'!$F$38)","v":0},null,{"$f":"IF('02_1_INCOME'!$F$38=0,0,F64/'02_1_INCOME'!$F$38)","v":0},0,{"$f":"IF(AND(H64<>0, E64<>0),(H64-E64)/E64,0)","v":0},0,{"$f":"IF(AND(J64<>0, $E64<>0),(J64-$E64)/$E64,0)","v":0},null,{"$f":"IF(rng02_Projections_Unit_1<>0, (L64*(1+rng01_OpExRate)^(rng01_FirstYearProforma-rng02_Projections_Year_1))/rng02_Projections_Unit_1,0)","v":0},null,{"$f":"IF(rng02_Projections_Unit_2<>0, (N64*(1+rng01_OpExRate)^(rng01_FirstYearProforma-rng02_Projections_Year_2))/rng02_Projections_Unit_2,0)","v":0},null,{"$f":"IF(rng02_Projections_Unit_3<>0, (P64*(1+rng01_OpExRate)^(rng01_FirstYearProforma-rng02_Projections_Year_3))/rng02_Projections_Unit_3,0)","v":0},null,{"$f":"IF(rng02_Projections_Unit_4<>0, (R64*(1+rng01_OpExRate)^(rng01_FirstYearProforma-rng02_Projections_Year_4))/rng02_Projections_Unit_4,0)","v":0},null,{"$f":"IF(rng02_Projections_Unit_5<>0, (T64*(1+rng01_OpExRate)^(rng01_FirstYearProforma-rng02_Projections_Year_5))/rng02_Projections_Unit_5,0)","v":0},null,{"$f":"IF(rng02_Projections_Unit_6<>0, (V64*(1+rng01_OpExRate)^(rng01_FirstYearProforma-rng02_Projections_Year_6))/rng02_Projections_Unit_6,0)","v":0},null,{"$f":"IF(rng02_Projections_Unit_7<>0, (X64*(1+rng01_OpExRate)^(rng01_FirstYearProforma-rng02_Projections_Year_7))/rng02_Projections_Unit_7,0)","v":0},null,0,null,0,null,0,null,0,null,0]
[null,"Elevator Maintenance",6545,null,{"$f":"IF('02_1_INCOME'!$F$38=0,0,D65/'02_1_INCOME'!$F$38)","v":0},null,{"$f":"IF('02_1_INCOME'!$F$38=0,0,F65/'02_1_INCOME'!$F$38)","v":0},0,0,0,0,null,0,null,0,null,0,null,0,null,0,null,0,null,0,null,0,null,0,null,0,null,0,null,0]
[null,"HVAC Maintenance",6546,null,{"$f":"IF('02_1_INCOME'!$F$38=0,0,D66/'02_1_INCOME'!$F$38)","v":0},null,{"$f":"IF('02_1_INCOME'!$F$38=0,0,F66/'02_1_INCOME'!$F$38)","v":0},0,0,0,0,null,0,null,0,null,0,null,0,null,0,null,0,null,0,null,0,null,0,null,0,null,0,null,0]
[null,"REAC",6547,null,{"$f":"IF('02_1_INCOME'!$F$38=0,0,D67/'02_1_INCOME'!$F$38)","v":0},null,{"$f":"IF('02_1_INCOME'!$F$38=0,0,F67/'02_1_INCOME'!$F$38)","v":0},0,{"$f":"IF(AND(H67<>0, E67<>0),(H67-E67)/E67,0)","v":0},0,{"$f":"IF(AND(J67<>0, $E67<>0),(J67-$E67)/$E67,0)","v":0},null,{"$f":"IF(rng02_Projections_Unit_1<>0, (L67*(1+rng01_OpExRate)^(rng01_FirstYearProforma-rng02_Projections_Year_1))/rng02_Projections_Unit_1,0)","v":0},null,{"$f":"IF(rng02_Projections_Unit_2<>0, (N67*(1+rng01_OpExRate)^(rng01_FirstYearProforma-rng02_Projections_Year_2))/rng02_Projections_Unit_2,0)","v":0},null,{"$f":"IF(rng02_Projections_Unit_3<>0, (P67*(1+rng01_OpExRate)^(rng01_FirstYearProforma-rng02_Projections_Year_3))/rng02_Projections_Unit_3,0)","v":0},null,{"$f":"IF(rng02_Projections_Unit_4<>0, (R67*(1+rng01_OpExRate)^(rng01_FirstYearProforma-rng02_Projections_Year_4))/rng02_Projections_Unit_4,0)","v":0},null,{"$f":"IF(rng02_Projections_Unit_5<>0, (T67*(1+rng01_OpExRate)^(rng01_FirstYearProforma-rng02_Projections_Year_5))/rng02_Projections_Unit_5,0)","v":0},null,{"$f":"IF(rng02_Projections_Unit_6<>0, (V67*(1+rng01_OpExRate)^(rng01_FirstYearProforma-rng02_Projections_Year_6))/rng02_Projections_Unit_6,0)","v":0},null,{"$f":"IF(rng02_Projections_Unit_7<>0, (X67*(1+rng01_OpExRate)^(rng01_FirstYearProforma-rng02_Projections_Year_7))/rng02_Projections_Unit_7,0)","v":0},null,0,null,0,null,0,null,0,null,0]
[null,"Snow Removal",6548,null,{"$f":"IF('02_1_INCOME'!$F$38=0,0,D68/'02_1_INCOME'!$F$38)","v":0},null,{"$f":"IF('02_1_INCOME'!$F$38=0,0,F68/'02_1_INCOME'!$F$38)","v":0},0,{"$f":"IF(AND(H68<>0, E68<>0),(H68-E68)/E68,0)","v":0},0,{"$f":"IF(AND(J68<>0, $E68<>0),(J68-$E68)/$E68,0)","v":0},null,{"$f":"IF(rng02_Projections_Unit_1<>0, (L68*(1+rng01_OpExRate)^(rng01_FirstYearProforma-rng02_Projections_Year_1))/rng02_Projections_Unit_1,0)","v":0},null,{"$f":"IF(rng02_Projections_Unit_2<>0, (N68*(1+rng01_OpExRate)^(rng01_FirstYearProforma-rng02_Projections_Year_2))/rng02_Projections_Unit_2,0)","v":0},null,{"$f":"IF(rng02_Projections_Unit_3<>0, (P68*(1+rng01_OpExRate)^(rng01_FirstYearProforma-rng02_Projections_Year_3))/rng02_Projections_Unit_3,0)","v":0},null,{"$f":"IF(rng02_Projections_Unit_4<>0, (R68*(1+rng01_OpExRate)^(rng01_FirstYearProforma-rng02_Projections_Year_4))/rng02_Projections_Unit_4,0)","v":0},null,{"$f":"IF(rng02_Projections_Unit_5<>0, (T68*(1+rng01_OpExRate)^(rng01_FirstYearProforma-rng02_Projections_Year_5))/rng02_Projections_Unit_5,0)","v":0},null,{"$f":"IF(rng02_Projections_Unit_6<>0, (V68*(1+rng01_OpExRate)^(rng01_FirstYearProforma-rng02_Projections_Year_6))/rng02_Projections_Unit_6,0)","v":0},null,{"$f":"IF(rng02_Projections_Unit_7<>0, (X68*(1+rng01_OpExRate)^(rng01_FirstYearProforma-rng02_Projections_Year_7))/rng02_Projections_Unit_7,0)","v":0},null,0,null,0,null,0,null,0,null,0]
[null,"Appliance Replacement",6550,null,{"$f":"IF('02_1_INCOME'!$F$38=0,0,D69/'02_1_INCOME'!$F$38)","v":0},null,{"$f":"IF('02_1_INCOME'!$F$38=0,0,F69/'02_1_INCOME'!$F$38)","v":0},0,{"$f":"IF(AND(H69<>0, E69<>0),(H69-E69)/E69,0)","v":0},0,{"$f":"IF(AND(J69<>0, $E69<>0),(J69-$E69)/$E69,0)","v":0},null,{"$f":"IF(rng02_Projections_Unit_1<>0, (L69*(1+rng01_OpExRate)^(rng01_FirstYearProforma-rng02_Projections_Year_1))/rng02_Projections_Unit_1,0)","v":0},null,{"$f":"IF(rng02_Projections_Unit_2<>0, (N69*(1+rng01_OpExRate)^(rng01_FirstYearProforma-rng02_Projections_Year_2))/rng02_Projections_Unit_2,0)","v":0},null,{"$f":"IF(rng02_Projections_Unit_3<>0, (P69*(1+rng01_OpExRate)^(rng01_FirstYearProforma-rng02_Projections_Year_3))/rng02_Projections_Unit_3,0)","v":0},null,{"$f":"IF(rng02_Projections_Unit_4<>0, (R69*(1+rng01_OpExRate)^(rng01_FirstYearProforma-rng02_Projections_Year_4))/rng02_Projections_Unit_4,0)","v":0},null,{"$f":"IF(rng02_Projections_Unit_5<>0, (T69*(1+rng01_OpExRate)^(rng01_FirstYearProforma-rng02_Projections_Year_5))/rng02_Projections_Unit_5,0)","v":0},null,{"$f":"IF(rng02_Projections_Unit_6<>0, (V69*(1+rng01_OpExRate)^(rng01_FirstYearProforma-rng02_Projections_Year_6))/rng02_Projections_Unit_6,0)","v":0},null,{"$f":"IF(rng02_Projections_Unit_7<>0, (X69*(1+rng01_OpExRate)^(rng01_FirstYearProforma-rng02_Projections_Year_7))/rng02_Projections_Unit_7,0)","v":0},null,0,null,0,null,0,null,0,null,0]
[null,"Decorating P/R",6560,null,{"$f":"IF('02_1_INCOME'!$F$38=0,0,D70/'02_1_INCOME'!$F$38)","v":0},null,{"$f":"IF('02_1_INCOME'!$F$38=0,0,F70/'02_1_INCOME'!$F$38)","v":0},0,0,0,0,null,0,null,0,null,0,null,0,null,0,null,0,null,0,null,0,null,0,null,0,null,0,null,0]
[null,"Decorating Supplies",6561,null,{"$f":"IF('02_1_INCOME'!$F$38=0,0,D71/'02_1_INCOME'!$F$38)","v":0},null,{"$f":"IF('02_1_INCOME'!$F$38=0,0,F71/'02_1_INCOME'!$F$38)","v":0},0,0,0,0,null,0,null,0,null,0,null,0,null,0,null,0,null,0,null,0,null,0,null,0,null,0,null,0]
[null,"Vehicle & Equip Ops & Repairs",6570,null,{"$f":"IF('02_1_INCOME'!$F$38=0,0,D72/'02_1_INCOME'!$F$38)","v":0},null,{"$f":"IF('02_1_INCOME'!$F$38=0,0,F72/'02_1_INCOME'!$F$38)","v":0},0,0,0,0,null,0,null,0,null,0,null,0,null,0,null,0,null,0,null,0,null,0,null,0,null,0,null,0]
[null,"Misc Ops/Maint Expenses",6590,null,{"$f":"IF('02_1_INCOME'!$F$38=0,0,D73/'02_1_INCOME'!$F$38)","v":0},null,{"$f":"IF('02_1_INCOME'!$F$38=0,0,F73/'02_1_INCOME'!$F$38)","v":0},0,0,0,0,null,0,null,0,null,0,null,0,null,0,null,0,null,0,null,0,null,0,null,0,null,0,null,0]
[null,"Total Ops. & Maint. Expenses:",null,{"$f":"SUM(D49:D73)","v":0},{"$f":"IF('02_1_INCOME'!$F$38=0,0,D74/'02_1_INCOME'!$F$38)","v":0},{"$f":"SUM(F49:F73)","v":0},{"$f":"IF('02_1_INCOME'!$F$38=0,0,F74/'02_1_INCOME'!$F$38)","v":0},0,0,0,0,{"$f":"SUM(L49:L73)","v":0},0,{"$f":"SUM(N49:N73)","v":0},0,{"$f":"SUM(P49:P73)","v":0},0,{"$f":"SUM(R49:R73)","v":0},0,{"$f":"SUM(T49:T73)","v":0},0,{"$f":"SUM(V49:V73)","v":0},0,{"$f":"SUM(X49:X73)","v":0},0,{"$f":"SUM(Z49:Z73)","v":0},0,{"$f":"SUM(AB49:AB73)","v":0},0,{"$f":"SUM(AD49:AD73)","v":0},0,{"$f":"SUM(AF49:AF73)","v":0},0,{"$f":"SUM(AH49:AH73)","v":0},0]
[null,"Taxes & Insurance "]
[null,"Real Estate Taxes ",6710,null,{"$f":"IF('02_1_INCOME'!$F$38=0,0,D76/'02_1_INCOME'!$F$38)","v":0},null,{"$f":"IF('02_1_INCOME'!$F$38=0,0,F76/'02_1_INCOME'!$F$38)","v":0},{"$f":"IFERROR(AVERAGEIFS($L76:$AJ76,$L$6:$AJ$6,\"Comparable\",$L76:$AJ76, \">0\"),0)","v":0},{"$f":"IF(AND(H76<>0, E76<>0),(H76-E76)/E76,0)","v":0},{"$f":"IFERROR(AVERAGEIFS($L76:$AJ76,$L$6:$AJ$6,\"Historical\", $L76:$AJ76,\">0\"),0)","v":0},{"$f":"IF(AND(J76<>0, $E76<>0),(J76-$E76)/$E76,0)","v":0},null,{"$f":"IF(rng02_Projections_Unit_1<>0, (L76*(1+rng01_OpExRate)^(rng01_FirstYearProforma-rng02_Projections_Year_1))/rng02_Projections_Unit_1,0)","v":0},null,{"$f":"IF(rng02_Projections_Unit_2<>0, (N76*(1+rng01_OpExRate)^(rng01_FirstYearProforma-rng02_Projections_Year_2))/rng02_Projections_Unit_2,0)","v":0},null,{"$f":"IF(rng02_Projections_Unit_3<>0, (P76*(1+rng01_OpExRate)^(rng01_FirstYearProforma-rng02_Projections_Year_3))/rng02_Projections_Unit_3,0)","v":0},null,{"$f":"IF(rng02_Projections_Unit_4<>0, (R76*(1+rng01_OpExRate)^(rng01_FirstYearProforma-rng02_Projections_Year_4))/rng02_Projections_Unit_4,0)","v":0},null,{"$f":"IF(rng02_Projections_Unit_5<>0, (T76*(1+rng01_OpExRate)^(rng01_FirstYearProforma-rng02_Projections_Year_5))/rng02_Projections_Unit_5,0)","v":0},null,{"$f":"IF(rng02_Projections_Unit_6<>0, (V76*(1+rng01_OpExRate)^(rng01_FirstYearProforma-rng02_Projections_Year_6))/rng02_Projections_Unit_6,0)","v":0},null,{"$f":"IF(rng02_Projections_Unit_7<>0, (X76*(1+rng01_OpExRate)^(rng01_FirstYearProforma-rng02_Projections_Year_7))/rng02_Projections_Unit_7,0)","v":0},null,{"$f":"IF(rng02_Projections_Unit_8<>0, (Z76*(1+rng01_OpExRate)^(rng01_FirstYearProforma-rng02_Projections_Year_8))/rng02_Projections_Unit_8,0)","v":0},null,{"$f":"IF(rng02_Projections_Unit_9<>0, (AB76*(1+rng01_OpExRate)^(rng01_FirstYearProforma-rng02_Projections_Year_9))/rng02_Projections_Unit_9,0)","v":0},null,{"$f":"IF(rng02_Projections_Unit_10<>0, (AD76*(1+rng01_OpExRate)^(rng01_FirstYearProforma-rng02_Projections_Year_10))/rng02_Projections_Unit_10,0)","v":0},null,{"$f":"IF(rng02_Projections_Unit_10<>0, (AF76*(1+rng01_OpExRate)^(rng01_FirstYearProforma-rng02_Projections_Year_10))/rng02_Projections_Unit_10,0)","v":0},null,{"$f":"IF(rng02_Projections_Unit_10<>0, (AH76*(1+rng01_OpExRate)^(rng01_FirstYearProforma-rng02_Projections_Year_10))/rng02_Projections_Unit_10,0)","v":0}]
[null,"Payroll Taxes (Project's Share)",6711,null,{"$f":"IF('02_1_INCOME'!$F$38=0,0,D77/'02_1_INCOME'!$F$38)","v":0},null,{"$f":"IF('02_1_INCOME'!$F$38=0,0,F77/'02_1_INCOME'!$F$38)","v":0},0,0,0,0,null,0,null,0,null,0,null,0,null,0,null,0,null,0,null,0,null,0,null,0,null,0,null,0]
[null,"Miscellaneous Taxes, Licenses and Permits",6719,null,{"$f":"IF('02_1_INCOME'!$F$38=0,0,D78/'02_1_INCOME'!$F$38)","v":0},null,{"$f":"IF('02_1_INCOME'!$F$38=0,0,F78/'02_1_INCOME'!$F$38)","v":0},0,0,0,0,null,0,null,0,null,0,null,0,null,0,null,0,null,0,null,0,null,0,null,0,null,0,null,0]
[null,"Property & Liability Insurance (Hazard)",6720,null,{"$f":"IF('02_1_INCOME'!$F$38=0,0,D79/'02_1_INCOME'!$F$38)","v":0},null,{"$f":"IF('02_1_INCOME'!$F$38=0,0,F79/'02_1_INCOME'!$F$38)","v":0},0,0,0,0,null,0,null,0,null,0,null,0,null,0,null,0,null,0,null,0,null,0,null,0,null,0,null,0]
[null,"Fidelity Bond Insurance ",6721,null,{"$f":"IF('02_1_INCOME'!$F$38=0,0,D80/'02_1_INCOME'!$F$38)","v":0},null,{"$f":"IF('02_1_INCOME'!$F$38=0,0,F80/'02_1_INCOME'!$F$38)","v":0},0,{"$f":"IF(AND(H80<>0, E80<>0),(H80-E80)/E80,0)","v":0},0,0,null,0,null,0,null,0,null,0,null,0,null,0,null,0,null,0,null,0,null,0,null,0,null,0]
[null,"Workmen's Compensation ",6722,null,{"$f":"IF('02_1_INCOME'!$F$38=0,0,D81/'02_1_INCOME'!$F$38)","v":0},null,{"$f":"IF('02_1_INCOME'!$F$38=0,0,F81/'02_1_INCOME'!$F$38)","v":0},0,0,0,0,null,0,null,0,null,0,null,0,null,0,null,0,null,0,null,0,null,0,null,0,null,0,null,0]
[null,"Health Ins. & Other Emp. Benefits ",6723,null,{"$f":"IF('02_1_INCOME'!$F$38=0,0,D82/'02_1_INCOME'!$F$38)","v":0},null,{"$f":"IF('02_1_INCOME'!$F$38=0,0,F82/'02_1_INCOME'!$F$38)","v":0},0,0,0,0,null,0,null,0,null,0,null,0,null,0,null,0,null,0,null,0,null,0,null,0,null,0,null,0]
[null,"Other Insurance (specify)",6729,null,{"$f":"IF('02_1_INCOME'!$F$38=0,0,D83/'02_1_INCOME'!$F$38)","v":0},null,{"$f":"IF('02_1_INCOME'!$F$38=0,0,F83/'02_1_INCOME'!$F$38)","v":0},0,0,0,0,null,0,null,0,null,0,null,0,null,0,null,0,null,0,null,0,null,0,null,0,null,0,null,0]
[null,"Misc",6790,null,{"$f":"IF('02_1_INCOME'!F39=0,0,D84/'02_1_INCOME'!F39)","v":0},null,{"$f":"IF('02_1_INCOME'!$F$38=0,0,F84/'02_1_INCOME'!$F$38)","v":0},0,{"$f":"IF(AND(H84<>0, E84<>0),(H84-E84)/E84,0)","v":0},0,{"$f":"IF(AND(J84<>0, $E84<>0),(J84-$E84)/$E84,0)","v":0},null,{"$f":"IF(rng02_Projections_Unit_1<>0, (L84*(1+rng01_OpExRate)^(rng01_FirstYearProforma-rng02_Projections_Year_1))/rng02_Projections_Unit_1,0)","v":0},null,{"$f":"IF(rng02_Projections_Unit_2<>0, (N84*(1+rng01_OpExRate)^(rng01_FirstYearProforma-rng02_Projections_Year_2))/rng02_Projections_Unit_2,0)","v":0},null,{"$f":"IF(rng02_Projections_Unit_3<>0, (P84*(1+rng01_OpExRate)^(rng01_FirstYearProforma-rng02_Projections_Year_3))/rng02_Projections_Unit_3,0)","v":0},null,{"$f":"IF(rng02_Projections_Unit_4<>0, (R84*(1+rng01_OpExRate)^(rng01_FirstYearProforma-rng02_Projections_Year_4))/rng02_Projections_Unit_4,0)","v":0},null,{"$f":"IF(rng02_Projections_Unit_5<>0, (T84*(1+rng01_OpExRate)^(rng01_FirstYearProforma-rng02_Projections_Year_5))/rng02_Projections_Unit_5,0)","v":0},null,{"$f":"IF(rng02_Projections_Unit_6<>0, (V84*(1+rng01_OpExRate)^(rng01_FirstYearProforma-rng02_Projections_Year_6))/rng02_Projections_Unit_6,0)","v":0},null,{"$f":"IF(rng02_Projections_Unit_7<>0, (X84*(1+rng01_OpExRate)^(rng01_FirstYearProforma-rng02_Projections_Year_7))/rng02_Projections_Unit_7,0)","v":0},null,0,null,0,null,0,null,0,null,0]
[null,"Total Taxes & Insurance:",null,{"$f":"SUM(D76:D84)","v":0},{"$f":"IF('02_1_INCOME'!$F$38=0,0,D85/'02_1_INCOME'!$F$38)","v":0},{"$f":"SUM(F76:F84)","v":0},{"$f":"IF('02_1_INCOME'!$F$38=0,0,F85/'02_1_INCOME'!$F$38)","v":0},0,0,0,0,{"$f":"SUM(L76:L84)","v":0},0,{"$f":"SUM(N76:N84)","v":0},0,{"$f":"SUM(P76:P84)","v":0},0,{"$f":"SUM(R76:R84)","v":0},0,{"$f":"SUM(T76:T84)","v":0},0,{"$f":"SUM(V76:V84)","v":0},0,{"$f":"SUM(X76:X84)","v":0},0,{"$f":"SUM(Z76:Z84)","v":0},0,{"$f":"SUM(AB76:AB84)","v":0},0,{"$f":"SUM(AD76:AD84)","v":0},0,{"$f":"SUM(AF76:AF84)","v":0},0,{"$f":"SUM(AH76:AH84)","v":0},0]
[]
[null,"Total NH/Asst Living/Elderly Care",6900,{"$f":"'03_4_NH-Assisted Living Data'!C73","v":0},{"$f":"IF('02_1_INCOME'!$F$38=0,0,D87/'02_1_INCOME'!$F$38)","v":0},{"$f":"'03_4_NH-Assisted Living Data'!D73","v":0},{"$f":"IF('02_1_INCOME'!$F$38=0,0,F87/'02_1_INCOME'!$F$38)","v":0},{"$f":"IFERROR(AVERAGEIFS($L87:$AJ87,$L$6:$AJ$6,\"Comparable\",$L87:$AJ87, \">0\"),0)","v":0},{"$f":"IF(AND(H87<>0, E87<>0),(H87-E87)/E87,0)","v":0},{"$f":"IFERROR(AVERAGEIFS($L87:$AJ87,$L$6:$AJ$6,\"Historical\", $L87:$AJ87,\">0\"),0)","v":0},{"$f":"IF(AND(J87<>0, $E87<>0),(J87-$E87)/$E87,0)","v":0},{"$f":"'03_4_NH-Assisted Living Data'!E73","v":0},{"$f":"IF(rng02_Projections_Unit_1<>0, (L87*(1+rng01_OpExRate)^(rng01_FirstYearProforma-rng02_Projections_Year_1))/rng02_Projections_Unit_1,0)","v":0},{"$f":"'03_4_NH-Assisted Living Data'!F73","v":0},{"$f":"IF(rng02_Projections_Unit_2<>0, (N87*(1+rng01_OpExRate)^(rng01_FirstYearProforma-rng02_Projections_Year_2))/rng02_Projections_Unit_2,0)","v":0},{"$f":"'03_4_NH-Assisted Living Data'!G73","v":0},{"$f":"IF(rng02_Projections_Unit_3<>0, (P87*(1+rng01_OpExRate)^(rng01_FirstYearProforma-rng02_Projections_Year_3))/rng02_Projections_Unit_3,0)","v":0},{"$f":"'03_4_NH-Assisted Living Data'!H73","v":0},{"$f":"IF(rng02_Projections_Unit_4<>0, (R87*(1+rng01_OpExRate)^(rng01_FirstYearProforma-rng02_Projections_Year_4))/rng02_Projections_Unit_4,0)","v":0},{"$f":"'03_4_NH-Assisted Living Data'!I73","v":0},{"$f":"IF(rng02_Projections_Unit_5<>0, (T87*(1+rng01_OpExRate)^(rng01_FirstYearProforma-rng02_Projections_Year_5))/rng02_Projections_Unit_5,0)","v":0},{"$f":"'03_4_NH-Assisted Living Data'!J73","v":0},0,{"$f":"'03_4_NH-Assisted Living Data'!K73","v":0},0,{"$f":"'03_4_NH-Assisted Living Data'!L73","v":0},{"$f":"IF(rng02_Projections_Unit_8<>0, (Z87*(1+rng01_OpExRate)^(rng01_FirstYearProforma-rng02_Projections_Year_8))/rng02_Projections_Unit_8,0)","v":0},{"$f":"'03_4_NH-Assisted Living Data'!M73","v":0},{"$f":"IF(rng02_Projections_Unit_9<>0, (AB87*(1+rng01_OpExRate)^(rng01_FirstYearProforma-rng02_Projections_Year_9))/rng02_Projections_Unit_9,0)","v":0},{"$f":"'03_4_NH-Assisted Living Data'!N73","v":0},{"$f":"IF(rng02_Projections_Unit_10<>0, (AD87*(1+rng01_OpExRate)^(rng01_FirstYearProforma-rng02_Projections_Year_10))/rng02_Projections_Unit_10,0)","v":0},{"$f":"'03_4_NH-Assisted Living Data'!O73","v":0},{"$f":"IF(rng02_Projections_Unit_10<>0, (AF87*(1+rng01_OpExRate)^(rng01_FirstYearProforma-rng02_Projections_Year_10))/rng02_Projections_Unit_10,0)","v":0},{"$f":"'03_4_NH-Assisted Living Data'!P73","v":0},{"$f":"IF(rng02_Projections_Unit_10<>0, (AH87*(1+rng01_OpExRate)^(rng01_FirstYearProforma-rng02_Projections_Year_10))/rng02_Projections_Unit_10,0)","v":0}]
[]
[null,"Replacement Reserves",null,null,{"$f":"IF('02_1_INCOME'!$F$38=0,0,D89/'02_1_INCOME'!$F$38)","v":0},null,{"$f":"IF('02_1_INCOME'!$F$38=0,0,F89/'02_1_INCOME'!$F$38)","v":0},{"$f":"IFERROR(AVERAGEIFS($L89:$AJ89,$L$6:$AJ$6,\"Comparable\",$L89:$AJ89, \">0\"),0)","v":0},{"$f":"IF(AND(H89<>0, E89<>0),(H89-E89)/E89,0)","v":0},{"$f":"IFERROR(AVERAGEIFS($L89:$AJ89,$L$6:$AJ$6,\"Historical\", $L89:$AJ89,\">0\"),0)","v":0},{"$f":"IF(AND(J89<>0, $E89<>0),(J89-$E89)/$E89,0)","v":0},null,{"$f":"IF(rng02_Projections_Unit_1<>0, (L89*(1+rng01_OpExRate)^(rng01_FirstYearProforma-rng02_Projections_Year_1))/rng02_Projections_Unit_1,0)","v":0},null,{"$f":"IF(rng02_Projections_Unit_2<>0, (N89*(1+rng01_OpExRate)^(rng01_FirstYearProforma-rng02_Projections_Year_2))/rng02_Projections_Unit_2,0)","v":0},null,{"$f":"IF(rng02_Projections_Unit_3<>0, (P89*(1+rng01_OpExRate)^(rng01_FirstYearProforma-rng02_Projections_Year_3))/rng02_Projections_Unit_3,0)","v":0},null,{"$f":"IF(rng02_Projections_Unit_4<>0, (R89*(1+rng01_OpExRate)^(rng01_FirstYearProforma-rng02_Projections_Year_4))/rng02_Projections_Unit_4,0)","v":0},null,{"$f":"IF(rng02_Projections_Unit_5<>0, (T89*(1+rng01_OpExRate)^(rng01_FirstYearProforma-rng02_Projections_Year_5))/rng02_Projections_Unit_5,0)","v":0},null,{"$f":"IF(rng02_Projections_Unit_6<>0, (V89*(1+rng01_OpExRate)^(rng01_FirstYearProforma-rng02_Projections_Year_6))/rng02_Projections_Unit_6,0)","v":0},null,{"$f":"IF(rng02_Projections_Unit_7<>0, (X89*(1+rng01_OpExRate)^(rng01_FirstYearProforma-rng02_Projections_Year_7))/rng02_Projections_Unit_7,0)","v":0},null,{"$f":"IF(rng02_Projections_Unit_8<>0, (Z89*(1+rng01_OpExRate)^(rng01_FirstYearProforma-rng02_Projections_Year_8))/rng02_Projections_Unit_8,0)","v":0},null,{"$f":"IF(rng02_Projections_Unit_9<>0, (AB89*(1+rng01_OpExRate)^(rng01_FirstYearProforma-rng02_Projections_Year_9))/rng02_Projections_Unit_9,0)","v":0},null,{"$f":"IF(rng02_Projections_Unit_10<>0, (AD89*(1+rng01_OpExRate)^(rng01_FirstYearProforma-rng02_Projections_Year_10))/rng02_Projections_Unit_10,0)","v":0},null,{"$f":"IF(rng02_Projections_Unit_10<>0, (AF89*(1+rng01_OpExRate)^(rng01_FirstYearProforma-rng02_Projections_Year_10))/rng02_Projections_Unit_10,0)","v":0},null,{"$f":"IF(rng02_Projections_Unit_10<>0, (AH89*(1+rng01_OpExRate)^(rng01_FirstYearProforma-rng02_Projections_Year_10))/rng02_Projections_Unit_10,0)","v":0}]
[]
[null,"TOTAL OPERATING EXPENSES:",null,{"$f":"D39+D47+D74+D85+D87+D89","v":0},{"$f":"IF('02_1_INCOME'!$F$38=0,0,D91/'02_1_INCOME'!$F$38)","v":0},{"$f":"F39+F47+F74+F85+F87+F89","v":0},{"$f":"IF('02_1_INCOME'!$F$38=0,0,F91/'02_1_INCOME'!$F$38)","v":0},{"$f":"IFERROR(AVERAGEIFS($L91:$AJ91,$L$6:$AJ$6,\"Comparable\",$L91:$AJ91, \">0\"),0)","v":0},{"$f":"IF(AND(H91<>0, E91<>0),(H91-E91)/E91,0)","v":0},{"$f":"IFERROR(AVERAGEIFS($L91:$AJ91,$L$6:$AJ$6,\"Historical\", $L91:$AJ91,\">0\"),0)","v":0},{"$f":"IF(AND(J91<>0, $E91<>0),(J91-$E91)/$E91,0)","v":0},{"$f":"L39+L47+L74+L85+L87+L89","v":0},{"$f":"IF(rng02_Projections_Unit_1<>0, (L91*(1+rng01_OpExRate)^(rng01_FirstYearProforma-rng02_Projections_Year_1))/rng02_Projections_Unit_1,0)","v":0},{"$f":"N39+N47+N74+N85+N87+N89","v":0},{"$f":"IF(rng02_Projections_Unit_2<>0, (N91*(1+rng01_OpExRate)^(rng01_FirstYearProforma-rng02_Projections_Year_2))/rng02_Projections_Unit_2,0)","v":0},{"$f":"P39+P47+P74+P85+P87+P89","v":0},{"$f":"IF(rng02_Projections_Unit_3<>0, (P91*(1+rng01_OpExRate)^(rng01_FirstYearProforma-rng02_Projections_Year_3))/rng02_Projections_Unit_3,0)","v":0},{"$f":"R39+R47+R74+R85+R87+R89","v":0},{"$f":"IF(rng02_Projections_Unit_4<>0, (R91*(1+rng01_OpExRate)^(rng01_FirstYearProforma-rng02_Projections_Year_4))/rng02_Projections_Unit_4,0)","v":0},{"$f":"T39+T47+T74+T85+T87+T89","v":0},{"$f":"IF(rng02_Projections_Unit_5<>0, (T91*(1+rng01_OpExRate)^(rng01_FirstYearProforma-rng02_Projections_Year_5))/rng02_Projections_Unit_5,0)","v":0},{"$f":"V39+V47+V74+V85+V87+V89","v":0},{"$f":"IF(rng02_Projections_Unit_6<>0, (V91*(1+rng01_OpExRate)^(rng01_FirstYearProforma-rng02_Projections_Year_6))/rng02_Projections_Unit_6,0)","v":0},{"$f":"X39+X47+X74+X85+X87+X89","v":0},{"$f":"IF(rng02_Projections_Unit_7<>0, (X91*(1+rng01_OpExRate)^(rng01_FirstYearProforma-rng02_Projections_Year_7))/rng02_Projections_Unit_7,0)","v":0},{"$f":"Z39+Z47+Z74+Z85+Z87+Z89","v":0},{"$f":"IF(rng02_Projections_Unit_8<>0, (Z91*(1+rng01_OpExRate)^(rng01_FirstYearProforma-rng02_Projections_Year_8))/rng02_Projections_Unit_8,0)","v":0},{"$f":"AB39+AB47+AB74+AB85+AB87+AB89","v":0},{"$f":"IF(rng02_Projections_Unit_9<>0, (AB91*(1+rng01_OpExRate)^(rng01_FirstYearProforma-rng02_Projections_Year_9))/rng02_Projections_Unit_9,0)","v":0},{"$f":"AD39+AD47+AD74+AD85+AD87+AD89","v":0},{"$f":"IF(rng02_Projections_Unit_10<>0, (AD91*(1+rng01_OpExRate)^(rng01_FirstYearProforma-rng02_Projections_Year_10))/rng02_Projections_Unit_10,0)","v":0},{"$f":"AF39+AF47+AF74+AF85+AF87+AF89","v":0},{"$f":"IF(rng02_Projections_Unit_10<>0, (AF91*(1+rng01_OpExRate)^(rng01_FirstYearProforma-rng02_Projections_Year_10))/rng02_Projections_Unit_10,0)","v":0},{"$f":"AH39+AH47+AH74+AH85+AH87+AH89","v":0},{"$f":"IF(rng02_Projections_Unit_10<>0, (AH91*(1+rng01_OpExRate)^(rng01_FirstYearProforma-rng02_Projections_Year_10))/rng02_Projections_Unit_10,0)","v":0}]
[null,"NET OPERATING INCOME",null,{"$f":"D17-D91","v":0},{"$f":"E17-E91-E89","v":0},{"$f":"F17-F91","v":0},{"$f":"G17-G91-G89","v":0},null,null,{"$f":"IFERROR(AVERAGEIFS($L92:$AJ92,$L$6:$AJ$6,\"Historical\", $L92:$AJ92,\">0\"),0)","v":0},{"$f":"IF(AND(J92<>0, $E92<>0),(J92-$E92)/$E92,0)","v":0},{"$f":"L17-L91","v":0},{"$f":"M17-M91-M89","v":0},{"$f":"N17-N91","v":0},{"$f":"O17-O91-O89","v":0},{"$f":"P17-P91","v":0},{"$f":"Q17-Q91-Q89","v":0},{"$f":"R17-R91","v":0},{"$f":"S17-S91-S89","v":0},{"$f":"T17-T91","v":0},{"$f":"U17-U91-U89","v":0},{"$f":"V17-V91","v":0},{"$f":"W17-W91-W89","v":0},{"$f":"X17-X91","v":0},{"$f":"Y17-Y91-Y89","v":0},{"$f":"Z17-Z91","v":0},{"$f":"IF(rng02_Projections_Unit_8<>0, (Z92*(1+rng01_OpExRate)^(rng01_FirstYearProforma-rng02_Projections_Year_8))/rng02_Projections_Unit_8,0)","v":0},{"$f":"AB17-AB91","v":0},{"$f":"IF(rng02_Projections_Unit_9<>0, (AB92*(1+rng01_OpExRate)^(rng01_FirstYearProforma-rng02_Projections_Year_9))/rng02_Projections_Unit_9,0)","v":0},{"$f":"AD17-AD91","v":0},{"$f":"IF(rng02_Projections_Unit_10<>0, (AD92*(1+rng01_OpExRate)^(rng01_FirstYearProforma-rng02_Projections_Year_10))/rng02_Projections_Unit_10,0)","v":0},{"$f":"AF17-AF91","v":0},{"$f":"IF(rng02_Projections_Unit_10<>0, (AF92*(1+rng01_OpExRate)^(rng01_FirstYearProforma-rng02_Projections_Year_10))/rng02_Projections_Unit_10,0)","v":0},{"$f":"AH17-AH91","v":0},{"$f":"IF(rng02_Projections_Unit_10<>0, (AH92*(1+rng01_OpExRate)^(rng01_FirstYearProforma-rng02_Projections_Year_10))/rng02_Projections_Unit_10,0)","v":0}]
[]
[null,"DEBT SERVICE"]
[null,"FIRST MORTGAGE DEBT SERVICE:",null,{"$f":"'02_3_SOURCES'!L9","v":0},{"$f":"IF('02_1_INCOME'!$F$111=0,0,D95/'02_1_INCOME'!$F$111)","v":0},null,{"$f":"IF('02_1_INCOME'!$F$38=0,0,F95/'02_1_INCOME'!$F$38)","v":0},null,null,{"$f":"IFERROR(AVERAGEIFS($L95:$AJ95,$L$6:$AJ$6,\"Historical\", $L95:$AJ95,\">0\"),0)","v":0},{"$f":"IF(AND(J95<>0, $E95<>0),(J95-$E95)/$E95,0)","v":0},null,{"$f":"IF(rng02_Projections_Unit_1=0,0,L95/rng02_Projections_Unit_1)","v":0},null,{"$f":"IF(rng02_Projections_Unit_2=0,0,N95/rng02_Projections_Unit_2)","v":0},0,{"$f":"IF(rng02_Projections_Unit_3=0,0,P95/rng02_Projections_Unit_3)","v":0},0,{"$f":"IF(rng02_Projections_Unit_4=0,0,R95/rng02_Projections_Unit_4)","v":0},0,{"$f":"IF(rng02_Projections_Unit_5=0,0,T95/rng02_Projections_Unit_5)","v":0},0,{"$f":"IF(rng02_Projections_Unit_6=0,0,V95/rng02_Projections_Unit_6)","v":0},0,{"$f":"IF(rng02_Projections_Unit_7=0,0,X95/rng02_Projections_Unit_7)","v":0},0,{"$f":"IF(rng02_Projections_Unit_8=0,0,Z95/rng02_Projections_Unit_8)","v":0},0,{"$f":"IF(rng02_Projections_Unit_9=0,0,AB95/rng02_Projections_Unit_9)","v":0},0,{"$f":"IF(rng02_Projections_Unit_10=0,0,AD95/rng02_Projections_Unit_10)","v":0},0,{"$f":"IF(rng02_Projections_Unit_10=0,0,AF95/rng02_Projections_Unit_10)","v":0},0,{"$f":"IF(rng02_Projections_Unit_10=0,0,AH95/rng02_Projections_Unit_10)","v":0}]
[null,"FIRST MORTGAGE INSURANCE PREMIUM (MIP):",null,{"$f":"'04_1_Pro Forma'!C34","v":0},{"$f":"IF('02_1_INCOME'!$F$111=0,0,D96/'02_1_INCOME'!$F$111)","v":0},null,{"$f":"IF('02_1_INCOME'!$F$38=0,0,F96/'02_1_INCOME'!$F$38)","v":0},null,null,{"$f":"IFERROR(AVERAGEIFS($L96:$AJ96,$L$6:$AJ$6,\"Historical\", $L96:$AJ96,\">0\"),0)","v":0},{"$f":"IF(AND(J96<>0, $E96<>0),(J96-$E96)/$E96,0)","v":0},null,{"$f":"IF(rng02_Projections_Unit_1=0,0,L96/rng02_Projections_Unit_1)","v":0},null,{"$f":"IF(rng02_Projections_Unit_2=0,0,N96/rng02_Projections_Unit_2)","v":0},0,{"$f":"IF(rng02_Projections_Unit_3=0,0,P96/rng02_Projections_Unit_3)","v":0},0,{"$f":"IF(rng02_Projections_Unit_4=0,0,R96/rng02_Projections_Unit_4)","v":0},0,{"$f":"IF(rng02_Projections_Unit_5=0,0,T96/rng02_Projections_Unit_5)","v":0},0,{"$f":"IF(rng02_Projections_Unit_6=0,0,V96/rng02_Projections_Unit_6)","v":0},0,{"$f":"IF(rng02_Projections_Unit_7=0,0,X96/rng02_Projections_Unit_7)","v":0},0,{"$f":"IF(rng02_Projections_Unit_8=0,0,Z96/rng02_Projections_Unit_8)","v":0},0,{"$f":"IF(rng02_Projections_Unit_9=0,0,AB96/rng02_Projections_Unit_9)","v":0},0,{"$f":"IF(rng02_Projections_Unit_10=0,0,AD96/rng02_Projections_Unit_10)","v":0},0,{"$f":"IF(rng02_Projections_Unit_10=0,0,AF96/rng02_Projections_Unit_10)","v":0},0,{"$f":"IF(rng02_Projections_Unit_10=0,0,AH96/rng02_Projections_Unit_10)","v":0}]
[null,"SECOND MORTGAGE DEBT SERVICE:",null,{"$f":"'02_3_SOURCES'!L10","v":0},{"$f":"IF('02_1_INCOME'!$F$111=0,0,D97/'02_1_INCOME'!$F$111)","v":0},null,{"$f":"IF('02_1_INCOME'!$F$38=0,0,F97/'02_1_INCOME'!$F$38)","v":0},null,null,{"$f":"IFERROR(AVERAGEIFS($L97:$AJ97,$L$6:$AJ$6,\"Historical\", $L97:$AJ97,\">0\"),0)","v":0},{"$f":"IF(AND(J97<>0, $E97<>0),(J97-$E97)/$E97,0)","v":0},null,{"$f":"IF(rng02_Projections_Unit_1=0,0,L97/rng02_Projections_Unit_1)","v":0},null,{"$f":"IF(rng02_Projections_Unit_2=0,0,N97/rng02_Projections_Unit_2)","v":0},0,{"$f":"IF(rng02_Projections_Unit_3=0,0,P97/rng02_Projections_Unit_3)","v":0},0,{"$f":"IF(rng02_Projections_Unit_4=0,0,R97/rng02_Projections_Unit_4)","v":0},0,{"$f":"IF(rng02_Projections_Unit_5=0,0,T97/rng02_Projections_Unit_5)","v":0},0,{"$f":"IF(rng02_Projections_Unit_6=0,0,V97/rng02_Projections_Unit_6)","v":0},0,{"$f":"IF(rng02_Projections_Unit_7=0,0,X97/rng02_Projections_Unit_7)","v":0},0,{"$f":"IF(rng02_Projections_Unit_8=0,0,Z97/rng02_Projections_Unit_8)","v":0},0,{"$f":"IF(rng02_Projections_Unit_9=0,0,AB97/rng02_Projections_Unit_9)","v":0},0,{"$f":"IF(rng02_Projections_Unit_10=0,0,AD97/rng02_Projections_Unit_10)","v":0},0,{"$f":"IF(rng02_Projections_Unit_10=0,0,AF97/rng02_Projections_Unit_10)","v":0},0,{"$f":"IF(rng02_Projections_Unit_10=0,0,AH97/rng02_Projections_Unit_10)","v":0}]
[null,"OTHER DEBT SERVICE:",null,{"$f":"SUMIF('02_3_SOURCES'!G11:G16,\"Debt Service\",'02_3_SOURCES'!L11:L16)","v":0},{"$f":"IF('02_1_INCOME'!$F$111=0,0,D98/'02_1_INCOME'!$F$111)","v":0},null,{"$f":"IF('02_1_INCOME'!$F$38=0,0,F98/'02_1_INCOME'!$F$38)","v":0},null,null,{"$f":"IFERROR(AVERAGEIFS($L98:$AJ98,$L$6:$AJ$6,\"Historical\", $L98:$AJ98,\">0\"),0)","v":0},{"$f":"IF(AND(J98<>0, $E98<>0),(J98-$E98)/$E98,0)","v":0},null,{"$f":"IF(rng02_Projections_Unit_1=0,0,L98/rng02_Projections_Unit_1)","v":0},null,{"$f":"IF(rng02_Projections_Unit_2=0,0,N98/rng02_Projections_Unit_2)","v":0},0,{"$f":"IF(rng02_Projections_Unit_3=0,0,P98/rng02_Projections_Unit_3)","v":0},0,{"$f":"IF(rng02_Projections_Unit_4=0,0,R98/rng02_Projections_Unit_4)","v":0},0,{"$f":"IF(rng02_Projections_Unit_5=0,0,T98/rng02_Projections_Unit_5)","v":0},0,{"$f":"IF(rng02_Projections_Unit_6=0,0,V98/rng02_Projections_Unit_6)","v":0},0,{"$f":"IF(rng02_Projections_Unit_7=0,0,X98/rng02_Projections_Unit_7)","v":0},0,{"$f":"IF(rng02_Projections_Unit_8=0,0,Z98/rng02_Projections_Unit_8)","v":0},0,{"$f":"IF(rng02_Projections_Unit_9=0,0,AB98/rng02_Projections_Unit_9)","v":0},0,{"$f":"IF(rng02_Projections_Unit_10=0,0,AD98/rng02_Projections_Unit_10)","v":0},0,{"$f":"IF(rng02_Projections_Unit_10=0,0,AF98/rng02_Projections_Unit_10)","v":0},0,{"$f":"IF(rng02_Projections_Unit_10=0,0,AH98/rng02_Projections_Unit_10)","v":0}]
[null,"TOTAL MORTGAGE DEBT SERVICE:",null,{"$f":"SUM(D95:D98)","v":0},{"$f":"IF('02_1_INCOME'!$F$111=0,0,D99/'02_1_INCOME'!$F$111)","v":0},{"$f":"SUM(F95:F98)","v":0},{"$f":"IF('02_1_INCOME'!$F$38=0,0,F99/'02_1_INCOME'!$F$38)","v":0},null,null,{"$f":"IFERROR(AVERAGEIFS($L99:$AJ99,$L$6:$AJ$6,\"Historical\", $L99:$AJ99,\">0\"),0)","v":0},{"$f":"IF(AND(J99<>0, $E99<>0),(J99-$E99)/$E99,0)","v":0},{"$f":"SUM(L95:L98)","v":0},{"$f":"IF(rng02_Projections_Unit_1=0,0,L99/rng02_Projections_Unit_1)","v":0},{"$f":"SUM(N95:N98)","v":0},{"$f":"IF(rng02_Projections_Unit_2=0,0,N99/rng02_Projections_Unit_2)","v":0},{"$f":"SUM(P95:P98)","v":0},{"$f":"IF(rng02_Projections_Unit_3=0,0,P99/rng02_Projections_Unit_3)","v":0},{"$f":"SUM(R95:R98)","v":0},{"$f":"IF(rng02_Projections_Unit_4=0,0,R99/rng02_Projections_Unit_4)","v":0},{"$f":"SUM(T95:T98)","v":0},{"$f":"IF(rng02_Projections_Unit_5=0,0,T99/rng02_Projections_Unit_5)","v":0},{"$f":"SUM(V95:V98)","v":0},{"$f":"IF(rng02_Projections_Unit_6=0,0,V99/rng02_Projections_Unit_6)","v":0},{"$f":"SUM(X95:X98)","v":0},{"$f":"IF(rng02_Projections_Unit_7=0,0,X99/rng02_Projections_Unit_7)","v":0},{"$f":"SUM(Z95:Z98)","v":0},{"$f":"IF(rng02_Projections_Unit_8<>0, (Z99*(1+rng01_OpExRate)^(rng01_FirstYearProforma-rng02_Projections_Year_8))/rng02_Projections_Unit_8,0)","v":0},{"$f":"SUM(AB95:AB98)","v":0},{"$f":"IF(rng02_Projections_Unit_8<>0, (AB99*(1+rng01_OpExRate)^(rng01_FirstYearProforma-rng02_Projections_Year_8))/rng02_Projections_Unit_8,0)","v":0},{"$f":"SUM(AD95:AD98)","v":0},{"$f":"IF(rng02_Projections_Unit_8<>0, (AD99*(1+rng01_OpExRate)^(rng01_FirstYearProforma-rng02_Projections_Year_8))/rng02_Projections_Unit_8,0)","v":0},{"$f":"SUM(AF95:AF98)","v":0},{"$f":"IF(rng02_Projections_Unit_8<>0, (AF99*(1+rng01_OpExRate)^(rng01_FirstYearProforma-rng02_Projections_Year_8))/rng02_Projections_Unit_8,0)","v":0},{"$f":"SUM(AH95:AH98)","v":0},{"$f":"IF(rng02_Projections_Unit_8<>0, (AH99*(1+rng01_OpExRate)^(rng01_FirstYearProforma-rng02_Projections_Year_8))/rng02_Projections_Unit_8,0)","v":0}]
[]
[null,"First Mortgage DSCR:",null,{"$f":"IF(SUM(D95:D96)=0,\"NAP\",D92/SUM(D95:D96))","v":"NAP"},"NAP",{"$f":"IF(SUM(F95:F96)=0,\"NAP\",F92/SUM(F95:F96))","v":"NAP"},"NAP",null,null,{"$f":"IF(SUM(J95:J96)=0,\"NAP\",J92/SUM(J95:J96))","v":"NAP"},null,{"$f":"IF(SUM(L95:L96)=0,\"NAP\",L92/SUM(L95:L96))","v":"NAP"},"NAP",{"$f":"IF(SUM(N95:N96)=0,\"NAP\",N92/SUM(N95:N96))","v":"NAP"},"NAP",{"$f":"IF(SUM(P95:P96)=0,\"NAP\",P92/SUM(P95:P96))","v":"NAP"},"NAP",{"$f":"IF(SUM(R95:R96)=0,\"NAP\",R92/SUM(R95:R96))","v":"NAP"},"NAP",{"$f":"IF(SUM(T95:T96)=0,\"NAP\",T92/SUM(T95:T96))","v":"NAP"},"NAP",{"$f":"IF(SUM(V95:V96)=0,\"NAP\",V92/SUM(V95:V96))","v":"NAP"},"NAP",{"$f":"IF(SUM(X95:X96)=0,\"NAP\",X92/SUM(X95:X96))","v":"NAP"},"NAP",{"$f":"IF(SUM(Z95:Z96)=0,\"NAP\",Z92/SUM(Z95:Z96))","v":"NAP"},"NAP",{"$f":"IF(SUM(AB95:AB96)=0,\"NAP\",AB92/SUM(AB95:AB96))","v":"NAP"},"NAP",{"$f":"IF(SUM(AD95:AD96)=0,\"NAP\",AD92/SUM(AD95:AD96))","v":"NAP"},"NAP",{"$f":"IF(SUM(AF95:AF96)=0,\"NAP\",AF92/SUM(AF95:AF96))","v":"NAP"},"NAP",{"$f":"IF(SUM(AH95:AH96)=0,\"NAP\",AH92/SUM(AH95:AH96))","v":"NAP"},"NAP"]
[]
[]
[null,"Stabilized Staffing Detail"]
[]
[null,"ADMINISTRATIVE & GENERAL","SALARY","PAY RATE","FIXED FTE'S (#)","VARIABLE FTE'S (#)","TOTAL FTE'S"]
[null,"Executive Director",null,null,null,null,{"$f":"SUM(E107:F107)","v":0}]
[null,"Property Manager",null,null,null,null,{"$f":"SUM(E108:F108)","v":0}]
[null,"Secretary/Receptionist",null,null,null,null,{"$f":"SUM(E109:F109)","v":0}]
[null,"Resident Services Coordinator",null,null,null,null,{"$f":"SUM(E110:F110)","v":0}]
[null,"MARKETING"]
[null,"Director",null,null,null,null,{"$f":"SUM(E112:F112)","v":0}]
[null,"ACTIVITIES"]
[null,"Director",null,null,null,null,{"$f":"SUM(E114:F114)","v":0}]
[null,"Services Coordinator",null,null,null,null,{"$f":"SUM(E115:F115)","v":0}]
[null,"HOUSEKEEPING"]
[null,"Housekeepers",null,null,null,null,{"$f":"SUM(E117:F117)","v":0}]
[null,"LAUNDRY"]
[null,"Aides",null,null,null,null,{"$f":"SUM(E119:F119)","v":0}]
[null,"MAINTENANCE"]
[null,"Maintenance Supervisor",null,null,null,null,{"$f":"SUM(E121:F121)","v":0}]
[null,"Maintenance Man",null,null,null,null,{"$f":"SUM(E122:F122)","v":0}]
[null,"Janitor",null,null,null,null,{"$f":"SUM(E123:F123)","v":0}]
[null,"FOOD SERVICE"]
[null,"Food Service Director",null,null,null,null,{"$f":"SUM(E125:F125)","v":0}]
[null,"Executive Chef",null,null,null,null,{"$f":"SUM(E126:F126)","v":0}]
[null,"Cook",null,null,null,null,{"$f":"SUM(E127:F127)","v":0}]
[null,"Dishwasher/Wait Staff",null,null,null,null,{"$f":"SUM(E128:F128)","v":0}]
[null,"Dining Manager",null,null,null,null,{"$f":"SUM(E129:F129)","v":0}]
[null,"RESIDENT CARE"]
[null,"Director/RN",null,null,null,null,{"$f":"SUM(E131:F131)","v":0}]
[null,"LPN/Social Worker",null,null,null,null,{"$f":"SUM(E132:F132)","v":0}]
[null,"Aides/CNAs",null,null,null,null,{"$f":"SUM(E133:F133)","v":0}]
[null,"STABILIZED STAFFING TOTALS",null,null,null,null,{"$f":"SUM(G107:G133)","v":0}]

{"sheet":"02_3_SOURCES","index":13,"n_rows":46,"n_cols":17,"rows_kept":46,"cut":false,"hidden":true,"merged":[[25,2,25,4],[26,2,26,4],[27,2,27,4],[31,2,31,4],[28,2,28,4],[29,2,29,4],[30,2,30,4],[38,2,38,4],[37,2,37,4],[36,2,36,4],[35,2,35,4],[40,2,40,4],[39,2,39,4]]}
["Fund Sources and Loan Sizing",null,null,null,null,null,null,null,null,null,null,null,null,null,null,null,"SCRATCH PAD - this section is for any side calculation"]
[{"$f":"IF(rng01_ProjectName=\"\",\"[Project Name]\", rng01_ProjectName)","v":"[Project Name]"},null,null,null,null,"Current Model Progress Date:",null,{"$f":"tbl00ModelProgress[[#Totals],[Date of Progress /\nLast Edit]]","v":"00:00:00"}]
[null,null,null,null,null,null,null,null,"DSCR Contraint","LTV Constraint","Year 15 DSCR Constraint","Max. Loan Amount"]
[null,null,{"$f":"IF(E41>E26,\"NOTE: USES EXCEED SOURCES\",\"\")","v":""},null,null,null,null,"Maximum New First Mortgage:",{"$f":"IF(ISERROR(('04_1_Pro Forma'!$C$30/$K$5)/(12*PMT($D$9/12,$E$9*12,-1))),0,('04_1_Pro Forma'!$C$30/$K$5)/(12*PMT($D$9/12,$E$9*12,-1)))","v":0},{"$f":"IFERROR('06_2_Credit Committee'!G27*J5,0)","v":0},{"$f":"IF(ISERROR(('04_1_Pro Forma'!Q30/$E$9)/(12*PMT(D9/12,E9*12,-1))),0,('04_1_Pro Forma'!Q30/$H$9)/(12*PMT(D9/12,E9*12,-1)))","v":0},{"$f":"MIN(I4,J4,K4)","v":0}]
[null,null,null,null,null,null,null,"GAP (If Uses Exceed Sources):",{"$f":"IFERROR(IF(F46>F45,F46-F45,0),0)","v":0},0.9,{"$f":"H9","v":0}]
[null,null,null,null,null,null,null,"Excess(Sources Exceed Uses)",{"$f":"IFERROR(IF(F45>F46,F45-F46,0),0)","v":0}]
[null,null,null,null,null,null,null,null,null,null,null,null,null,{"$f":"IF(G10=\"Cash Flow\",\"The 2nd Mortgage Type Selected is a Cash Flow Mortgage\",\"The 2nd Mortgage Type Selected is Standard Amortizing\")","v":"The 2nd Mortgage Type Selected is Standard Amortizing"}]
[null,"DEBT","Lender","Interest Rate","Term (Years)","Amortization Start Date","Debt Service / Cash Flow","Debt Service Coverage Ratio","Percentage of Cash Flow","Taxable/Tax Exempt","TOTAL","Annual Debt Service Payment",null,"2ND MORTGAGE SIZING TEST 1: DSCR ON YEAR 1 CASH AFTER 1ST DEBT SERVICE"]
[null,{"$f":"IF(ISBLANK(rng01_RIH_Mortgage), \"\", IF(rng01_RIH_Mortgage=\"Yes\", \"RIH First Mortgage\", \"Third Party Lender\"))","v":""},null,{"$f":"'01_1_General Data'!K13","v":0},{"$f":"'01_1_General Data'!K15","v":0},null,"Debt Service",{"$f":"'01_1_General Data'!$K$14","v":0},0,null,null,{"$f":"IF('02_3_SOURCES'!D9>0,-PMT('02_3_SOURCES'!D9/12,'02_3_SOURCES'!E9*12,'02_3_SOURCES'!K9)*12,0)","v":0},null,"Cash Flow After 1st Debt Service:",{"$f":"'04_1_Pro Forma'!C37","v":0}]
[null,"RIH Second Mortgage",null,null,null,null,null,null,0,null,null,{"$f":"IF('02_3_SOURCES'!D10>0,-PMT('02_3_SOURCES'!D10/12,'02_3_SOURCES'!E10*12,'02_3_SOURCES'!K10)*12,0)","v":0},null,"Debt Service Coverage Ratio:",{"$f":"_xlfn.IFNA(VLOOKUP(\"RIH Second Mortgage\", $B$9:$H$16, MATCH(LEFT(N10,LEN(N10)-1),$B$8:$H$8,0),FALSE), \"NA\")","v":0}]
[null,null,null,null,null,null,null,null,null,null,null,{"$f":"IF('02_3_SOURCES'!D11>0,-PMT('02_3_SOURCES'!D11/12,'02_3_SOURCES'!E11*12,'02_3_SOURCES'!K11)*12,0)","v":0},null,"Cash Flow for Debt Service:",{"$f":"IF(O10=\"NA\",\"NA\",O9/O10)","v":{"$error":"#DIV/0!"}}]
[null,null,null,null,null,null,null,null,null,null,null,{"$f":"IF('02_3_SOURCES'!D12>0,-PMT('02_3_SOURCES'!D12/12,'02_3_SOURCES'!E12*12,'02_3_SOURCES'!K12)*12,0)","v":0},null,"Interest Rate:",{"$f":"D14","v":0}]
[null,null,null,null,null,null,null,null,null,null,null,{"$f":"IF('02_3_SOURCES'!D13>0,-PMT('02_3_SOURCES'!D13/12,'02_3_SOURCES'!E13*12,'02_3_SOURCES'!K13)*12,0)","v":0},null,"Term (Months):",{"$f":"E14","v":0}]
[null,null,null,null,null,null,null,null,null,null,null,{"$f":"IF('02_3_SOURCES'!D14>0,-PMT('02_3_SOURCES'!D14/12,'02_3_SOURCES'!E14*12,'02_3_SOURCES'!K14)*12,0)","v":0},null,"Maximum 2nd Mortgage",{"$f":"IF(ISERROR(O11/(12*PMT(O12/12,O13,-1))),0,O11/(12*PMT(O12/12,O13,-1)))","v":0}]
[null,null,null,null,null,null,null,null,null,null,null,{"$f":"IF('02_3_SOURCES'!D15>0,-PMT('02_3_SOURCES'!D15/12,'02_3_SOURCES'!E15*12,'02_3_SOURCES'!K15)*12,0)","v":0}]
[null,null,null,null,null,null,null,null,null,null,null,{"$f":"IF('02_3_SOURCES'!D16>0,-PMT('02_3_SOURCES'!D16/12,'02_3_SOURCES'!E16*12,'02_3_SOURCES'!K16)*12,0)","v":0}]
[null,null,null,null,null,null,null,null,null,null,null,{"$f":"IF('02_3_SOURCES'!D17>0,-PMT('02_3_SOURCES'!D17/12,'02_3_SOURCES'!E17*12,'02_3_SOURCES'!K17)*12,0)","v":0}]
[null,null,null,null,null,null,null,null,null,null,null,{"$f":"IF('02_3_SOURCES'!D18>0,-PMT('02_3_SOURCES'!D18/12,'02_3_SOURCES'!E18*12,'02_3_SOURCES'!K18)*12,0)","v":0}]
[null,null,null,null,null,null,null,null,null,null,null,{"$f":"IF('02_3_SOURCES'!D19>0,-PMT('02_3_SOURCES'!D19/12,'02_3_SOURCES'!E19*12,'02_3_SOURCES'!K19)*12,0)","v":0}]
[null,null,null,null,null,null,null,null,null,null,null,{"$f":"IF('02_3_SOURCES'!D20>0,-PMT('02_3_SOURCES'!D20/12,'02_3_SOURCES'!E20*12,'02_3_SOURCES'!K20)*12,0)","v":0}]
[null,null,null,null,null,null,null,null,null,null,null,{"$f":"IF('02_3_SOURCES'!D21>0,-PMT('02_3_SOURCES'!D21/12,'02_3_SOURCES'!E21*12,'02_3_SOURCES'!K21)*12,0)","v":0}]
[null,null,null,null,null,null,null,null,null,null,null,{"$f":"IF('02_3_SOURCES'!D22>0,-PMT('02_3_SOURCES'!D22/12,'02_3_SOURCES'!E22*12,'02_3_SOURCES'!K22)*12,0)","v":0}]
[null,"TOTAL LOANS",null,null,null,null,null,null,{"$f":"SUM(I9:I22)","v":0},null,{"$f":"SUM(K9:K22)","v":0},{"$f":"SUM(L9:L22)","v":0}]
[]
[]
[null,"EQUITY","Describe Other Equity",null,null,"TOTAL"]
[null,"LIHTC Proceeds",{"$f":"TEXT(ROUND('02_5_LIHTC Proceeds'!C19+'02_5_LIHTC Proceeds'!D19,0),\"$0,00\")&\" per year at \"&TEXT('02_5_LIHTC Proceeds'!D23, \"$0.000\")&\" per Credit\"","v":"$000 per year at $0.000 per Credit"},null,null,{"$f":"SUM('02_5_LIHTC Proceeds'!$C$24:$G$24)-'02_5_LIHTC Proceeds'!$E$24-'02_5_LIHTC Proceeds'!F24","v":0}]
[null,"Fed. Historic Tax Credit Proceeds","-",null,null,{"$f":"'02_5_LIHTC Proceeds'!C36","v":0}]
[null,"General Partner Capital","-"]
[null,"State Historic TC Proceeds",null,null,null,{"$f":"'02_5_LIHTC Proceeds'!D36","v":0}]
[null,"State LIHTC","State LIHTC proceeds",null,null,{"$f":"'02_5_LIHTC Proceeds'!F24","v":0}]
[null,"Other Equity"]
[null,"TOTAL EQUITY",null,null,null,{"$f":"SUM(F27:F32)","v":0}]
[]
[]
[null,"Other","Lender",null,null,"TOTAL"]
[null,"Deferred Development Fee"]
[null,"Other Source 2"]
[null,"Other Source 3"]
[null,"Other Source 4"]
[null,"Other Source 5"]
[null,"TOTAL OTHER",null,null,null,{"$f":"SUM(F37:F41)","v":0}]
[]
[null,"TOTAL TAX EXEMPT SOURCES",null,null,null,{"$f":"SUMIF($J$9:$J$16, \"Tax Exempt\", $K$9:$K$16)","v":0}]
[null,"TOTAL SOURCES",null,null,null,{"$f":"K23+F33+F42","v":0}]
[null,"TOTAL USES",null,null,null,{"$f":"'02_4_USES'!F90","v":0}]

{"sheet":"02_4_USES","index":14,"n_rows":124,"n_cols":22,"rows_kept":124,"cut":false,"hidden":true,"merged":[[4,16,4,17],[101,2,101,3],[102,2,102,3],[103,2,103,3],[92,2,92,3]]}
["Development/Rehabilitation Costs (USES)"]
[{"$f":"IF(rng01_ProjectName=\"\",\"[Project Name]\", rng01_ProjectName)","v":"[Project Name]"},null,null,null,null,"Current Model Progress Date:",{"$f":"tbl00ModelProgress[[#Totals],[Date of Progress /\nLast Edit]]","v":"00:00:00"}]
[]
[]
[null,"Description","Construction \nType 1","Construction \nType 2","Construction \nType 3","Total","Each Item as a % of Subtotal",null,"Eligible for Acquisition Credit","Eligible for New Construction / Rehab. Credit","Ineligible for Credit",null,"HOME Eligible Basis","Aggregate Basis plus Land",null,null,"Fees Check"]
[null,null,null,null,null,null,null,null,null,null,null,null,null,null,null,null,null,null,null,null,null,"SCRATCH PAD - this section is for any side calculation"]
[null,"ACQUISITION COSTS",null,null,null,null,null,null,null,null,null,null,null,null,null,null,"Const. Total",{"$f":"SUM(F18:F19)","v":0}]
[null,"Land Cost",null,null,null,{"$f":"SUM(C8:E8)","v":0},{"$f":"IF($F$15=0,0,F8/$F$15)","v":0},null,null,null,{"$f":"F8-I8-J8","v":0},null,null,null,null,null,"GC:  % of Cons.",{"$f":"F20/R7","v":{"$error":"#DIV/0!"}}]
[null,"Existing Structures",null,null,null,{"$f":"SUM(C9:E9)","v":0},{"$f":"IF($F$15=0,0,F9/$F$15)","v":0},null,null,null,0,null,null,null,null,null,"Profit:  % of Cons.",{"$f":"F21/R7","v":{"$error":"#DIV/0!"}}]
[null,"Off-site Improvements",null,null,null,0,0,null,null,null,0,null,null,null,null,null,"% of GC & OH",{"$f":"F22/SUM(F18:F21)","v":{"$error":"#DIV/0!"}}]
[null,"Demolition",null,null,null,0,0,null,null,null,0,null,null,null,null,null,"Architect Fee Total",{"$f":"F31+F32","v":0}]
[null,"Other",null,null,null,0,0,null,null,null,0,null,null,null,null,null,"% Design",{"$f":"F31/R11","v":{"$error":"#DIV/0!"}}]
[null,"Other",null,null,null,0,0,null,null,null,0,null,null,null,null,null,"% Supervision",{"$f":"F32/R11","v":{"$error":"#DIV/0!"}}]
[null,"Other",null,null,null,0,0,null,null,null,0,null,null,null,null,null,"Clerk of the Works Fee",{"$f":"F38","v":0}]
[null,"TOTAL ACQUISITION",{"$f":"SUM(C8:C14)","v":0},{"$f":"SUM(D8:D14)","v":0},{"$f":"SUM(E8:E14)","v":0},0,{"$f":"IF($F$15=0,0,F15/$F$15)","v":0},null,{"$f":"SUM(I8:I14)","v":0},{"$f":"SUM(J8:J14)","v":0},{"$f":"SUM(K8:K14)","v":0},null,{"$f":"SUM(M8:M14)","v":0},{"$f":"SUM(N8:N14)","v":0},null,null,"% of Hard Const Costs",{"$f":"R14/F26","v":{"$error":"#DIV/0!"}}]
[]
[null,"CONSTRUCTION/REHAB. COSTS (input on Construction Cost tab)"]
[null,"Buildings",{"$f":"'03_1_Construction Cost'!$P$39","v":0},{"$f":"'03_1_Construction Cost'!$Q$39","v":0},{"$f":"'03_1_Construction Cost'!$R$39","v":0},{"$f":"SUM(C18:E18)","v":0},{"$f":"IF($F$28=0,0,F18/$F$28)","v":0},null,null,null,{"$f":"F18-I18-J18","v":0}]
[null,"Site Work",{"$f":"'03_1_Construction Cost'!$P$47","v":0},{"$f":"'03_1_Construction Cost'!$Q$47","v":0},{"$f":"'03_1_Construction Cost'!$R$47","v":0},0,0,null,null,null,0]
[null,{"$f":"\"General Requirements: Typically \"&VALUE(IF(F28<1000000,8%,IF(AND(F28>=1000000,F28<3000000),7%,6%))*100)&\"%\"","v":"General Requirements: Typically 8%"},{"$f":"'03_1_Construction Cost'!$P$49","v":0},{"$f":"'03_1_Construction Cost'!$Q$49","v":0},{"$f":"'03_1_Construction Cost'!$R$49","v":0},0,0,null,null,null,0]
[null,"Builders General Overhead: Typically 2%",{"$f":"'03_1_Construction Cost'!$P$51","v":0},{"$f":"'03_1_Construction Cost'!$Q$51","v":0},{"$f":"'03_1_Construction Cost'!$R$51","v":0},0,0,null,null,null,0]
[null,{"$f":"\"Builders Profit: Typically \"&VALUE(IF(F28<1000000,9%,IF(AND(F28>=1000000,F28<3000000),8%,IF(AND(F28>=3000000,F28<4000000),6%,IF(AND(F28>=4000000,F28<5000000),5.5%,5%))))*100)&\"%\"","v":"Builders Profit: Typically 9%"},{"$f":"'03_1_Construction Cost'!$P$52","v":0},{"$f":"'03_1_Construction Cost'!$Q$52","v":0},{"$f":"'03_1_Construction Cost'!$R$52","v":0},0,0,null,null,null,0]
[null,"Bond Premium",{"$f":"'03_1_Construction Cost'!$P$54","v":0},{"$f":"'03_1_Construction Cost'!$Q$54","v":0},{"$f":"'03_1_Construction Cost'!$R$54","v":0},0,0,null,null,null,0]
[null,"Extraordinary Conditions",null,null,null,0,0,null,null,null,0]
[null,"Other Fees",{"$f":"'03_1_Construction Cost'!P$53","v":0},{"$f":"'03_1_Construction Cost'!Q$53","v":0},{"$f":"'03_1_Construction Cost'!R$53","v":0},0,0,null,null,null,0]
[null,"TOTAL HARD COSTS",{"$f":"SUM(C18:C25)","v":0},{"$f":"SUM(D18:D25)","v":0},{"$f":"SUM(E18:E25)","v":0},0,0,null,{"$f":"SUM(I18:I25)","v":0},{"$f":"SUM(J18:J25)","v":0},null,null,{"$f":"SUM(M18:M25)","v":0}]
[null,"Construction Contingency: Typically 10%",null,null,null,0,0,null,null,null,{"$f":"F27-I27-J27","v":0}]
[null,"TOTAL CONSTRUCTION/REHABILITATION",{"$f":"SUM(C18:C27)-C26","v":0},{"$f":"SUM(D18:D27)-D26","v":0},{"$f":"SUM(E18:E27)-E26","v":0},0,0,null,{"$f":"SUM(I26:I27)","v":0},{"$f":"SUM(J26:J27)","v":0},{"$f":"SUM(K26:K27)","v":0},null,{"$f":"SUM(M18:M27)-M26","v":0},{"$f":"SUM(N18:N27)-N26","v":0}]
[null,{"$f":"IF(F28=0,\"\",IF(F27/F28>10%,\"Contingency Fee Currently Exceeds 10% of Hard Construction Costs\",\"\"))","v":""}]
[null,"SOFT COSTS"]
[null,"Architect Fee - Design",null,null,null,{"$f":"SUM(C31:E31)","v":0},{"$f":"IF($F$28=0,0,F31/$F$59)","v":0},null,null,null,{"$f":"F31-I31-J31","v":0}]
[null,"Architect Fee - Supervision",null,null,null,0,{"$f":"IF($F$28=0,0,F32/$F$59)","v":0},null,null,null,0]
[null,"Survey",null,null,null,0,0,null,null,null,0]
[null,"Environmental",null,null,null,0,0,null,null,null,0]
[null,"Structural Engineering & Reports",null,null,null,0,0,null,null,null,0]
[null,"Fire Code Compliance Report",null,null,null,0,0,null,null,null,0]
[null,"Builders Risk Insurance",null,null,null,0,0,null,null,null,0]
[null,"Clerk of the Works",null,null,null,0,0,null,null,null,0]
[null,"Owner Legal Fees",null,null,null,0,0,null,null,null,0]
[null,"RIH Legal Fees",null,null,null,0,0,null,null,null,0]
[null,"Syndicator Legal",null,null,null,0,0,null,null,null,0]
[null,"Title and Recording",null,null,null,0,0,null,null,null,0]
[null,"Cost Certification",null,null,null,0,0,null,null,null,{"$f":"F43","v":0}]
[null,"LIHTC Accounting",null,null,null,0,0,null,null,null,{"$f":"F44","v":0}]
[null,"Appraisal",null,null,null,0,0,null,null,null,{"$f":"F45-I45-J45","v":0}]
[null,"Market Study",null,null,null,0,0,null,null,null,{"$f":"F46-I46-J46","v":0}]
[null,"Capital Needs Assessment",null,null,null,0,0,null,null,null,{"$f":"F47-I47-J47","v":0}]
[null,"Furniture, Fixtures and Equipment",null,null,null,0,0,null,null,null,{"$f":"F48-I48-J48","v":0}]
[null,"Marketing and Lease-up",null,null,null,0,0,null,null,null,{"$f":"F49","v":0}]
[null,"Sewer, Water and Utility Hookups",null,null,null,0,0,null,null,null,{"$f":"F50-I50-J50","v":0}]
[null,"Relocation",null,null,null,0,0,null,null,null,0]
[null,"RE Tax Fee Set up",null,null,null,0,0,null,null,null,0]
[null,"Credit Report",null,null,null,0,0,null,null,null,0]
[null,"Other",null,null,null,0,0,null,null,null,0]
[null,"Other",null,null,null,0,0,null,null,null,0]
[null,"Other",null,null,null,0,0,null,null,null,0]
[null,"Other",null,null,null,0,0,null,null,null,0]
[null,"Soft Cost Contingency",null,null,null,0,0,null,null,null,0]
[null,"TOTAL SOFT COSTS",{"$f":"SUM(C31:C58)","v":0},{"$f":"SUM(D31:D58)","v":0},{"$f":"SUM(E31:E58)","v":0},0,{"$f":"IF($F$28=0,0,F59/$F$59)","v":0},null,{"$f":"SUM(I31:I58)","v":0},{"$f":"SUM(J31:J58)","v":0},{"$f":"SUM(K31:K58)","v":0},null,{"$f":"SUM(M31:M57)","v":0},{"$f":"SUM(N31:N58)","v":0}]
[]
[null,"FINANCING "]
[null,"Taxes During Construction",null,null,null,{"$f":"SUM(C62:E62)","v":0},{"$f":"IF($F$74=0,0,F62/$F$74)","v":0},null,null,null,{"$f":"F62-I62-J62","v":0}]
[null,"Risk Sharing Premium",null,null,null,0,{"$f":"IF($F$74=0,0,F63/$F$74)","v":0},null,null,null,{"$f":"F63-I63-J63","v":0},null,null,null,null,null,"RS Premium = .00125 of Sr. Loan"]
[null,"Construction Loan Interest",null,null,null,0,0,null,null,null,{"$f":"F64-I64-J64","v":0}]
[null,"Construction Loan Origination Fee",null,null,null,0,0,null,null,null,{"$f":"F65","v":0}]
[null,"RIH Origination Fee",null,null,null,0,0,null,null,null,{"$f":"F66","v":0}]
[null,"Other Lender Origination Fee",null,null,null,0,0,null,null,null,{"$f":"F67","v":0}]
[null,"Cost of Issuance (bond deals only)",null,null,null,0,0,null,null,null,{"$f":"F68","v":0},null,null,null,null,null,"Use 1.5% as a Placeholder for RIH bond issuance"]
[null,{"$f":"\"Tax Credit Allocation Fee: Typ. \" & IF(OR(rng01_CreditType = \"9%\", rng01_CreditType = \"4% and 9%\"), TEXT('02_5_LIHTC Proceeds'!$C$29*0.005, \"$0,00\"), IF(rng01_CreditType = \"4%\", TEXT('02_5_LIHTC Proceeds'!$C$29*0.01, \"$0,00\"), \"$0\"))","v":"Tax Credit Allocation Fee: Typ. $0"},null,null,null,0,0,null,null,null,{"$f":"F69","v":0}]
[null,"Other",null,null,null,0,0,null,null,null,{"$f":"F70-I70-J70","v":0}]
[null,"Other",null,null,null,0,0,null,null,null,{"$f":"F71-I71-J71","v":0}]
[null,"Other",null,null,null,0,0,null,null,null,{"$f":"F72-I72-J72","v":0}]
[null,"Other",null,null,null,0,0,null,null,null,{"$f":"F73-I73-J73","v":0}]
[null,"TOTAL FINANCING COSTS",{"$f":"SUM(C62:C73)","v":0},{"$f":"SUM(D62:D73)","v":0},{"$f":"SUM(E62:E73)","v":0},0,{"$f":"IF($F$74=0,0,F74/$F$74)","v":0},null,{"$f":"SUM(I62:I73)","v":0},{"$f":"SUM(J62:J73)","v":0},{"$f":"SUM(K62:K73)","v":0},null,{"$f":"SUM(M62:M73)","v":0},{"$f":"SUM(N62:N73)","v":0}]
[]
[null,"RESERVES"]
[null,"1st Year Property Tax Escrow",null,null,null,{"$f":"SUM(C77:E77)","v":0},{"$f":"IF($F$83=0,0,F77/$F$83)","v":0},null,null,null,{"$f":"F77","v":0}]
[null,"1st Year Insurance Escrow",null,null,null,0,0,null,null,null,0]
[null,{"$f":"\"Operating Reserve: \" & \"Typ. \" & TEXT((('02_2_EXPENSE'!D91)*0.5)+(0.5*'04_1_Pro Forma'!C36), \"$0,00\")","v":"Operating Reserve: Typ. $000"},null,null,null,0,0,null,null,null,0]
[null,"Replacement Reserve",null,null,null,0,0,null,null,null,0]
[null,"Lease-up Reserve",null,null,null,0,0,null,null,null,0]
[null,"Other",null,null,null,0,0,null,null,null,0]
[null,"TOTAL RESERVES",{"$f":"SUM(C77:C82)","v":0},{"$f":"SUM(D77:D82)","v":0},{"$f":"SUM(E77:E82)","v":0},0,{"$f":"IF($F$28=0,0,F83/$F$28)","v":0},null,{"$f":"SUM(I76:I82)","v":0},{"$f":"SUM(J76:J82)","v":0},{"$f":"SUM(K76:K82)","v":0},null,{"$f":"SUM(M77:M82)","v":0},{"$f":"SUM(N77:N82)","v":0}]
[null,{"$f":"IF(SUM(F66)<20000,\"PLEASE ADJUST THE ORIGINATION FEE, MINIMUM ORIGINATION FEE IS $20,000\",\"\")","v":"PLEASE ADJUST THE ORIGINATION FEE, MINIMUM ORIGINATION FEE IS $20,000"}]
[null,"DEVELOPER FEE"]
[null,{"$f":"\"Base Developer Fee: Typ. \"&TEXT('06_3_UWChecklist'!B11, \"$0,00\")","v":"Base Developer Fee: Typ. FALSE"},null,null,null,{"$f":"SUM(C86:E86)","v":0},{"$f":"IF($F$28=0,0,F86/$F$88)","v":0},null,null,null,{"$f":"F86-I86-J86","v":0}]
[null,"Eligible Incentive Developer Fee",null,null,null,{"$f":"SUM(C87:E87)","v":0},{"$f":"IF($F$28=0,0,F87/$F$88)","v":0},null,null,null,{"$f":"F87-I87-J87","v":0}]
[null,"TOTAL DEVELOPER FEE",{"$f":"SUM(C86:C87)","v":0},{"$f":"SUM(D86:D87)","v":0},{"$f":"SUM(E86:E87)","v":0},{"$f":"SUM(C88:E88)","v":0},{"$f":"IF($F$28=0,0,F88/$F$88)","v":0},null,{"$f":"SUM(I86:I87)","v":0},{"$f":"SUM(J86:J87)","v":0},{"$f":"SUM(K86:K87)","v":0},null,{"$f":"SUM(M86:M87)","v":0},{"$f":"SUM(N86:N87)","v":0}]
[null,"SUBTOTAL CONSTRUCTION & SOFT COSTS",{"$f":"C28+C59+C74+C83+C88","v":0},{"$f":"D28+D59+D74+D83+D88","v":0},{"$f":"E28+E59+E74+E83+E88","v":0},{"$f":"SUM(C89:E89)","v":0},"N/A",null,{"$f":"I28+I59+I74+I83+I88","v":0},{"$f":"J28+J59+J74+J83+J88","v":0},{"$f":"K28+K59+K74+K83+K88","v":0},null,{"$f":"M28+M59+M74+M83+M88","v":0},{"$f":"N28+N59+N74+N83+N88","v":0}]
[null,"TOTAL DEVELOPMENT COSTS",{"$f":"C89+C15","v":0},{"$f":"D89+D15","v":0},{"$f":"E89+E15","v":0},{"$f":"SUM(C90:E90)","v":0},"N/A",null,{"$f":"I89+I15","v":0},{"$f":"J89+J15","v":0},0,null,0,0]
[]
[]
[null,"Developer Fee Property & Program Information:",{"$f":"'01_1_General Data'!C47&\", \"&'01_1_General Data'!C38","v":", "}]
[]
[null,"Developer Fee as Percentage of Total Development Costs, Net of Reserves and Latent Defects:",null,null,null,{"$f":"IF((F28+F59+F74)=0,0,F86/(F28+F59+F74))","v":0}]
[null,"Developer Fee as Percentage of Total Development Costs and Acquisition, Net of Reserves and Latent Defects:",null,null,null,{"$f":"IF((F28+F59+F74+'02_4_USES'!F15)=0,0,F86/(F28+F59+F74+'02_4_USES'!F15))","v":0}]
[null,null,null,null,"PER UNIT"]
[null,"SUBTOTAL CONSTRUCTION & SOFT COSTS",{"$f":"F28+F59+F74+F83+F88","v":0},null,{"$f":"IF(SUM('02_1_INCOME'!$M$65:$M$66)=0,0,C98/SUM('02_1_INCOME'!$M$65:$M$66))","v":0}]
[null,"ACQUISITION COSTS",{"$f":"'02_4_USES'!F15","v":0},null,{"$f":"IF(SUM('02_1_INCOME'!$M$65:$M$66)=0,0,C99/SUM('02_1_INCOME'!$M$65:$M$66))","v":0}]
[null,"TOTAL DEVELOPMENT COSTS",{"$f":"C98+C99","v":0},null,{"$f":"IF(rng02_TotalUnit=0,0,C100/rng02_TotalUnit)","v":0}]
[]
[null,"TOTAL RIH REHABILITATION COSTS FOR 15% TEST",null,null,{"$f":"IF(SUM('02_1_INCOME'!$M$65:$M$66)=0,0,C102/SUM('02_1_INCOME'!$M$65:$M$66))","v":0}]
[null,"TOTAL RIH ACQUISITION COSTS FOR 15% TEST",null,null,{"$f":"IF(SUM('02_1_INCOME'!$M$65:$M$66)=0,0,C103/SUM('02_1_INCOME'!$M$65:$M$66))","v":0}]
[null,"RATIO OF RIH REHABILITATION COSTS TO RIH ACQUISITION COSTS",{"$f":"IF(C103=0,0,C102/C103)","v":0}]
[]
[]
[null,"Developer Fee Summary for Reference"]
[null,"Result 1: Preservation or Refinance",null,null,{"$f":"IF(rng01_DevelopmentType='00_3_Drop Down'!R13,ROUND(('06_3_UWChecklist'!O11*'02_4_USES'!F15)+('06_3_UWChecklist'!P11*(F28+F59+F74)),0),ROUND(('06_3_UWChecklist'!O11*SUMIF($C$6:$E$6, '00_3_Drop Down'!$X$13,'02_4_USES'!C15:E15))+('06_3_UWChecklist'!P11*(SUMIF($C$6:$E$6, '00_3_Drop Down'!$X$13,'02_4_USES'!C28:E28)+SUMIF($C$6:$E$6, '00_3_Drop Down'!$X$13,'02_4_USES'!C59:E59)+SUMIF($C$6:$E$6, '00_3_Drop Down'!$X$13,'02_4_USES'!C74:E74))),0))","v":0}]
[null,"Result is 5% of Acq. + 10% of Dev. Costs, not including Reserves"]
[]
[null,"Result 2: Rental Production, Single Site",null,null,{"$f":"IF(rng01_DevelopmentType='00_3_Drop Down'!R12,ROUND('06_3_UWChecklist'!R11*SUM('06_1_Summary Printout'!E50:F53)+'06_3_UWChecklist'!S11*SUM('06_1_Summary Printout'!E54:F56),0),ROUND('06_3_UWChecklist'!R11*SUMIFS('02_1_INCOME'!F8:F37,'02_1_INCOME'!E8:E37,'00_3_Drop Down'!AG12,'02_1_INCOME'!V8:V37,\"<=3\")+'06_3_UWChecklist'!S11*SUMIFS('02_1_INCOME'!F8:F37,'02_1_INCOME'!E8:E37,'00_3_Drop Down'!AG12,'02_1_INCOME'!V8:V37,\">3\"),0))","v":0}]
[null,{"$f":"\"Result is \"&TEXT('06_3_UWChecklist'!$R$11, \"$0,00\")&\" per 0-2BR Unit plus, \"&TEXT('06_3_UWChecklist'!$S$11, \"$0,00\")&\" per 3-5BR Unit\"","v":"Result is $20,790 per 0-2BR Unit plus, $23,100 per 3-5BR Unit"}]
[]
[null,"Result 3: Rental Production, Scattered Site",null,null,{"$f":"IF(rng01_DevelopmentType='00_3_Drop Down'!R12,ROUND('06_3_UWChecklist'!U11*SUM('06_1_Summary Printout'!E50:F53)+'06_3_UWChecklist'!V11*SUM('06_1_Summary Printout'!E54:F56),0),ROUND('06_3_UWChecklist'!U11*SUMIFS('02_1_INCOME'!F8:F37,'02_1_INCOME'!E8:E37,'00_3_Drop Down'!AG12,'02_1_INCOME'!V8:V37,\"<=3\")+'06_3_UWChecklist'!V11*SUMIFS('02_1_INCOME'!F8:F37,'02_1_INCOME'!E8:E37,'00_3_Drop Down'!AG12,'02_1_INCOME'!V8:V37,\">3\"),0))","v":0}]
[null,{"$f":"\"Result is \"&TEXT('06_3_UWChecklist'!$U$11, \"$0,00\")&\" per 0-2BR Unit plus, \"&TEXT('06_3_UWChecklist'!$V$11, \"$0,00\")&\" per 3-5BR Unit\"","v":"Result is $23,650 per 0-2BR Unit plus, $25,300 per 3-5BR Unit"}]
[]
[null,"Result 4: Combined New Construction and Preservation",null,null,{"$f":"E108+IF(rng01_ProjectType='00_3_Drop Down'!G12,'02_4_USES'!E114,'02_4_USES'!E111)","v":0}]
[null,"Result is combining Preservation and New Construction portion"]
[]
[]
[null,"Calculation of Incentive Fee for 4% credit deals"]
[]
[null,"TDC Minus Reserves and Fee",null,{"$f":"C100-F88-F83","v":0}]
[null,null,0.15,{"$f":"D123*C124","v":0}]

{"sheet":"02_5_LIHTC Proceeds","index":15,"n_rows":41,"n_cols":7,"rows_kept":41,"cut":false,"hidden":true,"merged":[]}
["Tax Credit Proceeds"]
[{"$f":"IF(rng01_ProjectName=\"\",\"[Project Name]\", rng01_ProjectName)","v":"[Project Name]"},null,"Current Model Progress Date:",{"$f":"tbl00ModelProgress[[#Totals],[Date of Progress /\nLast Edit]]","v":"00:00:00"}]
[]
[]
[]
[]
[null,"LINE ITEMS","ACQUISITION","NEW / REHAB","Custom Calculation","STATE LIHTC"]
[null,"Total Eligible Uses (from Uses tab)",{"$f":"'02_4_USES'!I90","v":0},{"$f":"'02_4_USES'!J89","v":0},null,{"$f":"rng05_Proceeds_TotalEligibleUses+D8","v":0}]
[null,"minus Historic Tax Credit  ",0,{"$f":"-C34","v":0},null,{"$f":"-C34","v":0},{"$f":"G34","v":0}]
[null,"minus Other Non-Qualifying Financing or Adjustments",null,null,null,null,0]
[null,"Adjusted Project Costs",{"$f":"SUM(C8:C10)","v":0},{"$f":"SUM(D8:D10)","v":0},{"$f":"SUM(E8:E10)","v":0},{"$f":"SUM(F8:F10)","v":0},{"$f":"SUM(G8:G10)","v":0}]
[null,"Adjustment for QCT / DDA"]
[null,"Eligible Basis",{"$f":"C11","v":0},{"$f":"D11*D12","v":0},{"$f":"E11*E12","v":0},{"$f":"F11","v":0},{"$f":"G8*G12","v":0}]
[null,"Applicable Fraction",{"$f":"MIN('02_1_INCOME'!$C$114:$C$115)","v":0},{"$f":"MIN('02_1_INCOME'!$C$114:$C$115)","v":0},{"$f":"MIN('02_1_INCOME'!$C$114:$C$115)","v":0},{"$f":"D14","v":0},{"$f":"MIN('02_1_INCOME'!$C$114:$C$115)","v":0}]
[null,"Qualified Basis",{"$f":"C13*C14","v":0},{"$f":"D13*D14","v":0},{"$f":"E13*E14","v":0},{"$f":"F13*F14","v":0},{"$f":"G13*G14","v":0}]
[null,"Tax Credit Percentage"]
[null,"Maximum Annual Tax Credit",{"$f":"C15*C16","v":0},{"$f":"D15*D16","v":0},{"$f":"E15*E16","v":0},{"$f":"F15*F16","v":0},{"$f":"G15*G16","v":0}]
[null,"Allocation Adjustment"]
[null,"Actual Allocation",{"$f":"C17-C18","v":0},{"$f":"D17-D18","v":0},{"$f":"E17-E18","v":0},{"$f":"F17-F18","v":0},{"$f":"G17-G18","v":0}]
[null,"Years of Eligibility",10,10,10,5]
[null,"Total 10 Years of Credit",{"$f":"C19*C20","v":0},{"$f":"D19*D20","v":0},{"$f":"E19*E20","v":0},{"$f":"F20*F19","v":0},{"$f":"G19*G20","v":0}]
[null,"Investor Percentage"]
[null,"Price for Credits"]
[null,"Total Credit Syndication Proceeds",{"$f":"C21*C23*C22","v":0},{"$f":"D21*D23*D22","v":0},{"$f":"E21*E23*E22","v":0},{"$f":"F21*F23*F22","v":0},{"$f":"G21*G23*G22","v":0}]
[]
[]
[null,"FEDERAL TAX CREDIT TOTALS","Total","To Investor"]
[null,"Annual Tax Credit Amount",{"$f":"SUM(C19:E19)","v":0},{"$f":"SUMPRODUCT(C22:E22,C19:E19)","v":0}]
[null,"Ten Year Totals",{"$f":"C28*10","v":0},{"$f":"D28*10","v":0}]
[]
[null,"HISTORIC TAX CREDIT","FEDERAL","STATE"]
[null,"Qualified Basis"]
[null,"Tax Credit Percentage"]
[null,"Historic Tax Credit Amount",{"$f":"C32*C33","v":0},{"$f":"D32*D33","v":0}]
[null,"Price for Credits"]
[null,"Historic Tax Credit Actual",{"$f":"C34*C35","v":0},{"$f":"D34*D35","v":0}]
[]
[]
[null,"STATE TAX CREDIT TOTALS","Total","To Investor"]
[null,"Annual Tax Credit Amount",{"$f":"F19","v":0},{"$f":"SUMPRODUCT(F22,F19)","v":{"$error":"#VALUE!"}}]
[null,"Five Year Totals",{"$f":"C40*5","v":0},{"$f":"D40*5","v":{"$error":"#VALUE!"}}]

{"sheet":"02_6_AVERAGE INCOME TEST","index":16,"n_rows":15,"n_cols":12,"rows_kept":15,"cut":false,"hidden":true,"merged":[[3,1,3,8],[3,10,3,11]]}
["Average Income Test"]
[{"$f":"IF(rng01_ProjectName=\"\",\"[Project Name]\", rng01_ProjectName)","v":"[Project Name]"},null,null,null,null,"Current Model Progress Date:",{"$f":"tbl00ModelProgress[[#Totals],[Date of Progress /\nLast Edit]]","v":"00:00:00"}]
[]
[null,"Average Income Test Unit Matrix",null,null,null,null,null,null,null,null,"AIT Data"]
[null,"AMI %","SRO","Efficiency","1 BR","2 BR","3 BR","4 BR","5 BR",null,"Total Units","AMI Calculation"]
[null,0.2,null,null,null,null,null,null,null,null,{"$f":"SUM(C6:I6)","v":0},{"$f":"K6*B6","v":0}]
[null,0.3,null,null,null,null,null,null,null,null,{"$f":"SUM(C7:I7)","v":0},{"$f":"K7*B7","v":0}]
[null,0.4,null,null,null,null,null,null,null,null,0,0]
[null,0.5,null,null,null,null,null,null,null,null,0,0]
[null,0.6,null,null,null,null,null,null,null,null,0,0]
[null,0.7,null,null,null,null,null,null,null,null,0,0]
[null,0.8,null,null,null,null,null,null,null,null,0,0]
[null,"Market Unit",null,null,null,null,null,null,null,null,0]
[null,"Totals",{"$f":"SUM(C6:C13)","v":0},{"$f":"SUM(D6:D13)","v":0},0,0,0,0,0,null,{"$f":"SUM(K6:K13)","v":0},{"$f":"IF(NOT(ISNUMBER(L15)),\"\",IF(L15<B10, \"Pass\", \"Fail\"))","v":""}]
[null,null,null,null,null,null,null,null,null,null,"Average AIT AMI%",{"$f":"IFERROR(SUM(AMI_Calculation)/K14, \"\")","v":""}]

{"sheet":"03_1_Construction Cost","index":17,"n_rows":62,"n_cols":18,"rows_kept":62,"cut":false,"hidden":true,"merged":[[4,5,4,10],[5,5,5,10],[8,7,8,13],[9,7,9,13],[10,7,10,13],[11,7,11,13],[12,7,12,13],[13,7,13,13],[14,7,14,13],[15,7,15,13],[16,7,16,13],[17,7,17,13],[18,7,18,13],[19,7,19,13],[20,7,20,13],[21,7,21,13],[22,7,22,13],[23,7,23,13],[24,7,24,13],[25,7,25,13],[26,7,26,13],[27,7,27,13],[28,7,28,13],[29,7,29,13],[30,7,30,13],[31,7,31,13],[32,7,32,13],[33,7,33,13],[34,7,34,13],[35,7,35,13],[36,7,36,13],[37,7,37,13],[38,7,38,13],[39,7,39,13],[40,7,40,13],[41,7,41,13],[42,7,42,13],[43,7,43,13],[44,7,44,13],[45,7,45,13],[51,8,51,13],[52,7,52,13],[53,7,53,13],[54,7,54,13],[46,7,46,13],[47,7,47,13],[48,8,48,13],[49,7,49,13],[50,8,50,13]]}
["Construction Costs"]
[{"$f":"IF(rng01_ProjectName=\"\",\"[Project Name]\", rng01_ProjectName)","v":"[Project Name]"},null,null,null,null,null,null,null,null,null,"Current Model Progress Date:",{"$f":"tbl00ModelProgress[[#Totals],[Date of Progress /\nLast Edit]]","v":"00:00:00"}]
[]
[]
[null,"Date:",null,null,null,"CONTRACTOR’S and/or MORTGAGOR’S",null,null,null,null,null,"Project Number:",null,null,null,"Construction Type 1","Construction Type 2","Construction Type 3"]
[null,"Sponsor:",null,{"$f":"rng01_Developer","v":0},null,"COST BREAKDOWN",null,null,null,null,null,"Building Identification:",null,null,null,"Construction Type","Construction Type","Construction Type"]
[null,"Name of Project:",null,null,{"$f":"A2","v":"[Project Name]"},null,null,null,"Location:",null,null,null,null,null,null,{"$f":"'02_4_USES'!C6","v":0},{"$f":"'02_4_USES'!D6","v":0},{"$f":"'02_4_USES'!E6","v":0}]
[null,"L","D","TRADE  ITEM",null,null,"COST","TRADE DESCRIPTION",null,null,null,null,null,null,null,"Total Cost","Total Cost","Total Cost"]
[null,1,3,"Concrete",null,null,{"$f":"SUM(P9:R9)","v":0}]
[null,2,4,"Masonry",null,null,{"$f":"SUM(P10:R10)","v":0}]
[null,3,5,"Metals",null,null,0]
[null,4,6,"Rough Carpentry",null,null,0]
[null,5,6,"Finish Carpentry",null,null,0]
[null,6,7,"Waterproofing",null,null,0]
[null,7,7,"Insulation",null,null,0]
[null,8,7,"Roofing",null,null,0]
[null,9,7,"Sheet Metal",null,null,0]
[null,10,8,"Doors and Hardware",null,null,0]
[null,11,8,"Windows",null,null,0]
[null,12,9,"Lath and Plaster",null,null,0]
[null,13,9,"Drywall",null,null,0]
[null,14,9,"Tile Work",null,null,0]
[null,15,9,"Acoustical",null,null,0]
[null,16,9,"Wood Flooring",null,null,0]
[null,17,9,"Resilient Flooring",null,null,0]
[null,18,9,"Painting and Decorating",null,null,0]
[null,19,10,"Specialties",null,null,0]
[null,20,11,"Special Equipment",null,null,0]
[null,21,11,"Cabinets",null,null,0]
[null,22,11,"Appliances",null,null,0]
[null,23,12,"Blinds and Shades, Artwork",null,null,0]
[null,24,12,"Carpets",null,null,0]
[null,25,13,"Special Construction",null,null,0]
[null,26,14,"Elevators",null,null,0]
[null,27,15,"Plumbing and Hot Water",null,null,0]
[null,28,15,"Heat and Ventilation",null,null,0]
[null,29,15,"Air Conditioning",null,null,0]
[null,30,16,"Electrical",null,null,0]
[null,31,null,"SUBTOTAL (Structures)",null,null,{"$f":"SUM(G9:G38)","v":0},null,null,null,null,null,null,null,null,{"$f":"SUM(P9:P38)","v":0},{"$f":"SUM(Q9:Q38)","v":0},{"$f":"SUM(R9:R38)","v":0}]
[null,32,2,"Earth Work",null,null,0]
[null,33,2,"Demolition",null,null,0]
[null,34,2,"Site Utilities",null,null,0]
[null,35,2,"Roads and Walks",null,null,0]
[null,36,2,"Site Improvements",null,null,0]
[null,37,2,"Lawns and Planting",null,null,0]
[null,38,2,"Unusual Site Conditions",null,null,0]
[null,39,null,"SUBTOTAL (LAND IMPRVTS.)",null,null,{"$f":"SUM(G40:G46)","v":0},null,null,null,null,null,null,null,null,{"$f":"SUM(P40:P46)","v":0},{"$f":"SUM(Q40:Q46)","v":0},{"$f":"SUM(R40:R46)","v":0}]
[null,40,null,"TOT. STRUCT. & LAND IMPRVTS.",null,null,{"$f":"SUM(G47,G39)","v":0},null,null,null,null,null,null,null,null,{"$f":"SUM(P47,P39)","v":0},{"$f":"SUM(Q47,Q39)","v":0},{"$f":"SUM(R47,R39)","v":0}]
[null,41,null,"GENERAL REQUIREMENT",null,null,{"$f":"SUM(P49:R49)","v":0},{"$f":"SUM(G49/G48)","v":{"$error":"#DIV/0!"}}]
[null,42,null,"SUBTOTAL (Lines 40 and 41)",null,null,{"$f":"G48+G49","v":0},null,null,null,null,null,null,null,null,{"$f":"SUM(P48:P49)","v":0},{"$f":"SUM(Q48:Q49)","v":0},{"$f":"SUM(R48:R49)","v":0}]
[null,43,null,"BUILDER’S OVERHEAD",null,null,{"$f":"SUM(P51:R51)","v":0},{"$f":"SUM(G51/G50)","v":{"$error":"#DIV/0!"}}]
[null,44,null,"BUILDER’S PROFIT",null,null,{"$f":"SUM(P52:R52)","v":0},{"$f":"SUM(G52/G50)","v":{"$error":"#DIV/0!"}}]
[null,45,null,"OTHER FEES",null,null,{"$f":"SUM(P53:R53)","v":0}]
[null,46,null,"BOND PREMIUM",null,null,{"$f":"SUM(P54:R54)","v":0}]
[null,47,null,"TOTAL IMPROVEMENTS",null,null,{"$f":"SUM(G50:G54)","v":0},null,null,null,null,null,null,null,null,{"$f":"SUM(P50:P54)","v":0},{"$f":"SUM(Q50:Q54)","v":0},{"$f":"SUM(R50:R54)","v":0}]
[]
[null,"Mortgagor",null,null,null,null,null,"By",null,null,null,null,"Date"]
[null,"Contractor",null,null,null,null,null,"By",null,null,null,null,"Date"]
[null,"RIH D/C",null,null,null,null,null,"By",null,null,null,null,"Date"]
[null,"RIH Approved ",null,null,null,null,null,"By",null,null,null,null,"Date"]
[]
[null,null,null,null,null,null,null,null,null,null,null,null,null,"Form #:  RIH 2F-2328"]

{"sheet":"03_2_Construction Cashflow","index":18,"n_rows":122,"n_cols":37,"rows_kept":122,"cut":false,"hidden":true,"merged":[]}
["Construction Cashflow"]
[{"$f":"IF(rng01_ProjectName=\"\",\"[Project Name]\", rng01_ProjectName)","v":"[Project Name]"},null,null,null,null,null,null,null,"Current Model Progress Date:",{"$f":"tbl00ModelProgress[[#Totals],[Date of Progress /\nLast Edit]]","v":"00:00:00"}]
[]
[null,null,"Construction Period (Months)"]
[]
[null,null,null,"Year",{"$f":"YEAR('01_1_General Data'!C89)","v":1900},{"$f":"YEAR('01_1_General Data'!C90)","v":1900},{"$f":"IF(F7<12,F6,F6+1)","v":1900},{"$f":"IF(G7<12,G6,G6+1)","v":1900},1900,1900,1900,1900,1900,1900,1900,1900,1900,1901,1901,1901,1901,1901,1901,1901,1901,1901,1901,1901,1901,1902,1902,1902,1902,1902,1902]
[null,null,null,"Month",{"$f":"MONTH(rng01_ClosingDate)","v":1},{"$f":"MONTH('01_1_General Data'!C90)","v":1},{"$f":"IF(F7<12,F7+1,1)","v":2},{"$f":"IF(G7<12,G7+1,1)","v":3},4,5,6,7,8,9,10,11,12,1,2,3,4,5,6,7,8,9,10,11,12,1,2,3,4,5,6]
[null,null,"BUDGET","Cross Check"," CLOSING","MONTH 1","MONTH 2","MONTH 3","MONTH 4","MONTH 5","MONTH 6","MONTH 7","MONTH 8","MONTH 9","MONTH 10","MONTH 11","MONTH 12","MONTH 13","MONTH 14","MONTH 15","MONTH 16","MONTH 17","MONTH 18","MONTH 19","MONTH 20","MONTH 21","MONTH 22","MONTH 23","MONTH 24","MONTH 25","MONTH 26","MONTH 27","MONTH 28","MONTH 29","MONTH 30","BALANCE","TOTAL"]
[null,"SOURCES"]
[null,{"$f":"'06_1_Summary Printout'!C8","v":""},{"$f":"'06_1_Summary Printout'!D8","v":0},{"$f":"-C10+(SUM(E10:AI10))","v":0},null,null,null,null,null,null,null,null,null,null,null,null,null,null,null,null,null,null,null,null,null,null,null,null,null,null,null,null,null,null,null,{"$f":"C10-SUM(E10:AI10)","v":0},{"$f":"SUM(E10:AI10)","v":0}]
[null,{"$f":"'06_1_Summary Printout'!C9","v":"RIH Second Mortgage"},{"$f":"'06_1_Summary Printout'!D9","v":0},{"$f":"-C11+(SUM(E11:AI11))","v":0},null,null,null,null,null,null,null,null,null,null,null,null,null,null,null,null,null,null,null,null,null,null,null,null,null,null,null,null,null,null,null,{"$f":"C11-SUM(E11:AI11)","v":0},{"$f":"SUM(E11:AI11)","v":0}]
[null,{"$f":"'06_1_Summary Printout'!C10","v":0},{"$f":"'06_1_Summary Printout'!D10","v":0},0,null,null,null,null,null,null,null,null,null,null,null,null,null,null,null,null,null,null,null,null,null,null,null,null,null,null,null,null,null,null,null,{"$f":"C12-SUM(E12:AI12)","v":0},0]
[null,{"$f":"'06_1_Summary Printout'!C11","v":0},{"$f":"'06_1_Summary Printout'!D11","v":0},0,null,null,null,null,null,null,null,null,null,null,null,null,null,null,null,null,null,null,null,null,null,null,null,null,null,null,null,null,null,null,null,0,0]
[null,{"$f":"'06_1_Summary Printout'!C12","v":0},{"$f":"'06_1_Summary Printout'!D12","v":0},0,null,null,null,null,null,null,null,null,null,null,null,null,null,null,null,null,null,null,null,null,null,null,null,null,null,null,null,null,null,null,null,0,0]
[null,{"$f":"'06_1_Summary Printout'!C13","v":0},{"$f":"'06_1_Summary Printout'!D13","v":0},0,null,null,null,null,null,null,null,null,null,null,null,null,null,null,null,null,null,null,null,null,null,null,null,null,null,null,null,null,null,null,null,0,0]
[null,{"$f":"'06_1_Summary Printout'!C14","v":0},{"$f":"'06_1_Summary Printout'!D14","v":0},0,null,null,null,null,null,null,null,null,null,null,null,null,null,null,null,null,null,null,null,null,null,null,null,null,null,null,null,null,null,null,null,0,0]
[null,{"$f":"'06_1_Summary Printout'!C15","v":0},{"$f":"'06_1_Summary Printout'!D15","v":0},{"$f":"-C17+(SUM(E17:AI17))","v":0}]
[null,{"$f":"'06_1_Summary Printout'!C16","v":0},{"$f":"'06_1_Summary Printout'!D16","v":0},0]
[null,{"$f":"'06_1_Summary Printout'!C17","v":0},{"$f":"'06_1_Summary Printout'!D17","v":0},0]
[null,{"$f":"'06_1_Summary Printout'!C18","v":0},{"$f":"'06_1_Summary Printout'!D18","v":0},0]
[null,{"$f":"'06_1_Summary Printout'!C19","v":0},{"$f":"'06_1_Summary Printout'!D19","v":0},0]
[null,{"$f":"'06_1_Summary Printout'!C20","v":0},{"$f":"'06_1_Summary Printout'!D20","v":0},0]
[null,{"$f":"'06_1_Summary Printout'!C21","v":0},{"$f":"'06_1_Summary Printout'!D21","v":0},0]
[null,{"$f":"'06_1_Summary Printout'!C22","v":0},{"$f":"'06_1_Summary Printout'!D14","v":0},0,null,null,null,null,null,null,null,null,null,null,null,null,null,null,null,null,null,null,null,null,null,null,null,null,null,null,null,null,null,null,null,0,0]
[null,{"$f":"'06_1_Summary Printout'!C24","v":"LIHTC Proceeds"},{"$f":"IFERROR('06_1_Summary Printout'!D24, 0)","v":0},0,{"$f":"'01_1_General Data'!$D$89","v":0},{"$f":"SUMIF('01_1_General Data'!$A$90:$A$102,'03_2_Construction Cashflow'!F8,'01_1_General Data'!D90:$D$102)","v":0},{"$f":"SUMIF('01_1_General Data'!$A$90:$A$102,'03_2_Construction Cashflow'!G8,'01_1_General Data'!$D90:E$102)","v":0},{"$f":"SUMIF('01_1_General Data'!$A$90:$A$102,'03_2_Construction Cashflow'!H8,'01_1_General Data'!$D90:F$102)","v":0},{"$f":"SUMIF('01_1_General Data'!$A$90:$A$102,'03_2_Construction Cashflow'!I8,'01_1_General Data'!$D90:G$102)","v":0},{"$f":"SUMIF('01_1_General Data'!$A$90:$A$102,'03_2_Construction Cashflow'!J8,'01_1_General Data'!$D90:H$102)","v":0},{"$f":"SUMIF('01_1_General Data'!$A$90:$A$102,'03_2_Construction Cashflow'!K8,'01_1_General Data'!$D90:I$102)","v":0},{"$f":"SUMIF('01_1_General Data'!$A$90:$A$102,'03_2_Construction Cashflow'!L8,'01_1_General Data'!$D90:J$102)","v":0},{"$f":"SUMIF('01_1_General Data'!$A$90:$A$102,'03_2_Construction Cashflow'!M8,'01_1_General Data'!$D90:K$102)","v":0},{"$f":"SUMIF('01_1_General Data'!$A$90:$A$102,'03_2_Construction Cashflow'!N8,'01_1_General Data'!$D90:L$102)","v":0},{"$f":"SUMIF('01_1_General Data'!$A$90:$A$102,'03_2_Construction Cashflow'!O8,'01_1_General Data'!$D90:M$102)","v":0},{"$f":"SUMIF('01_1_General Data'!$A$90:$A$102,'03_2_Construction Cashflow'!P8,'01_1_General Data'!$D90:N$102)","v":0},{"$f":"SUMIF('01_1_General Data'!$A$90:$A$102,'03_2_Construction Cashflow'!Q8,'01_1_General Data'!$D90:O$102)","v":0},{"$f":"SUMIF('01_1_General Data'!$A$90:$A$102,'03_2_Construction Cashflow'!R8,'01_1_General Data'!$D90:P$102)","v":0},{"$f":"SUMIF('01_1_General Data'!$A$90:$A$102,'03_2_Construction Cashflow'!S8,'01_1_General Data'!$D90:Q$102)","v":0},{"$f":"SUMIF('01_1_General Data'!$A$90:$A$102,'03_2_Construction Cashflow'!T8,'01_1_General Data'!$D90:R$102)","v":0},{"$f":"SUMIF('01_1_General Data'!$A$90:$A$102,'03_2_Construction Cashflow'!U8,'01_1_General Data'!$D90:S$102)","v":0},{"$f":"SUMIF('01_1_General Data'!$A$90:$A$102,'03_2_Construction Cashflow'!V8,'01_1_General Data'!$D90:T$102)","v":0},{"$f":"SUMIF('01_1_General Data'!$A$90:$A$102,'03_2_Construction Cashflow'!W8,'01_1_General Data'!$D90:U$102)","v":0},{"$f":"SUMIF('01_1_General Data'!$A$90:$A$102,'03_2_Construction Cashflow'!X8,'01_1_General Data'!$D90:V$102)","v":0},{"$f":"SUMIF('01_1_General Data'!$A$90:$A$102,'03_2_Construction Cashflow'!Y8,'01_1_General Data'!$D90:W$102)","v":0},{"$f":"SUMIF('01_1_General Data'!$A$90:$A$102,'03_2_Construction Cashflow'!Z8,'01_1_General Data'!$D90:X$102)","v":0},{"$f":"SUMIF('01_1_General Data'!$A$90:$A$102,'03_2_Construction Cashflow'!AA8,'01_1_General Data'!$D90:Y$102)","v":0},{"$f":"SUMIF('01_1_General Data'!$A$90:$A$102,'03_2_Construction Cashflow'!AB8,'01_1_General Data'!$D90:Z$102)","v":0},{"$f":"SUMIF('01_1_General Data'!$A$90:$A$102,'03_2_Construction Cashflow'!AC8,'01_1_General Data'!$D90:AA$102)","v":0},{"$f":"SUMIF('01_1_General Data'!$A$90:$A$102,'03_2_Construction Cashflow'!AD8,'01_1_General Data'!$D90:AB$102)","v":0},{"$f":"SUMIF('01_1_General Data'!$A$90:$A$102,'03_2_Construction Cashflow'!AE8,'01_1_General Data'!$D90:AC$102)","v":0},{"$f":"SUMIF('01_1_General Data'!$A$90:$A$102,'03_2_Construction Cashflow'!AF8,'01_1_General Data'!$D90:AD$102)","v":0},{"$f":"SUMIF('01_1_General Data'!$A$90:$A$102,'03_2_Construction Cashflow'!AG8,'01_1_General Data'!$D90:AE$102)","v":0},{"$f":"SUMIF('01_1_General Data'!$A$90:$A$102,'03_2_Construction Cashflow'!AH8,'01_1_General Data'!$D90:AF$102)","v":0},{"$f":"SUMIF('01_1_General Data'!$A$90:$A$102,'03_2_Construction Cashflow'!AI8,'01_1_General Data'!$D90:AG$102)","v":0},0,0]
[null,{"$f":"'06_1_Summary Printout'!C25","v":"Fed. Historic Tax Credit Proceeds"},{"$f":"'06_1_Summary Printout'!D25","v":0},0,null,null,null,null,null,null,null,null,null,null,null,null,null,null,null,null,null,null,null,null,null,null,null,null,null,null,null,null,null,null,null,{"$f":"C26-SUM(E26:AI26)","v":0},0]
[null,{"$f":"'06_1_Summary Printout'!C26","v":"General Partner Capital"},{"$f":"'06_1_Summary Printout'!D26","v":0},0,null,null,null,null,null,null,null,null,null,null,null,null,null,null,null,null,null,null,null,null,null,null,null,null,null,null,null,null,null,null,null,0,0]
[null,{"$f":"'06_1_Summary Printout'!C27","v":"State Historic TC Proceeds"},{"$f":"'06_1_Summary Printout'!D28","v":0},0,null,null,null,null,null,null,null,null,null,null,null,null,null,null,null,null,null,null,null,null,null,null,null,null,null,null,null,null,null,null,null,0,0]
[null,{"$f":"'06_1_Summary Printout'!C29","v":"Other Equity"},{"$f":"'06_1_Summary Printout'!D29","v":0},0,null,null,null,null,null,null,null,null,null,null,null,null,null,null,null,null,null,null,null,null,null,null,null,null,null,null,null,null,null,null,null,0,0]
[null,"Construction Loan",{"$f":"rng01_ConstructionLoan","v":0},{"$f":"-C30+(SUM(E30:AI30))","v":0},null,null,null,null,null,null,null,null,null,null,null,null,null,null,null,null,null,null,null,null,null,null,null,null,null,null,null,null,null,null,null,0,0]
[null,{"$f":"'06_1_Summary Printout'!C32","v":"None"},{"$f":"'06_1_Summary Printout'!D32","v":0},0,null,null,null,null,null,null,null,null,null,null,null,null,null,null,null,null,null,null,null,null,null,null,null,null,null,null,null,null,null,null,null,0,0]
[null,{"$f":"'06_1_Summary Printout'!C33","v":"None"},{"$f":"'06_1_Summary Printout'!D33","v":0},0,null,null,null,null,null,null,null,null,null,null,null,null,null,null,null,null,null,null,null,null,null,null,null,null,null,null,null,null,null,null,null,0,0]
[null,{"$f":"'06_1_Summary Printout'!C34","v":"None"},{"$f":"'06_1_Summary Printout'!D34","v":0},{"$f":"-C33+(SUM(E33:AI33))","v":0},null,null,null,null,null,null,null,null,null,null,null,null,null,null,null,null,null,null,null,null,null,null,null,null,null,null,null,null,null,null,null,0,0]
[null,{"$f":"'06_1_Summary Printout'!C35","v":"None"},{"$f":"'06_1_Summary Printout'!D35","v":0},0,null,null,null,null,null,null,null,null,null,null,null,null,null,null,null,null,null,null,null,null,null,null,null,null,null,null,null,null,null,null,null,0,0]
[null,{"$f":"'06_1_Summary Printout'!C36","v":"None"},{"$f":"'06_1_Summary Printout'!D36","v":0},0,null,null,null,null,null,null,null,null,null,null,null,null,null,null,null,null,null,null,null,null,null,null,null,null,null,null,null,null,null,null,null,0,0]
[null,"TOTAL SOURCES",{"$f":"SUM(C10:C35)","v":0},0,{"$f":"SUM(E10:E35)","v":0},0,0,0,0,0,0,0,0,0,0,0,0,0,0,0,0,0,0,0,0,0,0,0,0,0,0,0,0,0,0,{"$f":"C36-SUM(E36:AI36)","v":0},{"$f":"SUM(E36:AI36)","v":0}]
[]
[null,"GAP/SURPLUS",{"$f":"C36-C109","v":0},0,0,0,0,0,0,0,0,0,0,0,0,0,0,0,0,0,0,0,0,0,0,0,0,0,0,0,0,0,0,0,0,0,0]
[]
[null,"USES"]
[null,"ACQUISITION",{"$f":"'02_4_USES'!F15","v":0},null,{"$f":"C41","v":0},0,0,0,0,0,0,0,0,0,0,0,0,0,0,0,0,0,0,0,0,0,0,0,0,0,0,0,0,0,0,{"$f":"C41-SUM(D41:AI41)","v":0},{"$f":"SUM(D41:AI41)","v":0}]
[]
[null,{"$f":"'02_4_USES'!B17","v":"CONSTRUCTION/REHAB. COSTS (input on Construction Cost tab)"}]
[null,{"$f":"'02_4_USES'!B18","v":"Buildings"},{"$f":"'02_4_USES'!F18","v":0},{"$f":"-C44+(SUM(E44:AI44))","v":0},null,null,null,null,null,null,null,null,null,null,null,null,null,null,null,null,null,null,null,null,null,null,null,null,null,null,null,null,null,null,null,{"$f":"C44-SUM(E44:AI44)","v":0},{"$f":"SUM(E44:AI44)","v":0}]
[null,{"$f":"'02_4_USES'!B19","v":"Site Work"},{"$f":"'02_4_USES'!F19","v":0},0,null,null,null,null,null,null,null,null,null,null,null,null,null,null,null,null,null,null,null,null,null,null,null,null,null,null,null,null,null,null,null,{"$f":"C45-SUM(E45:AI45)","v":0},{"$f":"SUM(E45:AI45)","v":0}]
[null,{"$f":"'02_4_USES'!B20","v":"General Requirements: Typically 8%"},{"$f":"'02_4_USES'!F20","v":0},0,null,null,null,null,null,null,null,null,null,null,null,null,null,null,null,null,null,null,null,null,null,null,null,null,null,null,null,null,null,null,null,0,0]
[null,{"$f":"'02_4_USES'!B21","v":"Builders General Overhead: Typically 2%"},{"$f":"'02_4_USES'!F21","v":0},0,null,null,null,null,null,null,null,null,null,null,null,null,null,null,null,null,null,null,null,null,null,null,null,null,null,null,null,null,null,null,null,0,0]
[null,{"$f":"'02_4_USES'!B22","v":"Builders Profit: Typically 9%"},{"$f":"'02_4_USES'!F22","v":0},0,null,null,null,null,null,null,null,null,null,null,null,null,null,null,null,null,null,null,null,null,null,null,null,null,null,null,null,null,null,null,null,0,0]
[null,{"$f":"'02_4_USES'!B23","v":"Bond Premium"},{"$f":"'02_4_USES'!F23","v":0},0,null,null,null,null,null,null,null,null,null,null,null,null,null,null,null,null,null,null,null,null,null,null,null,null,null,null,null,null,null,null,null,0,0]
[null,{"$f":"'02_4_USES'!B24","v":"Extraordinary Conditions"},{"$f":"'02_4_USES'!F24","v":0},{"$f":"-C50+(SUM(E50:AI50))","v":0},null,null,null,null,null,null,null,null,null,null,null,null,null,null,null,null,null,null,null,null,null,null,null,null,null,null,null,null,null,null,null,0,0]
[null,{"$f":"'02_4_USES'!B25","v":"Other Fees"},{"$f":"'02_4_USES'!F25","v":0},0,null,null,null,null,null,null,null,null,null,null,null,null,null,null,null,null,null,null,null,null,null,null,null,null,null,null,null,null,null,null,null,0,0]
[null,{"$f":"'02_4_USES'!B27","v":"Construction Contingency: Typically 10%"},{"$f":"'02_4_USES'!F27","v":0},{"$f":"-C52+(SUM(E52:AI52))","v":0},null,null,null,null,null,null,null,null,null,null,null,null,null,null,null,null,null,null,null,null,null,null,null,null,null,null,null,null,null,null,null,0,0]
[null,{"$f":"'02_4_USES'!B29","v":""}]
[null,{"$f":"'02_4_USES'!B30","v":"SOFT COSTS"}]
[null,{"$f":"'02_4_USES'!B31","v":"Architect Fee - Design"},{"$f":"'02_4_USES'!F31","v":0},{"$f":"-C55+(SUM(E55:AI55))","v":0},null,null,null,null,null,null,null,null,null,null,null,null,null,null,null,null,null,null,null,null,null,null,null,null,null,null,null,null,null,null,null,{"$f":"C55-SUM(E55:AI55)","v":0},{"$f":"SUM(E55:AI55)","v":0}]
[null,{"$f":"'02_4_USES'!B32","v":"Architect Fee - Supervision"},{"$f":"'02_4_USES'!F32","v":0},{"$f":"-C56+(SUM(E56:AI56))","v":0},null,null,null,null,null,null,null,null,null,null,null,null,null,null,null,null,null,null,null,null,null,null,null,null,null,null,null,null,null,null,null,0,0]
[null,{"$f":"'02_4_USES'!B33","v":"Survey"},{"$f":"'02_4_USES'!F33","v":0},0,null,null,null,null,null,null,null,null,null,null,null,null,null,null,null,null,null,null,null,null,null,null,null,null,null,null,null,null,null,null,null,0,0]
[null,{"$f":"'02_4_USES'!B34","v":"Environmental"},{"$f":"'02_4_USES'!F34","v":0},0,null,null,null,null,null,null,null,null,null,null,null,null,null,null,null,null,null,null,null,null,null,null,null,null,null,null,null,null,null,null,null,0,0]
[null,{"$f":"'02_4_USES'!B35","v":"Structural Engineering & Reports"},{"$f":"'02_4_USES'!F35","v":0},0,null,null,null,null,null,null,null,null,null,null,null,null,null,null,null,null,null,null,null,null,null,null,null,null,null,null,null,null,null,null,null,0,0]
[null,{"$f":"'02_4_USES'!B36","v":"Fire Code Compliance Report"},{"$f":"'02_4_USES'!F36","v":0},0,null,null,null,null,null,null,null,null,null,null,null,null,null,null,null,null,null,null,null,null,null,null,null,null,null,null,null,null,null,null,null,0,0]
[null,{"$f":"'02_4_USES'!B37","v":"Builders Risk Insurance"},{"$f":"'02_4_USES'!F37","v":0},0,null,null,null,null,null,null,null,null,null,null,null,null,null,null,null,null,null,null,null,null,null,null,null,null,null,null,null,null,null,null,null,0,0]
[null,{"$f":"'02_4_USES'!B38","v":"Clerk of the Works"},{"$f":"'02_4_USES'!F38","v":0},0,null,null,null,null,null,null,null,null,null,null,null,null,null,null,null,null,null,null,null,null,null,null,null,null,null,null,null,null,null,null,null,0,0]
[null,{"$f":"'02_4_USES'!B39","v":"Owner Legal Fees"},{"$f":"'02_4_USES'!F39","v":0},0,null,null,null,null,null,null,null,null,null,null,null,null,null,null,null,null,null,null,null,null,null,null,null,null,null,null,null,null,null,null,null,0,0]
[null,{"$f":"'02_4_USES'!B40","v":"RIH Legal Fees"},{"$f":"'02_4_USES'!F40","v":0},0,null,null,null,null,null,null,null,null,null,null,null,null,null,null,null,null,null,null,null,null,null,null,null,null,null,null,null,null,null,null,null,0,0]
[null,{"$f":"'02_4_USES'!B41","v":"Syndicator Legal"},{"$f":"'02_4_USES'!F41","v":0},0,null,null,null,null,null,null,null,null,null,null,null,null,null,null,null,null,null,null,null,null,null,null,null,null,null,null,null,null,null,null,null,0,0]
[null,{"$f":"'02_4_USES'!B42","v":"Title and Recording"},{"$f":"'02_4_USES'!F42","v":0},0,null,null,null,null,null,null,null,null,null,null,null,null,null,null,null,null,null,null,null,null,null,null,null,null,null,null,null,null,null,null,null,0,0]
[null,{"$f":"'02_4_USES'!B43","v":"Cost Certification"},{"$f":"'02_4_USES'!F43","v":0},0,null,null,null,null,null,null,null,null,null,null,null,null,null,null,null,null,null,null,null,null,null,null,null,null,null,null,null,null,null,null,null,0,0]
[null,{"$f":"'02_4_USES'!B44","v":"LIHTC Accounting"},{"$f":"'02_4_USES'!F44","v":0},0,null,null,null,null,null,null,null,null,null,null,null,null,null,null,null,null,null,null,null,null,null,null,null,null,null,null,null,null,null,null,null,0,0]
[null,{"$f":"'02_4_USES'!B45","v":"Appraisal"},{"$f":"'02_4_USES'!F45","v":0},0,null,null,null,null,null,null,null,null,null,null,null,null,null,null,null,null,null,null,null,null,null,null,null,null,null,null,null,null,null,null,null,0,0]
[null,{"$f":"'02_4_USES'!B46","v":"Market Study"},{"$f":"'02_4_USES'!F46","v":0},0,null,null,null,null,null,null,null,null,null,null,null,null,null,null,null,null,null,null,null,null,null,null,null,null,null,null,null,null,null,null,null,0,0]
[null,{"$f":"'02_4_USES'!B47","v":"Capital Needs Assessment"},{"$f":"'02_4_USES'!F47","v":0},0,null,null,null,null,null,null,null,null,null,null,null,null,null,null,null,null,null,null,null,null,null,null,null,null,null,null,null,null,null,null,null,0,0]
[null,{"$f":"'02_4_USES'!B48","v":"Furniture, Fixtures and Equipment"},{"$f":"'02_4_USES'!F48","v":0},0,null,null,null,null,null,null,null,null,null,null,null,null,null,null,null,null,null,null,null,null,null,null,null,null,null,null,null,null,null,null,null,0,0]
[null,{"$f":"'02_4_USES'!B49","v":"Marketing and Lease-up"},{"$f":"'02_4_USES'!F49","v":0},0,null,null,null,null,null,null,null,null,null,null,null,null,null,null,null,null,null,null,null,null,null,null,null,null,null,null,null,null,null,null,null,0,0]
[null,{"$f":"'02_4_USES'!B50","v":"Sewer, Water and Utility Hookups"},{"$f":"'02_4_USES'!F50","v":0},0,null,null,null,null,null,null,null,null,null,null,null,null,null,null,null,null,null,null,null,null,null,null,null,null,null,null,null,null,null,null,null,0,0]
[null,{"$f":"'02_4_USES'!B51","v":"Relocation"},{"$f":"'02_4_USES'!F51","v":0},0,null,null,null,null,null,null,null,null,null,null,null,null,null,null,null,null,null,null,null,null,null,null,null,null,null,null,null,null,null,null,null,0,0]
[null,{"$f":"'02_4_USES'!B52","v":"RE Tax Fee Set up"},{"$f":"'02_4_USES'!F52","v":0},0,null,null,null,null,null,null,null,null,null,null,null,null,null,null,null,null,null,null,null,null,null,null,null,null,null,null,null,null,null,null,null,0,0]
[null,{"$f":"'02_4_USES'!B53","v":"Credit Report"},{"$f":"'02_4_USES'!F53","v":0},0,null,null,null,null,null,null,null,null,null,null,null,null,null,null,null,null,null,null,null,null,null,null,null,null,null,null,null,null,null,null,null,0,0]
[null,{"$f":"'02_4_USES'!B54","v":"Other"},{"$f":"'02_4_USES'!F54","v":0},0,null,null,null,null,null,null,null,null,null,null,null,null,null,null,null,null,null,null,null,null,null,null,null,null,null,null,null,null,null,null,null,0,0]
[null,{"$f":"'02_4_USES'!B55","v":"Other"},{"$f":"'02_4_USES'!F55","v":0},0,null,null,null,null,null,null,null,null,null,null,null,null,null,null,null,null,null,null,null,null,null,null,null,null,null,null,null,null,null,null,null,0,0]
[null,{"$f":"'02_4_USES'!B56","v":"Other"},{"$f":"'02_4_USES'!F56","v":0},0,null,null,null,null,null,null,null,null,null,null,null,null,null,null,null,null,null,null,null,null,null,null,null,null,null,null,null,null,null,null,null,0,0]
[null,{"$f":"'02_4_USES'!B57","v":"Other"},{"$f":"'02_4_USES'!F57","v":0},0,null,null,null,null,null,null,null,null,null,null,null,null,null,null,null,null,null,null,null,null,null,null,null,null,null,null,null,null,null,null,null,0,0]
[null,{"$f":"'02_4_USES'!B58","v":"Soft Cost Contingency"},{"$f":"'02_4_USES'!F58","v":0},0,null,null,null,null,null,null,null,null,null,null,null,null,null,null,null,null,null,null,null,null,null,null,null,null,null,null,null,null,null,null,null,0,0]
[]
[null,{"$f":"'02_4_USES'!B61","v":"FINANCING "}]
[null,{"$f":"'02_4_USES'!B62","v":"Taxes During Construction"},{"$f":"'02_4_USES'!F62","v":0},{"$f":"-C85+(SUM(E85:AI85))","v":0},null,null,null,null,null,null,null,null,null,null,null,null,null,null,null,null,null,null,null,null,null,null,null,null,null,null,null,null,null,null,null,{"$f":"C85-SUM(E85:AI85)","v":0},{"$f":"SUM(E85:AI85)","v":0}]
[null,{"$f":"'02_4_USES'!B63","v":"Risk Sharing Premium"},{"$f":"'02_4_USES'!F63","v":0},{"$f":"-C86+(SUM(E86:AI86))","v":0},null,null,null,null,null,null,null,null,null,null,null,null,null,null,null,null,null,null,null,null,null,null,null,null,null,null,null,null,null,null,null,0,0]
[null,{"$f":"'02_4_USES'!B64","v":"Construction Loan Interest"},{"$f":"'02_4_USES'!F64","v":0},0,null,null,null,null,null,null,null,null,null,null,null,null,null,null,null,null,null,null,null,null,null,null,null,null,null,null,null,null,null,null,null,0,0]
[null,{"$f":"'02_4_USES'!B65","v":"Construction Loan Origination Fee"},{"$f":"'02_4_USES'!F65","v":0},0,null,null,null,null,null,null,null,null,null,null,null,null,null,null,null,null,null,null,null,null,null,null,null,null,null,null,null,null,null,null,null,0,0]
[null,{"$f":"'02_4_USES'!B66","v":"RIH Origination Fee"},{"$f":"'02_4_USES'!F66","v":0},0,null,null,null,null,null,null,null,null,null,null,null,null,null,null,null,null,null,null,null,null,null,null,null,null,null,null,null,null,null,null,null,0,0]
[null,{"$f":"'02_4_USES'!B67","v":"Other Lender Origination Fee"},{"$f":"'02_4_USES'!F67","v":0},0,null,null,null,null,null,null,null,null,null,null,null,null,null,null,null,null,null,null,null,null,null,null,null,null,null,null,null,null,null,null,null,0,0]
[null,{"$f":"'02_4_USES'!B68","v":"Cost of Issuance (bond deals only)"},{"$f":"'02_4_USES'!F68","v":0},0,null,null,null,null,null,null,null,null,null,null,null,null,null,null,null,null,null,null,null,null,null,null,null,null,null,null,null,null,null,null,null,0,0]
[null,{"$f":"'02_4_USES'!B69","v":"Tax Credit Allocation Fee: Typ. $0"},{"$f":"'02_4_USES'!F69","v":0},0,null,null,null,null,null,null,null,null,null,null,null,null,null,null,null,null,null,null,null,null,null,null,null,null,null,null,null,null,null,null,null,0,0]
[null,{"$f":"'02_4_USES'!B70","v":"Other"},{"$f":"'02_4_USES'!F70","v":0},0,null,null,null,null,null,null,null,null,null,null,null,null,null,null,null,null,null,null,null,null,null,null,null,null,null,null,null,null,null,null,null,0,0]
[null,{"$f":"'02_4_USES'!B71","v":"Other"},{"$f":"'02_4_USES'!F71","v":0},0,null,null,null,null,null,null,null,null,null,null,null,null,null,null,null,null,null,null,null,null,null,null,null,null,null,null,null,null,null,null,null,0,0]
[null,{"$f":"'02_4_USES'!B72","v":"Other"},{"$f":"'02_4_USES'!F72","v":0},0,null,null,null,null,null,null,null,null,null,null,null,null,null,null,null,null,null,null,null,null,null,null,null,null,null,null,null,null,null,null,null,0,0]
[null,{"$f":"'02_4_USES'!B73","v":"Other"},{"$f":"'02_4_USES'!F73","v":0},0,null,null,null,null,null,null,null,null,null,null,null,null,null,null,null,null,null,null,null,null,null,null,null,null,null,null,null,null,null,null,null,0,0]
[]
[null,{"$f":"'02_4_USES'!B76","v":"RESERVES"}]
[null,{"$f":"'02_4_USES'!B77","v":"1st Year Property Tax Escrow"},{"$f":"'02_4_USES'!F77","v":0},{"$f":"-C99+(SUM(E99:AI99))","v":0},null,null,null,null,null,null,null,null,null,null,null,null,null,null,null,null,null,null,null,null,null,null,null,null,null,null,null,null,null,null,null,{"$f":"C99-SUM(E99:AI99)","v":0},{"$f":"SUM(E99:AI99)","v":0}]
[null,{"$f":"'02_4_USES'!B78","v":"1st Year Insurance Escrow"},{"$f":"'02_4_USES'!F78","v":0},0,null,null,null,null,null,null,null,null,null,null,null,null,null,null,null,null,null,null,null,null,null,null,null,null,null,null,null,null,null,null,null,0,0]
[null,{"$f":"'02_4_USES'!B79","v":"Operating Reserve: Typ. $000"},{"$f":"'02_4_USES'!F79","v":0},0,null,null,null,null,null,null,null,null,null,null,null,null,null,null,null,null,null,null,null,null,null,null,null,null,null,null,null,null,null,null,null,0,0]
[null,{"$f":"'02_4_USES'!B80","v":"Replacement Reserve"},{"$f":"'02_4_USES'!F80","v":0},0,null,null,null,null,null,null,null,null,null,null,null,null,null,null,null,null,null,null,null,null,null,null,null,null,null,null,null,null,null,null,null,0,0]
[null,{"$f":"'02_4_USES'!B81","v":"Lease-up Reserve"},{"$f":"'02_4_USES'!F81","v":0},0,null,null,null,null,null,null,null,null,null,null,null,null,null,null,null,null,null,null,null,null,null,null,null,null,null,null,null,null,null,null,null,0,0]
[null,{"$f":"'02_4_USES'!B82","v":"Other"},{"$f":"'02_4_USES'!F82","v":0},0,null,null,null,null,null,null,null,null,null,null,null,null,null,null,null,null,null,null,null,null,null,null,null,null,null,null,null,null,null,null,null,0,0]
[null,{"$f":"'02_4_USES'!B84","v":"PLEASE ADJUST THE ORIGINATION FEE, MINIMUM ORIGINATION FEE IS $20,000"}]
[null,{"$f":"'02_4_USES'!B85","v":"DEVELOPER FEE"}]
[null,{"$f":"'02_4_USES'!B86","v":"Base Developer Fee: Typ. FALSE"},{"$f":"'02_4_USES'!F86","v":0},{"$f":"-C107+(SUM(E107:AI107))","v":0},null,null,null,null,null,null,null,null,null,null,null,null,null,null,null,null,null,null,null,null,null,null,null,null,null,null,null,null,null,null,null,{"$f":"C107-SUM(E107:AI107)","v":0},{"$f":"SUM(E107:AI107)","v":0}]
[null,{"$f":"'02_4_USES'!B87","v":"Eligible Incentive Developer Fee"},{"$f":"'02_4_USES'!F87","v":0},{"$f":"-C108+(SUM(E108:AI108))","v":0},null,null,null,null,null,null,null,null,null,null,null,null,null,null,null,null,null,null,null,null,null,null,null,null,null,null,null,null,null,null,null,0,0]
[null,"TOTAL EXPENDITURES",{"$f":"SUM(C41:C108)","v":0},{"$f":"SUM(D41:D108)","v":0},{"$f":"SUM(E41:E108)","v":0},0,0,0,0,0,0,0,0,0,0,0,0,0,0,0,0,0,0,0,0,0,0,0,0,0,0,0,0,0,0,{"$f":"C109-SUM(E109:AI109)","v":0},{"$f":"SUM(E109:AI109)","v":0}]
[]
[null,"Cumulative Expenditures",null,null,{"$f":"E109","v":0},{"$f":"E111+F109","v":0},0,0,0,0,0,0,0,0,0,0,0,0,0,0,0,0,0,0,0,0,0,0,0,0,0,0,0,0,0,{"$f":"C111-SUM(E111:AI111)","v":0},{"$f":"SUM(D111:AI111)","v":0}]
[null,null,null,null,null,null,null,null,null,null,null,null,null,null,null,null,null,null,null,null,null,null,null,null,null,null,null,null,null,null,null,null,null,null,null,0,{"$f":"SUM(D112:AI112)","v":0}]
[null,"Cumulative Draw on Construction (Sources less Expenditures)",null,null,{"$f":"E36-E109","v":0},{"$f":"E113+(F36-F109)","v":0},0,0,0,0,0,0,0,0,0,0,0,0,0,0,0,0,0,0,0,0,0,0,0,0,0,0,0,0,0,0,{"$f":"SUM(D113:AI113)","v":0}]
[null,"Cumulative Interest on Construction Loan 1",null,null,{"$f":"D114+(E113*('01_1_General Data'!K25/12))","v":0},{"$f":"E114+(F113*('01_1_General Data'!K25/12))","v":0},{"$f":"F114+(G113*('01_1_General Data'!K25/12))","v":0},{"$f":"G114+(H113*('01_1_General Data'!K25/12))","v":0},{"$f":"H114+(I113*('01_1_General Data'!K25/12))","v":0},{"$f":"I114+(J113*('01_1_General Data'!K25/12))","v":0},{"$f":"J114+(K113*('01_1_General Data'!K25/12))","v":0},{"$f":"K114+(L113*('01_1_General Data'!K25/12))","v":0},{"$f":"L114+(M113*('01_1_General Data'!K25/12))","v":0},{"$f":"M114+(N113*('01_1_General Data'!K25/12))","v":0},{"$f":"N114+(O113*('01_1_General Data'!K25/12))","v":0},{"$f":"O114+(P113*('01_1_General Data'!K25/12))","v":0},{"$f":"P114+(Q113*('01_1_General Data'!K25/12))","v":0},{"$f":"Q114+(R113*('01_1_General Data'!K25/12))","v":0},{"$f":"R114+(S113*('01_1_General Data'!K25/12))","v":0},{"$f":"S114+(T113*('01_1_General Data'!K25/12))","v":0},{"$f":"T114+(U113*('01_1_General Data'!K25/12))","v":0},{"$f":"U114+(V113*('01_1_General Data'!K25/12))","v":0},{"$f":"V114+(W113*('01_1_General Data'!K25/12))","v":0},{"$f":"W114+(X113*('01_1_General Data'!K25/12))","v":0},{"$f":"X114+(Y113*('01_1_General Data'!K25/12))","v":0},{"$f":"Y114+(Z113*('01_1_General Data'!K25/12))","v":0},{"$f":"Z114+(AA113*('01_1_General Data'!K25/12))","v":0},{"$f":"AA114+(AB113*('01_1_General Data'!K25/12))","v":0},{"$f":"AB114+(AC113*('01_1_General Data'!K25/12))","v":0},{"$f":"AC114+(AD113*('01_1_General Data'!K25/12))","v":0},{"$f":"AD114+(AE113*('01_1_General Data'!K25/12))","v":0},{"$f":"AE114+(AF113*('01_1_General Data'!K25/12))","v":0},{"$f":"AF114+(AG113*('01_1_General Data'!K25/12))","v":0},{"$f":"AG114+(AH113*('01_1_General Data'!K25/12))","v":0},{"$f":"AH114+(AI113*('01_1_General Data'!K25/12))","v":0},0,{"$f":"SUM(D114:AI114)","v":0}]
[]
[null,"Construction Loan Draw",{"$f":"C30","v":0},null,{"$f":"E30","v":0},0,0,0,0,0,0,0,0,0,0,0,0,0,0,0,0,0,0,0,0,0,0,0,0,0,0,0,0,0,0,{"$f":"C116-SUM(E116:AI116)","v":0},{"$f":"SUM(D116:AI116)","v":0}]
[null,"Repayment",{"$f":"-C116","v":0},null,null,null,null,null,null,null,null,null,null,null,null,null,null,null,null,null,null,null,null,null,null,null,null,null,null,null,null,null,null,null,null,0,{"$f":"SUM(D117:AI117)","v":0}]
[null,"Construction Loan Balance",null,null,{"$f":"E116-E117","v":0},{"$f":"E118+F116-F117","v":0},{"$f":"F118+G116-G117","v":0},0,0,0,0,0,0,0,0,0,0,0,0,0,0,0,0,0,0,0,0,0,0,0,0,0,0,0,0,0,{"$f":"SUM(D118:AI118)","v":0}]
[null,"Interest Calculation",null,null,0,{"$f":"E118*rng01_ConstructionLoanInterest/12","v":0},0,0,0,0,0,0,0,0,0,0,0,0,0,0,0,0,0,0,0,0,0,0,0,0,0,0,0,0,0,0,{"$f":"SUM(D119:AI119)","v":0}]
[]
[null,"Construction Loan Interest Input",{"$f":"C87","v":0}]
[null,"Calculated Loan Interest",{"$f":"SUM(E119:AI119)","v":0}]

{"sheet":"03_3_Amortizations","index":19,"n_rows":492,"n_cols":65,"rows_kept":492,"cut":false,"hidden":true,"merged":[]}
["Amortizations"]
[{"$f":"IF(rng01_ProjectName=\"\",\"[Project Name]\", rng01_ProjectName)","v":"[Project Name]"},null,null,null,null,null,null,null,null,null,null,"Current Model Progress Date:",{"$f":"tbl00ModelProgress[[#Totals],[Date of Progress /\nLast Edit]]","v":"00:00:00"}]
[]
[null,"1st Loan",null,null,{"$f":"'02_3_SOURCES'!$B$9","v":""},null,null,null,null,null,"2nd Loan",null,null,{"$f":"'02_3_SOURCES'!$B$10","v":"RIH Second Mortgage"},null,null,null,null,"3rd Loan",null,null,{"$f":"'02_3_SOURCES'!$B$11","v":0},null,null,null,null,"4th Loan",null,null,{"$f":"'02_3_SOURCES'!$B$12","v":0},null,null,null,null,"5th Loan",null,null,{"$f":"'02_3_SOURCES'!$B$13","v":0},null,null,null,null,"6th Loan",null,null,{"$f":"'02_3_SOURCES'!$B$14","v":0},null,null,null,null,"7th Loan",null,null,{"$f":"'02_3_SOURCES'!$B$15","v":0},null,null,null,null,"8th Loan",null,null,{"$f":"'02_3_SOURCES'!$B$16","v":0}]
[]
[null,"1st Mortgage Principal:",null,null,{"$f":"'02_3_SOURCES'!K9","v":0},null,null,null,null,null,"2nd Loan Principal",null,null,{"$f":"'02_3_SOURCES'!K10","v":0},null,null,null,null,"3rd Loan Principal",null,null,{"$f":"'02_3_SOURCES'!K11","v":0},null,null,null,null,"4th Loan Principal",null,null,{"$f":"'02_3_SOURCES'!K12","v":0},null,null,null,null,"5th Loan Principal",null,null,{"$f":"'02_3_SOURCES'!K13","v":0},null,null,null,null,"6th Loan Principal",null,null,{"$f":"'02_3_SOURCES'!K14","v":0},null,null,null,null,"7th Loan Principal",null,null,{"$f":"'02_3_SOURCES'!K15","v":0},null,null,null,null,"8th Loan Principal",null,null,{"$f":"'02_3_SOURCES'!K16","v":0}]
[null,"1st Mortgage Interest Rate:",null,null,{"$f":"'02_3_SOURCES'!D9","v":0},null,null,null,null,null,"2nd Loan Interest Rate",null,null,{"$f":"'02_3_SOURCES'!D10","v":0},null,null,null,null,"3rd Loan Interest Rate",null,null,{"$f":"'02_3_SOURCES'!D11","v":0},null,null,null,null,"4th Loan Interest Rate",null,null,{"$f":"'02_3_SOURCES'!D12","v":0},null,null,null,null,"5th Loan Interest Rate",null,null,{"$f":"'02_3_SOURCES'!D13","v":0},null,null,null,null,"6th Loan Interest Rate",null,null,{"$f":"'02_3_SOURCES'!D14","v":0},null,null,null,null,"7th Loan Interest Rate",null,null,{"$f":"'02_3_SOURCES'!D15","v":0},null,null,null,null,"8th Loan Interest Rate",null,null,{"$f":"'02_3_SOURCES'!D16","v":0}]
[null,"1st Mortgage Term:",null,null,{"$f":"'02_3_SOURCES'!E9","v":0},null,null,null,null,null,"2nd Loan Term",null,null,{"$f":"'02_3_SOURCES'!E10","v":0},null,null,null,null,"3rd Loan Term",null,null,{"$f":"'02_3_SOURCES'!E11","v":0},null,null,null,null,"4th Loan Term",null,null,{"$f":"'02_3_SOURCES'!E12","v":0},null,null,null,null,"5th Loan Term",null,null,{"$f":"'02_3_SOURCES'!E13","v":0},null,null,null,null,"6th Loan Term",null,null,{"$f":"'02_3_SOURCES'!E14","v":0},null,null,null,null,"7th Loan Term",null,null,{"$f":"'02_3_SOURCES'!E15","v":0},null,null,null,null,"8th Loan Term",null,null,{"$f":"'02_3_SOURCES'!E16","v":0}]
[null,"First Payment Date:",null,null,{"$f":"'02_3_SOURCES'!F9","v":"00:00:00"},null,null,null,null,null,"First Payment Date:",null,null,{"$f":"'02_3_SOURCES'!F10","v":"00:00:00"},null,null,null,null,"First Payment Date:",null,null,{"$f":"'02_3_SOURCES'!F11","v":"00:00:00"},null,null,null,null,"First Payment Date:",null,null,{"$f":"'02_3_SOURCES'!F12","v":"00:00:00"},null,null,null,null,"First Payment Date:",null,null,{"$f":"'02_3_SOURCES'!F13","v":"00:00:00"},null,null,null,null,"First Payment Date:",null,null,{"$f":"'02_3_SOURCES'!F3","v":"00:00:00"},null,null,null,null,"First Payment Date:",null,null,{"$f":"'02_3_SOURCES'!F15","v":"00:00:00"},null,null,null,null,"First Payment Date:",null,null,{"$f":"'02_3_SOURCES'!F16","v":"00:00:00"}]
[]
[null,"Refer to the Sources worksheet to select first mortgage terms."]
[null,"Month","Date","BegBal","TotPmt","IntPmt","PrinPmt","EndBal","MIP",null,"Month","Date","BegBal","TotPmt","IntPmt","PrinPmt","EndBal",null,"Month","Date","BegBal","TotPmt","IntPmt","PrinPmt","EndBal",null,"Month","Date","BegBal","TotPmt","IntPmt","PrinPmt","EndBal",null,"Month","Date","BegBal","TotPmt","IntPmt","PrinPmt","EndBal",null,"Month","Date","BegBal","TotPmt","IntPmt","PrinPmt","EndBal",null,"Month","Date","BegBal","TotPmt","IntPmt","PrinPmt","EndBal",null,"Month","Date","BegBal","TotPmt","IntPmt","PrinPmt","EndBal"]
[{"$f":"YEAR(C13)","v":1900},1,{"$f":"E9","v":"00:00:00"},{"$f":"E6","v":0},{"$f":"IF(D13>0,PMT(E7/12,E8*12,-E6),0)","v":0},{"$f":"D13*$E$7/12","v":0},{"$f":"E13-F13","v":0},{"$f":"D13-G13","v":0},{"$f":"D13*rng01_MortgageInsurangePremium/12","v":0},null,1,{"$f":"N9","v":"00:00:00"},{"$f":"N6","v":0},{"$f":"IF(M13>0,PMT(N7/12,N8*12,-N6),0)","v":0},{"$f":"M13*$N$7/12","v":0},{"$f":"N13-O13","v":0},{"$f":"M13-P13","v":0},null,1,{"$f":"V9","v":"00:00:00"},{"$f":"V6","v":0},{"$f":"IF(U13>0,PMT(V7/12,V8*12,-V6),0)","v":0},{"$f":"U13*V$7/12","v":0},{"$f":"V13-W13","v":0},{"$f":"U13-X13","v":0},null,1,{"$f":"AD9","v":"00:00:00"},{"$f":"AD6","v":0},{"$f":"IF(AC13>0,PMT(AD7/12,AD8*12,-AD6),0)","v":0},{"$f":"AC13*AD$7/12","v":0},{"$f":"AD13-AE13","v":0},{"$f":"AC13-AF13","v":0},null,1,{"$f":"AL9","v":"00:00:00"},{"$f":"AL6","v":0},{"$f":"IF(AK13>0,PMT(AL7/12,AL8*12,-AL6),0)","v":0},{"$f":"AK13*AL$7/12","v":0},{"$f":"AL13-AM13","v":0},{"$f":"AK13-AN13","v":0},null,1,{"$f":"AT9","v":"00:00:00"},{"$f":"AT6","v":0},{"$f":"IF(AS13>0,PMT(AT7/12,AT8*12,-AT6),0)","v":0},{"$f":"AS13*AT$7/12","v":0},{"$f":"AT13-AU13","v":0},{"$f":"AS13-AV13","v":0},null,1,{"$f":"BB9","v":"00:00:00"},{"$f":"BB6","v":0},{"$f":"IF(BA13>0,PMT(BB7/12,BB8*12,-BB6),0)","v":0},{"$f":"BA13*BB$7/12","v":0},{"$f":"BB13-BC13","v":0},{"$f":"BA13-BD13","v":0},null,1,{"$f":"BJ9","v":"00:00:00"},{"$f":"BJ6","v":0},{"$f":"IF(BI13>0,PMT(BJ7/12,BJ8*12,-BJ6),0)","v":0},{"$f":"BI13*BJ$7/12","v":0},{"$f":"BJ13-BK13","v":0},{"$f":"BI13-BL13","v":0}]
[{"$f":"YEAR(C14)","v":1900},2,{"$f":"DATE(IF(MONTH(C13)=12,YEAR(C13)+1,YEAR(C13)),IF(MONTH(C13)=12,1,MONTH(C13)+1),1)","v":"1900-02-01"},{"$f":"H13","v":0},{"$f":"IF(ROUND(D14,0)>0,E13,0)","v":0},0,{"$f":"E14-F14","v":0},{"$f":"D14-G14","v":0},0,null,2,{"$f":"DATE(IF(MONTH(L13)=12,YEAR(L13)+1,YEAR(L13)),IF(MONTH(L13)=12,1,MONTH(L13)+1),1)","v":"1900-02-01"},{"$f":"Q13","v":0},{"$f":"IF(ROUND(M14,0)>0,N13,0)","v":0},{"$f":"M14*$N$7/12","v":0},{"$f":"N14-O14","v":0},{"$f":"M14-P14","v":0},null,2,{"$f":"DATE(IF(MONTH(T13)=12,YEAR(T13)+1,YEAR(T13)),IF(MONTH(T13)=12,1,MONTH(T13)+1),1)","v":"1900-02-01"},{"$f":"Y13","v":0},{"$f":"IF(ROUND(U14,0)>0,V13,0)","v":0},{"$f":"U14*V$7/12","v":0},{"$f":"V14-W14","v":0},{"$f":"U14-X14","v":0},null,2,{"$f":"DATE(IF(MONTH(AB13)=12,YEAR(AB13)+1,YEAR(AB13)),IF(MONTH(AB13)=12,1,MONTH(AB13)+1),1)","v":"1900-02-01"},{"$f":"AG13","v":0},{"$f":"IF(ROUND(AC14,0)>0,AD13,0)","v":0},{"$f":"AC14*AD$7/12","v":0},{"$f":"AD14-AE14","v":0},{"$f":"AC14-AF14","v":0},null,2,{"$f":"DATE(IF(MONTH(AJ13)=12,YEAR(AJ13)+1,YEAR(AJ13)),IF(MONTH(AJ13)=12,1,MONTH(AJ13)+1),1)","v":"1900-02-01"},{"$f":"AO13","v":0},{"$f":"IF(ROUND(AK14,0)>0,AL13,0)","v":0},{"$f":"AK14*AL$7/12","v":0},{"$f":"AL14-AM14","v":0},{"$f":"AK14-AN14","v":0},null,2,{"$f":"DATE(IF(MONTH(AR13)=12,YEAR(AR13)+1,YEAR(AR13)),IF(MONTH(AR13)=12,1,MONTH(AR13)+1),1)","v":"1900-02-01"},{"$f":"AW13","v":0},{"$f":"IF(ROUND(AS14,0)>0,AT13,0)","v":0},{"$f":"AS14*AT$7/12","v":0},{"$f":"AT14-AU14","v":0},{"$f":"AS14-AV14","v":0},null,2,{"$f":"DATE(IF(MONTH(AZ13)=12,YEAR(AZ13)+1,YEAR(AZ13)),IF(MONTH(AZ13)=12,1,MONTH(AZ13)+1),1)","v":"1900-02-01"},{"$f":"BE13","v":0},{"$f":"IF(ROUND(BA14,0)>0,BB13,0)","v":0},{"$f":"BA14*BB$7/12","v":0},{"$f":"BB14-BC14","v":0},{"$f":"BA14-BD14","v":0},null,2,{"$f":"DATE(IF(MONTH(BH13)=12,YEAR(BH13)+1,YEAR(BH13)),IF(MONTH(BH13)=12,1,MONTH(BH13)+1),1)","v":"1900-02-01"},{"$f":"BM13","v":0},{"$f":"IF(ROUND(BI14,0)>0,BJ13,0)","v":0},{"$f":"BI14*BJ$7/12","v":0},{"$f":"BJ14-BK14","v":0},{"$f":"BI14-BL14","v":0}]
[1900,3,{"$f":"DATE(IF(MONTH(C14)=12,YEAR(C14)+1,YEAR(C14)),IF(MONTH(C14)=12,1,MONTH(C14)+1),1)","v":"1900-03-01"},{"$f":"H14","v":0},{"$f":"IF(ROUND(D15,0)>0,E14,0)","v":0},0,{"$f":"E15-F15","v":0},{"$f":"D15-G15","v":0},0,null,3,{"$f":"DATE(IF(MONTH(L14)=12,YEAR(L14)+1,YEAR(L14)),IF(MONTH(L14)=12,1,MONTH(L14)+1),1)","v":"1900-03-01"},{"$f":"Q14","v":0},{"$f":"IF(ROUND(M15,0)>0,N14,0)","v":0},0,{"$f":"N15-O15","v":0},{"$f":"M15-P15","v":0},null,3,{"$f":"DATE(IF(MONTH(T14)=12,YEAR(T14)+1,YEAR(T14)),IF(MONTH(T14)=12,1,MONTH(T14)+1),1)","v":"1900-03-01"},{"$f":"Y14","v":0},{"$f":"IF(ROUND(U15,0)>0,V14,0)","v":0},0,{"$f":"V15-W15","v":0},{"$f":"U15-X15","v":0},null,3,{"$f":"DATE(IF(MONTH(AB14)=12,YEAR(AB14)+1,YEAR(AB14)),IF(MONTH(AB14)=12,1,MONTH(AB14)+1),1)","v":"1900-03-01"},{"$f":"AG14","v":0},{"$f":"IF(ROUND(AC15,0)>0,AD14,0)","v":0},0,{"$f":"AD15-AE15","v":0},{"$f":"AC15-AF15","v":0},null,3,{"$f":"DATE(IF(MONTH(AJ14)=12,YEAR(AJ14)+1,YEAR(AJ14)),IF(MONTH(AJ14)=12,1,MONTH(AJ14)+1),1)","v":"1900-03-01"},{"$f":"AO14","v":0},{"$f":"IF(ROUND(AK15,0)>0,AL14,0)","v":0},0,{"$f":"AL15-AM15","v":0},{"$f":"AK15-AN15","v":0},null,3,{"$f":"DATE(IF(MONTH(AR14)=12,YEAR(AR14)+1,YEAR(AR14)),IF(MONTH(AR14)=12,1,MONTH(AR14)+1),1)","v":"1900-03-01"},{"$f":"AW14","v":0},{"$f":"IF(ROUND(AS15,0)>0,AT14,0)","v":0},0,{"$f":"AT15-AU15","v":0},{"$f":"AS15-AV15","v":0},null,3,{"$f":"DATE(IF(MONTH(AZ14)=12,YEAR(AZ14)+1,YEAR(AZ14)),IF(MONTH(AZ14)=12,1,MONTH(AZ14)+1),1)","v":"1900-03-01"},{"$f":"BE14","v":0},{"$f":"IF(ROUND(BA15,0)>0,BB14,0)","v":0},0,{"$f":"BB15-BC15","v":0},{"$f":"BA15-BD15","v":0},null,3,{"$f":"DATE(IF(MONTH(BH14)=12,YEAR(BH14)+1,YEAR(BH14)),IF(MONTH(BH14)=12,1,MONTH(BH14)+1),1)","v":"1900-03-01"},{"$f":"BM14","v":0},{"$f":"IF(ROUND(BI15,0)>0,BJ14,0)","v":0},0,{"$f":"BJ15-BK15","v":0},{"$f":"BI15-BL15","v":0}]
[1900,4,{"$f":"DATE(IF(MONTH(C15)=12,YEAR(C15)+1,YEAR(C15)),IF(MONTH(C15)=12,1,MONTH(C15)+1),1)","v":"1900-04-01"},{"$f":"H15","v":0},0,0,{"$f":"E16-F16","v":0},{"$f":"D16-G16","v":0},0,null,4,{"$f":"DATE(IF(MONTH(L15)=12,YEAR(L15)+1,YEAR(L15)),IF(MONTH(L15)=12,1,MONTH(L15)+1),1)","v":"1900-04-01"},{"$f":"Q15","v":0},0,0,{"$f":"N16-O16","v":0},{"$f":"M16-P16","v":0},null,4,{"$f":"DATE(IF(MONTH(T15)=12,YEAR(T15)+1,YEAR(T15)),IF(MONTH(T15)=12,1,MONTH(T15)+1),1)","v":"1900-04-01"},{"$f":"Y15","v":0},0,0,{"$f":"V16-W16","v":0},{"$f":"U16-X16","v":0},null,4,{"$f":"DATE(IF(MONTH(AB15)=12,YEAR(AB15)+1,YEAR(AB15)),IF(MONTH(AB15)=12,1,MONTH(AB15)+1),1)","v":"1900-04-01"},{"$f":"AG15","v":0},0,0,{"$f":"AD16-AE16","v":0},{"$f":"AC16-AF16","v":0},null,4,{"$f":"DATE(IF(MONTH(AJ15)=12,YEAR(AJ15)+1,YEAR(AJ15)),IF(MONTH(AJ15)=12,1,MONTH(AJ15)+1),1)","v":"1900-04-01"},{"$f":"AO15","v":0},0,0,{"$f":"AL16-AM16","v":0},{"$f":"AK16-AN16","v":0},null,4,{"$f":"DATE(IF(MONTH(AR15)=12,YEAR(AR15)+1,YEAR(AR15)),IF(MONTH(AR15)=12,1,MONTH(AR15)+1),1)","v":"1900-04-01"},{"$f":"AW15","v":0},0,0,{"$f":"AT16-AU16","v":0},{"$f":"AS16-AV16","v":0},null,4,{"$f":"DATE(IF(MONTH(AZ15)=12,YEAR(AZ15)+1,YEAR(AZ15)),IF(MONTH(AZ15)=12,1,MONTH(AZ15)+1),1)","v":"1900-04-01"},{"$f":"BE15","v":0},0,0,{"$f":"BB16-BC16","v":0},{"$f":"BA16-BD16","v":0},null,4,{"$f":"DATE(IF(MONTH(BH15)=12,YEAR(BH15)+1,YEAR(BH15)),IF(MONTH(BH15)=12,1,MONTH(BH15)+1),1)","v":"1900-04-01"},{"$f":"BM15","v":0},0,0,{"$f":"BJ16-BK16","v":0},{"$f":"BI16-BL16","v":0}]
[1900,5,"1900-05-01",0,0,0,0,0,0,null,5,"1900-05-01",0,0,0,0,0,null,5,"1900-05-01",0,0,0,0,0,null,5,"1900-05-01",0,0,0,0,0,null,5,"1900-05-01",0,0,0,0,0,null,5,"1900-05-01",0,0,0,0,0,null,5,"1900-05-01",0,0,0,0,0,null,5,"1900-05-01",0,0,0,0,0]
[1900,6,"1900-06-01",0,0,0,0,0,0,null,6,"1900-06-01",0,0,0,0,0,null,6,"1900-06-01",0,0,0,0,0,null,6,"1900-06-01",0,0,0,0,0,null,6,"1900-06-01",0,0,0,0,0,null,6,"1900-06-01",0,0,0,0,0,null,6,"1900-06-01",0,0,0,0,0,null,6,"1900-06-01",0,0,0,0,0]
[1900,7,"1900-07-01",0,0,0,0,0,0,null,7,"1900-07-01",0,0,0,0,0,null,7,"1900-07-01",0,0,0,0,0,null,7,"1900-07-01",0,0,0,0,0,null,7,"1900-07-01",0,0,0,0,0,null,7,"1900-07-01",0,0,0,0,0,null,7,"1900-07-01",0,0,0,0,0,null,7,"1900-07-01",0,0,0,0,0]
[1900,8,"1900-08-01",0,0,0,0,0,0,null,8,"1900-08-01",0,0,0,0,0,null,8,"1900-08-01",0,0,0,0,0,null,8,"1900-08-01",0,0,0,0,0,null,8,"1900-08-01",0,0,0,0,0,null,8,"1900-08-01",0,0,0,0,0,null,8,"1900-08-01",0,0,0,0,0,null,8,"1900-08-01",0,0,0,0,0]
[1900,9,"1900-09-01",0,0,0,0,0,0,null,9,"1900-09-01",0,0,0,0,0,null,9,"1900-09-01",0,0,0,0,0,null,9,"1900-09-01",0,0,0,0,0,null,9,"1900-09-01",0,0,0,0,0,null,9,"1900-09-01",0,0,0,0,0,null,9,"1900-09-01",0,0,0,0,0,null,9,"1900-09-01",0,0,0,0,0]
[1900,10,"1900-10-01",0,0,0,0,0,0,null,10,"1900-10-01",0,0,0,0,0,null,10,"1900-10-01",0,0,0,0,0,null,10,"1900-10-01",0,0,0,0,0,null,10,"1900-10-01",0,0,0,0,0,null,10,"1900-10-01",0,0,0,0,0,null,10,"1900-10-01",0,0,0,0,0,null,10,"1900-10-01",0,0,0,0,0]
[1900,11,"1900-11-01",0,0,0,0,0,0,null,11,"1900-11-01",0,0,0,0,0,null,11,"1900-11-01",0,0,0,0,0,null,11,"1900-11-01",0,0,0,0,0,null,11,"1900-11-01",0,0,0,0,0,null,11,"1900-11-01",0,0,0,0,0,null,11,"1900-11-01",0,0,0,0,0,null,11,"1900-11-01",0,0,0,0,0]
[1900,12,"1900-12-01",0,0,0,0,0,0,null,12,"1900-12-01",0,0,0,0,0,null,12,"1900-12-01",0,0,0,0,0,null,12,"1900-12-01",0,0,0,0,0,null,12,"1900-12-01",0,0,0,0,0,null,12,"1900-12-01",0,0,0,0,0,null,12,"1900-12-01",0,0,0,0,0,null,12,"1900-12-01",0,0,0,0,0]
[1901,13,"1901-01-01",0,0,0,0,0,0,null,13,"1901-01-01",0,0,0,0,0,null,13,"1901-01-01",0,0,0,0,0,null,13,"1901-01-01",0,0,0,0,0,null,13,"1901-01-01",0,0,0,0,0,null,13,"1901-01-01",0,0,0,0,0,null,13,"1901-01-01",0,0,0,0,0,null,13,"1901-01-01",0,0,0,0,0]
[1901,14,"1901-02-01",0,0,0,0,0,0,null,14,"1901-02-01",0,0,0,0,0,null,14,"1901-02-01",0,0,0,0,0,null,14,"1901-02-01",0,0,0,0,0,null,14,"1901-02-01",0,0,0,0,0,null,14,"1901-02-01",0,0,0,0,0,null,14,"1901-02-01",0,0,0,0,0,null,14,"1901-02-01",0,0,0,0,0]
[1901,15,"1901-03-01",0,0,0,0,0,0,null,15,"1901-03-01",0,0,0,0,0,null,15,"1901-03-01",0,0,0,0,0,null,15,"1901-03-01",0,0,0,0,0,null,15,"1901-03-01",0,0,0,0,0,null,15,"1901-03-01",0,0,0,0,0,null,15,"1901-03-01",0,0,0,0,0,null,15,"1901-03-01",0,0,0,0,0]
[1901,16,"1901-04-01",0,0,0,0,0,0,null,16,"1901-04-01",0,0,0,0,0,null,16,"1901-04-01",0,0,0,0,0,null,16,"1901-04-01",0,0,0,0,0,null,16,"1901-04-01",0,0,0,0,0,null,16,"1901-04-01",0,0,0,0,0,null,16,"1901-04-01",0,0,0,0,0,null,16,"1901-04-01",0,0,0,0,0]
[1901,17,"1901-05-01",0,0,0,0,0,0,null,17,"1901-05-01",0,0,0,0,0,null,17,"1901-05-01",0,0,0,0,0,null,17,"1901-05-01",0,0,0,0,0,null,17,"1901-05-01",0,0,0,0,0,null,17,"1901-05-01",0,0,0,0,0,null,17,"1901-05-01",0,0,0,0,0,null,17,"1901-05-01",0,0,0,0,0]
[1901,18,"1901-06-01",0,0,0,0,0,0,null,18,"1901-06-01",0,0,0,0,0,null,18,"1901-06-01",0,0,0,0,0,null,18,"1901-06-01",0,0,0,0,0,null,18,"1901-06-01",0,0,0,0,0,null,18,"1901-06-01",0,0,0,0,0,null,18,"1901-06-01",0,0,0,0,0,null,18,"1901-06-01",0,0,0,0,0]
[1901,19,"1901-07-01",0,0,0,0,0,0,null,19,"1901-07-01",0,0,0,0,0,null,19,"1901-07-01",0,0,0,0,0,null,19,"1901-07-01",0,0,0,0,0,null,19,"1901-07-01",0,0,0,0,0,null,19,"1901-07-01",0,0,0,0,0,null,19,"1901-07-01",0,0,0,0,0,null,19,"1901-07-01",0,0,0,0,0]
[1901,20,"1901-08-01",0,0,0,0,0,0,null,20,"1901-08-01",0,0,0,0,0,null,20,"1901-08-01",0,0,0,0,0,null,20,"1901-08-01",0,0,0,0,0,null,20,"1901-08-01",0,0,0,0,0,null,20,"1901-08-01",0,0,0,0,0,null,20,"1901-08-01",0,0,0,0,0,null,20,"1901-08-01",0,0,0,0,0]
[1901,21,"1901-09-01",0,0,0,0,0,0,null,21,"1901-09-01",0,0,0,0,0,null,21,"1901-09-01",0,0,0,0,0,null,21,"1901-09-01",0,0,0,0,0,null,21,"1901-09-01",0,0,0,0,0,null,21,"1901-09-01",0,0,0,0,0,null,21,"1901-09-01",0,0,0,0,0,null,21,"1901-09-01",0,0,0,0,0]
[1901,22,"1901-10-01",0,0,0,0,0,0,null,22,"1901-10-01",0,0,0,0,0,null,22,"1901-10-01",0,0,0,0,0,null,22,"1901-10-01",0,0,0,0,0,null,22,"1901-10-01",0,0,0,0,0,null,22,"1901-10-01",0,0,0,0,0,null,22,"1901-10-01",0,0,0,0,0,null,22,"1901-10-01",0,0,0,0,0]
[1901,23,"1901-11-01",0,0,0,0,0,0,null,23,"1901-11-01",0,0,0,0,0,null,23,"1901-11-01",0,0,0,0,0,null,23,"1901-11-01",0,0,0,0,0,null,23,"1901-11-01",0,0,0,0,0,null,23,"1901-11-01",0,0,0,0,0,null,23,"1901-11-01",0,0,0,0,0,null,23,"1901-11-01",0,0,0,0,0]
[1901,24,"1901-12-01",0,0,0,0,0,0,null,24,"1901-12-01",0,0,0,0,0,null,24,"1901-12-01",0,0,0,0,0,null,24,"1901-12-01",0,0,0,0,0,null,24,"1901-12-01",0,0,0,0,0,null,24,"1901-12-01",0,0,0,0,0,null,24,"1901-12-01",0,0,0,0,0,null,24,"1901-12-01",0,0,0,0,0]
[1902,25,"1902-01-01",0,0,0,0,0,0,null,25,"1902-01-01",0,0,0,0,0,null,25,"1902-01-01",0,0,0,0,0,null,25,"1902-01-01",0,0,0,0,0,null,25,"1902-01-01",0,0,0,0,0,null,25,"1902-01-01",0,0,0,0,0,null,25,"1902-01-01",0,0,0,0,0,null,25,"1902-01-01",0,0,0,0,0]
[1902,26,"1902-02-01",0,0,0,0,0,0,null,26,"1902-02-01",0,0,0,0,0,null,26,"1902-02-01",0,0,0,0,0,null,26,"1902-02-01",0,0,0,0,0,null,26,"1902-02-01",0,0,0,0,0,null,26,"1902-02-01",0,0,0,0,0,null,26,"1902-02-01",0,0,0,0,0,null,26,"1902-02-01",0,0,0,0,0]
[1902,27,"1902-03-01",0,0,0,0,0,0,null,27,"1902-03-01",0,0,0,0,0,null,27,"1902-03-01",0,0,0,0,0,null,27,"1902-03-01",0,0,0,0,0,null,27,"1902-03-01",0,0,0,0,0,null,27,"1902-03-01",0,0,0,0,0,null,27,"1902-03-01",0,0,0,0,0,null,27,"1902-03-01",0,0,0,0,0]
[1902,28,"1902-04-01",0,0,0,0,0,0,null,28,"1902-04-01",0,0,0,0,0,null,28,"1902-04-01",0,0,0,0,0,null,28,"1902-04-01",0,0,0,0,0,null,28,"1902-04-01",0,0,0,0,0,null,28,"1902-04-01",0,0,0,0,0,null,28,"1902-04-01",0,0,0,0,0,null,28,"1902-04-01",0,0,0,0,0]
[1902,29,"1902-05-01",0,0,0,0,0,0,null,29,"1902-05-01",0,0,0,0,0,null,29,"1902-05-01",0,0,0,0,0,null,29,"1902-05-01",0,0,0,0,0,null,29,"1902-05-01",0,0,0,0,0,null,29,"1902-05-01",0,0,0,0,0,null,29,"1902-05-01",0,0,0,0,0,null,29,"1902-05-01",0,0,0,0,0]
[1902,30,"1902-06-01",0,0,0,0,0,0,null,30,"1902-06-01",0,0,0,0,0,null,30,"1902-06-01",0,0,0,0,0,null,30,"1902-06-01",0,0,0,0,0,null,30,"1902-06-01",0,0,0,0,0,null,30,"1902-06-01",0,0,0,0,0,null,30,"1902-06-01",0,0,0,0,0,null,30,"1902-06-01",0,0,0,0,0]
[1902,31,"1902-07-01",0,0,0,0,0,0,null,31,"1902-07-01",0,0,0,0,0,null,31,"1902-07-01",0,0,0,0,0,null,31,"1902-07-01",0,0,0,0,0,null,31,"1902-07-01",0,0,0,0,0,null,31,"1902-07-01",0,0,0,0,0,null,31,"1902-07-01",0,0,0,0,0,null,31,"1902-07-01",0,0,0,0,0]
[1902,32,"1902-08-01",0,0,0,0,0,0,null,32,"1902-08-01",0,0,0,0,0,null,32,"1902-08-01",0,0,0,0,0,null,32,"1902-08-01",0,0,0,0,0,null,32,"1902-08-01",0,0,0,0,0,null,32,"1902-08-01",0,0,0,0,0,null,32,"1902-08-01",0,0,0,0,0,null,32,"1902-08-01",0,0,0,0,0]
[1902,33,"1902-09-01",0,0,0,0,0,0,null,33,"1902-09-01",0,0,0,0,0,null,33,"1902-09-01",0,0,0,0,0,null,33,"1902-09-01",0,0,0,0,0,null,33,"1902-09-01",0,0,0,0,0,null,33,"1902-09-01",0,0,0,0,0,null,33,"1902-09-01",0,0,0,0,0,null,33,"1902-09-01",0,0,0,0,0]
[1902,34,"1902-10-01",0,0,0,0,0,0,null,34,"1902-10-01",0,0,0,0,0,null,34,"1902-10-01",0,0,0,0,0,null,34,"1902-10-01",0,0,0,0,0,null,34,"1902-10-01",0,0,0,0,0,null,34,"1902-10-01",0,0,0,0,0,null,34,"1902-10-01",0,0,0,0,0,null,34,"1902-10-01",0,0,0,0,0]
[1902,35,"1902-11-01",0,0,0,0,0,0,null,35,"1902-11-01",0,0,0,0,0,null,35,"1902-11-01",0,0,0,0,0,null,35,"1902-11-01",0,0,0,0,0,null,35,"1902-11-01",0,0,0,0,0,null,35,"1902-11-01",0,0,0,0,0,null,35,"1902-11-01",0,0,0,0,0,null,35,"1902-11-01",0,0,0,0,0]
[1902,36,"1902-12-01",0,0,0,0,0,0,null,36,"1902-12-01",0,0,0,0,0,null,36,"1902-12-01",0,0,0,0,0,null,36,"1902-12-01",0,0,0,0,0,null,36,"1902-12-01",0,0,0,0,0,null,36,"1902-12-01",0,0,0,0,0,null,36,"1902-12-01",0,0,0,0,0,null,36,"1902-12-01",0,0,0,0,0]
[1903,37,"1903-01-01",0,0,0,0,0,0,null,37,"1903-01-01",0,0,0,0,0,null,37,"1903-01-01",0,0,0,0,0,null,37,"1903-01-01",0,0,0,0,0,null,37,"1903-01-01",0,0,0,0,0,null,37,"1903-01-01",0,0,0,0,0,null,37,"1903-01-01",0,0,0,0,0,null,37,"1903-01-01",0,0,0,0,0]
[1903,38,"1903-02-01",0,0,0,0,0,0,null,38,"1903-02-01",0,0,0,0,0,null,38,"1903-02-01",0,0,0,0,0,null,38,"1903-02-01",0,0,0,0,0,null,38,"1903-02-01",0,0,0,0,0,null,38,"1903-02-01",0,0,0,0,0,null,38,"1903-02-01",0,0,0,0,0,null,38,"1903-02-01",0,0,0,0,0]
[1903,39,"1903-03-01",0,0,0,0,0,0,null,39,"1903-03-01",0,0,0,0,0,null,39,"1903-03-01",0,0,0,0,0,null,39,"1903-03-01",0,0,0,0,0,null,39,"1903-03-01",0,0,0,0,0,null,39,"1903-03-01",0,0,0,0,0,null,39,"1903-03-01",0,0,0,0,0,null,39,"1903-03-01",0,0,0,0,0]
[1903,40,"1903-04-01",0,0,0,0,0,0,null,40,"1903-04-01",0,0,0,0,0,null,40,"1903-04-01",0,0,0,0,0,null,40,"1903-04-01",0,0,0,0,0,null,40,"1903-04-01",0,0,0,0,0,null,40,"1903-04-01",0,0,0,0,0,null,40,"1903-04-01",0,0,0,0,0,null,40,"1903-04-01",0,0,0,0,0]
[1903,41,"1903-05-01",0,0,0,0,0,0,null,41,"1903-05-01",0,0,0,0,0,null,41,"1903-05-01",0,0,0,0,0,null,41,"1903-05-01",0,0,0,0,0,null,41,"1903-05-01",0,0,0,0,0,null,41,"1903-05-01",0,0,0,0,0,null,41,"1903-05-01",0,0,0,0,0,null,41,"1903-05-01",0,0,0,0,0]
[1903,42,"1903-06-01",0,0,0,0,0,0,null,42,"1903-06-01",0,0,0,0,0,null,42,"1903-06-01",0,0,0,0,0,null,42,"1903-06-01",0,0,0,0,0,null,42,"1903-06-01",0,0,0,0,0,null,42,"1903-06-01",0,0,0,0,0,null,42,"1903-06-01",0,0,0,0,0,null,42,"1903-06-01",0,0,0,0,0]
[1903,43,"1903-07-01",0,0,0,0,0,0,null,43,"1903-07-01",0,0,0,0,0,null,43,"1903-07-01",0,0,0,0,0,null,43,"1903-07-01",0,0,0,0,0,null,43,"1903-07-01",0,0,0,0,0,null,43,"1903-07-01",0,0,0,0,0,null,43,"1903-07-01",0,0,0,0,0,null,43,"1903-07-01",0,0,0,0,0]
[1903,44,"1903-08-01",0,0,0,0,0,0,null,44,"1903-08-01",0,0,0,0,0,null,44,"1903-08-01",0,0,0,0,0,null,44,"1903-08-01",0,0,0,0,0,null,44,"1903-08-01",0,0,0,0,0,null,44,"1903-08-01",0,0,0,0,0,null,44,"1903-08-01",0,0,0,0,0,null,44,"1903-08-01",0,0,0,0,0]
[1903,45,"1903-09-01",0,0,0,0,0,0,null,45,"1903-09-01",0,0,0,0,0,null,45,"1903-09-01",0,0,0,0,0,null,45,"1903-09-01",0,0,0,0,0,null,45,"1903-09-01",0,0,0,0,0,null,45,"1903-09-01",0,0,0,0,0,null,45,"1903-09-01",0,0,0,0,0,null,45,"1903-09-01",0,0,0,0,0]
[1903,46,"1903-10-01",0,0,0,0,0,0,null,46,"1903-10-01",0,0,0,0,0,null,46,"1903-10-01",0,0,0,0,0,null,46,"1903-10-01",0,0,0,0,0,null,46,"1903-10-01",0,0,0,0,0,null,46,"1903-10-01",0,0,0,0,0,null,46,"1903-10-01",0,0,0,0,0,null,46,"1903-10-01",0,0,0,0,0]
[1903,47,"1903-11-01",0,0,0,0,0,0,null,47,"1903-11-01",0,0,0,0,0,null,47,"1903-11-01",0,0,0,0,0,null,47,"1903-11-01",0,0,0,0,0,null,47,"1903-11-01",0,0,0,0,0,null,47,"1903-11-01",0,0,0,0,0,null,47,"1903-11-01",0,0,0,0,0,null,47,"1903-11-01",0,0,0,0,0]
[1903,48,"1903-12-01",0,0,0,0,0,0,null,48,"1903-12-01",0,0,0,0,0,null,48,"1903-12-01",0,0,0,0,0,null,48,"1903-12-01",0,0,0,0,0,null,48,"1903-12-01",0,0,0,0,0,null,48,"1903-12-01",0,0,0,0,0,null,48,"1903-12-01",0,0,0,0,0,null,48,"1903-12-01",0,0,0,0,0]
[1904,49,"1904-01-01",0,0,0,0,0,0,null,49,"1904-01-01",0,0,0,0,0,null,49,"1904-01-01",0,0,0,0,0,null,49,"1904-01-01",0,0,0,0,0,null,49,"1904-01-01",0,0,0,0,0,null,49,"1904-01-01",0,0,0,0,0,null,49,"1904-01-01",0,0,0,0,0,null,49,"1904-01-01",0,0,0,0,0]
[1904,50,"1904-02-01",0,0,0,0,0,0,null,50,"1904-02-01",0,0,0,0,0,null,50,"1904-02-01",0,0,0,0,0,null,50,"1904-02-01",0,0,0,0,0,null,50,"1904-02-01",0,0,0,0,0,null,50,"1904-02-01",0,0,0,0,0,null,50,"1904-02-01",0,0,0,0,0,null,50,"1904-02-01",0,0,0,0,0]
[1904,51,"1904-03-01",0,0,0,0,0,0,null,51,"1904-03-01",0,0,0,0,0,null,51,"1904-03-01",0,0,0,0,0,null,51,"1904-03-01",0,0,0,0,0,null,51,"1904-03-01",0,0,0,0,0,null,51,"1904-03-01",0,0,0,0,0,null,51,"1904-03-01",0,0,0,0,0,null,51,"1904-03-01",0,0,0,0,0]
[1904,52,"1904-04-01",0,0,0,0,0,0,null,52,"1904-04-01",0,0,0,0,0,null,52,"1904-04-01",0,0,0,0,0,null,52,"1904-04-01",0,0,0,0,0,null,52,"1904-04-01",0,0,0,0,0,null,52,"1904-04-01",0,0,0,0,0,null,52,"1904-04-01",0,0,0,0,0,null,52,"1904-04-01",0,0,0,0,0]
[1904,53,"1904-05-01",0,0,0,0,0,0,null,53,"1904-05-01",0,0,0,0,0,null,53,"1904-05-01",0,0,0,0,0,null,53,"1904-05-01",0,0,0,0,0,null,53,"1904-05-01",0,0,0,0,0,null,53,"1904-05-01",0,0,0,0,0,null,53,"1904-05-01",0,0,0,0,0,null,53,"1904-05-01",0,0,0,0,0]
[1904,54,"1904-06-01",0,0,0,0,0,0,null,54,"1904-06-01",0,0,0,0,0,null,54,"1904-06-01",0,0,0,0,0,null,54,"1904-06-01",0,0,0,0,0,null,54,"1904-06-01",0,0,0,0,0,null,54,"1904-06-01",0,0,0,0,0,null,54,"1904-06-01",0,0,0,0,0,null,54,"1904-06-01",0,0,0,0,0]
[1904,55,"1904-07-01",0,0,0,0,0,0,null,55,"1904-07-01",0,0,0,0,0,null,55,"1904-07-01",0,0,0,0,0,null,55,"1904-07-01",0,0,0,0,0,null,55,"1904-07-01",0,0,0,0,0,null,55,"1904-07-01",0,0,0,0,0,null,55,"1904-07-01",0,0,0,0,0,null,55,"1904-07-01",0,0,0,0,0]
[1904,56,"1904-08-01",0,0,0,0,0,0,null,56,"1904-08-01",0,0,0,0,0,null,56,"1904-08-01",0,0,0,0,0,null,56,"1904-08-01",0,0,0,0,0,null,56,"1904-08-01",0,0,0,0,0,null,56,"1904-08-01",0,0,0,0,0,null,56,"1904-08-01",0,0,0,0,0,null,56,"1904-08-01",0,0,0,0,0]
[1904,57,"1904-09-01",0,0,0,0,0,0,null,57,"1904-09-01",0,0,0,0,0,null,57,"1904-09-01",0,0,0,0,0,null,57,"1904-09-01",0,0,0,0,0,null,57,"1904-09-01",0,0,0,0,0,null,57,"1904-09-01",0,0,0,0,0,null,57,"1904-09-01",0,0,0,0,0,null,57,"1904-09-01",0,0,0,0,0]
[1904,58,"1904-10-01",0,0,0,0,0,0,null,58,"1904-10-01",0,0,0,0,0,null,58,"1904-10-01",0,0,0,0,0,null,58,"1904-10-01",0,0,0,0,0,null,58,"1904-10-01",0,0,0,0,0,null,58,"1904-10-01",0,0,0,0,0,null,58,"1904-10-01",0,0,0,0,0,null,58,"1904-10-01",0,0,0,0,0]
[1904,59,"1904-11-01",0,0,0,0,0,0,null,59,"1904-11-01",0,0,0,0,0,null,59,"1904-11-01",0,0,0,0,0,null,59,"1904-11-01",0,0,0,0,0,null,59,"1904-11-01",0,0,0,0,0,null,59,"1904-11-01",0,0,0,0,0,null,59,"1904-11-01",0,0,0,0,0,null,59,"1904-11-01",0,0,0,0,0]
[1904,60,"1904-12-01",0,0,0,0,0,0,null,60,"1904-12-01",0,0,0,0,0,null,60,"1904-12-01",0,0,0,0,0,null,60,"1904-12-01",0,0,0,0,0,null,60,"1904-12-01",0,0,0,0,0,null,60,"1904-12-01",0,0,0,0,0,null,60,"1904-12-01",0,0,0,0,0,null,60,"1904-12-01",0,0,0,0,0]
[1905,61,"1905-01-01",0,0,0,0,0,0,null,61,"1905-01-01",0,0,0,0,0,null,61,"1905-01-01",0,0,0,0,0,null,61,"1905-01-01",0,0,0,0,0,null,61,"1905-01-01",0,0,0,0,0,null,61,"1905-01-01",0,0,0,0,0,null,61,"1905-01-01",0,0,0,0,0,null,61,"1905-01-01",0,0,0,0,0]
[1905,62,"1905-02-01",0,0,0,0,0,0,null,62,"1905-02-01",0,0,0,0,0,null,62,"1905-02-01",0,0,0,0,0,null,62,"1905-02-01",0,0,0,0,0,null,62,"1905-02-01",0,0,0,0,0,null,62,"1905-02-01",0,0,0,0,0,null,62,"1905-02-01",0,0,0,0,0,null,62,"1905-02-01",0,0,0,0,0]
[1905,63,"1905-03-01",0,0,0,0,0,0,null,63,"1905-03-01",0,0,0,0,0,null,63,"1905-03-01",0,0,0,0,0,null,63,"1905-03-01",0,0,0,0,0,null,63,"1905-03-01",0,0,0,0,0,null,63,"1905-03-01",0,0,0,0,0,null,63,"1905-03-01",0,0,0,0,0,null,63,"1905-03-01",0,0,0,0,0]
[1905,64,"1905-04-01",0,0,0,0,0,0,null,64,"1905-04-01",0,0,0,0,0,null,64,"1905-04-01",0,0,0,0,0,null,64,"1905-04-01",0,0,0,0,0,null,64,"1905-04-01",0,0,0,0,0,null,64,"1905-04-01",0,0,0,0,0,null,64,"1905-04-01",0,0,0,0,0,null,64,"1905-04-01",0,0,0,0,0]
[1905,65,"1905-05-01",0,0,{"$f":"D77*$E$7/12","v":0},0,0,{"$f":"D77*rng01_MortgageInsurangePremium/12","v":0},null,65,"1905-05-01",0,0,0,0,0,null,65,"1905-05-01",0,0,0,0,0,null,65,"1905-05-01",0,0,0,0,0,null,65,"1905-05-01",0,0,0,0,0,null,65,"1905-05-01",0,0,0,0,0,null,65,"1905-05-01",0,0,0,0,0,null,65,"1905-05-01",0,0,0,0,0]
[{"$f":"YEAR(C78)","v":1905},66,"1905-06-01",0,0,0,0,0,0,null,66,"1905-06-01",0,0,{"$f":"M78*$N$7/12","v":0},0,0,null,66,"1905-06-01",0,0,{"$f":"U78*V$7/12","v":0},0,0,null,66,"1905-06-01",0,0,{"$f":"AC78*AD$7/12","v":0},0,0,null,66,"1905-06-01",0,0,{"$f":"AK78*AL$7/12","v":0},0,0,null,66,"1905-06-01",0,0,{"$f":"AS78*AT$7/12","v":0},0,0,null,66,"1905-06-01",0,0,{"$f":"BA78*BB$7/12","v":0},0,0,null,66,"1905-06-01",0,0,{"$f":"BI78*BJ$7/12","v":0},0,0]
[1905,67,"1905-07-01",0,{"$f":"IF(ROUND(D79,0)>0,E78,0)","v":0},0,0,0,0,null,67,"1905-07-01",0,{"$f":"IF(ROUND(M79,0)>0,N78,0)","v":0},0,0,0,null,67,"1905-07-01",0,{"$f":"IF(ROUND(U79,0)>0,V78,0)","v":0},0,0,0,null,67,"1905-07-01",0,{"$f":"IF(ROUND(AC79,0)>0,AD78,0)","v":0},0,0,0,null,67,"1905-07-01",0,{"$f":"IF(ROUND(AK79,0)>0,AL78,0)","v":0},0,0,0,null,67,"1905-07-01",0,{"$f":"IF(ROUND(AS79,0)>0,AT78,0)","v":0},0,0,0,null,67,"1905-07-01",0,{"$f":"IF(ROUND(BA79,0)>0,BB78,0)","v":0},0,0,0,null,67,"1905-07-01",0,{"$f":"IF(ROUND(BI79,0)>0,BJ78,0)","v":0},0,0,0]
[1905,68,{"$f":"DATE(IF(MONTH(C79)=12,YEAR(C79)+1,YEAR(C79)),IF(MONTH(C79)=12,1,MONTH(C79)+1),1)","v":"1905-08-01"},{"$f":"H79","v":0},0,0,{"$f":"E80-F80","v":0},{"$f":"D80-G80","v":0},0,null,68,{"$f":"DATE(IF(MONTH(L79)=12,YEAR(L79)+1,YEAR(L79)),IF(MONTH(L79)=12,1,MONTH(L79)+1),1)","v":"1905-08-01"},{"$f":"Q79","v":0},0,0,{"$f":"N80-O80","v":0},{"$f":"M80-P80","v":0},null,68,{"$f":"DATE(IF(MONTH(T79)=12,YEAR(T79)+1,YEAR(T79)),IF(MONTH(T79)=12,1,MONTH(T79)+1),1)","v":"1905-08-01"},{"$f":"Y79","v":0},0,0,{"$f":"V80-W80","v":0},{"$f":"U80-X80","v":0},null,68,{"$f":"DATE(IF(MONTH(AB79)=12,YEAR(AB79)+1,YEAR(AB79)),IF(MONTH(AB79)=12,1,MONTH(AB79)+1),1)","v":"1905-08-01"},{"$f":"AG79","v":0},0,0,{"$f":"AD80-AE80","v":0},{"$f":"AC80-AF80","v":0},null,68,{"$f":"DATE(IF(MONTH(AJ79)=12,YEAR(AJ79)+1,YEAR(AJ79)),IF(MONTH(AJ79)=12,1,MONTH(AJ79)+1),1)","v":"1905-08-01"},{"$f":"AO79","v":0},0,0,{"$f":"AL80-AM80","v":0},{"$f":"AK80-AN80","v":0},null,68,{"$f":"DATE(IF(MONTH(AR79)=12,YEAR(AR79)+1,YEAR(AR79)),IF(MONTH(AR79)=12,1,MONTH(AR79)+1),1)","v":"1905-08-01"},{"$f":"AW79","v":0},0,0,{"$f":"AT80-AU80","v":0},{"$f":"AS80-AV80","v":0},null,68,{"$f":"DATE(IF(MONTH(AZ79)=12,YEAR(AZ79)+1,YEAR(AZ79)),IF(MONTH(AZ79)=12,1,MONTH(AZ79)+1),1)","v":"1905-08-01"},{"$f":"BE79","v":0},0,0,{"$f":"BB80-BC80","v":0},{"$f":"BA80-BD80","v":0},null,68,{"$f":"DATE(IF(MONTH(BH79)=12,YEAR(BH79)+1,YEAR(BH79)),IF(MONTH(BH79)=12,1,MONTH(BH79)+1),1)","v":"1905-08-01"},{"$f":"BM79","v":0},0,0,{"$f":"BJ80-BK80","v":0},{"$f":"BI80-BL80","v":0}]
[1905,69,"1905-09-01",0,0,0,0,0,0,null,69,"1905-09-01",0,0,0,0,0,null,69,"1905-09-01",0,0,0,0,0,null,69,"1905-09-01",0,0,0,0,0,null,69,"1905-09-01",0,0,0,0,0,null,69,"1905-09-01",0,0,0,0,0,null,69,"1905-09-01",0,0,0,0,0,null,69,"1905-09-01",0,0,0,0,0]
[1905,70,"1905-10-01",0,0,0,0,0,0,null,70,"1905-10-01",0,0,0,0,0,null,70,"1905-10-01",0,0,0,0,0,null,70,"1905-10-01",0,0,0,0,0,null,70,"1905-10-01",0,0,0,0,0,null,70,"1905-10-01",0,0,0,0,0,null,70,"1905-10-01",0,0,0,0,0,null,70,"1905-10-01",0,0,0,0,0]
[1905,71,"1905-11-01",0,0,0,0,0,0,null,71,"1905-11-01",0,0,0,0,0,null,71,"1905-11-01",0,0,0,0,0,null,71,"1905-11-01",0,0,0,0,0,null,71,"1905-11-01",0,0,0,0,0,null,71,"1905-11-01",0,0,0,0,0,null,71,"1905-11-01",0,0,0,0,0,null,71,"1905-11-01",0,0,0,0,0]
[1905,72,"1905-12-01",0,0,0,0,0,0,null,72,"1905-12-01",0,0,0,0,0,null,72,"1905-12-01",0,0,0,0,0,null,72,"1905-12-01",0,0,0,0,0,null,72,"1905-12-01",0,0,0,0,0,null,72,"1905-12-01",0,0,0,0,0,null,72,"1905-12-01",0,0,0,0,0,null,72,"1905-12-01",0,0,0,0,0]
[1906,73,"1906-01-01",0,0,0,0,0,0,null,73,"1906-01-01",0,0,0,0,0,null,73,"1906-01-01",0,0,0,0,0,null,73,"1906-01-01",0,0,0,0,0,null,73,"1906-01-01",0,0,0,0,0,null,73,"1906-01-01",0,0,0,0,0,null,73,"1906-01-01",0,0,0,0,0,null,73,"1906-01-01",0,0,0,0,0]
[1906,74,"1906-02-01",0,0,0,0,0,0,null,74,"1906-02-01",0,0,0,0,0,null,74,"1906-02-01",0,0,0,0,0,null,74,"1906-02-01",0,0,0,0,0,null,74,"1906-02-01",0,0,0,0,0,null,74,"1906-02-01",0,0,0,0,0,null,74,"1906-02-01",0,0,0,0,0,null,74,"1906-02-01",0,0,0,0,0]
[1906,75,"1906-03-01",0,0,0,0,0,0,null,75,"1906-03-01",0,0,0,0,0,null,75,"1906-03-01",0,0,0,0,0,null,75,"1906-03-01",0,0,0,0,0,null,75,"1906-03-01",0,0,0,0,0,null,75,"1906-03-01",0,0,0,0,0,null,75,"1906-03-01",0,0,0,0,0,null,75,"1906-03-01",0,0,0,0,0]
[1906,76,"1906-04-01",0,0,0,0,0,0,null,76,"1906-04-01",0,0,0,0,0,null,76,"1906-04-01",0,0,0,0,0,null,76,"1906-04-01",0,0,0,0,0,null,76,"1906-04-01",0,0,0,0,0,null,76,"1906-04-01",0,0,0,0,0,null,76,"1906-04-01",0,0,0,0,0,null,76,"1906-04-01",0,0,0,0,0]
[1906,77,"1906-05-01",0,0,0,0,0,0,null,77,"1906-05-01",0,0,0,0,0,null,77,"1906-05-01",0,0,0,0,0,null,77,"1906-05-01",0,0,0,0,0,null,77,"1906-05-01",0,0,0,0,0,null,77,"1906-05-01",0,0,0,0,0,null,77,"1906-05-01",0,0,0,0,0,null,77,"1906-05-01",0,0,0,0,0]
[1906,78,"1906-06-01",0,0,0,0,0,0,null,78,"1906-06-01",0,0,0,0,0,null,78,"1906-06-01",0,0,0,0,0,null,78,"1906-06-01",0,0,0,0,0,null,78,"1906-06-01",0,0,0,0,0,null,78,"1906-06-01",0,0,0,0,0,null,78,"1906-06-01",0,0,0,0,0,null,78,"1906-06-01",0,0,0,0,0]
[1906,79,"1906-07-01",0,0,0,0,0,0,null,79,"1906-07-01",0,0,0,0,0,null,79,"1906-07-01",0,0,0,0,0,null,79,"1906-07-01",0,0,0,0,0,null,79,"1906-07-01",0,0,0,0,0,null,79,"1906-07-01",0,0,0,0,0,null,79,"1906-07-01",0,0,0,0,0,null,79,"1906-07-01",0,0,0,0,0]
[1906,80,"1906-08-01",0,0,0,0,0,0,null,80,"1906-08-01",0,0,0,0,0,null,80,"1906-08-01",0,0,0,0,0,null,80,"1906-08-01",0,0,0,0,0,null,80,"1906-08-01",0,0,0,0,0,null,80,"1906-08-01",0,0,0,0,0,null,80,"1906-08-01",0,0,0,0,0,null,80,"1906-08-01",0,0,0,0,0]
[1906,81,"1906-09-01",0,0,0,0,0,0,null,81,"1906-09-01",0,0,0,0,0,null,81,"1906-09-01",0,0,0,0,0,null,81,"1906-09-01",0,0,0,0,0,null,81,"1906-09-01",0,0,0,0,0,null,81,"1906-09-01",0,0,0,0,0,null,81,"1906-09-01",0,0,0,0,0,null,81,"1906-09-01",0,0,0,0,0]
[1906,82,"1906-10-01",0,0,0,0,0,0,null,82,"1906-10-01",0,0,0,0,0,null,82,"1906-10-01",0,0,0,0,0,null,82,"1906-10-01",0,0,0,0,0,null,82,"1906-10-01",0,0,0,0,0,null,82,"1906-10-01",0,0,0,0,0,null,82,"1906-10-01",0,0,0,0,0,null,82,"1906-10-01",0,0,0,0,0]
[1906,83,"1906-11-01",0,0,0,0,0,0,null,83,"1906-11-01",0,0,0,0,0,null,83,"1906-11-01",0,0,0,0,0,null,83,"1906-11-01",0,0,0,0,0,null,83,"1906-11-01",0,0,0,0,0,null,83,"1906-11-01",0,0,0,0,0,null,83,"1906-11-01",0,0,0,0,0,null,83,"1906-11-01",0,0,0,0,0]
[1906,84,"1906-12-01",0,0,0,0,0,0,null,84,"1906-12-01",0,0,0,0,0,null,84,"1906-12-01",0,0,0,0,0,null,84,"1906-12-01",0,0,0,0,0,null,84,"1906-12-01",0,0,0,0,0,null,84,"1906-12-01",0,0,0,0,0,null,84,"1906-12-01",0,0,0,0,0,null,84,"1906-12-01",0,0,0,0,0]
[1907,85,"1907-01-01",0,0,0,0,0,0,null,85,"1907-01-01",0,0,0,0,0,null,85,"1907-01-01",0,0,0,0,0,null,85,"1907-01-01",0,0,0,0,0,null,85,"1907-01-01",0,0,0,0,0,null,85,"1907-01-01",0,0,0,0,0,null,85,"1907-01-01",0,0,0,0,0,null,85,"1907-01-01",0,0,0,0,0]
[1907,86,"1907-02-01",0,0,0,0,0,0,null,86,"1907-02-01",0,0,0,0,0,null,86,"1907-02-01",0,0,0,0,0,null,86,"1907-02-01",0,0,0,0,0,null,86,"1907-02-01",0,0,0,0,0,null,86,"1907-02-01",0,0,0,0,0,null,86,"1907-02-01",0,0,0,0,0,null,86,"1907-02-01",0,0,0,0,0]
[1907,87,"1907-03-01",0,0,0,0,0,0,null,87,"1907-03-01",0,0,0,0,0,null,87,"1907-03-01",0,0,0,0,0,null,87,"1907-03-01",0,0,0,0,0,null,87,"1907-03-01",0,0,0,0,0,null,87,"1907-03-01",0,0,0,0,0,null,87,"1907-03-01",0,0,0,0,0,null,87,"1907-03-01",0,0,0,0,0]
[1907,88,"1907-04-01",0,0,0,0,0,0,null,88,"1907-04-01",0,0,0,0,0,null,88,"1907-04-01",0,0,0,0,0,null,88,"1907-04-01",0,0,0,0,0,null,88,"1907-04-01",0,0,0,0,0,null,88,"1907-04-01",0,0,0,0,0,null,88,"1907-04-01",0,0,0,0,0,null,88,"1907-04-01",0,0,0,0,0]
[1907,89,"1907-05-01",0,0,0,0,0,0,null,89,"1907-05-01",0,0,0,0,0,null,89,"1907-05-01",0,0,0,0,0,null,89,"1907-05-01",0,0,0,0,0,null,89,"1907-05-01",0,0,0,0,0,null,89,"1907-05-01",0,0,0,0,0,null,89,"1907-05-01",0,0,0,0,0,null,89,"1907-05-01",0,0,0,0,0]
[1907,90,"1907-06-01",0,0,0,0,0,0,null,90,"1907-06-01",0,0,0,0,0,null,90,"1907-06-01",0,0,0,0,0,null,90,"1907-06-01",0,0,0,0,0,null,90,"1907-06-01",0,0,0,0,0,null,90,"1907-06-01",0,0,0,0,0,null,90,"1907-06-01",0,0,0,0,0,null,90,"1907-06-01",0,0,0,0,0]
[1907,91,"1907-07-01",0,0,0,0,0,0,null,91,"1907-07-01",0,0,0,0,0,null,91,"1907-07-01",0,0,0,0,0,null,91,"1907-07-01",0,0,0,0,0,null,91,"1907-07-01",0,0,0,0,0,null,91,"1907-07-01",0,0,0,0,0,null,91,"1907-07-01",0,0,0,0,0,null,91,"1907-07-01",0,0,0,0,0]
[1907,92,"1907-08-01",0,0,0,0,0,0,null,92,"1907-08-01",0,0,0,0,0,null,92,"1907-08-01",0,0,0,0,0,null,92,"1907-08-01",0,0,0,0,0,null,92,"1907-08-01",0,0,0,0,0,null,92,"1907-08-01",0,0,0,0,0,null,92,"1907-08-01",0,0,0,0,0,null,92,"1907-08-01",0,0,0,0,0]
[1907,93,"1907-09-01",0,0,0,0,0,0,null,93,"1907-09-01",0,0,0,0,0,null,93,"1907-09-01",0,0,0,0,0,null,93,"1907-09-01",0,0,0,0,0,null,93,"1907-09-01",0,0,0,0,0,null,93,"1907-09-01",0,0,0,0,0,null,93,"1907-09-01",0,0,0,0,0,null,93,"1907-09-01",0,0,0,0,0]
[1907,94,"1907-10-01",0,0,0,0,0,0,null,94,"1907-10-01",0,0,0,0,0,null,94,"1907-10-01",0,0,0,0,0,null,94,"1907-10-01",0,0,0,0,0,null,94,"1907-10-01",0,0,0,0,0,null,94,"1907-10-01",0,0,0,0,0,null,94,"1907-10-01",0,0,0,0,0,null,94,"1907-10-01",0,0,0,0,0]
[1907,95,"1907-11-01",0,0,0,0,0,0,null,95,"1907-11-01",0,0,0,0,0,null,95,"1907-11-01",0,0,0,0,0,null,95,"1907-11-01",0,0,0,0,0,null,95,"1907-11-01",0,0,0,0,0,null,95,"1907-11-01",0,0,0,0,0,null,95,"1907-11-01",0,0,0,0,0,null,95,"1907-11-01",0,0,0,0,0]
[1907,96,"1907-12-01",0,0,0,0,0,0,null,96,"1907-12-01",0,0,0,0,0,null,96,"1907-12-01",0,0,0,0,0,null,96,"1907-12-01",0,0,0,0,0,null,96,"1907-12-01",0,0,0,0,0,null,96,"1907-12-01",0,0,0,0,0,null,96,"1907-12-01",0,0,0,0,0,null,96,"1907-12-01",0,0,0,0,0]
[1908,97,"1908-01-01",0,0,0,0,0,0,null,97,"1908-01-01",0,0,0,0,0,null,97,"1908-01-01",0,0,0,0,0,null,97,"1908-01-01",0,0,0,0,0,null,97,"1908-01-01",0,0,0,0,0,null,97,"1908-01-01",0,0,0,0,0,null,97,"1908-01-01",0,0,0,0,0,null,97,"1908-01-01",0,0,0,0,0]
[1908,98,"1908-02-01",0,0,0,0,0,0,null,98,"1908-02-01",0,0,0,0,0,null,98,"1908-02-01",0,0,0,0,0,null,98,"1908-02-01",0,0,0,0,0,null,98,"1908-02-01",0,0,0,0,0,null,98,"1908-02-01",0,0,0,0,0,null,98,"1908-02-01",0,0,0,0,0,null,98,"1908-02-01",0,0,0,0,0]
[1908,99,"1908-03-01",0,0,0,0,0,0,null,99,"1908-03-01",0,0,0,0,0,null,99,"1908-03-01",0,0,0,0,0,null,99,"1908-03-01",0,0,0,0,0,null,99,"1908-03-01",0,0,0,0,0,null,99,"1908-03-01",0,0,0,0,0,null,99,"1908-03-01",0,0,0,0,0,null,99,"1908-03-01",0,0,0,0,0]
[1908,100,"1908-04-01",0,0,0,0,0,0,null,100,"1908-04-01",0,0,0,0,0,null,100,"1908-04-01",0,0,0,0,0,null,100,"1908-04-01",0,0,0,0,0,null,100,"1908-04-01",0,0,0,0,0,null,100,"1908-04-01",0,0,0,0,0,null,100,"1908-04-01",0,0,0,0,0,null,100,"1908-04-01",0,0,0,0,0]
[1908,101,"1908-05-01",0,0,0,0,0,0,null,101,"1908-05-01",0,0,0,0,0,null,101,"1908-05-01",0,0,0,0,0,null,101,"1908-05-01",0,0,0,0,0,null,101,"1908-05-01",0,0,0,0,0,null,101,"1908-05-01",0,0,0,0,0,null,101,"1908-05-01",0,0,0,0,0,null,101,"1908-05-01",0,0,0,0,0]
[1908,102,"1908-06-01",0,0,0,0,0,0,null,102,"1908-06-01",0,0,0,0,0,null,102,"1908-06-01",0,0,0,0,0,null,102,"1908-06-01",0,0,0,0,0,null,102,"1908-06-01",0,0,0,0,0,null,102,"1908-06-01",0,0,0,0,0,null,102,"1908-06-01",0,0,0,0,0,null,102,"1908-06-01",0,0,0,0,0]
[1908,103,"1908-07-01",0,0,0,0,0,0,null,103,"1908-07-01",0,0,0,0,0,null,103,"1908-07-01",0,0,0,0,0,null,103,"1908-07-01",0,0,0,0,0,null,103,"1908-07-01",0,0,0,0,0,null,103,"1908-07-01",0,0,0,0,0,null,103,"1908-07-01",0,0,0,0,0,null,103,"1908-07-01",0,0,0,0,0]
[1908,104,"1908-08-01",0,0,0,0,0,0,null,104,"1908-08-01",0,0,0,0,0,null,104,"1908-08-01",0,0,0,0,0,null,104,"1908-08-01",0,0,0,0,0,null,104,"1908-08-01",0,0,0,0,0,null,104,"1908-08-01",0,0,0,0,0,null,104,"1908-08-01",0,0,0,0,0,null,104,"1908-08-01",0,0,0,0,0]
[1908,105,"1908-09-01",0,0,0,0,0,0,null,105,"1908-09-01",0,0,0,0,0,null,105,"1908-09-01",0,0,0,0,0,null,105,"1908-09-01",0,0,0,0,0,null,105,"1908-09-01",0,0,0,0,0,null,105,"1908-09-01",0,0,0,0,0,null,105,"1908-09-01",0,0,0,0,0,null,105,"1908-09-01",0,0,0,0,0]
[1908,106,"1908-10-01",0,0,0,0,0,0,null,106,"1908-10-01",0,0,0,0,0,null,106,"1908-10-01",0,0,0,0,0,null,106,"1908-10-01",0,0,0,0,0,null,106,"1908-10-01",0,0,0,0,0,null,106,"1908-10-01",0,0,0,0,0,null,106,"1908-10-01",0,0,0,0,0,null,106,"1908-10-01",0,0,0,0,0]
[1908,107,"1908-11-01",0,0,0,0,0,0,null,107,"1908-11-01",0,0,0,0,0,null,107,"1908-11-01",0,0,0,0,0,null,107,"1908-11-01",0,0,0,0,0,null,107,"1908-11-01",0,0,0,0,0,null,107,"1908-11-01",0,0,0,0,0,null,107,"1908-11-01",0,0,0,0,0,null,107,"1908-11-01",0,0,0,0,0]
[1908,108,"1908-12-01",0,0,0,0,0,0,null,108,"1908-12-01",0,0,0,0,0,null,108,"1908-12-01",0,0,0,0,0,null,108,"1908-12-01",0,0,0,0,0,null,108,"1908-12-01",0,0,0,0,0,null,108,"1908-12-01",0,0,0,0,0,null,108,"1908-12-01",0,0,0,0,0,null,108,"1908-12-01",0,0,0,0,0]
[1909,109,"1909-01-01",0,0,0,0,0,0,null,109,"1909-01-01",0,0,0,0,0,null,109,"1909-01-01",0,0,0,0,0,null,109,"1909-01-01",0,0,0,0,0,null,109,"1909-01-01",0,0,0,0,0,null,109,"1909-01-01",0,0,0,0,0,null,109,"1909-01-01",0,0,0,0,0,null,109,"1909-01-01",0,0,0,0,0]
[1909,110,"1909-02-01",0,0,0,0,0,0,null,110,"1909-02-01",0,0,0,0,0,null,110,"1909-02-01",0,0,0,0,0,null,110,"1909-02-01",0,0,0,0,0,null,110,"1909-02-01",0,0,0,0,0,null,110,"1909-02-01",0,0,0,0,0,null,110,"1909-02-01",0,0,0,0,0,null,110,"1909-02-01",0,0,0,0,0]
[1909,111,"1909-03-01",0,0,0,0,0,0,null,111,"1909-03-01",0,0,0,0,0,null,111,"1909-03-01",0,0,0,0,0,null,111,"1909-03-01",0,0,0,0,0,null,111,"1909-03-01",0,0,0,0,0,null,111,"1909-03-01",0,0,0,0,0,null,111,"1909-03-01",0,0,0,0,0,null,111,"1909-03-01",0,0,0,0,0]
[1909,112,"1909-04-01",0,0,0,0,0,0,null,112,"1909-04-01",0,0,0,0,0,null,112,"1909-04-01",0,0,0,0,0,null,112,"1909-04-01",0,0,0,0,0,null,112,"1909-04-01",0,0,0,0,0,null,112,"1909-04-01",0,0,0,0,0,null,112,"1909-04-01",0,0,0,0,0,null,112,"1909-04-01",0,0,0,0,0]
[1909,113,"1909-05-01",0,0,0,0,0,0,null,113,"1909-05-01",0,0,0,0,0,null,113,"1909-05-01",0,0,0,0,0,null,113,"1909-05-01",0,0,0,0,0,null,113,"1909-05-01",0,0,0,0,0,null,113,"1909-05-01",0,0,0,0,0,null,113,"1909-05-01",0,0,0,0,0,null,113,"1909-05-01",0,0,0,0,0]
[1909,114,"1909-06-01",0,0,0,0,0,0,null,114,"1909-06-01",0,0,0,0,0,null,114,"1909-06-01",0,0,0,0,0,null,114,"1909-06-01",0,0,0,0,0,null,114,"1909-06-01",0,0,0,0,0,null,114,"1909-06-01",0,0,0,0,0,null,114,"1909-06-01",0,0,0,0,0,null,114,"1909-06-01",0,0,0,0,0]
[1909,115,"1909-07-01",0,0,0,0,0,0,null,115,"1909-07-01",0,0,0,0,0,null,115,"1909-07-01",0,0,0,0,0,null,115,"1909-07-01",0,0,0,0,0,null,115,"1909-07-01",0,0,0,0,0,null,115,"1909-07-01",0,0,0,0,0,null,115,"1909-07-01",0,0,0,0,0,null,115,"1909-07-01",0,0,0,0,0]
[1909,116,"1909-08-01",0,0,0,0,0,0,null,116,"1909-08-01",0,0,0,0,0,null,116,"1909-08-01",0,0,0,0,0,null,116,"1909-08-01",0,0,0,0,0,null,116,"1909-08-01",0,0,0,0,0,null,116,"1909-08-01",0,0,0,0,0,null,116,"1909-08-01",0,0,0,0,0,null,116,"1909-08-01",0,0,0,0,0]
[1909,117,"1909-09-01",0,0,0,0,0,0,null,117,"1909-09-01",0,0,0,0,0,null,117,"1909-09-01",0,0,0,0,0,null,117,"1909-09-01",0,0,0,0,0,null,117,"1909-09-01",0,0,0,0,0,null,117,"1909-09-01",0,0,0,0,0,null,117,"1909-09-01",0,0,0,0,0,null,117,"1909-09-01",0,0,0,0,0]
[1909,118,"1909-10-01",0,0,0,0,0,0,null,118,"1909-10-01",0,0,0,0,0,null,118,"1909-10-01",0,0,0,0,0,null,118,"1909-10-01",0,0,0,0,0,null,118,"1909-10-01",0,0,0,0,0,null,118,"1909-10-01",0,0,0,0,0,null,118,"1909-10-01",0,0,0,0,0,null,118,"1909-10-01",0,0,0,0,0]
[1909,119,"1909-11-01",0,0,0,0,0,0,null,119,"1909-11-01",0,0,0,0,0,null,119,"1909-11-01",0,0,0,0,0,null,119,"1909-11-01",0,0,0,0,0,null,119,"1909-11-01",0,0,0,0,0,null,119,"1909-11-01",0,0,0,0,0,null,119,"1909-11-01",0,0,0,0,0,null,119,"1909-11-01",0,0,0,0,0]
[1909,120,"1909-12-01",0,0,0,0,0,0,null,120,"1909-12-01",0,0,0,0,0,null,120,"1909-12-01",0,0,0,0,0,null,120,"1909-12-01",0,0,0,0,0,null,120,"1909-12-01",0,0,0,0,0,null,120,"1909-12-01",0,0,0,0,0,null,120,"1909-12-01",0,0,0,0,0,null,120,"1909-12-01",0,0,0,0,0]
[1910,121,"1910-01-01",0,0,0,0,0,0,null,121,"1910-01-01",0,0,0,0,0,null,121,"1910-01-01",0,0,0,0,0,null,121,"1910-01-01",0,0,0,0,0,null,121,"1910-01-01",0,0,0,0,0,null,121,"1910-01-01",0,0,0,0,0,null,121,"1910-01-01",0,0,0,0,0,null,121,"1910-01-01",0,0,0,0,0]
[1910,122,"1910-02-01",0,0,0,0,0,0,null,122,"1910-02-01",0,0,0,0,0,null,122,"1910-02-01",0,0,0,0,0,null,122,"1910-02-01",0,0,0,0,0,null,122,"1910-02-01",0,0,0,0,0,null,122,"1910-02-01",0,0,0,0,0,null,122,"1910-02-01",0,0,0,0,0,null,122,"1910-02-01",0,0,0,0,0]
[1910,123,"1910-03-01",0,0,0,0,0,0,null,123,"1910-03-01",0,0,0,0,0,null,123,"1910-03-01",0,0,0,0,0,null,123,"1910-03-01",0,0,0,0,0,null,123,"1910-03-01",0,0,0,0,0,null,123,"1910-03-01",0,0,0,0,0,null,123,"1910-03-01",0,0,0,0,0,null,123,"1910-03-01",0,0,0,0,0]
[1910,124,"1910-04-01",0,0,0,0,0,0,null,124,"1910-04-01",0,0,0,0,0,null,124,"1910-04-01",0,0,0,0,0,null,124,"1910-04-01",0,0,0,0,0,null,124,"1910-04-01",0,0,0,0,0,null,124,"1910-04-01",0,0,0,0,0,null,124,"1910-04-01",0,0,0,0,0,null,124,"1910-04-01",0,0,0,0,0]
[1910,125,"1910-05-01",0,0,0,0,0,0,null,125,"1910-05-01",0,0,0,0,0,null,125,"1910-05-01",0,0,0,0,0,null,125,"1910-05-01",0,0,0,0,0,null,125,"1910-05-01",0,0,0,0,0,null,125,"1910-05-01",0,0,0,0,0,null,125,"1910-05-01",0,0,0,0,0,null,125,"1910-05-01",0,0,0,0,0]
[1910,126,"1910-06-01",0,0,0,0,0,0,null,126,"1910-06-01",0,0,0,0,0,null,126,"1910-06-01",0,0,0,0,0,null,126,"1910-06-01",0,0,0,0,0,null,126,"1910-06-01",0,0,0,0,0,null,126,"1910-06-01",0,0,0,0,0,null,126,"1910-06-01",0,0,0,0,0,null,126,"1910-06-01",0,0,0,0,0]
[1910,127,"1910-07-01",0,0,0,0,0,0,null,127,"1910-07-01",0,0,0,0,0,null,127,"1910-07-01",0,0,0,0,0,null,127,"1910-07-01",0,0,0,0,0,null,127,"1910-07-01",0,0,0,0,0,null,127,"1910-07-01",0,0,0,0,0,null,127,"1910-07-01",0,0,0,0,0,null,127,"1910-07-01",0,0,0,0,0]
[1910,128,"1910-08-01",0,0,0,0,0,0,null,128,"1910-08-01",0,0,0,0,0,null,128,"1910-08-01",0,0,0,0,0,null,128,"1910-08-01",0,0,0,0,0,null,128,"1910-08-01",0,0,0,0,0,null,128,"1910-08-01",0,0,0,0,0,null,128,"1910-08-01",0,0,0,0,0,null,128,"1910-08-01",0,0,0,0,0]
[1910,129,"1910-09-01",0,0,{"$f":"D141*$E$7/12","v":0},0,0,{"$f":"D141*rng01_MortgageInsurangePremium/12","v":0},null,129,"1910-09-01",0,0,0,0,0,null,129,"1910-09-01",0,0,0,0,0,null,129,"1910-09-01",0,0,0,0,0,null,129,"1910-09-01",0,0,0,0,0,null,129,"1910-09-01",0,0,0,0,0,null,129,"1910-09-01",0,0,0,0,0,null,129,"1910-09-01",0,0,0,0,0]
[{"$f":"YEAR(C142)","v":1910},130,"1910-10-01",0,0,0,0,0,0,null,130,"1910-10-01",0,0,{"$f":"M142*$N$7/12","v":0},0,0,null,130,"1910-10-01",0,0,{"$f":"U142*V$7/12","v":0},0,0,null,130,"1910-10-01",0,0,{"$f":"AC142*AD$7/12","v":0},0,0,null,130,"1910-10-01",0,0,{"$f":"AK142*AL$7/12","v":0},0,0,null,130,"1910-10-01",0,0,{"$f":"AS142*AT$7/12","v":0},0,0,null,130,"1910-10-01",0,0,{"$f":"BA142*BB$7/12","v":0},0,0,null,130,"1910-10-01",0,0,{"$f":"BI142*BJ$7/12","v":0},0,0]
[1910,131,"1910-11-01",0,{"$f":"IF(ROUND(D143,0)>0,E142,0)","v":0},0,0,0,0,null,131,"1910-11-01",0,{"$f":"IF(ROUND(M143,0)>0,N142,0)","v":0},0,0,0,null,131,"1910-11-01",0,{"$f":"IF(ROUND(U143,0)>0,V142,0)","v":0},0,0,0,null,131,"1910-11-01",0,{"$f":"IF(ROUND(AC143,0)>0,AD142,0)","v":0},0,0,0,null,131,"1910-11-01",0,{"$f":"IF(ROUND(AK143,0)>0,AL142,0)","v":0},0,0,0,null,131,"1910-11-01",0,{"$f":"IF(ROUND(AS143,0)>0,AT142,0)","v":0},0,0,0,null,131,"1910-11-01",0,{"$f":"IF(ROUND(BA143,0)>0,BB142,0)","v":0},0,0,0,null,131,"1910-11-01",0,{"$f":"IF(ROUND(BI143,0)>0,BJ142,0)","v":0},0,0,0]
[1910,132,{"$f":"DATE(IF(MONTH(C143)=12,YEAR(C143)+1,YEAR(C143)),IF(MONTH(C143)=12,1,MONTH(C143)+1),1)","v":"1910-12-01"},{"$f":"H143","v":0},0,0,{"$f":"E144-F144","v":0},{"$f":"D144-G144","v":0},0,null,132,{"$f":"DATE(IF(MONTH(L143)=12,YEAR(L143)+1,YEAR(L143)),IF(MONTH(L143)=12,1,MONTH(L143)+1),1)","v":"1910-12-01"},{"$f":"Q143","v":0},0,0,{"$f":"N144-O144","v":0},{"$f":"M144-P144","v":0},null,132,{"$f":"DATE(IF(MONTH(T143)=12,YEAR(T143)+1,YEAR(T143)),IF(MONTH(T143)=12,1,MONTH(T143)+1),1)","v":"1910-12-01"},{"$f":"Y143","v":0},0,0,{"$f":"V144-W144","v":0},{"$f":"U144-X144","v":0},null,132,{"$f":"DATE(IF(MONTH(AB143)=12,YEAR(AB143)+1,YEAR(AB143)),IF(MONTH(AB143)=12,1,MONTH(AB143)+1),1)","v":"1910-12-01"},{"$f":"AG143","v":0},0,0,{"$f":"AD144-AE144","v":0},{"$f":"AC144-AF144","v":0},null,132,{"$f":"DATE(IF(MONTH(AJ143)=12,YEAR(AJ143)+1,YEAR(AJ143)),IF(MONTH(AJ143)=12,1,MONTH(AJ143)+1),1)","v":"1910-12-01"},{"$f":"AO143","v":0},0,0,{"$f":"AL144-AM144","v":0},{"$f":"AK144-AN144","v":0},null,132,{"$f":"DATE(IF(MONTH(AR143)=12,YEAR(AR143)+1,YEAR(AR143)),IF(MONTH(AR143)=12,1,MONTH(AR143)+1),1)","v":"1910-12-01"},{"$f":"AW143","v":0},0,0,{"$f":"AT144-AU144","v":0},{"$f":"AS144-AV144","v":0},null,132,{"$f":"DATE(IF(MONTH(AZ143)=12,YEAR(AZ143)+1,YEAR(AZ143)),IF(MONTH(AZ143)=12,1,MONTH(AZ143)+1),1)","v":"1910-12-01"},{"$f":"BE143","v":0},0,0,{"$f":"BB144-BC144","v":0},{"$f":"BA144-BD144","v":0},null,132,{"$f":"DATE(IF(MONTH(BH143)=12,YEAR(BH143)+1,YEAR(BH143)),IF(MONTH(BH143)=12,1,MONTH(BH143)+1),1)","v":"1910-12-01"},{"$f":"BM143","v":0},0,0,{"$f":"BJ144-BK144","v":0},{"$f":"BI144-BL144","v":0}]
[1911,133,"1911-01-01",0,0,0,0,0,0,null,133,"1911-01-01",0,0,0,0,0,null,133,"1911-01-01",0,0,0,0,0,null,133,"1911-01-01",0,0,0,0,0,null,133,"1911-01-01",0,0,0,0,0,null,133,"1911-01-01",0,0,0,0,0,null,133,"1911-01-01",0,0,0,0,0,null,133,"1911-01-01",0,0,0,0,0]
[1911,134,"1911-02-01",0,0,0,0,0,0,null,134,"1911-02-01",0,0,0,0,0,null,134,"1911-02-01",0,0,0,0,0,null,134,"1911-02-01",0,0,0,0,0,null,134,"1911-02-01",0,0,0,0,0,null,134,"1911-02-01",0,0,0,0,0,null,134,"1911-02-01",0,0,0,0,0,null,134,"1911-02-01",0,0,0,0,0]
[1911,135,"1911-03-01",0,0,0,0,0,0,null,135,"1911-03-01",0,0,0,0,0,null,135,"1911-03-01",0,0,0,0,0,null,135,"1911-03-01",0,0,0,0,0,null,135,"1911-03-01",0,0,0,0,0,null,135,"1911-03-01",0,0,0,0,0,null,135,"1911-03-01",0,0,0,0,0,null,135,"1911-03-01",0,0,0,0,0]
[1911,136,"1911-04-01",0,0,0,0,0,0,null,136,"1911-04-01",0,0,0,0,0,null,136,"1911-04-01",0,0,0,0,0,null,136,"1911-04-01",0,0,0,0,0,null,136,"1911-04-01",0,0,0,0,0,null,136,"1911-04-01",0,0,0,0,0,null,136,"1911-04-01",0,0,0,0,0,null,136,"1911-04-01",0,0,0,0,0]
[1911,137,"1911-05-01",0,0,0,0,0,0,null,137,"1911-05-01",0,0,0,0,0,null,137,"1911-05-01",0,0,0,0,0,null,137,"1911-05-01",0,0,0,0,0,null,137,"1911-05-01",0,0,0,0,0,null,137,"1911-05-01",0,0,0,0,0,null,137,"1911-05-01",0,0,0,0,0,null,137,"1911-05-01",0,0,0,0,0]
[1911,138,"1911-06-01",0,0,0,0,0,0,null,138,"1911-06-01",0,0,0,0,0,null,138,"1911-06-01",0,0,0,0,0,null,138,"1911-06-01",0,0,0,0,0,null,138,"1911-06-01",0,0,0,0,0,null,138,"1911-06-01",0,0,0,0,0,null,138,"1911-06-01",0,0,0,0,0,null,138,"1911-06-01",0,0,0,0,0]
[1911,139,"1911-07-01",0,0,0,0,0,0,null,139,"1911-07-01",0,0,0,0,0,null,139,"1911-07-01",0,0,0,0,0,null,139,"1911-07-01",0,0,0,0,0,null,139,"1911-07-01",0,0,0,0,0,null,139,"1911-07-01",0,0,0,0,0,null,139,"1911-07-01",0,0,0,0,0,null,139,"1911-07-01",0,0,0,0,0]
[1911,140,"1911-08-01",0,0,0,0,0,0,null,140,"1911-08-01",0,0,0,0,0,null,140,"1911-08-01",0,0,0,0,0,null,140,"1911-08-01",0,0,0,0,0,null,140,"1911-08-01",0,0,0,0,0,null,140,"1911-08-01",0,0,0,0,0,null,140,"1911-08-01",0,0,0,0,0,null,140,"1911-08-01",0,0,0,0,0]
[1911,141,"1911-09-01",0,0,0,0,0,0,null,141,"1911-09-01",0,0,0,0,0,null,141,"1911-09-01",0,0,0,0,0,null,141,"1911-09-01",0,0,0,0,0,null,141,"1911-09-01",0,0,0,0,0,null,141,"1911-09-01",0,0,0,0,0,null,141,"1911-09-01",0,0,0,0,0,null,141,"1911-09-01",0,0,0,0,0]
[1911,142,"1911-10-01",0,0,0,0,0,0,null,142,"1911-10-01",0,0,0,0,0,null,142,"1911-10-01",0,0,0,0,0,null,142,"1911-10-01",0,0,0,0,0,null,142,"1911-10-01",0,0,0,0,0,null,142,"1911-10-01",0,0,0,0,0,null,142,"1911-10-01",0,0,0,0,0,null,142,"1911-10-01",0,0,0,0,0]
[1911,143,"1911-11-01",0,0,0,0,0,0,null,143,"1911-11-01",0,0,0,0,0,null,143,"1911-11-01",0,0,0,0,0,null,143,"1911-11-01",0,0,0,0,0,null,143,"1911-11-01",0,0,0,0,0,null,143,"1911-11-01",0,0,0,0,0,null,143,"1911-11-01",0,0,0,0,0,null,143,"1911-11-01",0,0,0,0,0]
[1911,144,"1911-12-01",0,0,0,0,0,0,null,144,"1911-12-01",0,0,0,0,0,null,144,"1911-12-01",0,0,0,0,0,null,144,"1911-12-01",0,0,0,0,0,null,144,"1911-12-01",0,0,0,0,0,null,144,"1911-12-01",0,0,0,0,0,null,144,"1911-12-01",0,0,0,0,0,null,144,"1911-12-01",0,0,0,0,0]
[1912,145,"1912-01-01",0,0,0,0,0,0,null,145,"1912-01-01",0,0,0,0,0,null,145,"1912-01-01",0,0,0,0,0,null,145,"1912-01-01",0,0,0,0,0,null,145,"1912-01-01",0,0,0,0,0,null,145,"1912-01-01",0,0,0,0,0,null,145,"1912-01-01",0,0,0,0,0,null,145,"1912-01-01",0,0,0,0,0]
[1912,146,"1912-02-01",0,0,0,0,0,0,null,146,"1912-02-01",0,0,0,0,0,null,146,"1912-02-01",0,0,0,0,0,null,146,"1912-02-01",0,0,0,0,0,null,146,"1912-02-01",0,0,0,0,0,null,146,"1912-02-01",0,0,0,0,0,null,146,"1912-02-01",0,0,0,0,0,null,146,"1912-02-01",0,0,0,0,0]
[1912,147,"1912-03-01",0,0,0,0,0,0,null,147,"1912-03-01",0,0,0,0,0,null,147,"1912-03-01",0,0,0,0,0,null,147,"1912-03-01",0,0,0,0,0,null,147,"1912-03-01",0,0,0,0,0,null,147,"1912-03-01",0,0,0,0,0,null,147,"1912-03-01",0,0,0,0,0,null,147,"1912-03-01",0,0,0,0,0]
[1912,148,"1912-04-01",0,0,0,0,0,0,null,148,"1912-04-01",0,0,0,0,0,null,148,"1912-04-01",0,0,0,0,0,null,148,"1912-04-01",0,0,0,0,0,null,148,"1912-04-01",0,0,0,0,0,null,148,"1912-04-01",0,0,0,0,0,null,148,"1912-04-01",0,0,0,0,0,null,148,"1912-04-01",0,0,0,0,0]
[1912,149,"1912-05-01",0,0,0,0,0,0,null,149,"1912-05-01",0,0,0,0,0,null,149,"1912-05-01",0,0,0,0,0,null,149,"1912-05-01",0,0,0,0,0,null,149,"1912-05-01",0,0,0,0,0,null,149,"1912-05-01",0,0,0,0,0,null,149,"1912-05-01",0,0,0,0,0,null,149,"1912-05-01",0,0,0,0,0]
[1912,150,"1912-06-01",0,0,0,0,0,0,null,150,"1912-06-01",0,0,0,0,0,null,150,"1912-06-01",0,0,0,0,0,null,150,"1912-06-01",0,0,0,0,0,null,150,"1912-06-01",0,0,0,0,0,null,150,"1912-06-01",0,0,0,0,0,null,150,"1912-06-01",0,0,0,0,0,null,150,"1912-06-01",0,0,0,0,0]
[1912,151,"1912-07-01",0,0,0,0,0,0,null,151,"1912-07-01",0,0,0,0,0,null,151,"1912-07-01",0,0,0,0,0,null,151,"1912-07-01",0,0,0,0,0,null,151,"1912-07-01",0,0,0,0,0,null,151,"1912-07-01",0,0,0,0,0,null,151,"1912-07-01",0,0,0,0,0,null,151,"1912-07-01",0,0,0,0,0]
[1912,152,"1912-08-01",0,0,0,0,0,0,null,152,"1912-08-01",0,0,0,0,0,null,152,"1912-08-01",0,0,0,0,0,null,152,"1912-08-01",0,0,0,0,0,null,152,"1912-08-01",0,0,0,0,0,null,152,"1912-08-01",0,0,0,0,0,null,152,"1912-08-01",0,0,0,0,0,null,152,"1912-08-01",0,0,0,0,0]
[1912,153,"1912-09-01",0,0,0,0,0,0,null,153,"1912-09-01",0,0,0,0,0,null,153,"1912-09-01",0,0,0,0,0,null,153,"1912-09-01",0,0,0,0,0,null,153,"1912-09-01",0,0,0,0,0,null,153,"1912-09-01",0,0,0,0,0,null,153,"1912-09-01",0,0,0,0,0,null,153,"1912-09-01",0,0,0,0,0]
[1912,154,"1912-10-01",0,0,0,0,0,0,null,154,"1912-10-01",0,0,0,0,0,null,154,"1912-10-01",0,0,0,0,0,null,154,"1912-10-01",0,0,0,0,0,null,154,"1912-10-01",0,0,0,0,0,null,154,"1912-10-01",0,0,0,0,0,null,154,"1912-10-01",0,0,0,0,0,null,154,"1912-10-01",0,0,0,0,0]
[1912,155,"1912-11-01",0,0,0,0,0,0,null,155,"1912-11-01",0,0,0,0,0,null,155,"1912-11-01",0,0,0,0,0,null,155,"1912-11-01",0,0,0,0,0,null,155,"1912-11-01",0,0,0,0,0,null,155,"1912-11-01",0,0,0,0,0,null,155,"1912-11-01",0,0,0,0,0,null,155,"1912-11-01",0,0,0,0,0]
[1912,156,"1912-12-01",0,0,0,0,0,0,null,156,"1912-12-01",0,0,0,0,0,null,156,"1912-12-01",0,0,0,0,0,null,156,"1912-12-01",0,0,0,0,0,null,156,"1912-12-01",0,0,0,0,0,null,156,"1912-12-01",0,0,0,0,0,null,156,"1912-12-01",0,0,0,0,0,null,156,"1912-12-01",0,0,0,0,0]
[1913,157,"1913-01-01",0,0,0,0,0,0,null,157,"1913-01-01",0,0,0,0,0,null,157,"1913-01-01",0,0,0,0,0,null,157,"1913-01-01",0,0,0,0,0,null,157,"1913-01-01",0,0,0,0,0,null,157,"1913-01-01",0,0,0,0,0,null,157,"1913-01-01",0,0,0,0,0,null,157,"1913-01-01",0,0,0,0,0]
[1913,158,"1913-02-01",0,0,0,0,0,0,null,158,"1913-02-01",0,0,0,0,0,null,158,"1913-02-01",0,0,0,0,0,null,158,"1913-02-01",0,0,0,0,0,null,158,"1913-02-01",0,0,0,0,0,null,158,"1913-02-01",0,0,0,0,0,null,158,"1913-02-01",0,0,0,0,0,null,158,"1913-02-01",0,0,0,0,0]
[1913,159,"1913-03-01",0,0,0,0,0,0,null,159,"1913-03-01",0,0,0,0,0,null,159,"1913-03-01",0,0,0,0,0,null,159,"1913-03-01",0,0,0,0,0,null,159,"1913-03-01",0,0,0,0,0,null,159,"1913-03-01",0,0,0,0,0,null,159,"1913-03-01",0,0,0,0,0,null,159,"1913-03-01",0,0,0,0,0]
[1913,160,"1913-04-01",0,0,0,0,0,0,null,160,"1913-04-01",0,0,0,0,0,null,160,"1913-04-01",0,0,0,0,0,null,160,"1913-04-01",0,0,0,0,0,null,160,"1913-04-01",0,0,0,0,0,null,160,"1913-04-01",0,0,0,0,0,null,160,"1913-04-01",0,0,0,0,0,null,160,"1913-04-01",0,0,0,0,0]
[1913,161,"1913-05-01",0,0,0,0,0,0,null,161,"1913-05-01",0,0,0,0,0,null,161,"1913-05-01",0,0,0,0,0,null,161,"1913-05-01",0,0,0,0,0,null,161,"1913-05-01",0,0,0,0,0,null,161,"1913-05-01",0,0,0,0,0,null,161,"1913-05-01",0,0,0,0,0,null,161,"1913-05-01",0,0,0,0,0]
[1913,162,"1913-06-01",0,0,0,0,0,0,null,162,"1913-06-01",0,0,0,0,0,null,162,"1913-06-01",0,0,0,0,0,null,162,"1913-06-01",0,0,0,0,0,null,162,"1913-06-01",0,0,0,0,0,null,162,"1913-06-01",0,0,0,0,0,null,162,"1913-06-01",0,0,0,0,0,null,162,"1913-06-01",0,0,0,0,0]
[1913,163,"1913-07-01",0,0,0,0,0,0,null,163,"1913-07-01",0,0,0,0,0,null,163,"1913-07-01",0,0,0,0,0,null,163,"1913-07-01",0,0,0,0,0,null,163,"1913-07-01",0,0,0,0,0,null,163,"1913-07-01",0,0,0,0,0,null,163,"1913-07-01",0,0,0,0,0,null,163,"1913-07-01",0,0,0,0,0]
[1913,164,"1913-08-01",0,0,0,0,0,0,null,164,"1913-08-01",0,0,0,0,0,null,164,"1913-08-01",0,0,0,0,0,null,164,"1913-08-01",0,0,0,0,0,null,164,"1913-08-01",0,0,0,0,0,null,164,"1913-08-01",0,0,0,0,0,null,164,"1913-08-01",0,0,0,0,0,null,164,"1913-08-01",0,0,0,0,0]
[1913,165,"1913-09-01",0,0,0,0,0,0,null,165,"1913-09-01",0,0,0,0,0,null,165,"1913-09-01",0,0,0,0,0,null,165,"1913-09-01",0,0,0,0,0,null,165,"1913-09-01",0,0,0,0,0,null,165,"1913-09-01",0,0,0,0,0,null,165,"1913-09-01",0,0,0,0,0,null,165,"1913-09-01",0,0,0,0,0]
[1913,166,"1913-10-01",0,0,0,0,0,0,null,166,"1913-10-01",0,0,0,0,0,null,166,"1913-10-01",0,0,0,0,0,null,166,"1913-10-01",0,0,0,0,0,null,166,"1913-10-01",0,0,0,0,0,null,166,"1913-10-01",0,0,0,0,0,null,166,"1913-10-01",0,0,0,0,0,null,166,"1913-10-01",0,0,0,0,0]
[1913,167,"1913-11-01",0,0,0,0,0,0,null,167,"1913-11-01",0,0,0,0,0,null,167,"1913-11-01",0,0,0,0,0,null,167,"1913-11-01",0,0,0,0,0,null,167,"1913-11-01",0,0,0,0,0,null,167,"1913-11-01",0,0,0,0,0,null,167,"1913-11-01",0,0,0,0,0,null,167,"1913-11-01",0,0,0,0,0]
[1913,168,"1913-12-01",0,0,0,0,0,0,null,168,"1913-12-01",0,0,0,0,0,null,168,"1913-12-01",0,0,0,0,0,null,168,"1913-12-01",0,0,0,0,0,null,168,"1913-12-01",0,0,0,0,0,null,168,"1913-12-01",0,0,0,0,0,null,168,"1913-12-01",0,0,0,0,0,null,168,"1913-12-01",0,0,0,0,0]
[1914,169,"1914-01-01",0,0,0,0,0,0,null,169,"1914-01-01",0,0,0,0,0,null,169,"1914-01-01",0,0,0,0,0,null,169,"1914-01-01",0,0,0,0,0,null,169,"1914-01-01",0,0,0,0,0,null,169,"1914-01-01",0,0,0,0,0,null,169,"1914-01-01",0,0,0,0,0,null,169,"1914-01-01",0,0,0,0,0]
[1914,170,"1914-02-01",0,0,0,0,0,0,null,170,"1914-02-01",0,0,0,0,0,null,170,"1914-02-01",0,0,0,0,0,null,170,"1914-02-01",0,0,0,0,0,null,170,"1914-02-01",0,0,0,0,0,null,170,"1914-02-01",0,0,0,0,0,null,170,"1914-02-01",0,0,0,0,0,null,170,"1914-02-01",0,0,0,0,0]
[1914,171,"1914-03-01",0,0,0,0,0,0,null,171,"1914-03-01",0,0,0,0,0,null,171,"1914-03-01",0,0,0,0,0,null,171,"1914-03-01",0,0,0,0,0,null,171,"1914-03-01",0,0,0,0,0,null,171,"1914-03-01",0,0,0,0,0,null,171,"1914-03-01",0,0,0,0,0,null,171,"1914-03-01",0,0,0,0,0]
[1914,172,"1914-04-01",0,0,0,0,0,0,null,172,"1914-04-01",0,0,0,0,0,null,172,"1914-04-01",0,0,0,0,0,null,172,"1914-04-01",0,0,0,0,0,null,172,"1914-04-01",0,0,0,0,0,null,172,"1914-04-01",0,0,0,0,0,null,172,"1914-04-01",0,0,0,0,0,null,172,"1914-04-01",0,0,0,0,0]
[1914,173,"1914-05-01",0,0,0,0,0,0,null,173,"1914-05-01",0,0,0,0,0,null,173,"1914-05-01",0,0,0,0,0,null,173,"1914-05-01",0,0,0,0,0,null,173,"1914-05-01",0,0,0,0,0,null,173,"1914-05-01",0,0,0,0,0,null,173,"1914-05-01",0,0,0,0,0,null,173,"1914-05-01",0,0,0,0,0]
[1914,174,"1914-06-01",0,0,0,0,0,0,null,174,"1914-06-01",0,0,0,0,0,null,174,"1914-06-01",0,0,0,0,0,null,174,"1914-06-01",0,0,0,0,0,null,174,"1914-06-01",0,0,0,0,0,null,174,"1914-06-01",0,0,0,0,0,null,174,"1914-06-01",0,0,0,0,0,null,174,"1914-06-01",0,0,0,0,0]
[1914,175,"1914-07-01",0,0,0,0,0,0,null,175,"1914-07-01",0,0,0,0,0,null,175,"1914-07-01",0,0,0,0,0,null,175,"1914-07-01",0,0,0,0,0,null,175,"1914-07-01",0,0,0,0,0,null,175,"1914-07-01",0,0,0,0,0,null,175,"1914-07-01",0,0,0,0,0,null,175,"1914-07-01",0,0,0,0,0]
[1914,176,"1914-08-01",0,0,0,0,0,0,null,176,"1914-08-01",0,0,0,0,0,null,176,"1914-08-01",0,0,0,0,0,null,176,"1914-08-01",0,0,0,0,0,null,176,"1914-08-01",0,0,0,0,0,null,176,"1914-08-01",0,0,0,0,0,null,176,"1914-08-01",0,0,0,0,0,null,176,"1914-08-01",0,0,0,0,0]
[1914,177,"1914-09-01",0,0,0,0,0,0,null,177,"1914-09-01",0,0,0,0,0,null,177,"1914-09-01",0,0,0,0,0,null,177,"1914-09-01",0,0,0,0,0,null,177,"1914-09-01",0,0,0,0,0,null,177,"1914-09-01",0,0,0,0,0,null,177,"1914-09-01",0,0,0,0,0,null,177,"1914-09-01",0,0,0,0,0]
[1914,178,"1914-10-01",0,0,0,0,0,0,null,178,"1914-10-01",0,0,0,0,0,null,178,"1914-10-01",0,0,0,0,0,null,178,"1914-10-01",0,0,0,0,0,null,178,"1914-10-01",0,0,0,0,0,null,178,"1914-10-01",0,0,0,0,0,null,178,"1914-10-01",0,0,0,0,0,null,178,"1914-10-01",0,0,0,0,0]
[1914,179,"1914-11-01",0,0,0,0,0,0,null,179,"1914-11-01",0,0,0,0,0,null,179,"1914-11-01",0,0,0,0,0,null,179,"1914-11-01",0,0,0,0,0,null,179,"1914-11-01",0,0,0,0,0,null,179,"1914-11-01",0,0,0,0,0,null,179,"1914-11-01",0,0,0,0,0,null,179,"1914-11-01",0,0,0,0,0]
[1914,180,"1914-12-01",0,0,0,0,0,0,null,180,"1914-12-01",0,0,0,0,0,null,180,"1914-12-01",0,0,0,0,0,null,180,"1914-12-01",0,0,0,0,0,null,180,"1914-12-01",0,0,0,0,0,null,180,"1914-12-01",0,0,0,0,0,null,180,"1914-12-01",0,0,0,0,0,null,180,"1914-12-01",0,0,0,0,0]
[1915,181,"1915-01-01",0,0,0,0,0,0,null,181,"1915-01-01",0,0,0,0,0,null,181,"1915-01-01",0,0,0,0,0,null,181,"1915-01-01",0,0,0,0,0,null,181,"1915-01-01",0,0,0,0,0,null,181,"1915-01-01",0,0,0,0,0,null,181,"1915-01-01",0,0,0,0,0,null,181,"1915-01-01",0,0,0,0,0]
[1915,182,"1915-02-01",0,0,0,0,0,0,null,182,"1915-02-01",0,0,0,0,0,null,182,"1915-02-01",0,0,0,0,0,null,182,"1915-02-01",0,0,0,0,0,null,182,"1915-02-01",0,0,0,0,0,null,182,"1915-02-01",0,0,0,0,0,null,182,"1915-02-01",0,0,0,0,0,null,182,"1915-02-01",0,0,0,0,0]
[1915,183,"1915-03-01",0,0,0,0,0,0,null,183,"1915-03-01",0,0,0,0,0,null,183,"1915-03-01",0,0,0,0,0,null,183,"1915-03-01",0,0,0,0,0,null,183,"1915-03-01",0,0,0,0,0,null,183,"1915-03-01",0,0,0,0,0,null,183,"1915-03-01",0,0,0,0,0,null,183,"1915-03-01",0,0,0,0,0]
[1915,184,"1915-04-01",0,0,0,0,0,0,null,184,"1915-04-01",0,0,0,0,0,null,184,"1915-04-01",0,0,0,0,0,null,184,"1915-04-01",0,0,0,0,0,null,184,"1915-04-01",0,0,0,0,0,null,184,"1915-04-01",0,0,0,0,0,null,184,"1915-04-01",0,0,0,0,0,null,184,"1915-04-01",0,0,0,0,0]
[1915,185,"1915-05-01",0,0,0,0,0,0,null,185,"1915-05-01",0,0,0,0,0,null,185,"1915-05-01",0,0,0,0,0,null,185,"1915-05-01",0,0,0,0,0,null,185,"1915-05-01",0,0,0,0,0,null,185,"1915-05-01",0,0,0,0,0,null,185,"1915-05-01",0,0,0,0,0,null,185,"1915-05-01",0,0,0,0,0]
[1915,186,"1915-06-01",0,0,0,0,0,0,null,186,"1915-06-01",0,0,0,0,0,null,186,"1915-06-01",0,0,0,0,0,null,186,"1915-06-01",0,0,0,0,0,null,186,"1915-06-01",0,0,0,0,0,null,186,"1915-06-01",0,0,0,0,0,null,186,"1915-06-01",0,0,0,0,0,null,186,"1915-06-01",0,0,0,0,0]
[1915,187,"1915-07-01",0,0,0,0,0,0,null,187,"1915-07-01",0,0,0,0,0,null,187,"1915-07-01",0,0,0,0,0,null,187,"1915-07-01",0,0,0,0,0,null,187,"1915-07-01",0,0,0,0,0,null,187,"1915-07-01",0,0,0,0,0,null,187,"1915-07-01",0,0,0,0,0,null,187,"1915-07-01",0,0,0,0,0]
[1915,188,"1915-08-01",0,0,0,0,0,0,null,188,"1915-08-01",0,0,0,0,0,null,188,"1915-08-01",0,0,0,0,0,null,188,"1915-08-01",0,0,0,0,0,null,188,"1915-08-01",0,0,0,0,0,null,188,"1915-08-01",0,0,0,0,0,null,188,"1915-08-01",0,0,0,0,0,null,188,"1915-08-01",0,0,0,0,0]
[1915,189,"1915-09-01",0,0,0,0,0,0,null,189,"1915-09-01",0,0,0,0,0,null,189,"1915-09-01",0,0,0,0,0,null,189,"1915-09-01",0,0,0,0,0,null,189,"1915-09-01",0,0,0,0,0,null,189,"1915-09-01",0,0,0,0,0,null,189,"1915-09-01",0,0,0,0,0,null,189,"1915-09-01",0,0,0,0,0]
[1915,190,"1915-10-01",0,0,0,0,0,0,null,190,"1915-10-01",0,0,0,0,0,null,190,"1915-10-01",0,0,0,0,0,null,190,"1915-10-01",0,0,0,0,0,null,190,"1915-10-01",0,0,0,0,0,null,190,"1915-10-01",0,0,0,0,0,null,190,"1915-10-01",0,0,0,0,0,null,190,"1915-10-01",0,0,0,0,0]
[1915,191,"1915-11-01",0,0,0,0,0,0,null,191,"1915-11-01",0,0,0,0,0,null,191,"1915-11-01",0,0,0,0,0,null,191,"1915-11-01",0,0,0,0,0,null,191,"1915-11-01",0,0,0,0,0,null,191,"1915-11-01",0,0,0,0,0,null,191,"1915-11-01",0,0,0,0,0,null,191,"1915-11-01",0,0,0,0,0]
[1915,192,"1915-12-01",0,0,0,0,0,0,null,192,"1915-12-01",0,0,0,0,0,null,192,"1915-12-01",0,0,0,0,0,null,192,"1915-12-01",0,0,0,0,0,null,192,"1915-12-01",0,0,0,0,0,null,192,"1915-12-01",0,0,0,0,0,null,192,"1915-12-01",0,0,0,0,0,null,192,"1915-12-01",0,0,0,0,0]
[1916,193,"1916-01-01",0,0,{"$f":"D205*$E$7/12","v":0},0,0,{"$f":"D205*rng01_MortgageInsurangePremium/12","v":0},null,193,"1916-01-01",0,0,0,0,0,null,193,"1916-01-01",0,0,0,0,0,null,193,"1916-01-01",0,0,0,0,0,null,193,"1916-01-01",0,0,0,0,0,null,193,"1916-01-01",0,0,0,0,0,null,193,"1916-01-01",0,0,0,0,0,null,193,"1916-01-01",0,0,0,0,0]
[{"$f":"YEAR(C206)","v":1916},194,"1916-02-01",0,0,0,0,0,0,null,194,"1916-02-01",0,0,{"$f":"M206*$N$7/12","v":0},0,0,null,194,"1916-02-01",0,0,{"$f":"U206*V$7/12","v":0},0,0,null,194,"1916-02-01",0,0,{"$f":"AC206*AD$7/12","v":0},0,0,null,194,"1916-02-01",0,0,{"$f":"AK206*AL$7/12","v":0},0,0,null,194,"1916-02-01",0,0,{"$f":"AS206*AT$7/12","v":0},0,0,null,194,"1916-02-01",0,0,{"$f":"BA206*BB$7/12","v":0},0,0,null,194,"1916-02-01",0,0,{"$f":"BI206*BJ$7/12","v":0},0,0]
[1916,195,"1916-03-01",0,{"$f":"IF(ROUND(D207,0)>0,E206,0)","v":0},0,0,0,0,null,195,"1916-03-01",0,{"$f":"IF(ROUND(M207,0)>0,N206,0)","v":0},0,0,0,null,195,"1916-03-01",0,{"$f":"IF(ROUND(U207,0)>0,V206,0)","v":0},0,0,0,null,195,"1916-03-01",0,{"$f":"IF(ROUND(AC207,0)>0,AD206,0)","v":0},0,0,0,null,195,"1916-03-01",0,{"$f":"IF(ROUND(AK207,0)>0,AL206,0)","v":0},0,0,0,null,195,"1916-03-01",0,{"$f":"IF(ROUND(AS207,0)>0,AT206,0)","v":0},0,0,0,null,195,"1916-03-01",0,{"$f":"IF(ROUND(BA207,0)>0,BB206,0)","v":0},0,0,0,null,195,"1916-03-01",0,{"$f":"IF(ROUND(BI207,0)>0,BJ206,0)","v":0},0,0,0]
[1916,196,{"$f":"DATE(IF(MONTH(C207)=12,YEAR(C207)+1,YEAR(C207)),IF(MONTH(C207)=12,1,MONTH(C207)+1),1)","v":"1916-04-01"},{"$f":"H207","v":0},0,0,{"$f":"E208-F208","v":0},{"$f":"D208-G208","v":0},0,null,196,{"$f":"DATE(IF(MONTH(L207)=12,YEAR(L207)+1,YEAR(L207)),IF(MONTH(L207)=12,1,MONTH(L207)+1),1)","v":"1916-04-01"},{"$f":"Q207","v":0},0,0,{"$f":"N208-O208","v":0},{"$f":"M208-P208","v":0},null,196,{"$f":"DATE(IF(MONTH(T207)=12,YEAR(T207)+1,YEAR(T207)),IF(MONTH(T207)=12,1,MONTH(T207)+1),1)","v":"1916-04-01"},{"$f":"Y207","v":0},0,0,{"$f":"V208-W208","v":0},{"$f":"U208-X208","v":0},null,196,{"$f":"DATE(IF(MONTH(AB207)=12,YEAR(AB207)+1,YEAR(AB207)),IF(MONTH(AB207)=12,1,MONTH(AB207)+1),1)","v":"1916-04-01"},{"$f":"AG207","v":0},0,0,{"$f":"AD208-AE208","v":0},{"$f":"AC208-AF208","v":0},null,196,{"$f":"DATE(IF(MONTH(AJ207)=12,YEAR(AJ207)+1,YEAR(AJ207)),IF(MONTH(AJ207)=12,1,MONTH(AJ207)+1),1)","v":"1916-04-01"},{"$f":"AO207","v":0},0,0,{"$f":"AL208-AM208","v":0},{"$f":"AK208-AN208","v":0},null,196,{"$f":"DATE(IF(MONTH(AR207)=12,YEAR(AR207)+1,YEAR(AR207)),IF(MONTH(AR207)=12,1,MONTH(AR207)+1),1)","v":"1916-04-01"},{"$f":"AW207","v":0},0,0,{"$f":"AT208-AU208","v":0},{"$f":"AS208-AV208","v":0},null,196,{"$f":"DATE(IF(MONTH(AZ207)=12,YEAR(AZ207)+1,YEAR(AZ207)),IF(MONTH(AZ207)=12,1,MONTH(AZ207)+1),1)","v":"1916-04-01"},{"$f":"BE207","v":0},0,0,{"$f":"BB208-BC208","v":0},{"$f":"BA208-BD208","v":0},null,196,{"$f":"DATE(IF(MONTH(BH207)=12,YEAR(BH207)+1,YEAR(BH207)),IF(MONTH(BH207)=12,1,MONTH(BH207)+1),1)","v":"1916-04-01"},{"$f":"BM207","v":0},0,0,{"$f":"BJ208-BK208","v":0},{"$f":"BI208-BL208","v":0}]
[1916,197,"1916-05-01",0,0,0,0,0,0,null,197,"1916-05-01",0,0,0,0,0,null,197,"1916-05-01",0,0,0,0,0,null,197,"1916-05-01",0,0,0,0,0,null,197,"1916-05-01",0,0,0,0,0,null,197,"1916-05-01",0,0,0,0,0,null,197,"1916-05-01",0,0,0,0,0,null,197,"1916-05-01",0,0,0,0,0]
[1916,198,"1916-06-01",0,0,0,0,0,0,null,198,"1916-06-01",0,0,0,0,0,null,198,"1916-06-01",0,0,0,0,0,null,198,"1916-06-01",0,0,0,0,0,null,198,"1916-06-01",0,0,0,0,0,null,198,"1916-06-01",0,0,0,0,0,null,198,"1916-06-01",0,0,0,0,0,null,198,"1916-06-01",0,0,0,0,0]
[1916,199,"1916-07-01",0,0,0,0,0,0,null,199,"1916-07-01",0,0,0,0,0,null,199,"1916-07-01",0,0,0,0,0,null,199,"1916-07-01",0,0,0,0,0,null,199,"1916-07-01",0,0,0,0,0,null,199,"1916-07-01",0,0,0,0,0,null,199,"1916-07-01",0,0,0,0,0,null,199,"1916-07-01",0,0,0,0,0]
[1916,200,"1916-08-01",0,0,0,0,0,0,null,200,"1916-08-01",0,0,0,0,0,null,200,"1916-08-01",0,0,0,0,0,null,200,"1916-08-01",0,0,0,0,0,null,200,"1916-08-01",0,0,0,0,0,null,200,"1916-08-01",0,0,0,0,0,null,200,"1916-08-01",0,0,0,0,0,null,200,"1916-08-01",0,0,0,0,0]
[1916,201,"1916-09-01",0,0,0,0,0,0,null,201,"1916-09-01",0,0,0,0,0,null,201,"1916-09-01",0,0,0,0,0,null,201,"1916-09-01",0,0,0,0,0,null,201,"1916-09-01",0,0,0,0,0,null,201,"1916-09-01",0,0,0,0,0,null,201,"1916-09-01",0,0,0,0,0,null,201,"1916-09-01",0,0,0,0,0]
[1916,202,"1916-10-01",0,0,0,0,0,0,null,202,"1916-10-01",0,0,0,0,0,null,202,"1916-10-01",0,0,0,0,0,null,202,"1916-10-01",0,0,0,0,0,null,202,"1916-10-01",0,0,0,0,0,null,202,"1916-10-01",0,0,0,0,0,null,202,"1916-10-01",0,0,0,0,0,null,202,"1916-10-01",0,0,0,0,0]
[1916,203,"1916-11-01",0,0,0,0,0,0,null,203,"1916-11-01",0,0,0,0,0,null,203,"1916-11-01",0,0,0,0,0,null,203,"1916-11-01",0,0,0,0,0,null,203,"1916-11-01",0,0,0,0,0,null,203,"1916-11-01",0,0,0,0,0,null,203,"1916-11-01",0,0,0,0,0,null,203,"1916-11-01",0,0,0,0,0]
[1916,204,"1916-12-01",0,0,0,0,0,0,null,204,"1916-12-01",0,0,0,0,0,null,204,"1916-12-01",0,0,0,0,0,null,204,"1916-12-01",0,0,0,0,0,null,204,"1916-12-01",0,0,0,0,0,null,204,"1916-12-01",0,0,0,0,0,null,204,"1916-12-01",0,0,0,0,0,null,204,"1916-12-01",0,0,0,0,0]
[1917,205,"1917-01-01",0,0,0,0,0,0,null,205,"1917-01-01",0,0,0,0,0,null,205,"1917-01-01",0,0,0,0,0,null,205,"1917-01-01",0,0,0,0,0,null,205,"1917-01-01",0,0,0,0,0,null,205,"1917-01-01",0,0,0,0,0,null,205,"1917-01-01",0,0,0,0,0,null,205,"1917-01-01",0,0,0,0,0]
[1917,206,"1917-02-01",0,0,0,0,0,0,null,206,"1917-02-01",0,0,0,0,0,null,206,"1917-02-01",0,0,0,0,0,null,206,"1917-02-01",0,0,0,0,0,null,206,"1917-02-01",0,0,0,0,0,null,206,"1917-02-01",0,0,0,0,0,null,206,"1917-02-01",0,0,0,0,0,null,206,"1917-02-01",0,0,0,0,0]
[1917,207,"1917-03-01",0,0,0,0,0,0,null,207,"1917-03-01",0,0,0,0,0,null,207,"1917-03-01",0,0,0,0,0,null,207,"1917-03-01",0,0,0,0,0,null,207,"1917-03-01",0,0,0,0,0,null,207,"1917-03-01",0,0,0,0,0,null,207,"1917-03-01",0,0,0,0,0,null,207,"1917-03-01",0,0,0,0,0]
[1917,208,"1917-04-01",0,0,0,0,0,0,null,208,"1917-04-01",0,0,0,0,0,null,208,"1917-04-01",0,0,0,0,0,null,208,"1917-04-01",0,0,0,0,0,null,208,"1917-04-01",0,0,0,0,0,null,208,"1917-04-01",0,0,0,0,0,null,208,"1917-04-01",0,0,0,0,0,null,208,"1917-04-01",0,0,0,0,0]
[1917,209,"1917-05-01",0,0,0,0,0,0,null,209,"1917-05-01",0,0,0,0,0,null,209,"1917-05-01",0,0,0,0,0,null,209,"1917-05-01",0,0,0,0,0,null,209,"1917-05-01",0,0,0,0,0,null,209,"1917-05-01",0,0,0,0,0,null,209,"1917-05-01",0,0,0,0,0,null,209,"1917-05-01",0,0,0,0,0]
[1917,210,"1917-06-01",0,0,0,0,0,0,null,210,"1917-06-01",0,0,0,0,0,null,210,"1917-06-01",0,0,0,0,0,null,210,"1917-06-01",0,0,0,0,0,null,210,"1917-06-01",0,0,0,0,0,null,210,"1917-06-01",0,0,0,0,0,null,210,"1917-06-01",0,0,0,0,0,null,210,"1917-06-01",0,0,0,0,0]
[1917,211,"1917-07-01",0,0,0,0,0,0,null,211,"1917-07-01",0,0,0,0,0,null,211,"1917-07-01",0,0,0,0,0,null,211,"1917-07-01",0,0,0,0,0,null,211,"1917-07-01",0,0,0,0,0,null,211,"1917-07-01",0,0,0,0,0,null,211,"1917-07-01",0,0,0,0,0,null,211,"1917-07-01",0,0,0,0,0]
[1917,212,"1917-08-01",0,0,0,0,0,0,null,212,"1917-08-01",0,0,0,0,0,null,212,"1917-08-01",0,0,0,0,0,null,212,"1917-08-01",0,0,0,0,0,null,212,"1917-08-01",0,0,0,0,0,null,212,"1917-08-01",0,0,0,0,0,null,212,"1917-08-01",0,0,0,0,0,null,212,"1917-08-01",0,0,0,0,0]
[1917,213,"1917-09-01",0,0,0,0,0,0,null,213,"1917-09-01",0,0,0,0,0,null,213,"1917-09-01",0,0,0,0,0,null,213,"1917-09-01",0,0,0,0,0,null,213,"1917-09-01",0,0,0,0,0,null,213,"1917-09-01",0,0,0,0,0,null,213,"1917-09-01",0,0,0,0,0,null,213,"1917-09-01",0,0,0,0,0]
[1917,214,"1917-10-01",0,0,0,0,0,0,null,214,"1917-10-01",0,0,0,0,0,null,214,"1917-10-01",0,0,0,0,0,null,214,"1917-10-01",0,0,0,0,0,null,214,"1917-10-01",0,0,0,0,0,null,214,"1917-10-01",0,0,0,0,0,null,214,"1917-10-01",0,0,0,0,0,null,214,"1917-10-01",0,0,0,0,0]
[1917,215,"1917-11-01",0,0,0,0,0,0,null,215,"1917-11-01",0,0,0,0,0,null,215,"1917-11-01",0,0,0,0,0,null,215,"1917-11-01",0,0,0,0,0,null,215,"1917-11-01",0,0,0,0,0,null,215,"1917-11-01",0,0,0,0,0,null,215,"1917-11-01",0,0,0,0,0,null,215,"1917-11-01",0,0,0,0,0]
[1917,216,"1917-12-01",0,0,0,0,0,0,null,216,"1917-12-01",0,0,0,0,0,null,216,"1917-12-01",0,0,0,0,0,null,216,"1917-12-01",0,0,0,0,0,null,216,"1917-12-01",0,0,0,0,0,null,216,"1917-12-01",0,0,0,0,0,null,216,"1917-12-01",0,0,0,0,0,null,216,"1917-12-01",0,0,0,0,0]
[1918,217,"1918-01-01",0,0,0,0,0,0,null,217,"1918-01-01",0,0,0,0,0,null,217,"1918-01-01",0,0,0,0,0,null,217,"1918-01-01",0,0,0,0,0,null,217,"1918-01-01",0,0,0,0,0,null,217,"1918-01-01",0,0,0,0,0,null,217,"1918-01-01",0,0,0,0,0,null,217,"1918-01-01",0,0,0,0,0]
[1918,218,"1918-02-01",0,0,0,0,0,0,null,218,"1918-02-01",0,0,0,0,0,null,218,"1918-02-01",0,0,0,0,0,null,218,"1918-02-01",0,0,0,0,0,null,218,"1918-02-01",0,0,0,0,0,null,218,"1918-02-01",0,0,0,0,0,null,218,"1918-02-01",0,0,0,0,0,null,218,"1918-02-01",0,0,0,0,0]
[1918,219,"1918-03-01",0,0,0,0,0,0,null,219,"1918-03-01",0,0,0,0,0,null,219,"1918-03-01",0,0,0,0,0,null,219,"1918-03-01",0,0,0,0,0,null,219,"1918-03-01",0,0,0,0,0,null,219,"1918-03-01",0,0,0,0,0,null,219,"1918-03-01",0,0,0,0,0,null,219,"1918-03-01",0,0,0,0,0]
[1918,220,"1918-04-01",0,0,0,0,0,0,null,220,"1918-04-01",0,0,0,0,0,null,220,"1918-04-01",0,0,0,0,0,null,220,"1918-04-01",0,0,0,0,0,null,220,"1918-04-01",0,0,0,0,0,null,220,"1918-04-01",0,0,0,0,0,null,220,"1918-04-01",0,0,0,0,0,null,220,"1918-04-01",0,0,0,0,0]
[1918,221,"1918-05-01",0,0,0,0,0,0,null,221,"1918-05-01",0,0,0,0,0,null,221,"1918-05-01",0,0,0,0,0,null,221,"1918-05-01",0,0,0,0,0,null,221,"1918-05-01",0,0,0,0,0,null,221,"1918-05-01",0,0,0,0,0,null,221,"1918-05-01",0,0,0,0,0,null,221,"1918-05-01",0,0,0,0,0]
[1918,222,"1918-06-01",0,0,0,0,0,0,null,222,"1918-06-01",0,0,0,0,0,null,222,"1918-06-01",0,0,0,0,0,null,222,"1918-06-01",0,0,0,0,0,null,222,"1918-06-01",0,0,0,0,0,null,222,"1918-06-01",0,0,0,0,0,null,222,"1918-06-01",0,0,0,0,0,null,222,"1918-06-01",0,0,0,0,0]
[1918,223,"1918-07-01",0,0,0,0,0,0,null,223,"1918-07-01",0,0,0,0,0,null,223,"1918-07-01",0,0,0,0,0,null,223,"1918-07-01",0,0,0,0,0,null,223,"1918-07-01",0,0,0,0,0,null,223,"1918-07-01",0,0,0,0,0,null,223,"1918-07-01",0,0,0,0,0,null,223,"1918-07-01",0,0,0,0,0]
[1918,224,"1918-08-01",0,0,0,0,0,0,null,224,"1918-08-01",0,0,0,0,0,null,224,"1918-08-01",0,0,0,0,0,null,224,"1918-08-01",0,0,0,0,0,null,224,"1918-08-01",0,0,0,0,0,null,224,"1918-08-01",0,0,0,0,0,null,224,"1918-08-01",0,0,0,0,0,null,224,"1918-08-01",0,0,0,0,0]
[1918,225,"1918-09-01",0,0,0,0,0,0,null,225,"1918-09-01",0,0,0,0,0,null,225,"1918-09-01",0,0,0,0,0,null,225,"1918-09-01",0,0,0,0,0,null,225,"1918-09-01",0,0,0,0,0,null,225,"1918-09-01",0,0,0,0,0,null,225,"1918-09-01",0,0,0,0,0,null,225,"1918-09-01",0,0,0,0,0]
[1918,226,"1918-10-01",0,0,0,0,0,0,null,226,"1918-10-01",0,0,0,0,0,null,226,"1918-10-01",0,0,0,0,0,null,226,"1918-10-01",0,0,0,0,0,null,226,"1918-10-01",0,0,0,0,0,null,226,"1918-10-01",0,0,0,0,0,null,226,"1918-10-01",0,0,0,0,0,null,226,"1918-10-01",0,0,0,0,0]
[1918,227,"1918-11-01",0,0,0,0,0,0,null,227,"1918-11-01",0,0,0,0,0,null,227,"1918-11-01",0,0,0,0,0,null,227,"1918-11-01",0,0,0,0,0,null,227,"1918-11-01",0,0,0,0,0,null,227,"1918-11-01",0,0,0,0,0,null,227,"1918-11-01",0,0,0,0,0,null,227,"1918-11-01",0,0,0,0,0]
[1918,228,"1918-12-01",0,0,0,0,0,0,null,228,"1918-12-01",0,0,0,0,0,null,228,"1918-12-01",0,0,0,0,0,null,228,"1918-12-01",0,0,0,0,0,null,228,"1918-12-01",0,0,0,0,0,null,228,"1918-12-01",0,0,0,0,0,null,228,"1918-12-01",0,0,0,0,0,null,228,"1918-12-01",0,0,0,0,0]
[1919,229,"1919-01-01",0,0,0,0,0,0,null,229,"1919-01-01",0,0,0,0,0,null,229,"1919-01-01",0,0,0,0,0,null,229,"1919-01-01",0,0,0,0,0,null,229,"1919-01-01",0,0,0,0,0,null,229,"1919-01-01",0,0,0,0,0,null,229,"1919-01-01",0,0,0,0,0,null,229,"1919-01-01",0,0,0,0,0]
[1919,230,"1919-02-01",0,0,0,0,0,0,null,230,"1919-02-01",0,0,0,0,0,null,230,"1919-02-01",0,0,0,0,0,null,230,"1919-02-01",0,0,0,0,0,null,230,"1919-02-01",0,0,0,0,0,null,230,"1919-02-01",0,0,0,0,0,null,230,"1919-02-01",0,0,0,0,0,null,230,"1919-02-01",0,0,0,0,0]
[1919,231,"1919-03-01",0,0,0,0,0,0,null,231,"1919-03-01",0,0,0,0,0,null,231,"1919-03-01",0,0,0,0,0,null,231,"1919-03-01",0,0,0,0,0,null,231,"1919-03-01",0,0,0,0,0,null,231,"1919-03-01",0,0,0,0,0,null,231,"1919-03-01",0,0,0,0,0,null,231,"1919-03-01",0,0,0,0,0]
[1919,232,"1919-04-01",0,0,0,0,0,0,null,232,"1919-04-01",0,0,0,0,0,null,232,"1919-04-01",0,0,0,0,0,null,232,"1919-04-01",0,0,0,0,0,null,232,"1919-04-01",0,0,0,0,0,null,232,"1919-04-01",0,0,0,0,0,null,232,"1919-04-01",0,0,0,0,0,null,232,"1919-04-01",0,0,0,0,0]
[1919,233,"1919-05-01",0,0,0,0,0,0,null,233,"1919-05-01",0,0,0,0,0,null,233,"1919-05-01",0,0,0,0,0,null,233,"1919-05-01",0,0,0,0,0,null,233,"1919-05-01",0,0,0,0,0,null,233,"1919-05-01",0,0,0,0,0,null,233,"1919-05-01",0,0,0,0,0,null,233,"1919-05-01",0,0,0,0,0]
[1919,234,"1919-06-01",0,0,0,0,0,0,null,234,"1919-06-01",0,0,0,0,0,null,234,"1919-06-01",0,0,0,0,0,null,234,"1919-06-01",0,0,0,0,0,null,234,"1919-06-01",0,0,0,0,0,null,234,"1919-06-01",0,0,0,0,0,null,234,"1919-06-01",0,0,0,0,0,null,234,"1919-06-01",0,0,0,0,0]
[1919,235,"1919-07-01",0,0,0,0,0,0,null,235,"1919-07-01",0,0,0,0,0,null,235,"1919-07-01",0,0,0,0,0,null,235,"1919-07-01",0,0,0,0,0,null,235,"1919-07-01",0,0,0,0,0,null,235,"1919-07-01",0,0,0,0,0,null,235,"1919-07-01",0,0,0,0,0,null,235,"1919-07-01",0,0,0,0,0]
[1919,236,"1919-08-01",0,0,0,0,0,0,null,236,"1919-08-01",0,0,0,0,0,null,236,"1919-08-01",0,0,0,0,0,null,236,"1919-08-01",0,0,0,0,0,null,236,"1919-08-01",0,0,0,0,0,null,236,"1919-08-01",0,0,0,0,0,null,236,"1919-08-01",0,0,0,0,0,null,236,"1919-08-01",0,0,0,0,0]
[1919,237,"1919-09-01",0,0,0,0,0,0,null,237,"1919-09-01",0,0,0,0,0,null,237,"1919-09-01",0,0,0,0,0,null,237,"1919-09-01",0,0,0,0,0,null,237,"1919-09-01",0,0,0,0,0,null,237,"1919-09-01",0,0,0,0,0,null,237,"1919-09-01",0,0,0,0,0,null,237,"1919-09-01",0,0,0,0,0]
[1919,238,"1919-10-01",0,0,0,0,0,0,null,238,"1919-10-01",0,0,0,0,0,null,238,"1919-10-01",0,0,0,0,0,null,238,"1919-10-01",0,0,0,0,0,null,238,"1919-10-01",0,0,0,0,0,null,238,"1919-10-01",0,0,0,0,0,null,238,"1919-10-01",0,0,0,0,0,null,238,"1919-10-01",0,0,0,0,0]
[1919,239,"1919-11-01",0,0,0,0,0,0,null,239,"1919-11-01",0,0,0,0,0,null,239,"1919-11-01",0,0,0,0,0,null,239,"1919-11-01",0,0,0,0,0,null,239,"1919-11-01",0,0,0,0,0,null,239,"1919-11-01",0,0,0,0,0,null,239,"1919-11-01",0,0,0,0,0,null,239,"1919-11-01",0,0,0,0,0]
[1919,240,"1919-12-01",0,0,0,0,0,0,null,240,"1919-12-01",0,0,0,0,0,null,240,"1919-12-01",0,0,0,0,0,null,240,"1919-12-01",0,0,0,0,0,null,240,"1919-12-01",0,0,0,0,0,null,240,"1919-12-01",0,0,0,0,0,null,240,"1919-12-01",0,0,0,0,0,null,240,"1919-12-01",0,0,0,0,0]
[1920,241,"1920-01-01",0,0,0,0,0,0,null,241,"1920-01-01",0,0,0,0,0,null,241,"1920-01-01",0,0,0,0,0,null,241,"1920-01-01",0,0,0,0,0,null,241,"1920-01-01",0,0,0,0,0,null,241,"1920-01-01",0,0,0,0,0,null,241,"1920-01-01",0,0,0,0,0,null,241,"1920-01-01",0,0,0,0,0]
[1920,242,"1920-02-01",0,0,0,0,0,0,null,242,"1920-02-01",0,0,0,0,0,null,242,"1920-02-01",0,0,0,0,0,null,242,"1920-02-01",0,0,0,0,0,null,242,"1920-02-01",0,0,0,0,0,null,242,"1920-02-01",0,0,0,0,0,null,242,"1920-02-01",0,0,0,0,0,null,242,"1920-02-01",0,0,0,0,0]
[1920,243,"1920-03-01",0,0,0,0,0,0,null,243,"1920-03-01",0,0,0,0,0,null,243,"1920-03-01",0,0,0,0,0,null,243,"1920-03-01",0,0,0,0,0,null,243,"1920-03-01",0,0,0,0,0,null,243,"1920-03-01",0,0,0,0,0,null,243,"1920-03-01",0,0,0,0,0,null,243,"1920-03-01",0,0,0,0,0]
[1920,244,"1920-04-01",0,0,0,0,0,0,null,244,"1920-04-01",0,0,0,0,0,null,244,"1920-04-01",0,0,0,0,0,null,244,"1920-04-01",0,0,0,0,0,null,244,"1920-04-01",0,0,0,0,0,null,244,"1920-04-01",0,0,0,0,0,null,244,"1920-04-01",0,0,0,0,0,null,244,"1920-04-01",0,0,0,0,0]
[1920,245,"1920-05-01",0,0,0,0,0,0,null,245,"1920-05-01",0,0,0,0,0,null,245,"1920-05-01",0,0,0,0,0,null,245,"1920-05-01",0,0,0,0,0,null,245,"1920-05-01",0,0,0,0,0,null,245,"1920-05-01",0,0,0,0,0,null,245,"1920-05-01",0,0,0,0,0,null,245,"1920-05-01",0,0,0,0,0]
[1920,246,"1920-06-01",0,0,0,0,0,0,null,246,"1920-06-01",0,0,0,0,0,null,246,"1920-06-01",0,0,0,0,0,null,246,"1920-06-01",0,0,0,0,0,null,246,"1920-06-01",0,0,0,0,0,null,246,"1920-06-01",0,0,0,0,0,null,246,"1920-06-01",0,0,0,0,0,null,246,"1920-06-01",0,0,0,0,0]
[1920,247,"1920-07-01",0,0,0,0,0,0,null,247,"1920-07-01",0,0,0,0,0,null,247,"1920-07-01",0,0,0,0,0,null,247,"1920-07-01",0,0,0,0,0,null,247,"1920-07-01",0,0,0,0,0,null,247,"1920-07-01",0,0,0,0,0,null,247,"1920-07-01",0,0,0,0,0,null,247,"1920-07-01",0,0,0,0,0]
[1920,248,"1920-08-01",0,0,0,0,0,0,null,248,"1920-08-01",0,0,0,0,0,null,248,"1920-08-01",0,0,0,0,0,null,248,"1920-08-01",0,0,0,0,0,null,248,"1920-08-01",0,0,0,0,0,null,248,"1920-08-01",0,0,0,0,0,null,248,"1920-08-01",0,0,0,0,0,null,248,"1920-08-01",0,0,0,0,0]
[1920,249,"1920-09-01",0,0,0,0,0,0,null,249,"1920-09-01",0,0,0,0,0,null,249,"1920-09-01",0,0,0,0,0,null,249,"1920-09-01",0,0,0,0,0,null,249,"1920-09-01",0,0,0,0,0,null,249,"1920-09-01",0,0,0,0,0,null,249,"1920-09-01",0,0,0,0,0,null,249,"1920-09-01",0,0,0,0,0]
[1920,250,"1920-10-01",0,0,0,0,0,0,null,250,"1920-10-01",0,0,0,0,0,null,250,"1920-10-01",0,0,0,0,0,null,250,"1920-10-01",0,0,0,0,0,null,250,"1920-10-01",0,0,0,0,0,null,250,"1920-10-01",0,0,0,0,0,null,250,"1920-10-01",0,0,0,0,0,null,250,"1920-10-01",0,0,0,0,0]
[1920,251,"1920-11-01",0,0,0,0,0,0,null,251,"1920-11-01",0,0,0,0,0,null,251,"1920-11-01",0,0,0,0,0,null,251,"1920-11-01",0,0,0,0,0,null,251,"1920-11-01",0,0,0,0,0,null,251,"1920-11-01",0,0,0,0,0,null,251,"1920-11-01",0,0,0,0,0,null,251,"1920-11-01",0,0,0,0,0]
[1920,252,"1920-12-01",0,0,0,0,0,0,null,252,"1920-12-01",0,0,0,0,0,null,252,"1920-12-01",0,0,0,0,0,null,252,"1920-12-01",0,0,0,0,0,null,252,"1920-12-01",0,0,0,0,0,null,252,"1920-12-01",0,0,0,0,0,null,252,"1920-12-01",0,0,0,0,0,null,252,"1920-12-01",0,0,0,0,0]
[1921,253,"1921-01-01",0,0,0,0,0,0,null,253,"1921-01-01",0,0,0,0,0,null,253,"1921-01-01",0,0,0,0,0,null,253,"1921-01-01",0,0,0,0,0,null,253,"1921-01-01",0,0,0,0,0,null,253,"1921-01-01",0,0,0,0,0,null,253,"1921-01-01",0,0,0,0,0,null,253,"1921-01-01",0,0,0,0,0]
[1921,254,"1921-02-01",0,0,0,0,0,0,null,254,"1921-02-01",0,0,0,0,0,null,254,"1921-02-01",0,0,0,0,0,null,254,"1921-02-01",0,0,0,0,0,null,254,"1921-02-01",0,0,0,0,0,null,254,"1921-02-01",0,0,0,0,0,null,254,"1921-02-01",0,0,0,0,0,null,254,"1921-02-01",0,0,0,0,0]
[1921,255,"1921-03-01",0,0,0,0,0,0,null,255,"1921-03-01",0,0,0,0,0,null,255,"1921-03-01",0,0,0,0,0,null,255,"1921-03-01",0,0,0,0,0,null,255,"1921-03-01",0,0,0,0,0,null,255,"1921-03-01",0,0,0,0,0,null,255,"1921-03-01",0,0,0,0,0,null,255,"1921-03-01",0,0,0,0,0]
[1921,256,"1921-04-01",0,0,0,0,0,0,null,256,"1921-04-01",0,0,0,0,0,null,256,"1921-04-01",0,0,0,0,0,null,256,"1921-04-01",0,0,0,0,0,null,256,"1921-04-01",0,0,0,0,0,null,256,"1921-04-01",0,0,0,0,0,null,256,"1921-04-01",0,0,0,0,0,null,256,"1921-04-01",0,0,0,0,0]
[1921,257,"1921-05-01",0,0,{"$f":"D269*$E$7/12","v":0},0,0,{"$f":"D269*rng01_MortgageInsurangePremium/12","v":0},null,257,"1921-05-01",0,0,0,0,0,null,257,"1921-05-01",0,0,0,0,0,null,257,"1921-05-01",0,0,0,0,0,null,257,"1921-05-01",0,0,0,0,0,null,257,"1921-05-01",0,0,0,0,0,null,257,"1921-05-01",0,0,0,0,0,null,257,"1921-05-01",0,0,0,0,0]
[{"$f":"YEAR(C270)","v":1921},258,"1921-06-01",0,0,0,0,0,0,null,258,"1921-06-01",0,0,{"$f":"M270*$N$7/12","v":0},0,0,null,258,"1921-06-01",0,0,{"$f":"U270*V$7/12","v":0},0,0,null,258,"1921-06-01",0,0,{"$f":"AC270*AD$7/12","v":0},0,0,null,258,"1921-06-01",0,0,{"$f":"AK270*AL$7/12","v":0},0,0,null,258,"1921-06-01",0,0,{"$f":"AS270*AT$7/12","v":0},0,0,null,258,"1921-06-01",0,0,{"$f":"BA270*BB$7/12","v":0},0,0,null,258,"1921-06-01",0,0,{"$f":"BI270*BJ$7/12","v":0},0,0]
[1921,259,"1921-07-01",0,{"$f":"IF(ROUND(D271,0)>0,E270,0)","v":0},0,0,0,0,null,259,"1921-07-01",0,{"$f":"IF(ROUND(M271,0)>0,N270,0)","v":0},0,0,0,null,259,"1921-07-01",0,{"$f":"IF(ROUND(U271,0)>0,V270,0)","v":0},0,0,0,null,259,"1921-07-01",0,{"$f":"IF(ROUND(AC271,0)>0,AD270,0)","v":0},0,0,0,null,259,"1921-07-01",0,{"$f":"IF(ROUND(AK271,0)>0,AL270,0)","v":0},0,0,0,null,259,"1921-07-01",0,{"$f":"IF(ROUND(AS271,0)>0,AT270,0)","v":0},0,0,0,null,259,"1921-07-01",0,{"$f":"IF(ROUND(BA271,0)>0,BB270,0)","v":0},0,0,0,null,259,"1921-07-01",0,{"$f":"IF(ROUND(BI271,0)>0,BJ270,0)","v":0},0,0,0]
[1921,260,{"$f":"DATE(IF(MONTH(C271)=12,YEAR(C271)+1,YEAR(C271)),IF(MONTH(C271)=12,1,MONTH(C271)+1),1)","v":"1921-08-01"},{"$f":"H271","v":0},0,0,{"$f":"E272-F272","v":0},{"$f":"D272-G272","v":0},0,null,260,{"$f":"DATE(IF(MONTH(L271)=12,YEAR(L271)+1,YEAR(L271)),IF(MONTH(L271)=12,1,MONTH(L271)+1),1)","v":"1921-08-01"},{"$f":"Q271","v":0},0,0,{"$f":"N272-O272","v":0},{"$f":"M272-P272","v":0},null,260,{"$f":"DATE(IF(MONTH(T271)=12,YEAR(T271)+1,YEAR(T271)),IF(MONTH(T271)=12,1,MONTH(T271)+1),1)","v":"1921-08-01"},{"$f":"Y271","v":0},0,0,{"$f":"V272-W272","v":0},{"$f":"U272-X272","v":0},null,260,{"$f":"DATE(IF(MONTH(AB271)=12,YEAR(AB271)+1,YEAR(AB271)),IF(MONTH(AB271)=12,1,MONTH(AB271)+1),1)","v":"1921-08-01"},{"$f":"AG271","v":0},0,0,{"$f":"AD272-AE272","v":0},{"$f":"AC272-AF272","v":0},null,260,{"$f":"DATE(IF(MONTH(AJ271)=12,YEAR(AJ271)+1,YEAR(AJ271)),IF(MONTH(AJ271)=12,1,MONTH(AJ271)+1),1)","v":"1921-08-01"},{"$f":"AO271","v":0},0,0,{"$f":"AL272-AM272","v":0},{"$f":"AK272-AN272","v":0},null,260,{"$f":"DATE(IF(MONTH(AR271)=12,YEAR(AR271)+1,YEAR(AR271)),IF(MONTH(AR271)=12,1,MONTH(AR271)+1),1)","v":"1921-08-01"},{"$f":"AW271","v":0},0,0,{"$f":"AT272-AU272","v":0},{"$f":"AS272-AV272","v":0},null,260,{"$f":"DATE(IF(MONTH(AZ271)=12,YEAR(AZ271)+1,YEAR(AZ271)),IF(MONTH(AZ271)=12,1,MONTH(AZ271)+1),1)","v":"1921-08-01"},{"$f":"BE271","v":0},0,0,{"$f":"BB272-BC272","v":0},{"$f":"BA272-BD272","v":0},null,260,{"$f":"DATE(IF(MONTH(BH271)=12,YEAR(BH271)+1,YEAR(BH271)),IF(MONTH(BH271)=12,1,MONTH(BH271)+1),1)","v":"1921-08-01"},{"$f":"BM271","v":0},0,0,{"$f":"BJ272-BK272","v":0},{"$f":"BI272-BL272","v":0}]
[1921,261,"1921-09-01",0,0,0,0,0,0,null,261,"1921-09-01",0,0,0,0,0,null,261,"1921-09-01",0,0,0,0,0,null,261,"1921-09-01",0,0,0,0,0,null,261,"1921-09-01",0,0,0,0,0,null,261,"1921-09-01",0,0,0,0,0,null,261,"1921-09-01",0,0,0,0,0,null,261,"1921-09-01",0,0,0,0,0]
[1921,262,"1921-10-01",0,0,0,0,0,0,null,262,"1921-10-01",0,0,0,0,0,null,262,"1921-10-01",0,0,0,0,0,null,262,"1921-10-01",0,0,0,0,0,null,262,"1921-10-01",0,0,0,0,0,null,262,"1921-10-01",0,0,0,0,0,null,262,"1921-10-01",0,0,0,0,0,null,262,"1921-10-01",0,0,0,0,0]
[1921,263,"1921-11-01",0,0,0,0,0,0,null,263,"1921-11-01",0,0,0,0,0,null,263,"1921-11-01",0,0,0,0,0,null,263,"1921-11-01",0,0,0,0,0,null,263,"1921-11-01",0,0,0,0,0,null,263,"1921-11-01",0,0,0,0,0,null,263,"1921-11-01",0,0,0,0,0,null,263,"1921-11-01",0,0,0,0,0]
[1921,264,"1921-12-01",0,0,0,0,0,0,null,264,"1921-12-01",0,0,0,0,0,null,264,"1921-12-01",0,0,0,0,0,null,264,"1921-12-01",0,0,0,0,0,null,264,"1921-12-01",0,0,0,0,0,null,264,"1921-12-01",0,0,0,0,0,null,264,"1921-12-01",0,0,0,0,0,null,264,"1921-12-01",0,0,0,0,0]
[1922,265,"1922-01-01",0,0,0,0,0,0,null,265,"1922-01-01",0,0,0,0,0,null,265,"1922-01-01",0,0,0,0,0,null,265,"1922-01-01",0,0,0,0,0,null,265,"1922-01-01",0,0,0,0,0,null,265,"1922-01-01",0,0,0,0,0,null,265,"1922-01-01",0,0,0,0,0,null,265,"1922-01-01",0,0,0,0,0]
[1922,266,"1922-02-01",0,0,0,0,0,0,null,266,"1922-02-01",0,0,0,0,0,null,266,"1922-02-01",0,0,0,0,0,null,266,"1922-02-01",0,0,0,0,0,null,266,"1922-02-01",0,0,0,0,0,null,266,"1922-02-01",0,0,0,0,0,null,266,"1922-02-01",0,0,0,0,0,null,266,"1922-02-01",0,0,0,0,0]
[1922,267,"1922-03-01",0,0,0,0,0,0,null,267,"1922-03-01",0,0,0,0,0,null,267,"1922-03-01",0,0,0,0,0,null,267,"1922-03-01",0,0,0,0,0,null,267,"1922-03-01",0,0,0,0,0,null,267,"1922-03-01",0,0,0,0,0,null,267,"1922-03-01",0,0,0,0,0,null,267,"1922-03-01",0,0,0,0,0]
[1922,268,"1922-04-01",0,0,0,0,0,0,null,268,"1922-04-01",0,0,0,0,0,null,268,"1922-04-01",0,0,0,0,0,null,268,"1922-04-01",0,0,0,0,0,null,268,"1922-04-01",0,0,0,0,0,null,268,"1922-04-01",0,0,0,0,0,null,268,"1922-04-01",0,0,0,0,0,null,268,"1922-04-01",0,0,0,0,0]
[1922,269,"1922-05-01",0,0,0,0,0,0,null,269,"1922-05-01",0,0,0,0,0,null,269,"1922-05-01",0,0,0,0,0,null,269,"1922-05-01",0,0,0,0,0,null,269,"1922-05-01",0,0,0,0,0,null,269,"1922-05-01",0,0,0,0,0,null,269,"1922-05-01",0,0,0,0,0,null,269,"1922-05-01",0,0,0,0,0]
[1922,270,"1922-06-01",0,0,0,0,0,0,null,270,"1922-06-01",0,0,0,0,0,null,270,"1922-06-01",0,0,0,0,0,null,270,"1922-06-01",0,0,0,0,0,null,270,"1922-06-01",0,0,0,0,0,null,270,"1922-06-01",0,0,0,0,0,null,270,"1922-06-01",0,0,0,0,0,null,270,"1922-06-01",0,0,0,0,0]
[1922,271,"1922-07-01",0,0,0,0,0,0,null,271,"1922-07-01",0,0,0,0,0,null,271,"1922-07-01",0,0,0,0,0,null,271,"1922-07-01",0,0,0,0,0,null,271,"1922-07-01",0,0,0,0,0,null,271,"1922-07-01",0,0,0,0,0,null,271,"1922-07-01",0,0,0,0,0,null,271,"1922-07-01",0,0,0,0,0]
[1922,272,"1922-08-01",0,0,0,0,0,0,null,272,"1922-08-01",0,0,0,0,0,null,272,"1922-08-01",0,0,0,0,0,null,272,"1922-08-01",0,0,0,0,0,null,272,"1922-08-01",0,0,0,0,0,null,272,"1922-08-01",0,0,0,0,0,null,272,"1922-08-01",0,0,0,0,0,null,272,"1922-08-01",0,0,0,0,0]
[1922,273,"1922-09-01",0,0,0,0,0,0,null,273,"1922-09-01",0,0,0,0,0,null,273,"1922-09-01",0,0,0,0,0,null,273,"1922-09-01",0,0,0,0,0,null,273,"1922-09-01",0,0,0,0,0,null,273,"1922-09-01",0,0,0,0,0,null,273,"1922-09-01",0,0,0,0,0,null,273,"1922-09-01",0,0,0,0,0]
[1922,274,"1922-10-01",0,0,0,0,0,0,null,274,"1922-10-01",0,0,0,0,0,null,274,"1922-10-01",0,0,0,0,0,null,274,"1922-10-01",0,0,0,0,0,null,274,"1922-10-01",0,0,0,0,0,null,274,"1922-10-01",0,0,0,0,0,null,274,"1922-10-01",0,0,0,0,0,null,274,"1922-10-01",0,0,0,0,0]
[1922,275,"1922-11-01",0,0,0,0,0,0,null,275,"1922-11-01",0,0,0,0,0,null,275,"1922-11-01",0,0,0,0,0,null,275,"1922-11-01",0,0,0,0,0,null,275,"1922-11-01",0,0,0,0,0,null,275,"1922-11-01",0,0,0,0,0,null,275,"1922-11-01",0,0,0,0,0,null,275,"1922-11-01",0,0,0,0,0]
[1922,276,"1922-12-01",0,0,0,0,0,0,null,276,"1922-12-01",0,0,0,0,0,null,276,"1922-12-01",0,0,0,0,0,null,276,"1922-12-01",0,0,0,0,0,null,276,"1922-12-01",0,0,0,0,0,null,276,"1922-12-01",0,0,0,0,0,null,276,"1922-12-01",0,0,0,0,0,null,276,"1922-12-01",0,0,0,0,0]
[1923,277,"1923-01-01",0,0,0,0,0,0,null,277,"1923-01-01",0,0,0,0,0,null,277,"1923-01-01",0,0,0,0,0,null,277,"1923-01-01",0,0,0,0,0,null,277,"1923-01-01",0,0,0,0,0,null,277,"1923-01-01",0,0,0,0,0,null,277,"1923-01-01",0,0,0,0,0,null,277,"1923-01-01",0,0,0,0,0]
[1923,278,"1923-02-01",0,0,0,0,0,0,null,278,"1923-02-01",0,0,0,0,0,null,278,"1923-02-01",0,0,0,0,0,null,278,"1923-02-01",0,0,0,0,0,null,278,"1923-02-01",0,0,0,0,0,null,278,"1923-02-01",0,0,0,0,0,null,278,"1923-02-01",0,0,0,0,0,null,278,"1923-02-01",0,0,0,0,0]
[1923,279,"1923-03-01",0,0,0,0,0,0,null,279,"1923-03-01",0,0,0,0,0,null,279,"1923-03-01",0,0,0,0,0,null,279,"1923-03-01",0,0,0,0,0,null,279,"1923-03-01",0,0,0,0,0,null,279,"1923-03-01",0,0,0,0,0,null,279,"1923-03-01",0,0,0,0,0,null,279,"1923-03-01",0,0,0,0,0]
[1923,280,"1923-04-01",0,0,0,0,0,0,null,280,"1923-04-01",0,0,0,0,0,null,280,"1923-04-01",0,0,0,0,0,null,280,"1923-04-01",0,0,0,0,0,null,280,"1923-04-01",0,0,0,0,0,null,280,"1923-04-01",0,0,0,0,0,null,280,"1923-04-01",0,0,0,0,0,null,280,"1923-04-01",0,0,0,0,0]
[1923,281,"1923-05-01",0,0,0,0,0,0,null,281,"1923-05-01",0,0,0,0,0,null,281,"1923-05-01",0,0,0,0,0,null,281,"1923-05-01",0,0,0,0,0,null,281,"1923-05-01",0,0,0,0,0,null,281,"1923-05-01",0,0,0,0,0,null,281,"1923-05-01",0,0,0,0,0,null,281,"1923-05-01",0,0,0,0,0]
[1923,282,"1923-06-01",0,0,0,0,0,0,null,282,"1923-06-01",0,0,0,0,0,null,282,"1923-06-01",0,0,0,0,0,null,282,"1923-06-01",0,0,0,0,0,null,282,"1923-06-01",0,0,0,0,0,null,282,"1923-06-01",0,0,0,0,0,null,282,"1923-06-01",0,0,0,0,0,null,282,"1923-06-01",0,0,0,0,0]
[1923,283,"1923-07-01",0,0,0,0,0,0,null,283,"1923-07-01",0,0,0,0,0,null,283,"1923-07-01",0,0,0,0,0,null,283,"1923-07-01",0,0,0,0,0,null,283,"1923-07-01",0,0,0,0,0,null,283,"1923-07-01",0,0,0,0,0,null,283,"1923-07-01",0,0,0,0,0,null,283,"1923-07-01",0,0,0,0,0]
[1923,284,"1923-08-01",0,0,0,0,0,0,null,284,"1923-08-01",0,0,0,0,0,null,284,"1923-08-01",0,0,0,0,0,null,284,"1923-08-01",0,0,0,0,0,null,284,"1923-08-01",0,0,0,0,0,null,284,"1923-08-01",0,0,0,0,0,null,284,"1923-08-01",0,0,0,0,0,null,284,"1923-08-01",0,0,0,0,0]
[1923,285,"1923-09-01",0,0,0,0,0,0,null,285,"1923-09-01",0,0,0,0,0,null,285,"1923-09-01",0,0,0,0,0,null,285,"1923-09-01",0,0,0,0,0,null,285,"1923-09-01",0,0,0,0,0,null,285,"1923-09-01",0,0,0,0,0,null,285,"1923-09-01",0,0,0,0,0,null,285,"1923-09-01",0,0,0,0,0]
[1923,286,"1923-10-01",0,0,0,0,0,0,null,286,"1923-10-01",0,0,0,0,0,null,286,"1923-10-01",0,0,0,0,0,null,286,"1923-10-01",0,0,0,0,0,null,286,"1923-10-01",0,0,0,0,0,null,286,"1923-10-01",0,0,0,0,0,null,286,"1923-10-01",0,0,0,0,0,null,286,"1923-10-01",0,0,0,0,0]
[1923,287,"1923-11-01",0,0,0,0,0,0,null,287,"1923-11-01",0,0,0,0,0,null,287,"1923-11-01",0,0,0,0,0,null,287,"1923-11-01",0,0,0,0,0,null,287,"1923-11-01",0,0,0,0,0,null,287,"1923-11-01",0,0,0,0,0,null,287,"1923-11-01",0,0,0,0,0,null,287,"1923-11-01",0,0,0,0,0]
[1923,288,"1923-12-01",0,0,0,0,0,0,null,288,"1923-12-01",0,0,0,0,0,null,288,"1923-12-01",0,0,0,0,0,null,288,"1923-12-01",0,0,0,0,0,null,288,"1923-12-01",0,0,0,0,0,null,288,"1923-12-01",0,0,0,0,0,null,288,"1923-12-01",0,0,0,0,0,null,288,"1923-12-01",0,0,0,0,0]
[1924,289,"1924-01-01",0,0,0,0,0,0,null,289,"1924-01-01",0,0,0,0,0,null,289,"1924-01-01",0,0,0,0,0,null,289,"1924-01-01",0,0,0,0,0,null,289,"1924-01-01",0,0,0,0,0,null,289,"1924-01-01",0,0,0,0,0,null,289,"1924-01-01",0,0,0,0,0,null,289,"1924-01-01",0,0,0,0,0]
[1924,290,"1924-02-01",0,0,0,0,0,0,null,290,"1924-02-01",0,0,0,0,0,null,290,"1924-02-01",0,0,0,0,0,null,290,"1924-02-01",0,0,0,0,0,null,290,"1924-02-01",0,0,0,0,0,null,290,"1924-02-01",0,0,0,0,0,null,290,"1924-02-01",0,0,0,0,0,null,290,"1924-02-01",0,0,0,0,0]
[1924,291,"1924-03-01",0,0,0,0,0,0,null,291,"1924-03-01",0,0,0,0,0,null,291,"1924-03-01",0,0,0,0,0,null,291,"1924-03-01",0,0,0,0,0,null,291,"1924-03-01",0,0,0,0,0,null,291,"1924-03-01",0,0,0,0,0,null,291,"1924-03-01",0,0,0,0,0,null,291,"1924-03-01",0,0,0,0,0]
[1924,292,"1924-04-01",0,0,0,0,0,0,null,292,"1924-04-01",0,0,0,0,0,null,292,"1924-04-01",0,0,0,0,0,null,292,"1924-04-01",0,0,0,0,0,null,292,"1924-04-01",0,0,0,0,0,null,292,"1924-04-01",0,0,0,0,0,null,292,"1924-04-01",0,0,0,0,0,null,292,"1924-04-01",0,0,0,0,0]
[1924,293,"1924-05-01",0,0,0,0,0,0,null,293,"1924-05-01",0,0,0,0,0,null,293,"1924-05-01",0,0,0,0,0,null,293,"1924-05-01",0,0,0,0,0,null,293,"1924-05-01",0,0,0,0,0,null,293,"1924-05-01",0,0,0,0,0,null,293,"1924-05-01",0,0,0,0,0,null,293,"1924-05-01",0,0,0,0,0]
[1924,294,"1924-06-01",0,0,0,0,0,0,null,294,"1924-06-01",0,0,0,0,0,null,294,"1924-06-01",0,0,0,0,0,null,294,"1924-06-01",0,0,0,0,0,null,294,"1924-06-01",0,0,0,0,0,null,294,"1924-06-01",0,0,0,0,0,null,294,"1924-06-01",0,0,0,0,0,null,294,"1924-06-01",0,0,0,0,0]
[1924,295,"1924-07-01",0,0,0,0,0,0,null,295,"1924-07-01",0,0,0,0,0,null,295,"1924-07-01",0,0,0,0,0,null,295,"1924-07-01",0,0,0,0,0,null,295,"1924-07-01",0,0,0,0,0,null,295,"1924-07-01",0,0,0,0,0,null,295,"1924-07-01",0,0,0,0,0,null,295,"1924-07-01",0,0,0,0,0]
[1924,296,"1924-08-01",0,0,0,0,0,0,null,296,"1924-08-01",0,0,0,0,0,null,296,"1924-08-01",0,0,0,0,0,null,296,"1924-08-01",0,0,0,0,0,null,296,"1924-08-01",0,0,0,0,0,null,296,"1924-08-01",0,0,0,0,0,null,296,"1924-08-01",0,0,0,0,0,null,296,"1924-08-01",0,0,0,0,0]
[1924,297,"1924-09-01",0,0,0,0,0,0,null,297,"1924-09-01",0,0,0,0,0,null,297,"1924-09-01",0,0,0,0,0,null,297,"1924-09-01",0,0,0,0,0,null,297,"1924-09-01",0,0,0,0,0,null,297,"1924-09-01",0,0,0,0,0,null,297,"1924-09-01",0,0,0,0,0,null,297,"1924-09-01",0,0,0,0,0]
[1924,298,"1924-10-01",0,0,0,0,0,0,null,298,"1924-10-01",0,0,0,0,0,null,298,"1924-10-01",0,0,0,0,0,null,298,"1924-10-01",0,0,0,0,0,null,298,"1924-10-01",0,0,0,0,0,null,298,"1924-10-01",0,0,0,0,0,null,298,"1924-10-01",0,0,0,0,0,null,298,"1924-10-01",0,0,0,0,0]
[1924,299,"1924-11-01",0,0,0,0,0,0,null,299,"1924-11-01",0,0,0,0,0,null,299,"1924-11-01",0,0,0,0,0,null,299,"1924-11-01",0,0,0,0,0,null,299,"1924-11-01",0,0,0,0,0,null,299,"1924-11-01",0,0,0,0,0,null,299,"1924-11-01",0,0,0,0,0,null,299,"1924-11-01",0,0,0,0,0]
[1924,300,"1924-12-01",0,0,0,0,0,0,null,300,"1924-12-01",0,0,0,0,0,null,300,"1924-12-01",0,0,0,0,0,null,300,"1924-12-01",0,0,0,0,0,null,300,"1924-12-01",0,0,0,0,0,null,300,"1924-12-01",0,0,0,0,0,null,300,"1924-12-01",0,0,0,0,0,null,300,"1924-12-01",0,0,0,0,0]
[1925,301,"1925-01-01",0,0,0,0,0,0,null,301,"1925-01-01",0,0,0,0,0,null,301,"1925-01-01",0,0,0,0,0,null,301,"1925-01-01",0,0,0,0,0,null,301,"1925-01-01",0,0,0,0,0,null,301,"1925-01-01",0,0,0,0,0,null,301,"1925-01-01",0,0,0,0,0,null,301,"1925-01-01",0,0,0,0,0]
[1925,302,"1925-02-01",0,0,0,0,0,0,null,302,"1925-02-01",0,0,0,0,0,null,302,"1925-02-01",0,0,0,0,0,null,302,"1925-02-01",0,0,0,0,0,null,302,"1925-02-01",0,0,0,0,0,null,302,"1925-02-01",0,0,0,0,0,null,302,"1925-02-01",0,0,0,0,0,null,302,"1925-02-01",0,0,0,0,0]
[1925,303,"1925-03-01",0,0,0,0,0,0,null,303,"1925-03-01",0,0,0,0,0,null,303,"1925-03-01",0,0,0,0,0,null,303,"1925-03-01",0,0,0,0,0,null,303,"1925-03-01",0,0,0,0,0,null,303,"1925-03-01",0,0,0,0,0,null,303,"1925-03-01",0,0,0,0,0,null,303,"1925-03-01",0,0,0,0,0]
[1925,304,"1925-04-01",0,0,0,0,0,0,null,304,"1925-04-01",0,0,0,0,0,null,304,"1925-04-01",0,0,0,0,0,null,304,"1925-04-01",0,0,0,0,0,null,304,"1925-04-01",0,0,0,0,0,null,304,"1925-04-01",0,0,0,0,0,null,304,"1925-04-01",0,0,0,0,0,null,304,"1925-04-01",0,0,0,0,0]
[1925,305,"1925-05-01",0,0,0,0,0,0,null,305,"1925-05-01",0,0,0,0,0,null,305,"1925-05-01",0,0,0,0,0,null,305,"1925-05-01",0,0,0,0,0,null,305,"1925-05-01",0,0,0,0,0,null,305,"1925-05-01",0,0,0,0,0,null,305,"1925-05-01",0,0,0,0,0,null,305,"1925-05-01",0,0,0,0,0]
[1925,306,"1925-06-01",0,0,0,0,0,0,null,306,"1925-06-01",0,0,0,0,0,null,306,"1925-06-01",0,0,0,0,0,null,306,"1925-06-01",0,0,0,0,0,null,306,"1925-06-01",0,0,0,0,0,null,306,"1925-06-01",0,0,0,0,0,null,306,"1925-06-01",0,0,0,0,0,null,306,"1925-06-01",0,0,0,0,0]
[1925,307,"1925-07-01",0,0,0,0,0,0,null,307,"1925-07-01",0,0,0,0,0,null,307,"1925-07-01",0,0,0,0,0,null,307,"1925-07-01",0,0,0,0,0,null,307,"1925-07-01",0,0,0,0,0,null,307,"1925-07-01",0,0,0,0,0,null,307,"1925-07-01",0,0,0,0,0,null,307,"1925-07-01",0,0,0,0,0]
[1925,308,"1925-08-01",0,0,0,0,0,0,null,308,"1925-08-01",0,0,0,0,0,null,308,"1925-08-01",0,0,0,0,0,null,308,"1925-08-01",0,0,0,0,0,null,308,"1925-08-01",0,0,0,0,0,null,308,"1925-08-01",0,0,0,0,0,null,308,"1925-08-01",0,0,0,0,0,null,308,"1925-08-01",0,0,0,0,0]
[1925,309,"1925-09-01",0,0,0,0,0,0,null,309,"1925-09-01",0,0,0,0,0,null,309,"1925-09-01",0,0,0,0,0,null,309,"1925-09-01",0,0,0,0,0,null,309,"1925-09-01",0,0,0,0,0,null,309,"1925-09-01",0,0,0,0,0,null,309,"1925-09-01",0,0,0,0,0,null,309,"1925-09-01",0,0,0,0,0]
[1925,310,"1925-10-01",0,0,0,0,0,0,null,310,"1925-10-01",0,0,0,0,0,null,310,"1925-10-01",0,0,0,0,0,null,310,"1925-10-01",0,0,0,0,0,null,310,"1925-10-01",0,0,0,0,0,null,310,"1925-10-01",0,0,0,0,0,null,310,"1925-10-01",0,0,0,0,0,null,310,"1925-10-01",0,0,0,0,0]
[1925,311,"1925-11-01",0,0,0,0,0,0,null,311,"1925-11-01",0,0,0,0,0,null,311,"1925-11-01",0,0,0,0,0,null,311,"1925-11-01",0,0,0,0,0,null,311,"1925-11-01",0,0,0,0,0,null,311,"1925-11-01",0,0,0,0,0,null,311,"1925-11-01",0,0,0,0,0,null,311,"1925-11-01",0,0,0,0,0]
[1925,312,"1925-12-01",0,0,0,0,0,0,null,312,"1925-12-01",0,0,0,0,0,null,312,"1925-12-01",0,0,0,0,0,null,312,"1925-12-01",0,0,0,0,0,null,312,"1925-12-01",0,0,0,0,0,null,312,"1925-12-01",0,0,0,0,0,null,312,"1925-12-01",0,0,0,0,0,null,312,"1925-12-01",0,0,0,0,0]
[1926,313,"1926-01-01",0,0,0,0,0,0,null,313,"1926-01-01",0,0,0,0,0,null,313,"1926-01-01",0,0,0,0,0,null,313,"1926-01-01",0,0,0,0,0,null,313,"1926-01-01",0,0,0,0,0,null,313,"1926-01-01",0,0,0,0,0,null,313,"1926-01-01",0,0,0,0,0,null,313,"1926-01-01",0,0,0,0,0]
[1926,314,"1926-02-01",0,0,0,0,0,0,null,314,"1926-02-01",0,0,0,0,0,null,314,"1926-02-01",0,0,0,0,0,null,314,"1926-02-01",0,0,0,0,0,null,314,"1926-02-01",0,0,0,0,0,null,314,"1926-02-01",0,0,0,0,0,null,314,"1926-02-01",0,0,0,0,0,null,314,"1926-02-01",0,0,0,0,0]
[1926,315,"1926-03-01",0,0,0,0,0,0,null,315,"1926-03-01",0,0,0,0,0,null,315,"1926-03-01",0,0,0,0,0,null,315,"1926-03-01",0,0,0,0,0,null,315,"1926-03-01",0,0,0,0,0,null,315,"1926-03-01",0,0,0,0,0,null,315,"1926-03-01",0,0,0,0,0,null,315,"1926-03-01",0,0,0,0,0]
[1926,316,"1926-04-01",0,0,0,0,0,0,null,316,"1926-04-01",0,0,0,0,0,null,316,"1926-04-01",0,0,0,0,0,null,316,"1926-04-01",0,0,0,0,0,null,316,"1926-04-01",0,0,0,0,0,null,316,"1926-04-01",0,0,0,0,0,null,316,"1926-04-01",0,0,0,0,0,null,316,"1926-04-01",0,0,0,0,0]
[1926,317,"1926-05-01",0,0,0,0,0,0,null,317,"1926-05-01",0,0,0,0,0,null,317,"1926-05-01",0,0,0,0,0,null,317,"1926-05-01",0,0,0,0,0,null,317,"1926-05-01",0,0,0,0,0,null,317,"1926-05-01",0,0,0,0,0,null,317,"1926-05-01",0,0,0,0,0,null,317,"1926-05-01",0,0,0,0,0]
[1926,318,"1926-06-01",0,0,0,0,0,0,null,318,"1926-06-01",0,0,0,0,0,null,318,"1926-06-01",0,0,0,0,0,null,318,"1926-06-01",0,0,0,0,0,null,318,"1926-06-01",0,0,0,0,0,null,318,"1926-06-01",0,0,0,0,0,null,318,"1926-06-01",0,0,0,0,0,null,318,"1926-06-01",0,0,0,0,0]
[1926,319,"1926-07-01",0,0,0,0,0,0,null,319,"1926-07-01",0,0,0,0,0,null,319,"1926-07-01",0,0,0,0,0,null,319,"1926-07-01",0,0,0,0,0,null,319,"1926-07-01",0,0,0,0,0,null,319,"1926-07-01",0,0,0,0,0,null,319,"1926-07-01",0,0,0,0,0,null,319,"1926-07-01",0,0,0,0,0]
[1926,320,"1926-08-01",0,0,0,0,0,0,null,320,"1926-08-01",0,0,0,0,0,null,320,"1926-08-01",0,0,0,0,0,null,320,"1926-08-01",0,0,0,0,0,null,320,"1926-08-01",0,0,0,0,0,null,320,"1926-08-01",0,0,0,0,0,null,320,"1926-08-01",0,0,0,0,0,null,320,"1926-08-01",0,0,0,0,0]
[1926,321,"1926-09-01",0,0,{"$f":"D333*$E$7/12","v":0},0,0,{"$f":"D333*rng01_MortgageInsurangePremium/12","v":0},null,321,"1926-09-01",0,0,0,0,0,null,321,"1926-09-01",0,0,0,0,0,null,321,"1926-09-01",0,0,0,0,0,null,321,"1926-09-01",0,0,0,0,0,null,321,"1926-09-01",0,0,0,0,0,null,321,"1926-09-01",0,0,0,0,0,null,321,"1926-09-01",0,0,0,0,0]
[{"$f":"YEAR(C334)","v":1926},322,"1926-10-01",0,0,0,0,0,0,null,322,"1926-10-01",0,0,{"$f":"M334*$N$7/12","v":0},0,0,null,322,"1926-10-01",0,0,{"$f":"U334*V$7/12","v":0},0,0,null,322,"1926-10-01",0,0,{"$f":"AC334*AD$7/12","v":0},0,0,null,322,"1926-10-01",0,0,{"$f":"AK334*AL$7/12","v":0},0,0,null,322,"1926-10-01",0,0,{"$f":"AS334*AT$7/12","v":0},0,0,null,322,"1926-10-01",0,0,{"$f":"BA334*BB$7/12","v":0},0,0,null,322,"1926-10-01",0,0,{"$f":"BI334*BJ$7/12","v":0},0,0]
[1926,323,"1926-11-01",0,{"$f":"IF(ROUND(D335,0)>0,E334,0)","v":0},0,0,0,0,null,323,"1926-11-01",0,{"$f":"IF(ROUND(M335,0)>0,N334,0)","v":0},0,0,0,null,323,"1926-11-01",0,{"$f":"IF(ROUND(U335,0)>0,V334,0)","v":0},0,0,0,null,323,"1926-11-01",0,{"$f":"IF(ROUND(AC335,0)>0,AD334,0)","v":0},0,0,0,null,323,"1926-11-01",0,{"$f":"IF(ROUND(AK335,0)>0,AL334,0)","v":0},0,0,0,null,323,"1926-11-01",0,{"$f":"IF(ROUND(AS335,0)>0,AT334,0)","v":0},0,0,0,null,323,"1926-11-01",0,{"$f":"IF(ROUND(BA335,0)>0,BB334,0)","v":0},0,0,0,null,323,"1926-11-01",0,{"$f":"IF(ROUND(BI335,0)>0,BJ334,0)","v":0},0,0,0]
[1926,324,{"$f":"DATE(IF(MONTH(C335)=12,YEAR(C335)+1,YEAR(C335)),IF(MONTH(C335)=12,1,MONTH(C335)+1),1)","v":"1926-12-01"},{"$f":"H335","v":0},0,0,{"$f":"E336-F336","v":0},{"$f":"D336-G336","v":0},0,null,324,{"$f":"DATE(IF(MONTH(L335)=12,YEAR(L335)+1,YEAR(L335)),IF(MONTH(L335)=12,1,MONTH(L335)+1),1)","v":"1926-12-01"},{"$f":"Q335","v":0},0,0,{"$f":"N336-O336","v":0},{"$f":"M336-P336","v":0},null,324,{"$f":"DATE(IF(MONTH(T335)=12,YEAR(T335)+1,YEAR(T335)),IF(MONTH(T335)=12,1,MONTH(T335)+1),1)","v":"1926-12-01"},{"$f":"Y335","v":0},0,0,{"$f":"V336-W336","v":0},{"$f":"U336-X336","v":0},null,324,{"$f":"DATE(IF(MONTH(AB335)=12,YEAR(AB335)+1,YEAR(AB335)),IF(MONTH(AB335)=12,1,MONTH(AB335)+1),1)","v":"1926-12-01"},{"$f":"AG335","v":0},0,0,{"$f":"AD336-AE336","v":0},{"$f":"AC336-AF336","v":0},null,324,{"$f":"DATE(IF(MONTH(AJ335)=12,YEAR(AJ335)+1,YEAR(AJ335)),IF(MONTH(AJ335)=12,1,MONTH(AJ335)+1),1)","v":"1926-12-01"},{"$f":"AO335","v":0},0,0,{"$f":"AL336-AM336","v":0},{"$f":"AK336-AN336","v":0},null,324,{"$f":"DATE(IF(MONTH(AR335)=12,YEAR(AR335)+1,YEAR(AR335)),IF(MONTH(AR335)=12,1,MONTH(AR335)+1),1)","v":"1926-12-01"},{"$f":"AW335","v":0},0,0,{"$f":"AT336-AU336","v":0},{"$f":"AS336-AV336","v":0},null,324,{"$f":"DATE(IF(MONTH(AZ335)=12,YEAR(AZ335)+1,YEAR(AZ335)),IF(MONTH(AZ335)=12,1,MONTH(AZ335)+1),1)","v":"1926-12-01"},{"$f":"BE335","v":0},0,0,{"$f":"BB336-BC336","v":0},{"$f":"BA336-BD336","v":0},null,324,{"$f":"DATE(IF(MONTH(BH335)=12,YEAR(BH335)+1,YEAR(BH335)),IF(MONTH(BH335)=12,1,MONTH(BH335)+1),1)","v":"1926-12-01"},{"$f":"BM335","v":0},0,0,{"$f":"BJ336-BK336","v":0},{"$f":"BI336-BL336","v":0}]
[1927,325,"1927-01-01",0,0,0,0,0,0,null,325,"1927-01-01",0,0,0,0,0,null,325,"1927-01-01",0,0,0,0,0,null,325,"1927-01-01",0,0,0,0,0,null,325,"1927-01-01",0,0,0,0,0,null,325,"1927-01-01",0,0,0,0,0,null,325,"1927-01-01",0,0,0,0,0,null,325,"1927-01-01",0,0,0,0,0]
[1927,326,"1927-02-01",0,0,0,0,0,0,null,326,"1927-02-01",0,0,0,0,0,null,326,"1927-02-01",0,0,0,0,0,null,326,"1927-02-01",0,0,0,0,0,null,326,"1927-02-01",0,0,0,0,0,null,326,"1927-02-01",0,0,0,0,0,null,326,"1927-02-01",0,0,0,0,0,null,326,"1927-02-01",0,0,0,0,0]
[1927,327,"1927-03-01",0,0,0,0,0,0,null,327,"1927-03-01",0,0,0,0,0,null,327,"1927-03-01",0,0,0,0,0,null,327,"1927-03-01",0,0,0,0,0,null,327,"1927-03-01",0,0,0,0,0,null,327,"1927-03-01",0,0,0,0,0,null,327,"1927-03-01",0,0,0,0,0,null,327,"1927-03-01",0,0,0,0,0]
[1927,328,"1927-04-01",0,0,0,0,0,0,null,328,"1927-04-01",0,0,0,0,0,null,328,"1927-04-01",0,0,0,0,0,null,328,"1927-04-01",0,0,0,0,0,null,328,"1927-04-01",0,0,0,0,0,null,328,"1927-04-01",0,0,0,0,0,null,328,"1927-04-01",0,0,0,0,0,null,328,"1927-04-01",0,0,0,0,0]
[1927,329,"1927-05-01",0,0,0,0,0,0,null,329,"1927-05-01",0,0,0,0,0,null,329,"1927-05-01",0,0,0,0,0,null,329,"1927-05-01",0,0,0,0,0,null,329,"1927-05-01",0,0,0,0,0,null,329,"1927-05-01",0,0,0,0,0,null,329,"1927-05-01",0,0,0,0,0,null,329,"1927-05-01",0,0,0,0,0]
[1927,330,"1927-06-01",0,0,0,0,0,0,null,330,"1927-06-01",0,0,0,0,0,null,330,"1927-06-01",0,0,0,0,0,null,330,"1927-06-01",0,0,0,0,0,null,330,"1927-06-01",0,0,0,0,0,null,330,"1927-06-01",0,0,0,0,0,null,330,"1927-06-01",0,0,0,0,0,null,330,"1927-06-01",0,0,0,0,0]
[1927,331,"1927-07-01",0,0,0,0,0,0,null,331,"1927-07-01",0,0,0,0,0,null,331,"1927-07-01",0,0,0,0,0,null,331,"1927-07-01",0,0,0,0,0,null,331,"1927-07-01",0,0,0,0,0,null,331,"1927-07-01",0,0,0,0,0,null,331,"1927-07-01",0,0,0,0,0,null,331,"1927-07-01",0,0,0,0,0]
[1927,332,"1927-08-01",0,0,0,0,0,0,null,332,"1927-08-01",0,0,0,0,0,null,332,"1927-08-01",0,0,0,0,0,null,332,"1927-08-01",0,0,0,0,0,null,332,"1927-08-01",0,0,0,0,0,null,332,"1927-08-01",0,0,0,0,0,null,332,"1927-08-01",0,0,0,0,0,null,332,"1927-08-01",0,0,0,0,0]
[1927,333,"1927-09-01",0,0,0,0,0,0,null,333,"1927-09-01",0,0,0,0,0,null,333,"1927-09-01",0,0,0,0,0,null,333,"1927-09-01",0,0,0,0,0,null,333,"1927-09-01",0,0,0,0,0,null,333,"1927-09-01",0,0,0,0,0,null,333,"1927-09-01",0,0,0,0,0,null,333,"1927-09-01",0,0,0,0,0]
[1927,334,"1927-10-01",0,0,0,0,0,0,null,334,"1927-10-01",0,0,0,0,0,null,334,"1927-10-01",0,0,0,0,0,null,334,"1927-10-01",0,0,0,0,0,null,334,"1927-10-01",0,0,0,0,0,null,334,"1927-10-01",0,0,0,0,0,null,334,"1927-10-01",0,0,0,0,0,null,334,"1927-10-01",0,0,0,0,0]
[1927,335,"1927-11-01",0,0,0,0,0,0,null,335,"1927-11-01",0,0,0,0,0,null,335,"1927-11-01",0,0,0,0,0,null,335,"1927-11-01",0,0,0,0,0,null,335,"1927-11-01",0,0,0,0,0,null,335,"1927-11-01",0,0,0,0,0,null,335,"1927-11-01",0,0,0,0,0,null,335,"1927-11-01",0,0,0,0,0]
[1927,336,"1927-12-01",0,0,0,0,0,0,null,336,"1927-12-01",0,0,0,0,0,null,336,"1927-12-01",0,0,0,0,0,null,336,"1927-12-01",0,0,0,0,0,null,336,"1927-12-01",0,0,0,0,0,null,336,"1927-12-01",0,0,0,0,0,null,336,"1927-12-01",0,0,0,0,0,null,336,"1927-12-01",0,0,0,0,0]
[1928,337,"1928-01-01",0,0,0,0,0,0,null,337,"1928-01-01",0,0,0,0,0,null,337,"1928-01-01",0,0,0,0,0,null,337,"1928-01-01",0,0,0,0,0,null,337,"1928-01-01",0,0,0,0,0,null,337,"1928-01-01",0,0,0,0,0,null,337,"1928-01-01",0,0,0,0,0,null,337,"1928-01-01",0,0,0,0,0]
[1928,338,"1928-02-01",0,0,0,0,0,0,null,338,"1928-02-01",0,0,0,0,0,null,338,"1928-02-01",0,0,0,0,0,null,338,"1928-02-01",0,0,0,0,0,null,338,"1928-02-01",0,0,0,0,0,null,338,"1928-02-01",0,0,0,0,0,null,338,"1928-02-01",0,0,0,0,0,null,338,"1928-02-01",0,0,0,0,0]
[1928,339,"1928-03-01",0,0,0,0,0,0,null,339,"1928-03-01",0,0,0,0,0,null,339,"1928-03-01",0,0,0,0,0,null,339,"1928-03-01",0,0,0,0,0,null,339,"1928-03-01",0,0,0,0,0,null,339,"1928-03-01",0,0,0,0,0,null,339,"1928-03-01",0,0,0,0,0,null,339,"1928-03-01",0,0,0,0,0]
[1928,340,"1928-04-01",0,0,0,0,0,0,null,340,"1928-04-01",0,0,0,0,0,null,340,"1928-04-01",0,0,0,0,0,null,340,"1928-04-01",0,0,0,0,0,null,340,"1928-04-01",0,0,0,0,0,null,340,"1928-04-01",0,0,0,0,0,null,340,"1928-04-01",0,0,0,0,0,null,340,"1928-04-01",0,0,0,0,0]
[1928,341,"1928-05-01",0,0,0,0,0,0,null,341,"1928-05-01",0,0,0,0,0,null,341,"1928-05-01",0,0,0,0,0,null,341,"1928-05-01",0,0,0,0,0,null,341,"1928-05-01",0,0,0,0,0,null,341,"1928-05-01",0,0,0,0,0,null,341,"1928-05-01",0,0,0,0,0,null,341,"1928-05-01",0,0,0,0,0]
[1928,342,"1928-06-01",0,0,0,0,0,0,null,342,"1928-06-01",0,0,0,0,0,null,342,"1928-06-01",0,0,0,0,0,null,342,"1928-06-01",0,0,0,0,0,null,342,"1928-06-01",0,0,0,0,0,null,342,"1928-06-01",0,0,0,0,0,null,342,"1928-06-01",0,0,0,0,0,null,342,"1928-06-01",0,0,0,0,0]
[1928,343,"1928-07-01",0,0,0,0,0,0,null,343,"1928-07-01",0,0,0,0,0,null,343,"1928-07-01",0,0,0,0,0,null,343,"1928-07-01",0,0,0,0,0,null,343,"1928-07-01",0,0,0,0,0,null,343,"1928-07-01",0,0,0,0,0,null,343,"1928-07-01",0,0,0,0,0,null,343,"1928-07-01",0,0,0,0,0]
[1928,344,"1928-08-01",0,0,0,0,0,0,null,344,"1928-08-01",0,0,0,0,0,null,344,"1928-08-01",0,0,0,0,0,null,344,"1928-08-01",0,0,0,0,0,null,344,"1928-08-01",0,0,0,0,0,null,344,"1928-08-01",0,0,0,0,0,null,344,"1928-08-01",0,0,0,0,0,null,344,"1928-08-01",0,0,0,0,0]
[1928,345,"1928-09-01",0,0,0,0,0,0,null,345,"1928-09-01",0,0,0,0,0,null,345,"1928-09-01",0,0,0,0,0,null,345,"1928-09-01",0,0,0,0,0,null,345,"1928-09-01",0,0,0,0,0,null,345,"1928-09-01",0,0,0,0,0,null,345,"1928-09-01",0,0,0,0,0,null,345,"1928-09-01",0,0,0,0,0]
[1928,346,"1928-10-01",0,0,0,0,0,0,null,346,"1928-10-01",0,0,0,0,0,null,346,"1928-10-01",0,0,0,0,0,null,346,"1928-10-01",0,0,0,0,0,null,346,"1928-10-01",0,0,0,0,0,null,346,"1928-10-01",0,0,0,0,0,null,346,"1928-10-01",0,0,0,0,0,null,346,"1928-10-01",0,0,0,0,0]
[1928,347,"1928-11-01",0,0,0,0,0,0,null,347,"1928-11-01",0,0,0,0,0,null,347,"1928-11-01",0,0,0,0,0,null,347,"1928-11-01",0,0,0,0,0,null,347,"1928-11-01",0,0,0,0,0,null,347,"1928-11-01",0,0,0,0,0,null,347,"1928-11-01",0,0,0,0,0,null,347,"1928-11-01",0,0,0,0,0]
[1928,348,"1928-12-01",0,0,0,0,0,0,null,348,"1928-12-01",0,0,0,0,0,null,348,"1928-12-01",0,0,0,0,0,null,348,"1928-12-01",0,0,0,0,0,null,348,"1928-12-01",0,0,0,0,0,null,348,"1928-12-01",0,0,0,0,0,null,348,"1928-12-01",0,0,0,0,0,null,348,"1928-12-01",0,0,0,0,0]
[1929,349,"1929-01-01",0,0,0,0,0,0,null,349,"1929-01-01",0,0,0,0,0,null,349,"1929-01-01",0,0,0,0,0,null,349,"1929-01-01",0,0,0,0,0,null,349,"1929-01-01",0,0,0,0,0,null,349,"1929-01-01",0,0,0,0,0,null,349,"1929-01-01",0,0,0,0,0,null,349,"1929-01-01",0,0,0,0,0]
[1929,350,"1929-02-01",0,0,0,0,0,0,null,350,"1929-02-01",0,0,0,0,0,null,350,"1929-02-01",0,0,0,0,0,null,350,"1929-02-01",0,0,0,0,0,null,350,"1929-02-01",0,0,0,0,0,null,350,"1929-02-01",0,0,0,0,0,null,350,"1929-02-01",0,0,0,0,0,null,350,"1929-02-01",0,0,0,0,0]
[1929,351,"1929-03-01",0,0,0,0,0,0,null,351,"1929-03-01",0,0,0,0,0,null,351,"1929-03-01",0,0,0,0,0,null,351,"1929-03-01",0,0,0,0,0,null,351,"1929-03-01",0,0,0,0,0,null,351,"1929-03-01",0,0,0,0,0,null,351,"1929-03-01",0,0,0,0,0,null,351,"1929-03-01",0,0,0,0,0]
[1929,352,"1929-04-01",0,0,0,0,0,0,null,352,"1929-04-01",0,0,0,0,0,null,352,"1929-04-01",0,0,0,0,0,null,352,"1929-04-01",0,0,0,0,0,null,352,"1929-04-01",0,0,0,0,0,null,352,"1929-04-01",0,0,0,0,0,null,352,"1929-04-01",0,0,0,0,0,null,352,"1929-04-01",0,0,0,0,0]
[1929,353,"1929-05-01",0,0,0,0,0,0,null,353,"1929-05-01",0,0,0,0,0,null,353,"1929-05-01",0,0,0,0,0,null,353,"1929-05-01",0,0,0,0,0,null,353,"1929-05-01",0,0,0,0,0,null,353,"1929-05-01",0,0,0,0,0,null,353,"1929-05-01",0,0,0,0,0,null,353,"1929-05-01",0,0,0,0,0]
[1929,354,"1929-06-01",0,0,0,0,0,0,null,354,"1929-06-01",0,0,0,0,0,null,354,"1929-06-01",0,0,0,0,0,null,354,"1929-06-01",0,0,0,0,0,null,354,"1929-06-01",0,0,0,0,0,null,354,"1929-06-01",0,0,0,0,0,null,354,"1929-06-01",0,0,0,0,0,null,354,"1929-06-01",0,0,0,0,0]
[1929,355,"1929-07-01",0,0,0,0,0,0,null,355,"1929-07-01",0,0,0,0,0,null,355,"1929-07-01",0,0,0,0,0,null,355,"1929-07-01",0,0,0,0,0,null,355,"1929-07-01",0,0,0,0,0,null,355,"1929-07-01",0,0,0,0,0,null,355,"1929-07-01",0,0,0,0,0,null,355,"1929-07-01",0,0,0,0,0]
[1929,356,"1929-08-01",0,0,0,0,0,0,null,356,"1929-08-01",0,0,0,0,0,null,356,"1929-08-01",0,0,0,0,0,null,356,"1929-08-01",0,0,0,0,0,null,356,"1929-08-01",0,0,0,0,0,null,356,"1929-08-01",0,0,0,0,0,null,356,"1929-08-01",0,0,0,0,0,null,356,"1929-08-01",0,0,0,0,0]
[1929,357,"1929-09-01",0,0,0,0,0,0,null,357,"1929-09-01",0,0,0,0,0,null,357,"1929-09-01",0,0,0,0,0,null,357,"1929-09-01",0,0,0,0,0,null,357,"1929-09-01",0,0,0,0,0,null,357,"1929-09-01",0,0,0,0,0,null,357,"1929-09-01",0,0,0,0,0,null,357,"1929-09-01",0,0,0,0,0]
[1929,358,"1929-10-01",0,0,0,0,0,0,null,358,"1929-10-01",0,0,0,0,0,null,358,"1929-10-01",0,0,0,0,0,null,358,"1929-10-01",0,0,0,0,0,null,358,"1929-10-01",0,0,0,0,0,null,358,"1929-10-01",0,0,0,0,0,null,358,"1929-10-01",0,0,0,0,0,null,358,"1929-10-01",0,0,0,0,0]
[1929,359,"1929-11-01",0,0,0,0,0,0,null,359,"1929-11-01",0,0,0,0,0,null,359,"1929-11-01",0,0,0,0,0,null,359,"1929-11-01",0,0,0,0,0,null,359,"1929-11-01",0,0,0,0,0,null,359,"1929-11-01",0,0,0,0,0,null,359,"1929-11-01",0,0,0,0,0,null,359,"1929-11-01",0,0,0,0,0]
[1929,360,"1929-12-01",0,0,0,0,0,0,null,360,"1929-12-01",0,0,0,0,0,null,360,"1929-12-01",0,0,0,0,0,null,360,"1929-12-01",0,0,0,0,0,null,360,"1929-12-01",0,0,0,0,0,null,360,"1929-12-01",0,0,0,0,0,null,360,"1929-12-01",0,0,0,0,0,null,360,"1929-12-01",0,0,0,0,0]
[1930,361,"1930-01-01",{"$f":"H372","v":0},{"$f":"IF(ROUND(D373,0)>0,E372,0)","v":0},{"$f":"D373*$E$7/12","v":0},{"$f":"E373-F373","v":0},{"$f":"D373-G373","v":0},0,null,361,"1930-01-01",0,0,0,0,0,null,361,"1930-01-01",0,0,0,0,0,null,361,"1930-01-01",0,0,0,0,0,null,361,"1930-01-01",0,0,0,0,0,null,361,"1930-01-01",0,0,0,0,0,null,361,"1930-01-01",0,0,0,0,0,null,361,"1930-01-01",0,0,0,0,0]
[1930,362,"1930-02-01",0,0,0,0,0,0,null,362,"1930-02-01",0,0,0,0,0,null,362,"1930-02-01",0,0,0,0,0,null,362,"1930-02-01",0,0,0,0,0,null,362,"1930-02-01",0,0,0,0,0,null,362,"1930-02-01",0,0,0,0,0,null,362,"1930-02-01",0,0,0,0,0,null,362,"1930-02-01",0,0,0,0,0]
[1930,363,"1930-03-01",0,0,0,0,0,0,null,363,"1930-03-01",0,0,0,0,0,null,363,"1930-03-01",0,0,0,0,0,null,363,"1930-03-01",0,0,0,0,0,null,363,"1930-03-01",0,0,0,0,0,null,363,"1930-03-01",0,0,0,0,0,null,363,"1930-03-01",0,0,0,0,0,null,363,"1930-03-01",0,0,0,0,0]
[1930,364,"1930-04-01",0,0,0,0,0,0,null,364,"1930-04-01",0,0,0,0,0,null,364,"1930-04-01",0,0,0,0,0,null,364,"1930-04-01",0,0,0,0,0,null,364,"1930-04-01",0,0,0,0,0,null,364,"1930-04-01",0,0,0,0,0,null,364,"1930-04-01",0,0,0,0,0,null,364,"1930-04-01",0,0,0,0,0]
[1930,365,"1930-05-01",0,0,0,0,0,0,null,365,"1930-05-01",0,0,0,0,0,null,365,"1930-05-01",0,0,0,0,0,null,365,"1930-05-01",0,0,0,0,0,null,365,"1930-05-01",0,0,0,0,0,null,365,"1930-05-01",0,0,0,0,0,null,365,"1930-05-01",0,0,0,0,0,null,365,"1930-05-01",0,0,0,0,0]
[1930,366,"1930-06-01",0,0,0,0,0,0,null,366,"1930-06-01",0,0,0,0,0,null,366,"1930-06-01",0,0,0,0,0,null,366,"1930-06-01",0,0,0,0,0,null,366,"1930-06-01",0,0,0,0,0,null,366,"1930-06-01",0,0,0,0,0,null,366,"1930-06-01",0,0,0,0,0,null,366,"1930-06-01",0,0,0,0,0]
[1930,367,"1930-07-01",0,0,0,0,0,0,null,367,"1930-07-01",0,0,0,0,0,null,367,"1930-07-01",0,0,0,0,0,null,367,"1930-07-01",0,0,0,0,0,null,367,"1930-07-01",0,0,0,0,0,null,367,"1930-07-01",0,0,0,0,0,null,367,"1930-07-01",0,0,0,0,0,null,367,"1930-07-01",0,0,0,0,0]
[1930,368,"1930-08-01",0,0,0,0,0,0,null,368,"1930-08-01",0,0,0,0,0,null,368,"1930-08-01",0,0,0,0,0,null,368,"1930-08-01",0,0,0,0,0,null,368,"1930-08-01",0,0,0,0,0,null,368,"1930-08-01",0,0,0,0,0,null,368,"1930-08-01",0,0,0,0,0,null,368,"1930-08-01",0,0,0,0,0]
[1930,369,"1930-09-01",0,0,0,0,0,0,null,369,"1930-09-01",0,0,0,0,0,null,369,"1930-09-01",0,0,0,0,0,null,369,"1930-09-01",0,0,0,0,0,null,369,"1930-09-01",0,0,0,0,0,null,369,"1930-09-01",0,0,0,0,0,null,369,"1930-09-01",0,0,0,0,0,null,369,"1930-09-01",0,0,0,0,0]
[1930,370,"1930-10-01",0,0,0,0,0,0,null,370,"1930-10-01",0,0,0,0,0,null,370,"1930-10-01",0,0,0,0,0,null,370,"1930-10-01",0,0,0,0,0,null,370,"1930-10-01",0,0,0,0,0,null,370,"1930-10-01",0,0,0,0,0,null,370,"1930-10-01",0,0,0,0,0,null,370,"1930-10-01",0,0,0,0,0]
[1930,371,"1930-11-01",0,0,0,0,0,0,null,371,"1930-11-01",0,0,0,0,0,null,371,"1930-11-01",0,0,0,0,0,null,371,"1930-11-01",0,0,0,0,0,null,371,"1930-11-01",0,0,0,0,0,null,371,"1930-11-01",0,0,0,0,0,null,371,"1930-11-01",0,0,0,0,0,null,371,"1930-11-01",0,0,0,0,0]
[1930,372,"1930-12-01",0,0,0,0,0,0,null,372,"1930-12-01",0,0,0,0,0,null,372,"1930-12-01",0,0,0,0,0,null,372,"1930-12-01",0,0,0,0,0,null,372,"1930-12-01",0,0,0,0,0,null,372,"1930-12-01",0,0,0,0,0,null,372,"1930-12-01",0,0,0,0,0,null,372,"1930-12-01",0,0,0,0,0]
[1931,373,"1931-01-01",0,0,0,0,0,0,null,373,"1931-01-01",0,0,0,0,0,null,373,"1931-01-01",0,0,0,0,0,null,373,"1931-01-01",0,0,0,0,0,null,373,"1931-01-01",0,0,0,0,0,null,373,"1931-01-01",0,0,0,0,0,null,373,"1931-01-01",0,0,0,0,0,null,373,"1931-01-01",0,0,0,0,0]
[1931,374,"1931-02-01",0,0,0,0,0,0,null,374,"1931-02-01",0,0,0,0,0,null,374,"1931-02-01",0,0,0,0,0,null,374,"1931-02-01",0,0,0,0,0,null,374,"1931-02-01",0,0,0,0,0,null,374,"1931-02-01",0,0,0,0,0,null,374,"1931-02-01",0,0,0,0,0,null,374,"1931-02-01",0,0,0,0,0]
[1931,375,"1931-03-01",0,0,0,0,0,0,null,375,"1931-03-01",0,0,0,0,0,null,375,"1931-03-01",0,0,0,0,0,null,375,"1931-03-01",0,0,0,0,0,null,375,"1931-03-01",0,0,0,0,0,null,375,"1931-03-01",0,0,0,0,0,null,375,"1931-03-01",0,0,0,0,0,null,375,"1931-03-01",0,0,0,0,0]
[1931,376,"1931-04-01",0,0,0,0,0,0,null,376,"1931-04-01",0,0,0,0,0,null,376,"1931-04-01",0,0,0,0,0,null,376,"1931-04-01",0,0,0,0,0,null,376,"1931-04-01",0,0,0,0,0,null,376,"1931-04-01",0,0,0,0,0,null,376,"1931-04-01",0,0,0,0,0,null,376,"1931-04-01",0,0,0,0,0]
[1931,377,"1931-05-01",0,0,0,0,0,0,null,377,"1931-05-01",0,0,0,0,0,null,377,"1931-05-01",0,0,0,0,0,null,377,"1931-05-01",0,0,0,0,0,null,377,"1931-05-01",0,0,0,0,0,null,377,"1931-05-01",0,0,0,0,0,null,377,"1931-05-01",0,0,0,0,0,null,377,"1931-05-01",0,0,0,0,0]
[1931,378,"1931-06-01",0,0,0,0,0,0,null,378,"1931-06-01",0,0,0,0,0,null,378,"1931-06-01",0,0,0,0,0,null,378,"1931-06-01",0,0,0,0,0,null,378,"1931-06-01",0,0,0,0,0,null,378,"1931-06-01",0,0,0,0,0,null,378,"1931-06-01",0,0,0,0,0,null,378,"1931-06-01",0,0,0,0,0]
[1931,379,"1931-07-01",0,0,0,0,0,0,null,379,"1931-07-01",0,0,0,0,0,null,379,"1931-07-01",0,0,0,0,0,null,379,"1931-07-01",0,0,0,0,0,null,379,"1931-07-01",0,0,0,0,0,null,379,"1931-07-01",0,0,0,0,0,null,379,"1931-07-01",0,0,0,0,0,null,379,"1931-07-01",0,0,0,0,0]
[1931,380,"1931-08-01",0,0,0,0,0,0,null,380,"1931-08-01",0,0,0,0,0,null,380,"1931-08-01",0,0,0,0,0,null,380,"1931-08-01",0,0,0,0,0,null,380,"1931-08-01",0,0,0,0,0,null,380,"1931-08-01",0,0,0,0,0,null,380,"1931-08-01",0,0,0,0,0,null,380,"1931-08-01",0,0,0,0,0]
[1931,381,"1931-09-01",0,0,0,0,0,0,null,381,"1931-09-01",0,0,0,0,0,null,381,"1931-09-01",0,0,0,0,0,null,381,"1931-09-01",0,0,0,0,0,null,381,"1931-09-01",0,0,0,0,0,null,381,"1931-09-01",0,0,0,0,0,null,381,"1931-09-01",0,0,0,0,0,null,381,"1931-09-01",0,0,0,0,0]
[1931,382,"1931-10-01",0,0,0,0,0,0,null,382,"1931-10-01",0,0,0,0,0,null,382,"1931-10-01",0,0,0,0,0,null,382,"1931-10-01",0,0,0,0,0,null,382,"1931-10-01",0,0,0,0,0,null,382,"1931-10-01",0,0,0,0,0,null,382,"1931-10-01",0,0,0,0,0,null,382,"1931-10-01",0,0,0,0,0]
[1931,383,"1931-11-01",0,0,0,0,0,0,null,383,"1931-11-01",0,0,0,0,0,null,383,"1931-11-01",0,0,0,0,0,null,383,"1931-11-01",0,0,0,0,0,null,383,"1931-11-01",0,0,0,0,0,null,383,"1931-11-01",0,0,0,0,0,null,383,"1931-11-01",0,0,0,0,0,null,383,"1931-11-01",0,0,0,0,0]
[1931,384,"1931-12-01",0,0,0,0,0,0,null,384,"1931-12-01",0,0,0,0,0,null,384,"1931-12-01",0,0,0,0,0,null,384,"1931-12-01",0,0,0,0,0,null,384,"1931-12-01",0,0,0,0,0,null,384,"1931-12-01",0,0,0,0,0,null,384,"1931-12-01",0,0,0,0,0,null,384,"1931-12-01",0,0,0,0,0]
[1932,385,"1932-01-01",0,0,0,0,0,{"$f":"D397*rng01_MortgageInsurangePremium/12","v":0},null,385,"1932-01-01",0,0,0,0,0,null,385,"1932-01-01",0,0,0,0,0,null,385,"1932-01-01",0,0,0,0,0,null,385,"1932-01-01",0,0,0,0,0,null,385,"1932-01-01",0,0,0,0,0,null,385,"1932-01-01",0,0,0,0,0,null,385,"1932-01-01",0,0,0,0,0]
[{"$f":"YEAR(C398)","v":1932},386,"1932-02-01",0,0,0,0,0,0,null,386,"1932-02-01",0,0,{"$f":"M398*$N$7/12","v":0},0,0,null,386,"1932-02-01",0,0,{"$f":"U398*V$7/12","v":0},0,0,null,386,"1932-02-01",0,0,{"$f":"AC398*AD$7/12","v":0},0,0,null,386,"1932-02-01",0,0,{"$f":"AK398*AL$7/12","v":0},0,0,null,386,"1932-02-01",0,0,{"$f":"AS398*AT$7/12","v":0},0,0,null,386,"1932-02-01",0,0,{"$f":"BA398*BB$7/12","v":0},0,0,null,386,"1932-02-01",0,0,{"$f":"BI398*BJ$7/12","v":0},0,0]
[1932,387,"1932-03-01",0,0,0,0,0,0,null,387,"1932-03-01",0,{"$f":"IF(ROUND(M399,0)>0,N398,0)","v":0},0,0,0,null,387,"1932-03-01",0,{"$f":"IF(ROUND(U399,0)>0,V398,0)","v":0},0,0,0,null,387,"1932-03-01",0,{"$f":"IF(ROUND(AC399,0)>0,AD398,0)","v":0},0,0,0,null,387,"1932-03-01",0,{"$f":"IF(ROUND(AK399,0)>0,AL398,0)","v":0},0,0,0,null,387,"1932-03-01",0,{"$f":"IF(ROUND(AS399,0)>0,AT398,0)","v":0},0,0,0,null,387,"1932-03-01",0,{"$f":"IF(ROUND(BA399,0)>0,BB398,0)","v":0},0,0,0,null,387,"1932-03-01",0,{"$f":"IF(ROUND(BI399,0)>0,BJ398,0)","v":0},0,0,0]
[1932,388,{"$f":"DATE(IF(MONTH(C399)=12,YEAR(C399)+1,YEAR(C399)),IF(MONTH(C399)=12,1,MONTH(C399)+1),1)","v":"1932-04-01"},0,0,0,0,0,0,null,388,{"$f":"DATE(IF(MONTH(L399)=12,YEAR(L399)+1,YEAR(L399)),IF(MONTH(L399)=12,1,MONTH(L399)+1),1)","v":"1932-04-01"},{"$f":"Q399","v":0},0,0,{"$f":"N400-O400","v":0},{"$f":"M400-P400","v":0},null,388,{"$f":"DATE(IF(MONTH(T399)=12,YEAR(T399)+1,YEAR(T399)),IF(MONTH(T399)=12,1,MONTH(T399)+1),1)","v":"1932-04-01"},{"$f":"Y399","v":0},0,0,{"$f":"V400-W400","v":0},{"$f":"U400-X400","v":0},null,388,{"$f":"DATE(IF(MONTH(AB399)=12,YEAR(AB399)+1,YEAR(AB399)),IF(MONTH(AB399)=12,1,MONTH(AB399)+1),1)","v":"1932-04-01"},{"$f":"AG399","v":0},0,0,{"$f":"AD400-AE400","v":0},{"$f":"AC400-AF400","v":0},null,388,{"$f":"DATE(IF(MONTH(AJ399)=12,YEAR(AJ399)+1,YEAR(AJ399)),IF(MONTH(AJ399)=12,1,MONTH(AJ399)+1),1)","v":"1932-04-01"},{"$f":"AO399","v":0},0,0,{"$f":"AL400-AM400","v":0},{"$f":"AK400-AN400","v":0},null,388,{"$f":"DATE(IF(MONTH(AR399)=12,YEAR(AR399)+1,YEAR(AR399)),IF(MONTH(AR399)=12,1,MONTH(AR399)+1),1)","v":"1932-04-01"},{"$f":"AW399","v":0},0,0,{"$f":"AT400-AU400","v":0},{"$f":"AS400-AV400","v":0},null,388,{"$f":"DATE(IF(MONTH(AZ399)=12,YEAR(AZ399)+1,YEAR(AZ399)),IF(MONTH(AZ399)=12,1,MONTH(AZ399)+1),1)","v":"1932-04-01"},{"$f":"BE399","v":0},0,0,{"$f":"BB400-BC400","v":0},{"$f":"BA400-BD400","v":0},null,388,{"$f":"DATE(IF(MONTH(BH399)=12,YEAR(BH399)+1,YEAR(BH399)),IF(MONTH(BH399)=12,1,MONTH(BH399)+1),1)","v":"1932-04-01"},{"$f":"BM399","v":0},0,0,{"$f":"BJ400-BK400","v":0},{"$f":"BI400-BL400","v":0}]
[1932,389,"1932-05-01",0,0,0,0,0,0,null,389,"1932-05-01",0,0,0,0,0,null,389,"1932-05-01",0,0,0,0,0,null,389,"1932-05-01",0,0,0,0,0,null,389,"1932-05-01",0,0,0,0,0,null,389,"1932-05-01",0,0,0,0,0,null,389,"1932-05-01",0,0,0,0,0,null,389,"1932-05-01",0,0,0,0,0]
[1932,390,"1932-06-01",0,0,0,0,0,0,null,390,"1932-06-01",0,0,0,0,0,null,390,"1932-06-01",0,0,0,0,0,null,390,"1932-06-01",0,0,0,0,0,null,390,"1932-06-01",0,0,0,0,0,null,390,"1932-06-01",0,0,0,0,0,null,390,"1932-06-01",0,0,0,0,0,null,390,"1932-06-01",0,0,0,0,0]
[1932,391,"1932-07-01",0,0,0,0,0,0,null,391,"1932-07-01",0,0,0,0,0,null,391,"1932-07-01",0,0,0,0,0,null,391,"1932-07-01",0,0,0,0,0,null,391,"1932-07-01",0,0,0,0,0,null,391,"1932-07-01",0,0,0,0,0,null,391,"1932-07-01",0,0,0,0,0,null,391,"1932-07-01",0,0,0,0,0]
[1932,392,"1932-08-01",0,0,0,0,0,0,null,392,"1932-08-01",0,0,0,0,0,null,392,"1932-08-01",0,0,0,0,0,null,392,"1932-08-01",0,0,0,0,0,null,392,"1932-08-01",0,0,0,0,0,null,392,"1932-08-01",0,0,0,0,0,null,392,"1932-08-01",0,0,0,0,0,null,392,"1932-08-01",0,0,0,0,0]
[1932,393,"1932-09-01",0,0,0,0,0,0,null,393,"1932-09-01",0,0,0,0,0,null,393,"1932-09-01",0,0,0,0,0,null,393,"1932-09-01",0,0,0,0,0,null,393,"1932-09-01",0,0,0,0,0,null,393,"1932-09-01",0,0,0,0,0,null,393,"1932-09-01",0,0,0,0,0,null,393,"1932-09-01",0,0,0,0,0]
[1932,394,"1932-10-01",0,0,0,0,0,0,null,394,"1932-10-01",0,0,0,0,0,null,394,"1932-10-01",0,0,0,0,0,null,394,"1932-10-01",0,0,0,0,0,null,394,"1932-10-01",0,0,0,0,0,null,394,"1932-10-01",0,0,0,0,0,null,394,"1932-10-01",0,0,0,0,0,null,394,"1932-10-01",0,0,0,0,0]
[1932,395,"1932-11-01",0,0,0,0,0,0,null,395,"1932-11-01",0,0,0,0,0,null,395,"1932-11-01",0,0,0,0,0,null,395,"1932-11-01",0,0,0,0,0,null,395,"1932-11-01",0,0,0,0,0,null,395,"1932-11-01",0,0,0,0,0,null,395,"1932-11-01",0,0,0,0,0,null,395,"1932-11-01",0,0,0,0,0]
[1932,396,"1932-12-01",0,0,0,0,0,0,null,396,"1932-12-01",0,0,0,0,0,null,396,"1932-12-01",0,0,0,0,0,null,396,"1932-12-01",0,0,0,0,0,null,396,"1932-12-01",0,0,0,0,0,null,396,"1932-12-01",0,0,0,0,0,null,396,"1932-12-01",0,0,0,0,0,null,396,"1932-12-01",0,0,0,0,0]
[1933,397,"1933-01-01",0,0,0,0,0,0,null,397,"1933-01-01",0,0,0,0,0,null,397,"1933-01-01",0,0,0,0,0,null,397,"1933-01-01",0,0,0,0,0,null,397,"1933-01-01",0,0,0,0,0,null,397,"1933-01-01",0,0,0,0,0,null,397,"1933-01-01",0,0,0,0,0,null,397,"1933-01-01",0,0,0,0,0]
[1933,398,"1933-02-01",0,0,0,0,0,0,null,398,"1933-02-01",0,0,0,0,0,null,398,"1933-02-01",0,0,0,0,0,null,398,"1933-02-01",0,0,0,0,0,null,398,"1933-02-01",0,0,0,0,0,null,398,"1933-02-01",0,0,0,0,0,null,398,"1933-02-01",0,0,0,0,0,null,398,"1933-02-01",0,0,0,0,0]
[1933,399,"1933-03-01",0,0,0,0,0,0,null,399,"1933-03-01",0,0,0,0,0,null,399,"1933-03-01",0,0,0,0,0,null,399,"1933-03-01",0,0,0,0,0,null,399,"1933-03-01",0,0,0,0,0,null,399,"1933-03-01",0,0,0,0,0,null,399,"1933-03-01",0,0,0,0,0,null,399,"1933-03-01",0,0,0,0,0]
[1933,400,"1933-04-01",0,0,0,0,0,0,null,400,"1933-04-01",0,0,0,0,0,null,400,"1933-04-01",0,0,0,0,0,null,400,"1933-04-01",0,0,0,0,0,null,400,"1933-04-01",0,0,0,0,0,null,400,"1933-04-01",0,0,0,0,0,null,400,"1933-04-01",0,0,0,0,0,null,400,"1933-04-01",0,0,0,0,0]
[1933,401,"1933-05-01",0,0,0,0,0,0,null,401,"1933-05-01",0,0,0,0,0,null,401,"1933-05-01",0,0,0,0,0,null,401,"1933-05-01",0,0,0,0,0,null,401,"1933-05-01",0,0,0,0,0,null,401,"1933-05-01",0,0,0,0,0,null,401,"1933-05-01",0,0,0,0,0,null,401,"1933-05-01",0,0,0,0,0]
[1933,402,"1933-06-01",0,0,0,0,0,0,null,402,"1933-06-01",0,0,0,0,0,null,402,"1933-06-01",0,0,0,0,0,null,402,"1933-06-01",0,0,0,0,0,null,402,"1933-06-01",0,0,0,0,0,null,402,"1933-06-01",0,0,0,0,0,null,402,"1933-06-01",0,0,0,0,0,null,402,"1933-06-01",0,0,0,0,0]
[1933,403,"1933-07-01",0,0,0,0,0,0,null,403,"1933-07-01",0,0,0,0,0,null,403,"1933-07-01",0,0,0,0,0,null,403,"1933-07-01",0,0,0,0,0,null,403,"1933-07-01",0,0,0,0,0,null,403,"1933-07-01",0,0,0,0,0,null,403,"1933-07-01",0,0,0,0,0,null,403,"1933-07-01",0,0,0,0,0]
[1933,404,"1933-08-01",0,0,0,0,0,0,null,404,"1933-08-01",0,0,0,0,0,null,404,"1933-08-01",0,0,0,0,0,null,404,"1933-08-01",0,0,0,0,0,null,404,"1933-08-01",0,0,0,0,0,null,404,"1933-08-01",0,0,0,0,0,null,404,"1933-08-01",0,0,0,0,0,null,404,"1933-08-01",0,0,0,0,0]
[1933,405,"1933-09-01",0,0,0,0,0,0,null,405,"1933-09-01",0,0,0,0,0,null,405,"1933-09-01",0,0,0,0,0,null,405,"1933-09-01",0,0,0,0,0,null,405,"1933-09-01",0,0,0,0,0,null,405,"1933-09-01",0,0,0,0,0,null,405,"1933-09-01",0,0,0,0,0,null,405,"1933-09-01",0,0,0,0,0]
[1933,406,"1933-10-01",0,0,0,0,0,0,null,406,"1933-10-01",0,0,0,0,0,null,406,"1933-10-01",0,0,0,0,0,null,406,"1933-10-01",0,0,0,0,0,null,406,"1933-10-01",0,0,0,0,0,null,406,"1933-10-01",0,0,0,0,0,null,406,"1933-10-01",0,0,0,0,0,null,406,"1933-10-01",0,0,0,0,0]
[1933,407,"1933-11-01",0,0,0,0,0,0,null,407,"1933-11-01",0,0,0,0,0,null,407,"1933-11-01",0,0,0,0,0,null,407,"1933-11-01",0,0,0,0,0,null,407,"1933-11-01",0,0,0,0,0,null,407,"1933-11-01",0,0,0,0,0,null,407,"1933-11-01",0,0,0,0,0,null,407,"1933-11-01",0,0,0,0,0]
[1933,408,"1933-12-01",0,0,0,0,0,0,null,408,"1933-12-01",0,0,0,0,0,null,408,"1933-12-01",0,0,0,0,0,null,408,"1933-12-01",0,0,0,0,0,null,408,"1933-12-01",0,0,0,0,0,null,408,"1933-12-01",0,0,0,0,0,null,408,"1933-12-01",0,0,0,0,0,null,408,"1933-12-01",0,0,0,0,0]
[1934,409,"1934-01-01",0,0,0,0,0,0,null,409,"1934-01-01",0,0,0,0,0,null,409,"1934-01-01",0,0,0,0,0,null,409,"1934-01-01",0,0,0,0,0,null,409,"1934-01-01",0,0,0,0,0,null,409,"1934-01-01",0,0,0,0,0,null,409,"1934-01-01",0,0,0,0,0,null,409,"1934-01-01",0,0,0,0,0]
[1934,410,"1934-02-01",0,0,0,0,0,0,null,410,"1934-02-01",0,0,0,0,0,null,410,"1934-02-01",0,0,0,0,0,null,410,"1934-02-01",0,0,0,0,0,null,410,"1934-02-01",0,0,0,0,0,null,410,"1934-02-01",0,0,0,0,0,null,410,"1934-02-01",0,0,0,0,0,null,410,"1934-02-01",0,0,0,0,0]
[1934,411,"1934-03-01",0,0,0,0,0,0,null,411,"1934-03-01",0,0,0,0,0,null,411,"1934-03-01",0,0,0,0,0,null,411,"1934-03-01",0,0,0,0,0,null,411,"1934-03-01",0,0,0,0,0,null,411,"1934-03-01",0,0,0,0,0,null,411,"1934-03-01",0,0,0,0,0,null,411,"1934-03-01",0,0,0,0,0]
[1934,412,"1934-04-01",0,0,0,0,0,0,null,412,"1934-04-01",0,0,0,0,0,null,412,"1934-04-01",0,0,0,0,0,null,412,"1934-04-01",0,0,0,0,0,null,412,"1934-04-01",0,0,0,0,0,null,412,"1934-04-01",0,0,0,0,0,null,412,"1934-04-01",0,0,0,0,0,null,412,"1934-04-01",0,0,0,0,0]
[1934,413,"1934-05-01",0,0,0,0,0,0,null,413,"1934-05-01",0,0,0,0,0,null,413,"1934-05-01",0,0,0,0,0,null,413,"1934-05-01",0,0,0,0,0,null,413,"1934-05-01",0,0,0,0,0,null,413,"1934-05-01",0,0,0,0,0,null,413,"1934-05-01",0,0,0,0,0,null,413,"1934-05-01",0,0,0,0,0]
[1934,414,"1934-06-01",0,0,0,0,0,0,null,414,"1934-06-01",0,0,0,0,0,null,414,"1934-06-01",0,0,0,0,0,null,414,"1934-06-01",0,0,0,0,0,null,414,"1934-06-01",0,0,0,0,0,null,414,"1934-06-01",0,0,0,0,0,null,414,"1934-06-01",0,0,0,0,0,null,414,"1934-06-01",0,0,0,0,0]
[1934,415,"1934-07-01",0,0,0,0,0,0,null,415,"1934-07-01",0,0,0,0,0,null,415,"1934-07-01",0,0,0,0,0,null,415,"1934-07-01",0,0,0,0,0,null,415,"1934-07-01",0,0,0,0,0,null,415,"1934-07-01",0,0,0,0,0,null,415,"1934-07-01",0,0,0,0,0,null,415,"1934-07-01",0,0,0,0,0]
[1934,416,"1934-08-01",0,0,0,0,0,0,null,416,"1934-08-01",0,0,0,0,0,null,416,"1934-08-01",0,0,0,0,0,null,416,"1934-08-01",0,0,0,0,0,null,416,"1934-08-01",0,0,0,0,0,null,416,"1934-08-01",0,0,0,0,0,null,416,"1934-08-01",0,0,0,0,0,null,416,"1934-08-01",0,0,0,0,0]
[1934,417,"1934-09-01",0,0,0,0,0,0,null,417,"1934-09-01",0,0,0,0,0,null,417,"1934-09-01",0,0,0,0,0,null,417,"1934-09-01",0,0,0,0,0,null,417,"1934-09-01",0,0,0,0,0,null,417,"1934-09-01",0,0,0,0,0,null,417,"1934-09-01",0,0,0,0,0,null,417,"1934-09-01",0,0,0,0,0]
[1934,418,"1934-10-01",0,0,0,0,0,0,null,418,"1934-10-01",0,0,0,0,0,null,418,"1934-10-01",0,0,0,0,0,null,418,"1934-10-01",0,0,0,0,0,null,418,"1934-10-01",0,0,0,0,0,null,418,"1934-10-01",0,0,0,0,0,null,418,"1934-10-01",0,0,0,0,0,null,418,"1934-10-01",0,0,0,0,0]
[1934,419,"1934-11-01",0,0,0,0,0,0,null,419,"1934-11-01",0,0,0,0,0,null,419,"1934-11-01",0,0,0,0,0,null,419,"1934-11-01",0,0,0,0,0,null,419,"1934-11-01",0,0,0,0,0,null,419,"1934-11-01",0,0,0,0,0,null,419,"1934-11-01",0,0,0,0,0,null,419,"1934-11-01",0,0,0,0,0]
[1934,420,"1934-12-01",0,0,0,0,0,0,null,420,"1934-12-01",0,0,0,0,0,null,420,"1934-12-01",0,0,0,0,0,null,420,"1934-12-01",0,0,0,0,0,null,420,"1934-12-01",0,0,0,0,0,null,420,"1934-12-01",0,0,0,0,0,null,420,"1934-12-01",0,0,0,0,0,null,420,"1934-12-01",0,0,0,0,0]
[1935,421,"1935-01-01",0,0,0,0,0,0,null,421,"1935-01-01",0,0,0,0,0,null,421,"1935-01-01",0,0,0,0,0,null,421,"1935-01-01",0,0,0,0,0,null,421,"1935-01-01",0,0,0,0,0,null,421,"1935-01-01",0,0,0,0,0,null,421,"1935-01-01",0,0,0,0,0,null,421,"1935-01-01",0,0,0,0,0]
[1935,422,"1935-02-01",0,0,0,0,0,0,null,422,"1935-02-01",0,0,0,0,0,null,422,"1935-02-01",0,0,0,0,0,null,422,"1935-02-01",0,0,0,0,0,null,422,"1935-02-01",0,0,0,0,0,null,422,"1935-02-01",0,0,0,0,0,null,422,"1935-02-01",0,0,0,0,0,null,422,"1935-02-01",0,0,0,0,0]
[1935,423,"1935-03-01",0,0,0,0,0,0,null,423,"1935-03-01",0,0,0,0,0,null,423,"1935-03-01",0,0,0,0,0,null,423,"1935-03-01",0,0,0,0,0,null,423,"1935-03-01",0,0,0,0,0,null,423,"1935-03-01",0,0,0,0,0,null,423,"1935-03-01",0,0,0,0,0,null,423,"1935-03-01",0,0,0,0,0]
[1935,424,"1935-04-01",0,0,0,0,0,0,null,424,"1935-04-01",0,0,0,0,0,null,424,"1935-04-01",0,0,0,0,0,null,424,"1935-04-01",0,0,0,0,0,null,424,"1935-04-01",0,0,0,0,0,null,424,"1935-04-01",0,0,0,0,0,null,424,"1935-04-01",0,0,0,0,0,null,424,"1935-04-01",0,0,0,0,0]
[1935,425,"1935-05-01",{"$f":"H436","v":0},{"$f":"IF(ROUND(D437,0)>0,E436,0)","v":0},{"$f":"D437*$E$7/12","v":0},{"$f":"E437-F437","v":0},{"$f":"D437-G437","v":0},0,null,425,"1935-05-01",0,0,0,0,0,null,425,"1935-05-01",0,0,0,0,0,null,425,"1935-05-01",0,0,0,0,0,null,425,"1935-05-01",0,0,0,0,0,null,425,"1935-05-01",0,0,0,0,0,null,425,"1935-05-01",0,0,0,0,0,null,425,"1935-05-01",0,0,0,0,0]
[1935,426,"1935-06-01",0,0,0,0,0,0,null,426,"1935-06-01",0,0,0,0,0,null,426,"1935-06-01",0,0,0,0,0,null,426,"1935-06-01",0,0,0,0,0,null,426,"1935-06-01",0,0,0,0,0,null,426,"1935-06-01",0,0,0,0,0,null,426,"1935-06-01",0,0,0,0,0,null,426,"1935-06-01",0,0,0,0,0]
[1935,427,"1935-07-01",0,0,0,0,0,0,null,427,"1935-07-01",0,0,0,0,0,null,427,"1935-07-01",0,0,0,0,0,null,427,"1935-07-01",0,0,0,0,0,null,427,"1935-07-01",0,0,0,0,0,null,427,"1935-07-01",0,0,0,0,0,null,427,"1935-07-01",0,0,0,0,0,null,427,"1935-07-01",0,0,0,0,0]
[1935,428,"1935-08-01",0,0,0,0,0,0,null,428,"1935-08-01",0,0,0,0,0,null,428,"1935-08-01",0,0,0,0,0,null,428,"1935-08-01",0,0,0,0,0,null,428,"1935-08-01",0,0,0,0,0,null,428,"1935-08-01",0,0,0,0,0,null,428,"1935-08-01",0,0,0,0,0,null,428,"1935-08-01",0,0,0,0,0]
[1935,429,"1935-09-01",0,0,0,0,0,0,null,429,"1935-09-01",0,0,0,0,0,null,429,"1935-09-01",0,0,0,0,0,null,429,"1935-09-01",0,0,0,0,0,null,429,"1935-09-01",0,0,0,0,0,null,429,"1935-09-01",0,0,0,0,0,null,429,"1935-09-01",0,0,0,0,0,null,429,"1935-09-01",0,0,0,0,0]
[1935,430,"1935-10-01",0,0,0,0,0,0,null,430,"1935-10-01",0,0,0,0,0,null,430,"1935-10-01",0,0,0,0,0,null,430,"1935-10-01",0,0,0,0,0,null,430,"1935-10-01",0,0,0,0,0,null,430,"1935-10-01",0,0,0,0,0,null,430,"1935-10-01",0,0,0,0,0,null,430,"1935-10-01",0,0,0,0,0]
[1935,431,"1935-11-01",0,0,0,0,0,0,null,431,"1935-11-01",0,0,0,0,0,null,431,"1935-11-01",0,0,0,0,0,null,431,"1935-11-01",0,0,0,0,0,null,431,"1935-11-01",0,0,0,0,0,null,431,"1935-11-01",0,0,0,0,0,null,431,"1935-11-01",0,0,0,0,0,null,431,"1935-11-01",0,0,0,0,0]
[1935,432,"1935-12-01",0,0,0,0,0,0,null,432,"1935-12-01",0,0,0,0,0,null,432,"1935-12-01",0,0,0,0,0,null,432,"1935-12-01",0,0,0,0,0,null,432,"1935-12-01",0,0,0,0,0,null,432,"1935-12-01",0,0,0,0,0,null,432,"1935-12-01",0,0,0,0,0,null,432,"1935-12-01",0,0,0,0,0]
[1936,433,"1936-01-01",0,0,0,0,0,0,null,433,"1936-01-01",0,0,0,0,0,null,433,"1936-01-01",0,0,0,0,0,null,433,"1936-01-01",0,0,0,0,0,null,433,"1936-01-01",0,0,0,0,0,null,433,"1936-01-01",0,0,0,0,0,null,433,"1936-01-01",0,0,0,0,0,null,433,"1936-01-01",0,0,0,0,0]
[1936,434,"1936-02-01",0,0,0,0,0,0,null,434,"1936-02-01",0,0,0,0,0,null,434,"1936-02-01",0,0,0,0,0,null,434,"1936-02-01",0,0,0,0,0,null,434,"1936-02-01",0,0,0,0,0,null,434,"1936-02-01",0,0,0,0,0,null,434,"1936-02-01",0,0,0,0,0,null,434,"1936-02-01",0,0,0,0,0]
[1936,435,"1936-03-01",0,0,0,0,0,0,null,435,"1936-03-01",0,0,0,0,0,null,435,"1936-03-01",0,0,0,0,0,null,435,"1936-03-01",0,0,0,0,0,null,435,"1936-03-01",0,0,0,0,0,null,435,"1936-03-01",0,0,0,0,0,null,435,"1936-03-01",0,0,0,0,0,null,435,"1936-03-01",0,0,0,0,0]
[1936,436,"1936-04-01",0,0,0,0,0,0,null,436,"1936-04-01",0,0,0,0,0,null,436,"1936-04-01",0,0,0,0,0,null,436,"1936-04-01",0,0,0,0,0,null,436,"1936-04-01",0,0,0,0,0,null,436,"1936-04-01",0,0,0,0,0,null,436,"1936-04-01",0,0,0,0,0,null,436,"1936-04-01",0,0,0,0,0]
[1936,437,"1936-05-01",0,0,0,0,0,0,null,437,"1936-05-01",0,0,0,0,0,null,437,"1936-05-01",0,0,0,0,0,null,437,"1936-05-01",0,0,0,0,0,null,437,"1936-05-01",0,0,0,0,0,null,437,"1936-05-01",0,0,0,0,0,null,437,"1936-05-01",0,0,0,0,0,null,437,"1936-05-01",0,0,0,0,0]
[1936,438,"1936-06-01",0,0,0,0,0,0,null,438,"1936-06-01",0,0,0,0,0,null,438,"1936-06-01",0,0,0,0,0,null,438,"1936-06-01",0,0,0,0,0,null,438,"1936-06-01",0,0,0,0,0,null,438,"1936-06-01",0,0,0,0,0,null,438,"1936-06-01",0,0,0,0,0,null,438,"1936-06-01",0,0,0,0,0]
[1936,439,"1936-07-01",0,0,0,0,0,0,null,439,"1936-07-01",0,0,0,0,0,null,439,"1936-07-01",0,0,0,0,0,null,439,"1936-07-01",0,0,0,0,0,null,439,"1936-07-01",0,0,0,0,0,null,439,"1936-07-01",0,0,0,0,0,null,439,"1936-07-01",0,0,0,0,0,null,439,"1936-07-01",0,0,0,0,0]
[1936,440,"1936-08-01",0,0,0,0,0,0,null,440,"1936-08-01",0,0,0,0,0,null,440,"1936-08-01",0,0,0,0,0,null,440,"1936-08-01",0,0,0,0,0,null,440,"1936-08-01",0,0,0,0,0,null,440,"1936-08-01",0,0,0,0,0,null,440,"1936-08-01",0,0,0,0,0,null,440,"1936-08-01",0,0,0,0,0]
[1936,441,"1936-09-01",0,0,0,0,0,0,null,441,"1936-09-01",0,0,0,0,0,null,441,"1936-09-01",0,0,0,0,0,null,441,"1936-09-01",0,0,0,0,0,null,441,"1936-09-01",0,0,0,0,0,null,441,"1936-09-01",0,0,0,0,0,null,441,"1936-09-01",0,0,0,0,0,null,441,"1936-09-01",0,0,0,0,0]
[1936,442,"1936-10-01",0,0,0,0,0,0,null,442,"1936-10-01",0,0,0,0,0,null,442,"1936-10-01",0,0,0,0,0,null,442,"1936-10-01",0,0,0,0,0,null,442,"1936-10-01",0,0,0,0,0,null,442,"1936-10-01",0,0,0,0,0,null,442,"1936-10-01",0,0,0,0,0,null,442,"1936-10-01",0,0,0,0,0]
[1936,443,"1936-11-01",0,0,0,0,0,0,null,443,"1936-11-01",0,0,0,0,0,null,443,"1936-11-01",0,0,0,0,0,null,443,"1936-11-01",0,0,0,0,0,null,443,"1936-11-01",0,0,0,0,0,null,443,"1936-11-01",0,0,0,0,0,null,443,"1936-11-01",0,0,0,0,0,null,443,"1936-11-01",0,0,0,0,0]
[1936,444,"1936-12-01",0,0,0,0,0,0,null,444,"1936-12-01",0,0,0,0,0,null,444,"1936-12-01",0,0,0,0,0,null,444,"1936-12-01",0,0,0,0,0,null,444,"1936-12-01",0,0,0,0,0,null,444,"1936-12-01",0,0,0,0,0,null,444,"1936-12-01",0,0,0,0,0,null,444,"1936-12-01",0,0,0,0,0]
[1937,445,"1937-01-01",0,0,0,0,0,0,null,445,"1937-01-01",0,0,0,0,0,null,445,"1937-01-01",0,0,0,0,0,null,445,"1937-01-01",0,0,0,0,0,null,445,"1937-01-01",0,0,0,0,0,null,445,"1937-01-01",0,0,0,0,0,null,445,"1937-01-01",0,0,0,0,0,null,445,"1937-01-01",0,0,0,0,0]
[1937,446,"1937-02-01",0,0,0,0,0,0,null,446,"1937-02-01",0,0,0,0,0,null,446,"1937-02-01",0,0,0,0,0,null,446,"1937-02-01",0,0,0,0,0,null,446,"1937-02-01",0,0,0,0,0,null,446,"1937-02-01",0,0,0,0,0,null,446,"1937-02-01",0,0,0,0,0,null,446,"1937-02-01",0,0,0,0,0]
[1937,447,"1937-03-01",0,0,0,0,0,0,null,447,"1937-03-01",0,0,0,0,0,null,447,"1937-03-01",0,0,0,0,0,null,447,"1937-03-01",0,0,0,0,0,null,447,"1937-03-01",0,0,0,0,0,null,447,"1937-03-01",0,0,0,0,0,null,447,"1937-03-01",0,0,0,0,0,null,447,"1937-03-01",0,0,0,0,0]
[1937,448,"1937-04-01",0,0,0,0,0,0,null,448,"1937-04-01",0,0,0,0,0,null,448,"1937-04-01",0,0,0,0,0,null,448,"1937-04-01",0,0,0,0,0,null,448,"1937-04-01",0,0,0,0,0,null,448,"1937-04-01",0,0,0,0,0,null,448,"1937-04-01",0,0,0,0,0,null,448,"1937-04-01",0,0,0,0,0]
[1937,449,"1937-05-01",0,0,0,0,0,{"$f":"D461*rng01_MortgageInsurangePremium/12","v":0},null,449,"1937-05-01",0,0,0,0,0,null,449,"1937-05-01",0,0,0,0,0,null,449,"1937-05-01",0,0,0,0,0,null,449,"1937-05-01",0,0,0,0,0,null,449,"1937-05-01",0,0,0,0,0,null,449,"1937-05-01",0,0,0,0,0,null,449,"1937-05-01",0,0,0,0,0]
[{"$f":"YEAR(C462)","v":1937},450,"1937-06-01",0,0,0,0,0,0,null,450,"1937-06-01",0,0,{"$f":"M462*$N$7/12","v":0},0,0,null,450,"1937-06-01",0,0,{"$f":"U462*V$7/12","v":0},0,0,null,450,"1937-06-01",0,0,{"$f":"AC462*AD$7/12","v":0},0,0,null,450,"1937-06-01",0,0,{"$f":"AK462*AL$7/12","v":0},0,0,null,450,"1937-06-01",0,0,{"$f":"AS462*AT$7/12","v":0},0,0,null,450,"1937-06-01",0,0,{"$f":"BA462*BB$7/12","v":0},0,0,null,450,"1937-06-01",0,0,{"$f":"BI462*BJ$7/12","v":0},0,0]
[1937,451,"1937-07-01",0,0,0,0,0,0,null,451,"1937-07-01",0,{"$f":"IF(ROUND(M463,0)>0,N462,0)","v":0},0,0,0,null,451,"1937-07-01",0,{"$f":"IF(ROUND(U463,0)>0,V462,0)","v":0},0,0,0,null,451,"1937-07-01",0,{"$f":"IF(ROUND(AC463,0)>0,AD462,0)","v":0},0,0,0,null,451,"1937-07-01",0,{"$f":"IF(ROUND(AK463,0)>0,AL462,0)","v":0},0,0,0,null,451,"1937-07-01",0,{"$f":"IF(ROUND(AS463,0)>0,AT462,0)","v":0},0,0,0,null,451,"1937-07-01",0,{"$f":"IF(ROUND(BA463,0)>0,BB462,0)","v":0},0,0,0,null,451,"1937-07-01",0,{"$f":"IF(ROUND(BI463,0)>0,BJ462,0)","v":0},0,0,0]
[1937,452,{"$f":"DATE(IF(MONTH(C463)=12,YEAR(C463)+1,YEAR(C463)),IF(MONTH(C463)=12,1,MONTH(C463)+1),1)","v":"1937-08-01"},0,0,0,0,0,0,null,452,{"$f":"DATE(IF(MONTH(L463)=12,YEAR(L463)+1,YEAR(L463)),IF(MONTH(L463)=12,1,MONTH(L463)+1),1)","v":"1937-08-01"},{"$f":"Q463","v":0},0,0,{"$f":"N464-O464","v":0},{"$f":"M464-P464","v":0},null,452,{"$f":"DATE(IF(MONTH(T463)=12,YEAR(T463)+1,YEAR(T463)),IF(MONTH(T463)=12,1,MONTH(T463)+1),1)","v":"1937-08-01"},{"$f":"Y463","v":0},0,0,{"$f":"V464-W464","v":0},{"$f":"U464-X464","v":0},null,452,{"$f":"DATE(IF(MONTH(AB463)=12,YEAR(AB463)+1,YEAR(AB463)),IF(MONTH(AB463)=12,1,MONTH(AB463)+1),1)","v":"1937-08-01"},{"$f":"AG463","v":0},0,0,{"$f":"AD464-AE464","v":0},{"$f":"AC464-AF464","v":0},null,452,{"$f":"DATE(IF(MONTH(AJ463)=12,YEAR(AJ463)+1,YEAR(AJ463)),IF(MONTH(AJ463)=12,1,MONTH(AJ463)+1),1)","v":"1937-08-01"},{"$f":"AO463","v":0},0,0,{"$f":"AL464-AM464","v":0},{"$f":"AK464-AN464","v":0},null,452,{"$f":"DATE(IF(MONTH(AR463)=12,YEAR(AR463)+1,YEAR(AR463)),IF(MONTH(AR463)=12,1,MONTH(AR463)+1),1)","v":"1937-08-01"},{"$f":"AW463","v":0},0,0,{"$f":"AT464-AU464","v":0},{"$f":"AS464-AV464","v":0},null,452,{"$f":"DATE(IF(MONTH(AZ463)=12,YEAR(AZ463)+1,YEAR(AZ463)),IF(MONTH(AZ463)=12,1,MONTH(AZ463)+1),1)","v":"1937-08-01"},{"$f":"BE463","v":0},0,0,{"$f":"BB464-BC464","v":0},{"$f":"BA464-BD464","v":0},null,452,{"$f":"DATE(IF(MONTH(BH463)=12,YEAR(BH463)+1,YEAR(BH463)),IF(MONTH(BH463)=12,1,MONTH(BH463)+1),1)","v":"1937-08-01"},{"$f":"BM463","v":0},0,0,{"$f":"BJ464-BK464","v":0},{"$f":"BI464-BL464","v":0}]
[1937,453,"1937-09-01",0,0,0,0,0,0,null,453,"1937-09-01",0,0,0,0,0,null,453,"1937-09-01",0,0,0,0,0,null,453,"1937-09-01",0,0,0,0,0,null,453,"1937-09-01",0,0,0,0,0,null,453,"1937-09-01",0,0,0,0,0,null,453,"1937-09-01",0,0,0,0,0,null,453,"1937-09-01",0,0,0,0,0]
[1937,454,"1937-10-01",0,0,0,0,0,0,null,454,"1937-10-01",0,0,0,0,0,null,454,"1937-10-01",0,0,0,0,0,null,454,"1937-10-01",0,0,0,0,0,null,454,"1937-10-01",0,0,0,0,0,null,454,"1937-10-01",0,0,0,0,0,null,454,"1937-10-01",0,0,0,0,0,null,454,"1937-10-01",0,0,0,0,0]
[1937,455,"1937-11-01",0,0,0,0,0,0,null,455,"1937-11-01",0,0,0,0,0,null,455,"1937-11-01",0,0,0,0,0,null,455,"1937-11-01",0,0,0,0,0,null,455,"1937-11-01",0,0,0,0,0,null,455,"1937-11-01",0,0,0,0,0,null,455,"1937-11-01",0,0,0,0,0,null,455,"1937-11-01",0,0,0,0,0]
[1937,456,"1937-12-01",0,0,0,0,0,0,null,456,"1937-12-01",0,0,0,0,0,null,456,"1937-12-01",0,0,0,0,0,null,456,"1937-12-01",0,0,0,0,0,null,456,"1937-12-01",0,0,0,0,0,null,456,"1937-12-01",0,0,0,0,0,null,456,"1937-12-01",0,0,0,0,0,null,456,"1937-12-01",0,0,0,0,0]
[1938,457,"1938-01-01",0,0,0,0,0,0,null,457,"1938-01-01",0,0,0,0,0,null,457,"1938-01-01",0,0,0,0,0,null,457,"1938-01-01",0,0,0,0,0,null,457,"1938-01-01",0,0,0,0,0,null,457,"1938-01-01",0,0,0,0,0,null,457,"1938-01-01",0,0,0,0,0,null,457,"1938-01-01",0,0,0,0,0]
[1938,458,"1938-02-01",0,0,0,0,0,0,null,458,"1938-02-01",0,0,0,0,0,null,458,"1938-02-01",0,0,0,0,0,null,458,"1938-02-01",0,0,0,0,0,null,458,"1938-02-01",0,0,0,0,0,null,458,"1938-02-01",0,0,0,0,0,null,458,"1938-02-01",0,0,0,0,0,null,458,"1938-02-01",0,0,0,0,0]
[1938,459,"1938-03-01",0,0,0,0,0,0,null,459,"1938-03-01",0,0,0,0,0,null,459,"1938-03-01",0,0,0,0,0,null,459,"1938-03-01",0,0,0,0,0,null,459,"1938-03-01",0,0,0,0,0,null,459,"1938-03-01",0,0,0,0,0,null,459,"1938-03-01",0,0,0,0,0,null,459,"1938-03-01",0,0,0,0,0]
[1938,460,"1938-04-01",0,0,0,0,0,0,null,460,"1938-04-01",0,0,0,0,0,null,460,"1938-04-01",0,0,0,0,0,null,460,"1938-04-01",0,0,0,0,0,null,460,"1938-04-01",0,0,0,0,0,null,460,"1938-04-01",0,0,0,0,0,null,460,"1938-04-01",0,0,0,0,0,null,460,"1938-04-01",0,0,0,0,0]
[1938,461,"1938-05-01",0,0,0,0,0,0,null,461,"1938-05-01",0,0,0,0,0,null,461,"1938-05-01",0,0,0,0,0,null,461,"1938-05-01",0,0,0,0,0,null,461,"1938-05-01",0,0,0,0,0,null,461,"1938-05-01",0,0,0,0,0,null,461,"1938-05-01",0,0,0,0,0,null,461,"1938-05-01",0,0,0,0,0]
[1938,462,"1938-06-01",0,0,0,0,0,0,null,462,"1938-06-01",0,0,0,0,0,null,462,"1938-06-01",0,0,0,0,0,null,462,"1938-06-01",0,0,0,0,0,null,462,"1938-06-01",0,0,0,0,0,null,462,"1938-06-01",0,0,0,0,0,null,462,"1938-06-01",0,0,0,0,0,null,462,"1938-06-01",0,0,0,0,0]
[1938,463,"1938-07-01",0,0,0,0,0,0,null,463,"1938-07-01",0,0,0,0,0,null,463,"1938-07-01",0,0,0,0,0,null,463,"1938-07-01",0,0,0,0,0,null,463,"1938-07-01",0,0,0,0,0,null,463,"1938-07-01",0,0,0,0,0,null,463,"1938-07-01",0,0,0,0,0,null,463,"1938-07-01",0,0,0,0,0]
[1938,464,"1938-08-01",0,0,0,0,0,0,null,464,"1938-08-01",0,0,0,0,0,null,464,"1938-08-01",0,0,0,0,0,null,464,"1938-08-01",0,0,0,0,0,null,464,"1938-08-01",0,0,0,0,0,null,464,"1938-08-01",0,0,0,0,0,null,464,"1938-08-01",0,0,0,0,0,null,464,"1938-08-01",0,0,0,0,0]
[1938,465,"1938-09-01",0,0,0,0,0,0,null,465,"1938-09-01",0,0,0,0,0,null,465,"1938-09-01",0,0,0,0,0,null,465,"1938-09-01",0,0,0,0,0,null,465,"1938-09-01",0,0,0,0,0,null,465,"1938-09-01",0,0,0,0,0,null,465,"1938-09-01",0,0,0,0,0,null,465,"1938-09-01",0,0,0,0,0]
[1938,466,"1938-10-01",0,0,0,0,0,0,null,466,"1938-10-01",0,0,0,0,0,null,466,"1938-10-01",0,0,0,0,0,null,466,"1938-10-01",0,0,0,0,0,null,466,"1938-10-01",0,0,0,0,0,null,466,"1938-10-01",0,0,0,0,0,null,466,"1938-10-01",0,0,0,0,0,null,466,"1938-10-01",0,0,0,0,0]
[1938,467,"1938-11-01",0,0,0,0,0,0,null,467,"1938-11-01",0,0,0,0,0,null,467,"1938-11-01",0,0,0,0,0,null,467,"1938-11-01",0,0,0,0,0,null,467,"1938-11-01",0,0,0,0,0,null,467,"1938-11-01",0,0,0,0,0,null,467,"1938-11-01",0,0,0,0,0,null,467,"1938-11-01",0,0,0,0,0]
[1938,468,"1938-12-01",0,0,0,0,0,0,null,468,"1938-12-01",0,0,0,0,0,null,468,"1938-12-01",0,0,0,0,0,null,468,"1938-12-01",0,0,0,0,0,null,468,"1938-12-01",0,0,0,0,0,null,468,"1938-12-01",0,0,0,0,0,null,468,"1938-12-01",0,0,0,0,0,null,468,"1938-12-01",0,0,0,0,0]
[1939,469,"1939-01-01",0,0,0,0,0,0,null,469,"1939-01-01",0,0,0,0,0,null,469,"1939-01-01",0,0,0,0,0,null,469,"1939-01-01",0,0,0,0,0,null,469,"1939-01-01",0,0,0,0,0,null,469,"1939-01-01",0,0,0,0,0,null,469,"1939-01-01",0,0,0,0,0,null,469,"1939-01-01",0,0,0,0,0]
[1939,470,"1939-02-01",0,0,0,0,0,0,null,470,"1939-02-01",0,0,0,0,0,null,470,"1939-02-01",0,0,0,0,0,null,470,"1939-02-01",0,0,0,0,0,null,470,"1939-02-01",0,0,0,0,0,null,470,"1939-02-01",0,0,0,0,0,null,470,"1939-02-01",0,0,0,0,0,null,470,"1939-02-01",0,0,0,0,0]
[1939,471,"1939-03-01",0,0,0,0,0,0,null,471,"1939-03-01",0,0,0,0,0,null,471,"1939-03-01",0,0,0,0,0,null,471,"1939-03-01",0,0,0,0,0,null,471,"1939-03-01",0,0,0,0,0,null,471,"1939-03-01",0,0,0,0,0,null,471,"1939-03-01",0,0,0,0,0,null,471,"1939-03-01",0,0,0,0,0]
[1939,472,"1939-04-01",0,0,0,0,0,0,null,472,"1939-04-01",0,0,0,0,0,null,472,"1939-04-01",0,0,0,0,0,null,472,"1939-04-01",0,0,0,0,0,null,472,"1939-04-01",0,0,0,0,0,null,472,"1939-04-01",0,0,0,0,0,null,472,"1939-04-01",0,0,0,0,0,null,472,"1939-04-01",0,0,0,0,0]
[1939,473,"1939-05-01",0,0,0,0,0,0,null,473,"1939-05-01",0,0,0,0,0,null,473,"1939-05-01",0,0,0,0,0,null,473,"1939-05-01",0,0,0,0,0,null,473,"1939-05-01",0,0,0,0,0,null,473,"1939-05-01",0,0,0,0,0,null,473,"1939-05-01",0,0,0,0,0,null,473,"1939-05-01",0,0,0,0,0]
[1939,474,"1939-06-01",0,0,0,0,0,0,null,474,"1939-06-01",0,0,0,0,0,null,474,"1939-06-01",0,0,0,0,0,null,474,"1939-06-01",0,0,0,0,0,null,474,"1939-06-01",0,0,0,0,0,null,474,"1939-06-01",0,0,0,0,0,null,474,"1939-06-01",0,0,0,0,0,null,474,"1939-06-01",0,0,0,0,0]
[1939,475,"1939-07-01",0,0,0,0,0,0,null,475,"1939-07-01",0,0,0,0,0,null,475,"1939-07-01",0,0,0,0,0,null,475,"1939-07-01",0,0,0,0,0,null,475,"1939-07-01",0,0,0,0,0,null,475,"1939-07-01",0,0,0,0,0,null,475,"1939-07-01",0,0,0,0,0,null,475,"1939-07-01",0,0,0,0,0]
[1939,476,"1939-08-01",0,0,0,0,0,0,null,476,"1939-08-01",0,0,0,0,0,null,476,"1939-08-01",0,0,0,0,0,null,476,"1939-08-01",0,0,0,0,0,null,476,"1939-08-01",0,0,0,0,0,null,476,"1939-08-01",0,0,0,0,0,null,476,"1939-08-01",0,0,0,0,0,null,476,"1939-08-01",0,0,0,0,0]
[1939,477,"1939-09-01",0,0,0,0,0,0,null,477,"1939-09-01",0,0,0,0,0,null,477,"1939-09-01",0,0,0,0,0,null,477,"1939-09-01",0,0,0,0,0,null,477,"1939-09-01",0,0,0,0,0,null,477,"1939-09-01",0,0,0,0,0,null,477,"1939-09-01",0,0,0,0,0,null,477,"1939-09-01",0,0,0,0,0]
[1939,478,"1939-10-01",0,0,0,0,0,0,null,478,"1939-10-01",0,0,0,0,0,null,478,"1939-10-01",0,0,0,0,0,null,478,"1939-10-01",0,0,0,0,0,null,478,"1939-10-01",0,0,0,0,0,null,478,"1939-10-01",0,0,0,0,0,null,478,"1939-10-01",0,0,0,0,0,null,478,"1939-10-01",0,0,0,0,0]
[1939,479,"1939-11-01",0,0,0,0,0,0,null,479,"1939-11-01",0,0,0,0,0,null,479,"1939-11-01",0,0,0,0,0,null,479,"1939-11-01",0,0,0,0,0,null,479,"1939-11-01",0,0,0,0,0,null,479,"1939-11-01",0,0,0,0,0,null,479,"1939-11-01",0,0,0,0,0,null,479,"1939-11-01",0,0,0,0,0]
[1939,480,"1939-12-01",0,0,0,0,0,0,null,480,"1939-12-01",0,0,0,0,0,null,480,"1939-12-01",0,0,0,0,0,null,480,"1939-12-01",0,0,0,0,0,null,480,"1939-12-01",0,0,0,0,0,null,480,"1939-12-01",0,0,0,0,0,null,480,"1939-12-01",0,0,0,0,0,null,480,"1939-12-01",0,0,0,0,0]

{"sheet":"03_4_NH-Assisted Living Data","index":20,"n_rows":106,"n_cols":16,"rows_kept":106,"cut":false,"hidden":true,"merged":[[71,1,71,15]]}
["Nursing Home/Assisted Living Data"]
[{"$f":"'01_1_General Data'!A2","v":"[Project Name]"},null,null,null,null,null,null,null,"Current Model Progress Date:",{"$f":"tbl00ModelProgress[[#Totals],[Date of Progress /\nLast Edit]]","v":"00:00:00"}]
[]
[]
[null,"Number of Medicaid Units:"]
[null,"Number of Medicaid Waivers:"]
[null,"Number of Medicaid Recipients:"]
[]
[null,"Income Not Already Included in Rent (on Rent Input page)","Underwritten Year 1",{"$f":"'02_2_EXPENSE'!G6","v":"Appraisal"},{"$f":"'02_2_EXPENSE'!L5","v":"OTHER PROJECTION 1"},{"$f":"'02_2_EXPENSE'!N5","v":"OTHER PROJECTION 2"},{"$f":"'02_2_EXPENSE'!P5","v":"OTHER PROJECTION 3"},{"$f":"'02_2_EXPENSE'!R5","v":"OTHER PROJECTION 4"},{"$f":"'02_2_EXPENSE'!T5","v":"OTHER PROJECTION 5"},{"$f":"'02_2_EXPENSE'!V5","v":"OTHER PROJECTION 6"},{"$f":"'02_2_EXPENSE'!X5","v":"OTHER PROJECTION 7"},{"$f":"'02_2_EXPENSE'!Z5","v":"OTHER PROJECTION 8"},{"$f":"'02_2_EXPENSE'!AB5","v":"OTHER PROJECTION 9"},{"$f":"'02_2_EXPENSE'!AD5","v":"OTHER PROJECTION 10"},{"$f":"'02_2_EXPENSE'!AF5","v":"OTHER PROJECTION 11"},{"$f":"'02_2_EXPENSE'!AH5","v":"OTHER PROJECTION 12"}]
[null,null,null,null,{"$f":"'02_2_EXPENSE'!M6","v":0},{"$f":"'02_2_EXPENSE'!O6","v":0},{"$f":"'02_2_EXPENSE'!Q6","v":0},{"$f":"'02_2_EXPENSE'!S6","v":0},{"$f":"'02_2_EXPENSE'!U6","v":0},{"$f":"'02_2_EXPENSE'!W6","v":0},{"$f":"'02_2_EXPENSE'!Y6","v":0},{"$f":"'02_2_EXPENSE'!AA6","v":0},{"$f":"'02_2_EXPENSE'!AC6","v":0},{"$f":"'02_2_EXPENSE'!AE6","v":0},{"$f":"'02_2_EXPENSE'!AG6","v":0},{"$f":"'02_2_EXPENSE'!AI6","v":0}]
[null,null,null,null,{"$f":"'02_2_EXPENSE'!M7","v":0},{"$f":"'02_2_EXPENSE'!O7","v":0},{"$f":"'02_2_EXPENSE'!Q7","v":0},{"$f":"'02_2_EXPENSE'!S7","v":0},{"$f":"'02_2_EXPENSE'!U7","v":0},{"$f":"'02_2_EXPENSE'!W7","v":0},{"$f":"'02_2_EXPENSE'!Y7","v":0},{"$f":"'02_2_EXPENSE'!AA7","v":0},{"$f":"'02_2_EXPENSE'!AC7","v":0},{"$f":"'02_2_EXPENSE'!AE7","v":0},{"$f":"'02_2_EXPENSE'!AG7","v":0},{"$f":"'02_2_EXPENSE'!AI7","v":0}]
[null,"SRO/EFF Bedroom Services Income"]
[null,"1 Bedroom Services Income"]
[null,"2 Bedroom Services Income"]
[null,"3 Bedroom Services Income"]
[null,"4 Bedroom Services Income"]
[null,"5 Bedroom Services Income"]
[null,"Total Services Income",{"$f":"SUM(C12:C17)","v":0},0,0,0,0,0,0,0,0,{"$f":"SUM(L12:L17)","v":0},{"$f":"SUM(M12:M17)","v":0},{"$f":"SUM(N12:N17)","v":0},{"$f":"SUM(O12:O17)","v":0},{"$f":"SUM(P12:P17)","v":0}]
[]
[]
[null,"Expenses not already accounted for on Historic and Projected Inc&Exp pages",{"$f":"C9","v":"Underwritten Year 1"},{"$f":"D9","v":"Appraisal"},"OTHER PROJECTION 1","OTHER PROJECTION 2","OTHER PROJECTION 3","OTHER PROJECTION 4","OTHER PROJECTION 5","OTHER PROJECTION 6","OTHER PROJECTION 7",{"$f":"L9","v":"OTHER PROJECTION 8"},{"$f":"M9","v":"OTHER PROJECTION 9"},{"$f":"N9","v":"OTHER PROJECTION 10"},{"$f":"O9","v":"OTHER PROJECTION 11"},{"$f":"P9","v":"OTHER PROJECTION 12"}]
[null,"Administrative"]
[null,"   Telephone"]
[null,"   Compliance Monitoring (LIHTC only)"]
[null,"Subtotal",{"$f":"SUM(C23:C24)","v":0},0,0,0,0,0,0,{"$f":"SUM(J23:J24)","v":0},0,0,0,0,0,0]
[]
[null,"Administrative Payroll"]
[null,"   Executive Director"]
[null,"   Secretary"]
[null,"   Marketing Director"]
[null,"   Resident Services Coordinator"]
[null,"Subtotal",{"$f":"SUM(C28:C31)","v":0},0,0,0,0,0,0,{"$f":"SUM(J28:J31)","v":0},0,0,0,0,0,0]
[]
[null,"Services Payroll"]
[null,"   Housekeepers"]
[null,"   Laundry Aide"]
[null,"   Food Service Director"]
[null,"   Executive Chef"]
[null,"   Cook"]
[null,"   Dishwasher/Wait Staff"]
[null,"   Dining Manager"]
[null,"   Service Coordinator"]
[null,"   RN/LPN/Social Worker"]
[null,"   Personal Care Aides/CNAs"]
[null,"   Activities Director/Assistant"]
[null,"Subtotal",{"$f":"SUM(C35:C45)","v":0},0,0,0,0,0,0,{"$f":"SUM(J35:J45)","v":0},0,0,0,0,0,0]
[null,"NOTE: REFER TO THE TABLE BELOW THIS ONE FOR STABILIZED STAFFING DETAIL"]
[null,"Food Services"]
[null,"   Food"]
[null,"   Services"]
[null,"Subtotal",{"$f":"SUM(C49:C50)","v":0},0,0,0,0,0,0,{"$f":"SUM(J49:J50)","v":0},0,0,0,0,0,0]
[]
[null,"Operations"]
[null,"   Housekeeping/Laundry Supplies"]
[null,"   Transportation"]
[null,"Subtotal",{"$f":"SUM(C54:C55)","v":0},0,0,0,0,0,0,{"$f":"SUM(J54:J55)","v":0},0,0,0,0,0,0]
[]
[null,"Maintenance"]
[null,"   Grounds keeping"]
[null,"   Painting and Decorating"]
[null,"   Structural Repairs"]
[null,"   Plumbing Maintenance"]
[null,"   Electrical Maintenance"]
[null,"Subtotal",{"$f":"SUM(C59:C63)","v":0},0,0,0,0,0,0,0,0,0,0,0,0,0]
[]
[null,"Reserves"]
[null,"   Reserves for Painting and Decorating"]
[null,"   Replacement Reserve"]
[null,"   Project Equipment and Purchase"]
[null,"   Other"]
[null,"Subtotal",{"$f":"SUM(C66:C70)","v":0},0,0,0,0,0,0,{"$f":"SUM(J66:J70)","v":0},0,0,0,0,0,0]
[null,"NOTE: RESERVE TOTALS WILL NOT FEED THE HISTORIC, PROJECTED, AND RESERVES WORKSHEETS AUTOMATICALLY TO AVOID DOUBLE-COUNTING. PLEASE UPDATE THOSE PAGES MANUALLY. TOTALS BELOW DO NOT INCLUDE THE ABOVE RESERVES."]
[null,"Total Expenses (Not Including Reserves)",{"$f":"C25+C32+C46+C51+C56+C64","v":0},0,0,0,0,0,0,0,0,{"$f":"L25+L32+L46+L51+L56+L64","v":0},{"$f":"M25+M32+M46+M51+M56+M64","v":0},{"$f":"N25+N32+N46+N51+N56+N64","v":0},{"$f":"O25+O32+O46+O51+O56+O64","v":0},{"$f":"P25+P32+P46+P51+P56+P64","v":0}]
[]
[]
[null,"Stabilized Staffing Detail"]
[]
[null,"ADMINISTRATIVE & GENERAL","SALARY","PAY RATE","FIXED FTE'S (#)","VARIABLE FTE'S (#)","TOTAL FTE'S","TOTAL WAGE"]
[null,"Executive Director",null,null,null,null,{"$f":"SUM(E79:F79)","v":0},{"$f":"IF(C79>1,C79*G79,D79*40*52*G79)","v":0}]
[null,"Property Manager",null,null,null,null,{"$f":"SUM(E80:F80)","v":0},{"$f":"IF(C80>1,C80*G80,D80*40*52*G80)","v":0}]
[null,"Secretary/Receptionist",null,null,null,null,{"$f":"SUM(E81:F81)","v":0},0]
[null,"Resident Services Coordinator",null,null,null,null,{"$f":"SUM(E82:F82)","v":0},0]
[null,"MARKETING"]
[null,"Director",null,null,null,null,{"$f":"SUM(E84:F84)","v":0},0]
[null,"ACTIVITIES"]
[null,"Director",null,null,null,null,{"$f":"SUM(E86:F86)","v":0},0]
[null,"Services Coordinator",null,null,null,null,{"$f":"SUM(E87:F87)","v":0},0]
[null,"HOUSEKEEPING"]
[null,"Housekeepers",null,null,null,null,{"$f":"SUM(E89:F89)","v":0},0]
[null,"LAUNDRY"]
[null,"Aides",null,null,null,null,{"$f":"SUM(E91:F91)","v":0},0]
[null,"MAINTENANCE"]
[null,"Maintenance Supervisor",null,null,null,null,{"$f":"SUM(E93:F93)","v":0},0]
[null,"Maintenance Man",null,null,null,null,{"$f":"SUM(E94:F94)","v":0},0]
[null,"Janitor",null,null,null,null,{"$f":"SUM(E95:F95)","v":0},0]
[null,"FOOD SERVICE"]
[null,"Food Service Director",null,null,null,null,{"$f":"SUM(E97:F97)","v":0},0]
[null,"Executive Chef",null,null,null,null,{"$f":"SUM(E98:F98)","v":0},0]
[null,"Cook",null,null,null,null,{"$f":"SUM(E99:F99)","v":0},0]
[null,"Dishwasher/Wait Staff",null,null,null,null,{"$f":"SUM(E100:F100)","v":0},0]
[null,"Dining Manager",null,null,null,null,{"$f":"SUM(E101:F101)","v":0},0]
[null,"RESIDENT CARE"]
[null,"Director/RN",null,null,null,null,{"$f":"SUM(E103:F103)","v":0},0]
[null,"LPN/Social Worker",null,null,null,null,{"$f":"SUM(E104:F104)","v":0},0]
[null,"Aides/CNAs",null,null,null,null,{"$f":"SUM(E105:F105)","v":0},0]
[null,"STABILIZED STAFFING TOTALS",null,null,null,null,{"$f":"SUM(G79:G105)","v":0},{"$f":"SUM(H79:H105)","v":0}]

{"sheet":"04_1_Pro Forma","index":21,"n_rows":49,"n_cols":42,"rows_kept":49,"cut":false,"hidden":true,"merged":[]}
["Proforma"]
[{"$f":"IF(rng01_ProjectName=\"\",\"[Project Name]\", rng01_ProjectName)","v":"[Project Name]"}]
[null,null,"Year 1","Year 2","Year 3","Year 4","Year 5","Year 6","Year 7","Year 8","Year 9","Year 10","Year 11","Year 12","Year 13","Year 14","Year 15","Year 16","Year 17","Year 18","Year 19","Year 20","Year 21","Year 22","Year 23","Year 24","Year 25","Year 26","Year 27","Year 28","Year 29","Year 30","Year 31","Year 32","Year 33","Year 34","Year 35","Year 36","Year 37","Year 38","Year 39","Year 40"]
["Income","Trends",{"$f":"rng01_FirstYearProforma","v":1901},{"$f":"C4+1","v":1902},1903,1904,1905,1906,1907,1908,1909,1910,1911,1912,1913,1914,1915,1916,1917,1918,1919,1920,{"$f":"V4+1","v":1921},1922,1923,1924,1925,1926,1927,1928,1929,1930,1931,1932,1933,1934,1935,1936,1937,1938,1939,1940]
["Residential Affordable Income ",{"$f":"rng01_RentalIncomeRate","v":0},{"$f":"'02_1_INCOME'!$H$111","v":0},{"$f":"C5*(1+'01_1_General Data'!J112)","v":0},{"$f":"D5*(1+'01_1_General Data'!K112)","v":0},{"$f":"E5*(1+'01_1_General Data'!L112)","v":0},{"$f":"F5*(1+'01_1_General Data'!M112)","v":0},{"$f":"G5*(1+'01_1_General Data'!N112)","v":0},{"$f":"H5*(1+'01_1_General Data'!O112)","v":0},{"$f":"I5*(1+'01_1_General Data'!P112)","v":0},{"$f":"J5*(1+'01_1_General Data'!Q112)","v":0},{"$f":"K5*(1+'01_1_General Data'!R112)","v":0},{"$f":"L5*(1+'01_1_General Data'!S112)","v":0},{"$f":"M5*(1+'01_1_General Data'!T112)","v":0},{"$f":"N5*(1+'01_1_General Data'!U112)","v":0},{"$f":"O5*(1+'01_1_General Data'!V112)","v":0},{"$f":"P5*(1+'01_1_General Data'!W112)","v":0},{"$f":"Q5*(1+'01_1_General Data'!X112)","v":0},{"$f":"R5*(1+'01_1_General Data'!Y112)","v":0},{"$f":"S5*(1+'01_1_General Data'!Z112)","v":0},{"$f":"T5*(1+'01_1_General Data'!AA112)","v":0},{"$f":"U5*(1+'01_1_General Data'!AB112)","v":0},{"$f":"V5*(1+'01_1_General Data'!AC112)","v":0},{"$f":"W5*(1+'01_1_General Data'!AD112)","v":0},{"$f":"X5*(1+'01_1_General Data'!AE112)","v":0},{"$f":"Y5*(1+'01_1_General Data'!AF112)","v":0},{"$f":"Z5*(1+'01_1_General Data'!AG112)","v":0},{"$f":"AA5*(1+'01_1_General Data'!AH112)","v":0},{"$f":"AB5*(1+'01_1_General Data'!AI112)","v":0},{"$f":"AC5*(1+'01_1_General Data'!AJ112)","v":0},{"$f":"AD5*(1+'01_1_General Data'!AK112)","v":0},{"$f":"AE5*(1+'01_1_General Data'!AL112)","v":0},{"$f":"AF5*(1+'01_1_General Data'!AM112)","v":0},{"$f":"AG5*(1+'01_1_General Data'!AN112)","v":0},{"$f":"AH5*(1+'01_1_General Data'!AO112)","v":0},{"$f":"AI5*(1+'01_1_General Data'!AP112)","v":0},{"$f":"AJ5*(1+'01_1_General Data'!AQ112)","v":0},{"$f":"AK5*(1+'01_1_General Data'!AR112)","v":0},{"$f":"AL5*(1+'01_1_General Data'!AS112)","v":0},{"$f":"AM5*(1+'01_1_General Data'!AT112)","v":0},{"$f":"AN5*(1+'01_1_General Data'!AU112)","v":0},{"$f":"AO5*(1+'01_1_General Data'!AV112)","v":0}]
["Residential Market Rate Income ",{"$f":"rng01_RentalIncomeRate","v":0},{"$f":"'02_1_INCOME'!$I$111","v":0},{"$f":"C6*(1+'01_1_General Data'!J112)","v":0},{"$f":"D6*(1+'01_1_General Data'!K112)","v":0},{"$f":"E6*(1+'01_1_General Data'!L112)","v":0},{"$f":"F6*(1+'01_1_General Data'!M112)","v":0},{"$f":"G6*(1+'01_1_General Data'!N112)","v":0},{"$f":"H6*(1+'01_1_General Data'!O112)","v":0},{"$f":"I6*(1+'01_1_General Data'!P112)","v":0},{"$f":"J6*(1+'01_1_General Data'!Q112)","v":0},{"$f":"K6*(1+'01_1_General Data'!R112)","v":0},{"$f":"L6*(1+'01_1_General Data'!S112)","v":0},{"$f":"M6*(1+'01_1_General Data'!T112)","v":0},{"$f":"N6*(1+'01_1_General Data'!U112)","v":0},{"$f":"O6*(1+'01_1_General Data'!V112)","v":0},{"$f":"P6*(1+'01_1_General Data'!W112)","v":0},{"$f":"Q6*(1+'01_1_General Data'!X112)","v":0},{"$f":"R6*(1+'01_1_General Data'!Y112)","v":0},{"$f":"S6*(1+'01_1_General Data'!Z112)","v":0},{"$f":"T6*(1+'01_1_General Data'!AA112)","v":0},{"$f":"U6*(1+'01_1_General Data'!AB112)","v":0},{"$f":"V6*(1+'01_1_General Data'!AC112)","v":0},{"$f":"W6*(1+'01_1_General Data'!AD112)","v":0},{"$f":"X6*(1+'01_1_General Data'!AE112)","v":0},{"$f":"Y6*(1+'01_1_General Data'!AF112)","v":0},{"$f":"Z6*(1+'01_1_General Data'!AG112)","v":0},{"$f":"AA6*(1+'01_1_General Data'!AH112)","v":0},{"$f":"AB6*(1+'01_1_General Data'!AI112)","v":0},{"$f":"AC6*(1+'01_1_General Data'!AJ112)","v":0},{"$f":"AD6*(1+'01_1_General Data'!AK112)","v":0},{"$f":"AE6*(1+'01_1_General Data'!AL112)","v":0},{"$f":"AF6*(1+'01_1_General Data'!AM112)","v":0},{"$f":"AG6*(1+'01_1_General Data'!AN112)","v":0},{"$f":"AH6*(1+'01_1_General Data'!AO112)","v":0},{"$f":"AI6*(1+'01_1_General Data'!AP112)","v":0},{"$f":"AJ6*(1+'01_1_General Data'!AQ112)","v":0},{"$f":"AK6*(1+'01_1_General Data'!AR112)","v":0},{"$f":"AL6*(1+'01_1_General Data'!AS112)","v":0},{"$f":"AM6*(1+'01_1_General Data'!AT112)","v":0},{"$f":"AN6*(1+'01_1_General Data'!AU112)","v":0},{"$f":"AO6*(1+'01_1_General Data'!AV112)","v":0}]
["Commercial Income",{"$f":"'01_1_General Data'!D113","v":0},{"$f":"'02_1_INCOME'!H60","v":0},{"$f":"C7*(1+'01_1_General Data'!J113)","v":0},{"$f":"D7*(1+'01_1_General Data'!K113)","v":0},{"$f":"E7*(1+'01_1_General Data'!L113)","v":0},{"$f":"F7*(1+'01_1_General Data'!M113)","v":0},{"$f":"G7*(1+'01_1_General Data'!N113)","v":0},{"$f":"H7*(1+'01_1_General Data'!O113)","v":0},{"$f":"I7*(1+'01_1_General Data'!P113)","v":0},{"$f":"J7*(1+'01_1_General Data'!Q113)","v":0},{"$f":"K7*(1+'01_1_General Data'!R113)","v":0},{"$f":"L7*(1+'01_1_General Data'!S113)","v":0},{"$f":"M7*(1+'01_1_General Data'!T113)","v":0},{"$f":"N7*(1+'01_1_General Data'!U113)","v":0},{"$f":"O7*(1+'01_1_General Data'!V113)","v":0},{"$f":"P7*(1+'01_1_General Data'!W113)","v":0},{"$f":"Q7*(1+'01_1_General Data'!X113)","v":0},{"$f":"R7*(1+'01_1_General Data'!Y113)","v":0},{"$f":"S7*(1+'01_1_General Data'!Z113)","v":0},{"$f":"T7*(1+'01_1_General Data'!AA113)","v":0},{"$f":"U7*(1+'01_1_General Data'!AB113)","v":0},{"$f":"V7*(1+'01_1_General Data'!AC113)","v":0},{"$f":"W7*(1+'01_1_General Data'!AD113)","v":0},{"$f":"X7*(1+'01_1_General Data'!AE113)","v":0},{"$f":"Y7*(1+'01_1_General Data'!AF113)","v":0},{"$f":"Z7*(1+'01_1_General Data'!AG113)","v":0},{"$f":"AA7*(1+'01_1_General Data'!AH113)","v":0},{"$f":"AB7*(1+'01_1_General Data'!AI113)","v":0},{"$f":"AC7*(1+'01_1_General Data'!AJ113)","v":0},{"$f":"AD7*(1+'01_1_General Data'!AK113)","v":0},{"$f":"AE7*(1+'01_1_General Data'!AL113)","v":0},{"$f":"AF7*(1+'01_1_General Data'!AM113)","v":0},{"$f":"AG7*(1+'01_1_General Data'!AN113)","v":0},{"$f":"AH7*(1+'01_1_General Data'!AO113)","v":0},{"$f":"AI7*(1+'01_1_General Data'!AP113)","v":0},{"$f":"AJ7*(1+'01_1_General Data'!AQ113)","v":0},{"$f":"AK7*(1+'01_1_General Data'!AR113)","v":0},{"$f":"AL7*(1+'01_1_General Data'!AS113)","v":0},{"$f":"AM7*(1+'01_1_General Data'!AT113)","v":0},{"$f":"AN7*(1+'01_1_General Data'!AU113)","v":0},{"$f":"AO7*(1+'01_1_General Data'!AV113)","v":0}]
["Total NH/Asst Living/Elderly Care",{"$f":"'01_1_General Data'!D115","v":0},{"$f":"'02_2_EXPENSE'!D15","v":0},{"$f":"C8*(1+'01_1_General Data'!I115)","v":0},{"$f":"D8*(1+'01_1_General Data'!J115)","v":0},{"$f":"E8*(1+'01_1_General Data'!K115)","v":0},{"$f":"F8*(1+'01_1_General Data'!L115)","v":0},{"$f":"G8*(1+'01_1_General Data'!M115)","v":0},{"$f":"H8*(1+'01_1_General Data'!N115)","v":0},{"$f":"I8*(1+'01_1_General Data'!O115)","v":0},{"$f":"J8*(1+'01_1_General Data'!P115)","v":0},{"$f":"K8*(1+'01_1_General Data'!Q115)","v":0},{"$f":"L8*(1+'01_1_General Data'!R115)","v":0},{"$f":"M8*(1+'01_1_General Data'!S115)","v":0},{"$f":"N8*(1+'01_1_General Data'!T115)","v":0},{"$f":"O8*(1+'01_1_General Data'!U115)","v":0},{"$f":"P8*(1+'01_1_General Data'!V115)","v":0},{"$f":"Q8*(1+'01_1_General Data'!W115)","v":0},{"$f":"R8*(1+'01_1_General Data'!X115)","v":0},{"$f":"S8*(1+'01_1_General Data'!Y115)","v":0},{"$f":"T8*(1+'01_1_General Data'!Z115)","v":0},{"$f":"U8*(1+'01_1_General Data'!AA115)","v":0},{"$f":"V8*(1+'01_1_General Data'!AB115)","v":0},{"$f":"W8*(1+'01_1_General Data'!AC115)","v":0},{"$f":"X8*(1+'01_1_General Data'!AD115)","v":0},{"$f":"Y8*(1+'01_1_General Data'!AE115)","v":0},{"$f":"Z8*(1+'01_1_General Data'!AF115)","v":0},{"$f":"AA8*(1+'01_1_General Data'!AG115)","v":0},{"$f":"AB8*(1+'01_1_General Data'!AH115)","v":0},{"$f":"AC8*(1+'01_1_General Data'!AI115)","v":0},{"$f":"AD8*(1+'01_1_General Data'!AJ115)","v":0},{"$f":"AE8*(1+'01_1_General Data'!AK115)","v":0},{"$f":"AF8*(1+'01_1_General Data'!AL115)","v":0},{"$f":"AG8*(1+'01_1_General Data'!AM115)","v":0},{"$f":"AH8*(1+'01_1_General Data'!AN115)","v":0},{"$f":"AI8*(1+'01_1_General Data'!AO115)","v":0},{"$f":"AJ8*(1+'01_1_General Data'!AP115)","v":0},{"$f":"AK8*(1+'01_1_General Data'!AQ115)","v":0},{"$f":"AL8*(1+'01_1_General Data'!AR115)","v":0},{"$f":"AM8*(1+'01_1_General Data'!AS115)","v":0},{"$f":"AN8*(1+'01_1_General Data'!AT115)","v":0},{"$f":"AO8*(1+'01_1_General Data'!AU115)","v":0}]
["Other Income",{"$f":"'01_1_General Data'!D114","v":0},{"$f":"'02_1_INCOME'!H81","v":0},{"$f":"C9*(1+'01_1_General Data'!I114)","v":0},{"$f":"D9*(1+'01_1_General Data'!J114)","v":0},{"$f":"E9*(1+'01_1_General Data'!K114)","v":0},{"$f":"F9*(1+'01_1_General Data'!L114)","v":0},{"$f":"G9*(1+'01_1_General Data'!M114)","v":0},{"$f":"H9*(1+'01_1_General Data'!N114)","v":0},{"$f":"I9*(1+'01_1_General Data'!O114)","v":0},{"$f":"J9*(1+'01_1_General Data'!P114)","v":0},{"$f":"K9*(1+'01_1_General Data'!Q114)","v":0},{"$f":"L9*(1+'01_1_General Data'!R114)","v":0},{"$f":"M9*(1+'01_1_General Data'!S114)","v":0},{"$f":"N9*(1+'01_1_General Data'!T114)","v":0},{"$f":"O9*(1+'01_1_General Data'!U114)","v":0},{"$f":"P9*(1+'01_1_General Data'!V114)","v":0},{"$f":"Q9*(1+'01_1_General Data'!W114)","v":0},{"$f":"R9*(1+'01_1_General Data'!X114)","v":0},{"$f":"S9*(1+'01_1_General Data'!Y114)","v":0},{"$f":"T9*(1+'01_1_General Data'!Z114)","v":0},{"$f":"U9*(1+'01_1_General Data'!AA114)","v":0},{"$f":"V9*(1+'01_1_General Data'!AB114)","v":0},{"$f":"W9*(1+'01_1_General Data'!AC114)","v":0},{"$f":"X9*(1+'01_1_General Data'!AD114)","v":0},{"$f":"Y9*(1+'01_1_General Data'!AE114)","v":0},{"$f":"Z9*(1+'01_1_General Data'!AF114)","v":0},{"$f":"AA9*(1+'01_1_General Data'!AG114)","v":0},{"$f":"AB9*(1+'01_1_General Data'!AH114)","v":0},{"$f":"AC9*(1+'01_1_General Data'!AI114)","v":0},{"$f":"AD9*(1+'01_1_General Data'!AJ114)","v":0},{"$f":"AE9*(1+'01_1_General Data'!AK114)","v":0},{"$f":"AF9*(1+'01_1_General Data'!AL114)","v":0},{"$f":"AG9*(1+'01_1_General Data'!AM114)","v":0},{"$f":"AH9*(1+'01_1_General Data'!AN114)","v":0},{"$f":"AI9*(1+'01_1_General Data'!AO114)","v":0},{"$f":"AJ9*(1+'01_1_General Data'!AP114)","v":0},{"$f":"AK9*(1+'01_1_General Data'!AQ114)","v":0},{"$f":"AL9*(1+'01_1_General Data'!AR114)","v":0},{"$f":"AM9*(1+'01_1_General Data'!AS114)","v":0},{"$f":"AN9*(1+'01_1_General Data'!AT114)","v":0},{"$f":"AO9*(1+'01_1_General Data'!AU114)","v":0}]
["Gross Project Income",null,{"$f":"SUM(C5:C9)","v":0},0,0,0,0,0,0,0,0,0,0,0,0,0,0,0,0,0,0,0,0,0,0,0,0,0,0,0,0,0,0,0,0,0,0,0,0,0,0,0]
["Vacancy Allowance Residential Affordable",{"$f":"'01_1_General Data'!D123","v":0},{"$f":"-$B11*C5","v":0},0,0,0,0,0,0,0,0,0,0,0,0,0,0,0,0,0,0,0,0,0,0,0,0,0,0,0,0,0,0,0,0,0,0,0,0,0,0,0]
["Vacancy Allowance Residential Market",{"$f":"'01_1_General Data'!D122","v":0},{"$f":"-$B12*C6","v":0},0,0,0,0,0,0,0,0,0,0,0,0,0,0,0,0,0,0,0,0,0,0,0,0,0,0,0,0,0,0,0,0,0,0,0,0,0,0,0]
["Vacancy Allowance Commercial",{"$f":"'01_1_General Data'!D124","v":0},{"$f":"-$B13*C7","v":0},0,0,0,0,0,0,0,0,0,0,0,0,0,0,0,0,0,0,0,0,0,0,0,0,0,0,0,0,0,0,0,0,0,0,0,0,0,0,0]
["Vacancy Allowance Other",{"$f":"'01_1_General Data'!D126","v":0},{"$f":"-$B14*C9","v":0},0,0,0,0,0,0,0,0,0,0,0,0,0,0,0,0,0,0,0,0,0,0,0,0,0,0,0,0,0,0,0,0,0,0,0,0,0,0,0]
["Effective Gross Income",null,{"$f":"SUM(C10:C14)","v":0},0,0,0,0,0,0,0,0,0,0,0,0,0,0,0,0,0,0,0,0,0,0,0,0,0,0,0,0,0,0,0,0,0,0,0,0,0,0,0]
[]
["Expenses"]
["Administrative",{"$f":"rng01_OpExRate","v":0},{"$f":"'02_2_EXPENSE'!$D$39-'02_2_EXPENSE'!$D$28","v":0},{"$f":"C18*(1+$B18)","v":0},{"$f":"D18*(1+$B18)","v":0},0,0,0,0,0,0,0,0,0,0,0,0,0,0,0,0,0,{"$f":"V18*(1+$B18)","v":0},0,0,0,0,0,0,0,0,0,0,0,0,0,0,0,0,0,0,0]
["Management Fee",{"$f":"rng01_ManagementFee","v":0},{"$f":"C15*rng01_ManagementFee","v":0},0,0,0,0,0,0,0,0,0,0,0,0,0,0,0,0,0,0,0,0,0,0,0,0,0,0,0,0,0,0,0,0,0,0,0,0,0,0,0]
["Utilities",{"$f":"rng01_OpExRate","v":0},{"$f":"'02_2_EXPENSE'!$D$47","v":0},{"$f":"C20*(1+$B20)","v":0},0,0,0,0,0,0,0,0,0,0,0,0,0,0,0,0,0,0,{"$f":"V20*(1+$B20)","v":0},{"$f":"W20*(1+$B20)","v":0},{"$f":"X20*(1+$B20)","v":0},{"$f":"Y20*(1+$B20)","v":0},{"$f":"Z20*(1+$B20)","v":0},{"$f":"AA20*(1+$B20)","v":0},{"$f":"AB20*(1+$B20)","v":0},{"$f":"AC20*(1+$B20)","v":0},{"$f":"AD20*(1+$B20)","v":0},{"$f":"AE20*(1+$B20)","v":0},{"$f":"AF20*(1+$B20)","v":0},{"$f":"AG20*(1+$B20)","v":0},{"$f":"AH20*(1+$B20)","v":0},{"$f":"AI20*(1+$B20)","v":0},{"$f":"AJ20*(1+$B20)","v":0},{"$f":"AK20*(1+$B20)","v":0},{"$f":"AL20*(1+$B20)","v":0},{"$f":"AM20*(1+$B20)","v":0},{"$f":"AN20*(1+$B20)","v":0},{"$f":"AO20*(1+$B20)","v":0}]
["Operations & Maintenance",{"$f":"rng01_OpExRate","v":0},{"$f":"'02_2_EXPENSE'!$D$74","v":0},{"$f":"C21*(1+$B21)","v":0},0,0,0,0,0,0,0,0,0,0,0,0,0,0,0,0,0,0,0,0,0,0,0,0,0,0,0,0,0,0,0,0,0,0,0,0,0,0]
["Real Estate Taxes",{"$f":"'01_1_General Data'!$D$116","v":0},{"$f":"'02_2_EXPENSE'!$D$76","v":0},{"$f":"C22*(1+'01_1_General Data'!J116)","v":0},{"$f":"D22*(1+'01_1_General Data'!K116)","v":0},{"$f":"E22*(1+'01_1_General Data'!L116)","v":0},{"$f":"F22*(1+'01_1_General Data'!M116)","v":0},{"$f":"G22*(1+'01_1_General Data'!N116)","v":0},{"$f":"H22*(1+'01_1_General Data'!O116)","v":0},{"$f":"I22*(1+'01_1_General Data'!P116)","v":0},{"$f":"J22*(1+'01_1_General Data'!Q116)","v":0},{"$f":"K22*(1+'01_1_General Data'!R116)","v":0},{"$f":"L22*(1+'01_1_General Data'!S116)","v":0},{"$f":"M22*(1+'01_1_General Data'!T116)","v":0},{"$f":"N22*(1+'01_1_General Data'!U116)","v":0},{"$f":"O22*(1+'01_1_General Data'!V116)","v":0},{"$f":"P22*(1+'01_1_General Data'!W116)","v":0},{"$f":"Q22*(1+'01_1_General Data'!X116)","v":0},{"$f":"R22*(1+'01_1_General Data'!Y116)","v":0},{"$f":"S22*(1+'01_1_General Data'!Z116)","v":0},{"$f":"T22*(1+'01_1_General Data'!AA116)","v":0},{"$f":"U22*(1+'01_1_General Data'!AB116)","v":0},{"$f":"V22*(1+'01_1_General Data'!AC116)","v":0},{"$f":"W22*(1+'01_1_General Data'!AD116)","v":0},{"$f":"X22*(1+'01_1_General Data'!AE116)","v":0},{"$f":"Y22*(1+'01_1_General Data'!AF116)","v":0},{"$f":"Z22*(1+'01_1_General Data'!AG116)","v":0},{"$f":"AA22*(1+'01_1_General Data'!AH116)","v":0},{"$f":"AB22*(1+'01_1_General Data'!AI116)","v":0},{"$f":"AC22*(1+'01_1_General Data'!AJ116)","v":0},{"$f":"AD22*(1+'01_1_General Data'!AK116)","v":0},{"$f":"AE22*(1+'01_1_General Data'!AL116)","v":0},{"$f":"AF22*(1+'01_1_General Data'!AM116)","v":0},{"$f":"AG22*(1+'01_1_General Data'!AN116)","v":0},{"$f":"AH22*(1+'01_1_General Data'!AO116)","v":0},{"$f":"AI22*(1+'01_1_General Data'!AP116)","v":0},{"$f":"AJ22*(1+'01_1_General Data'!AQ116)","v":0},{"$f":"AK22*(1+'01_1_General Data'!AR116)","v":0},{"$f":"AL22*(1+'01_1_General Data'!AS116)","v":0},{"$f":"AM22*(1+'01_1_General Data'!AT116)","v":0},{"$f":"AN22*(1+'01_1_General Data'!AU116)","v":0},{"$f":"AO22*(1+'01_1_General Data'!AV116)","v":0}]
["Property & Liability Insurance",{"$f":"'01_1_General Data'!$D$117","v":0},{"$f":"'02_2_EXPENSE'!$D$79","v":0},{"$f":"C23*(1+'01_1_General Data'!J117)","v":0},{"$f":"D23*(1+'01_1_General Data'!K117)","v":0},{"$f":"E23*(1+'01_1_General Data'!L117)","v":0},{"$f":"F23*(1+'01_1_General Data'!M117)","v":0},{"$f":"G23*(1+'01_1_General Data'!N117)","v":0},{"$f":"H23*(1+'01_1_General Data'!O117)","v":0},{"$f":"I23*(1+'01_1_General Data'!P117)","v":0},{"$f":"J23*(1+'01_1_General Data'!Q117)","v":0},{"$f":"K23*(1+'01_1_General Data'!R117)","v":0},{"$f":"L23*(1+'01_1_General Data'!S117)","v":0},{"$f":"M23*(1+'01_1_General Data'!T117)","v":0},{"$f":"N23*(1+'01_1_General Data'!U117)","v":0},{"$f":"O23*(1+'01_1_General Data'!V117)","v":0},{"$f":"P23*(1+'01_1_General Data'!W117)","v":0},{"$f":"Q23*(1+'01_1_General Data'!X117)","v":0},{"$f":"R23*(1+'01_1_General Data'!Y117)","v":0},{"$f":"S23*(1+'01_1_General Data'!Z117)","v":0},{"$f":"T23*(1+'01_1_General Data'!AA117)","v":0},{"$f":"U23*(1+'01_1_General Data'!AB117)","v":0},{"$f":"V23*(1+'01_1_General Data'!AC117)","v":0},{"$f":"W23*(1+'01_1_General Data'!AD117)","v":0},{"$f":"X23*(1+'01_1_General Data'!AE117)","v":0},{"$f":"Y23*(1+'01_1_General Data'!AF117)","v":0},{"$f":"Z23*(1+'01_1_General Data'!AG117)","v":0},{"$f":"AA23*(1+'01_1_General Data'!AH117)","v":0},{"$f":"AB23*(1+'01_1_General Data'!AI117)","v":0},{"$f":"AC23*(1+'01_1_General Data'!AJ117)","v":0},{"$f":"AD23*(1+'01_1_General Data'!AK117)","v":0},{"$f":"AE23*(1+'01_1_General Data'!AL117)","v":0},{"$f":"AF23*(1+'01_1_General Data'!AM117)","v":0},{"$f":"AG23*(1+'01_1_General Data'!AN117)","v":0},{"$f":"AH23*(1+'01_1_General Data'!AO117)","v":0},{"$f":"AI23*(1+'01_1_General Data'!AP117)","v":0},{"$f":"AJ23*(1+'01_1_General Data'!AQ117)","v":0},{"$f":"AK23*(1+'01_1_General Data'!AR117)","v":0},{"$f":"AL23*(1+'01_1_General Data'!AS117)","v":0},{"$f":"AM23*(1+'01_1_General Data'!AT117)","v":0},{"$f":"AN23*(1+'01_1_General Data'!AU117)","v":0},{"$f":"AO23*(1+'01_1_General Data'!AV117)","v":0}]
["Other Taxes & Insurance",{"$f":"'01_1_General Data'!$D$118","v":0},{"$f":"'02_2_EXPENSE'!$D$85-'02_2_EXPENSE'!$D$79-'02_2_EXPENSE'!$D$76","v":0},{"$f":"C24*(1+'01_1_General Data'!J118)","v":0},{"$f":"D24*(1+'01_1_General Data'!K118)","v":0},{"$f":"E24*(1+'01_1_General Data'!L118)","v":0},{"$f":"F24*(1+'01_1_General Data'!M118)","v":0},{"$f":"G24*(1+'01_1_General Data'!N118)","v":0},{"$f":"H24*(1+'01_1_General Data'!O118)","v":0},{"$f":"I24*(1+'01_1_General Data'!P118)","v":0},{"$f":"J24*(1+'01_1_General Data'!Q118)","v":0},{"$f":"K24*(1+'01_1_General Data'!R118)","v":0},{"$f":"L24*(1+'01_1_General Data'!S118)","v":0},{"$f":"M24*(1+'01_1_General Data'!T118)","v":0},{"$f":"N24*(1+'01_1_General Data'!U118)","v":0},{"$f":"O24*(1+'01_1_General Data'!V118)","v":0},{"$f":"P24*(1+'01_1_General Data'!W118)","v":0},{"$f":"Q24*(1+'01_1_General Data'!X118)","v":0},{"$f":"R24*(1+'01_1_General Data'!Y118)","v":0},{"$f":"S24*(1+'01_1_General Data'!Z118)","v":0},{"$f":"T24*(1+'01_1_General Data'!AA118)","v":0},{"$f":"U24*(1+'01_1_General Data'!AB118)","v":0},{"$f":"V24*(1+'01_1_General Data'!AC118)","v":0},{"$f":"W24*(1+'01_1_General Data'!AD118)","v":0},{"$f":"X24*(1+'01_1_General Data'!AE118)","v":0},{"$f":"Y24*(1+'01_1_General Data'!AF118)","v":0},{"$f":"Z24*(1+'01_1_General Data'!AG118)","v":0},{"$f":"AA24*(1+'01_1_General Data'!AH118)","v":0},{"$f":"AB24*(1+'01_1_General Data'!AI118)","v":0},{"$f":"AC24*(1+'01_1_General Data'!AJ118)","v":0},{"$f":"AD24*(1+'01_1_General Data'!AK118)","v":0},{"$f":"AE24*(1+'01_1_General Data'!AL118)","v":0},{"$f":"AF24*(1+'01_1_General Data'!AM118)","v":0},{"$f":"AG24*(1+'01_1_General Data'!AN118)","v":0},{"$f":"AH24*(1+'01_1_General Data'!AO118)","v":0},{"$f":"AI24*(1+'01_1_General Data'!AP118)","v":0},{"$f":"AJ24*(1+'01_1_General Data'!AQ118)","v":0},{"$f":"AK24*(1+'01_1_General Data'!AR118)","v":0},{"$f":"AL24*(1+'01_1_General Data'!AS118)","v":0},{"$f":"AM24*(1+'01_1_General Data'!AT118)","v":0},{"$f":"AN24*(1+'01_1_General Data'!AU118)","v":0},{"$f":"AO24*(1+'01_1_General Data'!AV118)","v":0}]
["NH / Assisted Living /Elderly Care",{"$f":"rng01_OpExRate","v":0},{"$f":"'02_2_EXPENSE'!$D$87*(1+$B25)","v":0},{"$f":"C25*(1+$B25)","v":0},0,0,0,0,0,0,0,0,0,0,0,0,0,0,0,0,0,0,0,0,0,0,0,0,0,0,0,0,0,0,0,0,0,0,0,0,0,0]
["Replacement Reserve",{"$f":"'01_1_General Data'!D129","v":0},{"$f":"'02_2_EXPENSE'!$D$89","v":0},{"$f":"C26*(1+$B26)","v":0},0,0,0,0,0,0,0,0,0,0,0,0,0,0,0,0,0,0,0,0,0,0,0,0,0,0,0,0,0,0,0,0,0,0,0,0,0,0]
["Total Expenses",null,{"$f":"SUM(C18:C26)","v":0},{"$f":"SUM(D18:D26)","v":0},{"$f":"SUM(E18:E26)","v":0},0,0,0,0,0,0,0,0,0,0,0,0,0,0,0,0,0,{"$f":"SUM(W18:W26)","v":0},0,0,0,0,0,0,0,0,0,0,0,0,0,0,0,0,0,0,0]
["Management Fee is calculated as a percentage of EGI"]
[]
["Net Operating Income",null,{"$f":"C15-C27","v":0},{"$f":"D15-D27","v":0},{"$f":"E15-E27","v":0},0,0,0,0,0,0,0,0,0,0,0,0,0,0,0,0,0,{"$f":"W15-W27","v":0},0,0,0,0,0,0,0,0,0,0,0,0,0,0,0,0,0,0,0]
[]
["Debt Service Financing"]
[{"$f":"'06_2_Credit Committee'!$C$38","v":""},null,{"$f":"SUMIF('03_3_Amortizations'!$A$13:$A$492,'04_1_Pro Forma'!C4,'03_3_Amortizations'!$E$13:$E$492)","v":0},{"$f":"SUMIF('03_3_Amortizations'!$A$13:$A$492,'04_1_Pro Forma'!D4,'03_3_Amortizations'!$E$13:$E$492)","v":0},{"$f":"SUMIF('03_3_Amortizations'!$A$13:$A$492,'04_1_Pro Forma'!E4,'03_3_Amortizations'!$E$13:$E$492)","v":0},{"$f":"SUMIF('03_3_Amortizations'!$A$13:$A$492,'04_1_Pro Forma'!F4,'03_3_Amortizations'!$E$13:$E$492)","v":0},{"$f":"SUMIF('03_3_Amortizations'!$A$13:$A$492,'04_1_Pro Forma'!G4,'03_3_Amortizations'!$E$13:$E$492)","v":0},{"$f":"SUMIF('03_3_Amortizations'!$A$13:$A$492,'04_1_Pro Forma'!H4,'03_3_Amortizations'!$E$13:$E$492)","v":0},{"$f":"SUMIF('03_3_Amortizations'!$A$13:$A$492,'04_1_Pro Forma'!I4,'03_3_Amortizations'!$E$13:$E$492)","v":0},{"$f":"SUMIF('03_3_Amortizations'!$A$13:$A$492,'04_1_Pro Forma'!J4,'03_3_Amortizations'!$E$13:$E$492)","v":0},{"$f":"SUMIF('03_3_Amortizations'!$A$13:$A$492,'04_1_Pro Forma'!K4,'03_3_Amortizations'!$E$13:$E$492)","v":0},{"$f":"SUMIF('03_3_Amortizations'!$A$13:$A$492,'04_1_Pro Forma'!L4,'03_3_Amortizations'!$E$13:$E$492)","v":0},{"$f":"SUMIF('03_3_Amortizations'!$A$13:$A$492,'04_1_Pro Forma'!M4,'03_3_Amortizations'!$E$13:$E$492)","v":0},{"$f":"SUMIF('03_3_Amortizations'!$A$13:$A$492,'04_1_Pro Forma'!N4,'03_3_Amortizations'!$E$13:$E$492)","v":0},{"$f":"SUMIF('03_3_Amortizations'!$A$13:$A$492,'04_1_Pro Forma'!O4,'03_3_Amortizations'!$E$13:$E$492)","v":0},{"$f":"SUMIF('03_3_Amortizations'!$A$13:$A$492,'04_1_Pro Forma'!P4,'03_3_Amortizations'!$E$13:$E$492)","v":0},{"$f":"SUMIF('03_3_Amortizations'!$A$13:$A$492,'04_1_Pro Forma'!Q4,'03_3_Amortizations'!$E$13:$E$492)","v":0},{"$f":"SUMIF('03_3_Amortizations'!$A$13:$A$492,'04_1_Pro Forma'!R4,'03_3_Amortizations'!$E$13:$E$492)","v":0},{"$f":"SUMIF('03_3_Amortizations'!$A$13:$A$492,'04_1_Pro Forma'!S4,'03_3_Amortizations'!$E$13:$E$492)","v":0},{"$f":"SUMIF('03_3_Amortizations'!$A$13:$A$492,'04_1_Pro Forma'!T4,'03_3_Amortizations'!$E$13:$E$492)","v":0},{"$f":"SUMIF('03_3_Amortizations'!$A$13:$A$492,'04_1_Pro Forma'!U4,'03_3_Amortizations'!$E$13:$E$492)","v":0},{"$f":"SUMIF('03_3_Amortizations'!$A$13:$A$492,'04_1_Pro Forma'!V4,'03_3_Amortizations'!$E$13:$E$492)","v":0},{"$f":"SUMIF('03_3_Amortizations'!$A$13:$A$492,'04_1_Pro Forma'!W4,'03_3_Amortizations'!$E$13:$E$492)","v":0},{"$f":"SUMIF('03_3_Amortizations'!$A$13:$A$492,'04_1_Pro Forma'!X4,'03_3_Amortizations'!$E$13:$E$492)","v":0},{"$f":"SUMIF('03_3_Amortizations'!$A$13:$A$492,'04_1_Pro Forma'!Y4,'03_3_Amortizations'!$E$13:$E$492)","v":0},{"$f":"SUMIF('03_3_Amortizations'!$A$13:$A$492,'04_1_Pro Forma'!Z4,'03_3_Amortizations'!$E$13:$E$492)","v":0},{"$f":"SUMIF('03_3_Amortizations'!$A$13:$A$492,'04_1_Pro Forma'!AA4,'03_3_Amortizations'!$E$13:$E$492)","v":0},{"$f":"SUMIF('03_3_Amortizations'!$A$13:$A$492,'04_1_Pro Forma'!AB4,'03_3_Amortizations'!$E$13:$E$492)","v":0},{"$f":"SUMIF('03_3_Amortizations'!$A$13:$A$492,'04_1_Pro Forma'!AC4,'03_3_Amortizations'!$E$13:$E$492)","v":0},{"$f":"SUMIF('03_3_Amortizations'!$A$13:$A$492,'04_1_Pro Forma'!AD4,'03_3_Amortizations'!$E$13:$E$492)","v":0},{"$f":"SUMIF('03_3_Amortizations'!$A$13:$A$492,'04_1_Pro Forma'!AE4,'03_3_Amortizations'!$E$13:$E$492)","v":0},{"$f":"SUMIF('03_3_Amortizations'!$A$13:$A$492,'04_1_Pro Forma'!AF4,'03_3_Amortizations'!$E$13:$E$492)","v":0},{"$f":"SUMIF('03_3_Amortizations'!$A$13:$A$492,'04_1_Pro Forma'!AG4,'03_3_Amortizations'!$E$13:$E$492)","v":0},{"$f":"SUMIF('03_3_Amortizations'!$A$13:$A$492,'04_1_Pro Forma'!AH4,'03_3_Amortizations'!$E$13:$E$492)","v":0},{"$f":"SUMIF('03_3_Amortizations'!$A$13:$A$492,'04_1_Pro Forma'!AI4,'03_3_Amortizations'!$E$13:$E$492)","v":0},{"$f":"SUMIF('03_3_Amortizations'!$A$13:$A$492,'04_1_Pro Forma'!AJ4,'03_3_Amortizations'!$E$13:$E$492)","v":0},{"$f":"SUMIF('03_3_Amortizations'!$A$13:$A$492,'04_1_Pro Forma'!AK4,'03_3_Amortizations'!$E$13:$E$492)","v":0},{"$f":"SUMIF('03_3_Amortizations'!$A$13:$A$492,'04_1_Pro Forma'!AL4,'03_3_Amortizations'!$E$13:$E$492)","v":0},{"$f":"SUMIF('03_3_Amortizations'!$A$13:$A$492,'04_1_Pro Forma'!AM4,'03_3_Amortizations'!$E$13:$E$492)","v":0},{"$f":"SUMIF('03_3_Amortizations'!$A$13:$A$492,'04_1_Pro Forma'!AN4,'03_3_Amortizations'!$E$13:$E$492)","v":0},{"$f":"SUMIF('03_3_Amortizations'!$A$13:$A$492,'04_1_Pro Forma'!AO4,'03_3_Amortizations'!$E$13:$E$492)","v":0},{"$f":"SUMIF('03_3_Amortizations'!$A$13:$A$492,'04_1_Pro Forma'!AP4,'03_3_Amortizations'!$E$13:$E$492)","v":0}]
["Mortgage Insurance Premium",null,{"$f":"SUMIF('03_3_Amortizations'!$A$13:$A$492,'04_1_Pro Forma'!C4,'03_3_Amortizations'!$I$13:$I$492)","v":0},{"$f":"SUMIF('03_3_Amortizations'!$A$13:$A$492,'04_1_Pro Forma'!D4,'03_3_Amortizations'!$I$13:$I$492)","v":0},{"$f":"SUMIF('03_3_Amortizations'!$A$13:$A$492,'04_1_Pro Forma'!E4,'03_3_Amortizations'!$I$13:$I$492)","v":0},{"$f":"SUMIF('03_3_Amortizations'!$A$13:$A$492,'04_1_Pro Forma'!F4,'03_3_Amortizations'!$I$13:$I$492)","v":0},{"$f":"SUMIF('03_3_Amortizations'!$A$13:$A$492,'04_1_Pro Forma'!G4,'03_3_Amortizations'!$I$13:$I$492)","v":0},{"$f":"SUMIF('03_3_Amortizations'!$A$13:$A$492,'04_1_Pro Forma'!H4,'03_3_Amortizations'!$I$13:$I$492)","v":0},{"$f":"SUMIF('03_3_Amortizations'!$A$13:$A$492,'04_1_Pro Forma'!I4,'03_3_Amortizations'!$I$13:$I$492)","v":0},{"$f":"SUMIF('03_3_Amortizations'!$A$13:$A$492,'04_1_Pro Forma'!J4,'03_3_Amortizations'!$I$13:$I$492)","v":0},{"$f":"SUMIF('03_3_Amortizations'!$A$13:$A$492,'04_1_Pro Forma'!K4,'03_3_Amortizations'!$I$13:$I$492)","v":0},{"$f":"SUMIF('03_3_Amortizations'!$A$13:$A$492,'04_1_Pro Forma'!L4,'03_3_Amortizations'!$I$13:$I$492)","v":0},{"$f":"SUMIF('03_3_Amortizations'!$A$13:$A$492,'04_1_Pro Forma'!M4,'03_3_Amortizations'!$I$13:$I$492)","v":0},{"$f":"SUMIF('03_3_Amortizations'!$A$13:$A$492,'04_1_Pro Forma'!N4,'03_3_Amortizations'!$I$13:$I$492)","v":0},{"$f":"SUMIF('03_3_Amortizations'!$A$13:$A$492,'04_1_Pro Forma'!O4,'03_3_Amortizations'!$I$13:$I$492)","v":0},{"$f":"SUMIF('03_3_Amortizations'!$A$13:$A$492,'04_1_Pro Forma'!P4,'03_3_Amortizations'!$I$13:$I$492)","v":0},{"$f":"SUMIF('03_3_Amortizations'!$A$13:$A$492,'04_1_Pro Forma'!Q4,'03_3_Amortizations'!$I$13:$I$492)","v":0},{"$f":"SUMIF('03_3_Amortizations'!$A$13:$A$492,'04_1_Pro Forma'!R4,'03_3_Amortizations'!$I$13:$I$492)","v":0},{"$f":"SUMIF('03_3_Amortizations'!$A$13:$A$492,'04_1_Pro Forma'!S4,'03_3_Amortizations'!$I$13:$I$492)","v":0},{"$f":"SUMIF('03_3_Amortizations'!$A$13:$A$492,'04_1_Pro Forma'!T4,'03_3_Amortizations'!$I$13:$I$492)","v":0},{"$f":"SUMIF('03_3_Amortizations'!$A$13:$A$492,'04_1_Pro Forma'!U4,'03_3_Amortizations'!$I$13:$I$492)","v":0},{"$f":"SUMIF('03_3_Amortizations'!$A$13:$A$492,'04_1_Pro Forma'!V4,'03_3_Amortizations'!$I$13:$I$492)","v":0},{"$f":"SUMIF('03_3_Amortizations'!$A$13:$A$492,'04_1_Pro Forma'!W4,'03_3_Amortizations'!$I$13:$I$492)","v":0},{"$f":"SUMIF('03_3_Amortizations'!$A$13:$A$492,'04_1_Pro Forma'!X4,'03_3_Amortizations'!$I$13:$I$492)","v":0},{"$f":"SUMIF('03_3_Amortizations'!$A$13:$A$492,'04_1_Pro Forma'!Y4,'03_3_Amortizations'!$I$13:$I$492)","v":0},{"$f":"SUMIF('03_3_Amortizations'!$A$13:$A$492,'04_1_Pro Forma'!Z4,'03_3_Amortizations'!$I$13:$I$492)","v":0},{"$f":"SUMIF('03_3_Amortizations'!$A$13:$A$492,'04_1_Pro Forma'!AA4,'03_3_Amortizations'!$I$13:$I$492)","v":0},{"$f":"SUMIF('03_3_Amortizations'!$A$13:$A$492,'04_1_Pro Forma'!AB4,'03_3_Amortizations'!$I$13:$I$492)","v":0},{"$f":"SUMIF('03_3_Amortizations'!$A$13:$A$492,'04_1_Pro Forma'!AC4,'03_3_Amortizations'!$I$13:$I$492)","v":0},{"$f":"SUMIF('03_3_Amortizations'!$A$13:$A$492,'04_1_Pro Forma'!AD4,'03_3_Amortizations'!$I$13:$I$492)","v":0},{"$f":"SUMIF('03_3_Amortizations'!$A$13:$A$492,'04_1_Pro Forma'!AE4,'03_3_Amortizations'!$I$13:$I$492)","v":0},{"$f":"SUMIF('03_3_Amortizations'!$A$13:$A$492,'04_1_Pro Forma'!AF4,'03_3_Amortizations'!$I$13:$I$492)","v":0},{"$f":"SUMIF('03_3_Amortizations'!$A$13:$A$492,'04_1_Pro Forma'!AG4,'03_3_Amortizations'!$I$13:$I$492)","v":0},{"$f":"SUMIF('03_3_Amortizations'!$A$13:$A$492,'04_1_Pro Forma'!AH4,'03_3_Amortizations'!$I$13:$I$492)","v":0},{"$f":"SUMIF('03_3_Amortizations'!$A$13:$A$492,'04_1_Pro Forma'!AI4,'03_3_Amortizations'!$I$13:$I$492)","v":0},{"$f":"SUMIF('03_3_Amortizations'!$A$13:$A$492,'04_1_Pro Forma'!AJ4,'03_3_Amortizations'!$I$13:$I$492)","v":0},{"$f":"SUMIF('03_3_Amortizations'!$A$13:$A$492,'04_1_Pro Forma'!AK4,'03_3_Amortizations'!$I$13:$I$492)","v":0},{"$f":"SUMIF('03_3_Amortizations'!$A$13:$A$492,'04_1_Pro Forma'!AL4,'03_3_Amortizations'!$I$13:$I$492)","v":0},{"$f":"SUMIF('03_3_Amortizations'!$A$13:$A$492,'04_1_Pro Forma'!AM4,'03_3_Amortizations'!$I$13:$I$492)","v":0},{"$f":"SUMIF('03_3_Amortizations'!$A$13:$A$492,'04_1_Pro Forma'!AN4,'03_3_Amortizations'!$I$13:$I$492)","v":0},{"$f":"SUMIF('03_3_Amortizations'!$A$13:$A$492,'04_1_Pro Forma'!AO4,'03_3_Amortizations'!$I$13:$I$492)","v":0},{"$f":"SUMIF('03_3_Amortizations'!$A$13:$A$492,'04_1_Pro Forma'!AP4,'03_3_Amortizations'!$I$13:$I$492)","v":0}]
["RIH Second Mortgage",null,{"$f":"SUMIF('03_3_Amortizations'!$A$13:$A$492,'04_1_Pro Forma'!C4,'03_3_Amortizations'!$N$13:$N$492)","v":0},{"$f":"SUMIF('03_3_Amortizations'!$A$13:$A$492,'04_1_Pro Forma'!D4,'03_3_Amortizations'!$N$13:$N$492)","v":0},{"$f":"SUMIF('03_3_Amortizations'!$A$13:$A$492,'04_1_Pro Forma'!E4,'03_3_Amortizations'!$N$13:$N$492)","v":0},{"$f":"SUMIF('03_3_Amortizations'!$A$13:$A$492,'04_1_Pro Forma'!F4,'03_3_Amortizations'!$N$13:$N$492)","v":0},{"$f":"SUMIF('03_3_Amortizations'!$A$13:$A$492,'04_1_Pro Forma'!G4,'03_3_Amortizations'!$N$13:$N$492)","v":0},{"$f":"SUMIF('03_3_Amortizations'!$A$13:$A$492,'04_1_Pro Forma'!H4,'03_3_Amortizations'!$N$13:$N$492)","v":0},{"$f":"SUMIF('03_3_Amortizations'!$A$13:$A$492,'04_1_Pro Forma'!I4,'03_3_Amortizations'!$N$13:$N$492)","v":0},{"$f":"SUMIF('03_3_Amortizations'!$A$13:$A$492,'04_1_Pro Forma'!J4,'03_3_Amortizations'!$N$13:$N$492)","v":0},{"$f":"SUMIF('03_3_Amortizations'!$A$13:$A$492,'04_1_Pro Forma'!K4,'03_3_Amortizations'!$N$13:$N$492)","v":0},{"$f":"SUMIF('03_3_Amortizations'!$A$13:$A$492,'04_1_Pro Forma'!L4,'03_3_Amortizations'!$N$13:$N$492)","v":0},{"$f":"SUMIF('03_3_Amortizations'!$A$13:$A$492,'04_1_Pro Forma'!M4,'03_3_Amortizations'!$N$13:$N$492)","v":0},{"$f":"SUMIF('03_3_Amortizations'!$A$13:$A$492,'04_1_Pro Forma'!N4,'03_3_Amortizations'!$N$13:$N$492)","v":0},{"$f":"SUMIF('03_3_Amortizations'!$A$13:$A$492,'04_1_Pro Forma'!O4,'03_3_Amortizations'!$N$13:$N$492)","v":0},{"$f":"SUMIF('03_3_Amortizations'!$A$13:$A$492,'04_1_Pro Forma'!P4,'03_3_Amortizations'!$N$13:$N$492)","v":0},{"$f":"SUMIF('03_3_Amortizations'!$A$13:$A$492,'04_1_Pro Forma'!Q4,'03_3_Amortizations'!$N$13:$N$492)","v":0},{"$f":"SUMIF('03_3_Amortizations'!$A$13:$A$492,'04_1_Pro Forma'!R4,'03_3_Amortizations'!$N$13:$N$492)","v":0},{"$f":"SUMIF('03_3_Amortizations'!$A$13:$A$492,'04_1_Pro Forma'!S4,'03_3_Amortizations'!$N$13:$N$492)","v":0},{"$f":"SUMIF('03_3_Amortizations'!$A$13:$A$492,'04_1_Pro Forma'!T4,'03_3_Amortizations'!$N$13:$N$492)","v":0},{"$f":"SUMIF('03_3_Amortizations'!$A$13:$A$492,'04_1_Pro Forma'!U4,'03_3_Amortizations'!$N$13:$N$492)","v":0},{"$f":"SUMIF('03_3_Amortizations'!$A$13:$A$492,'04_1_Pro Forma'!V4,'03_3_Amortizations'!$N$13:$N$492)","v":0},{"$f":"SUMIF('03_3_Amortizations'!$A$13:$A$492,'04_1_Pro Forma'!W4,'03_3_Amortizations'!$N$13:$N$492)","v":0},{"$f":"SUMIF('03_3_Amortizations'!$A$13:$A$492,'04_1_Pro Forma'!X4,'03_3_Amortizations'!$N$13:$N$492)","v":0},{"$f":"SUMIF('03_3_Amortizations'!$A$13:$A$492,'04_1_Pro Forma'!Y4,'03_3_Amortizations'!$N$13:$N$492)","v":0},{"$f":"SUMIF('03_3_Amortizations'!$A$13:$A$492,'04_1_Pro Forma'!Z4,'03_3_Amortizations'!$N$13:$N$492)","v":0},{"$f":"SUMIF('03_3_Amortizations'!$A$13:$A$492,'04_1_Pro Forma'!AA4,'03_3_Amortizations'!$N$13:$N$492)","v":0},{"$f":"SUMIF('03_3_Amortizations'!$A$13:$A$492,'04_1_Pro Forma'!AB4,'03_3_Amortizations'!$N$13:$N$492)","v":0},{"$f":"SUMIF('03_3_Amortizations'!$A$13:$A$492,'04_1_Pro Forma'!AC4,'03_3_Amortizations'!$N$13:$N$492)","v":0},{"$f":"SUMIF('03_3_Amortizations'!$A$13:$A$492,'04_1_Pro Forma'!AD4,'03_3_Amortizations'!$N$13:$N$492)","v":0},{"$f":"SUMIF('03_3_Amortizations'!$A$13:$A$492,'04_1_Pro Forma'!AE4,'03_3_Amortizations'!$N$13:$N$492)","v":0},{"$f":"SUMIF('03_3_Amortizations'!$A$13:$A$492,'04_1_Pro Forma'!AF4,'03_3_Amortizations'!$N$13:$N$492)","v":0},{"$f":"SUMIF('03_3_Amortizations'!$A$13:$A$492,'04_1_Pro Forma'!AG4,'03_3_Amortizations'!$N$13:$N$492)","v":0},{"$f":"SUMIF('03_3_Amortizations'!$A$13:$A$492,'04_1_Pro Forma'!AH4,'03_3_Amortizations'!$N$13:$N$492)","v":0},{"$f":"SUMIF('03_3_Amortizations'!$A$13:$A$492,'04_1_Pro Forma'!AI4,'03_3_Amortizations'!$N$13:$N$492)","v":0},{"$f":"SUMIF('03_3_Amortizations'!$A$13:$A$492,'04_1_Pro Forma'!AJ4,'03_3_Amortizations'!$N$13:$N$492)","v":0},{"$f":"SUMIF('03_3_Amortizations'!$A$13:$A$492,'04_1_Pro Forma'!AK4,'03_3_Amortizations'!$N$13:$N$492)","v":0},{"$f":"SUMIF('03_3_Amortizations'!$A$13:$A$492,'04_1_Pro Forma'!AL4,'03_3_Amortizations'!$N$13:$N$492)","v":0},{"$f":"SUMIF('03_3_Amortizations'!$A$13:$A$492,'04_1_Pro Forma'!AM4,'03_3_Amortizations'!$N$13:$N$492)","v":0},{"$f":"SUMIF('03_3_Amortizations'!$A$13:$A$492,'04_1_Pro Forma'!AN4,'03_3_Amortizations'!$N$13:$N$492)","v":0},{"$f":"SUMIF('03_3_Amortizations'!$A$13:$A$492,'04_1_Pro Forma'!AO4,'03_3_Amortizations'!$N$13:$N$492)","v":0},{"$f":"SUMIF('03_3_Amortizations'!$A$13:$A$492,'04_1_Pro Forma'!AP4,'03_3_Amortizations'!$N$13:$N$492)","v":0}]
["Total Debt Service",null,{"$f":"SUM(C33:C35)","v":0},{"$f":"SUM(D33:D35)","v":0},0,0,0,0,0,0,0,0,0,0,0,0,0,0,0,0,0,0,0,0,0,0,0,0,0,0,0,0,0,0,0,0,0,0,0,0,0,0]
["Cash Flow",null,{"$f":"C30-C36","v":0},{"$f":"D30-D36","v":0},0,0,0,0,0,0,0,0,0,0,0,0,0,0,0,0,0,0,0,0,0,0,0,0,0,0,0,0,0,0,0,0,0,0,0,0,0,0]
["Debt Coverage Ratio",null,{"$f":"IF(C36<>0, C30/C36, 0)","v":0},{"$f":"IF(D36<>0, D30/D36, 0)","v":0},0,0,0,0,0,0,0,0,0,0,0,0,0,0,0,0,0,0,0,0,0,0,0,0,0,0,0,0,0,0,0,0,0,0,0,0,0,0]
[]
["Cash Flow Financing"]
[{"$f":"'02_3_SOURCES'!B11","v":0},null,{"$f":"IF(MIN(C$37*'02_3_SOURCES'!$I11,SUMIF('03_3_Amortizations'!$A$13:$A$492,'04_1_Pro Forma'!C$4,'03_3_Amortizations'!$V$13:$V$492))<0, 0, MIN(C$37*'02_3_SOURCES'!$I11,SUMIF('03_3_Amortizations'!$A$13:$A$492,'04_1_Pro Forma'!C$4,'03_3_Amortizations'!$V$13:$V$492)))","v":0},{"$f":"IF(MIN(D$37*'02_3_SOURCES'!$I11,SUMIF('03_3_Amortizations'!$A$13:$A$492,'04_1_Pro Forma'!D$4,'03_3_Amortizations'!$V$13:$V$492))<0, 0, MIN(D$37*'02_3_SOURCES'!$I11,SUMIF('03_3_Amortizations'!$A$13:$A$492,'04_1_Pro Forma'!D$4,'03_3_Amortizations'!$V$13:$V$492)))","v":0},{"$f":"IF(MIN(E$37*'02_3_SOURCES'!$I11,SUMIF('03_3_Amortizations'!$A$13:$A$492,'04_1_Pro Forma'!E$4,'03_3_Amortizations'!$V$13:$V$492))<0, 0, MIN(E$37*'02_3_SOURCES'!$I11,SUMIF('03_3_Amortizations'!$A$13:$A$492,'04_1_Pro Forma'!E$4,'03_3_Amortizations'!$V$13:$V$492)))","v":0},{"$f":"IF(MIN(F$37*'02_3_SOURCES'!$I11,SUMIF('03_3_Amortizations'!$A$13:$A$492,'04_1_Pro Forma'!F$4,'03_3_Amortizations'!$V$13:$V$492))<0, 0, MIN(F$37*'02_3_SOURCES'!$I11,SUMIF('03_3_Amortizations'!$A$13:$A$492,'04_1_Pro Forma'!F$4,'03_3_Amortizations'!$V$13:$V$492)))","v":0},{"$f":"IF(MIN(G$37*'02_3_SOURCES'!$I11,SUMIF('03_3_Amortizations'!$A$13:$A$492,'04_1_Pro Forma'!G$4,'03_3_Amortizations'!$V$13:$V$492))<0, 0, MIN(G$37*'02_3_SOURCES'!$I11,SUMIF('03_3_Amortizations'!$A$13:$A$492,'04_1_Pro Forma'!G$4,'03_3_Amortizations'!$V$13:$V$492)))","v":0},{"$f":"IF(MIN(H$37*'02_3_SOURCES'!$I11,SUMIF('03_3_Amortizations'!$A$13:$A$492,'04_1_Pro Forma'!H$4,'03_3_Amortizations'!$V$13:$V$492))<0, 0, MIN(H$37*'02_3_SOURCES'!$I11,SUMIF('03_3_Amortizations'!$A$13:$A$492,'04_1_Pro Forma'!H$4,'03_3_Amortizations'!$V$13:$V$492)))","v":0},{"$f":"IF(MIN(I$37*'02_3_SOURCES'!$I11,SUMIF('03_3_Amortizations'!$A$13:$A$492,'04_1_Pro Forma'!I$4,'03_3_Amortizations'!$V$13:$V$492))<0, 0, MIN(I$37*'02_3_SOURCES'!$I11,SUMIF('03_3_Amortizations'!$A$13:$A$492,'04_1_Pro Forma'!I$4,'03_3_Amortizations'!$V$13:$V$492)))","v":0},{"$f":"IF(MIN(J$37*'02_3_SOURCES'!$I11,SUMIF('03_3_Amortizations'!$A$13:$A$492,'04_1_Pro Forma'!J$4,'03_3_Amortizations'!$V$13:$V$492))<0, 0, MIN(J$37*'02_3_SOURCES'!$I11,SUMIF('03_3_Amortizations'!$A$13:$A$492,'04_1_Pro Forma'!J$4,'03_3_Amortizations'!$V$13:$V$492)))","v":0},{"$f":"IF(MIN(K$37*'02_3_SOURCES'!$I11,SUMIF('03_3_Amortizations'!$A$13:$A$492,'04_1_Pro Forma'!K$4,'03_3_Amortizations'!$V$13:$V$492))<0, 0, MIN(K$37*'02_3_SOURCES'!$I11,SUMIF('03_3_Amortizations'!$A$13:$A$492,'04_1_Pro Forma'!K$4,'03_3_Amortizations'!$V$13:$V$492)))","v":0},{"$f":"IF(MIN(L$37*'02_3_SOURCES'!$I11,SUMIF('03_3_Amortizations'!$A$13:$A$492,'04_1_Pro Forma'!L$4,'03_3_Amortizations'!$V$13:$V$492))<0, 0, MIN(L$37*'02_3_SOURCES'!$I11,SUMIF('03_3_Amortizations'!$A$13:$A$492,'04_1_Pro Forma'!L$4,'03_3_Amortizations'!$V$13:$V$492)))","v":0},{"$f":"IF(MIN(M$37*'02_3_SOURCES'!$I11,SUMIF('03_3_Amortizations'!$A$13:$A$492,'04_1_Pro Forma'!M$4,'03_3_Amortizations'!$V$13:$V$492))<0, 0, MIN(M$37*'02_3_SOURCES'!$I11,SUMIF('03_3_Amortizations'!$A$13:$A$492,'04_1_Pro Forma'!M$4,'03_3_Amortizations'!$V$13:$V$492)))","v":0},{"$f":"IF(MIN(N$37*'02_3_SOURCES'!$I11,SUMIF('03_3_Amortizations'!$A$13:$A$492,'04_1_Pro Forma'!N$4,'03_3_Amortizations'!$V$13:$V$492))<0, 0, MIN(N$37*'02_3_SOURCES'!$I11,SUMIF('03_3_Amortizations'!$A$13:$A$492,'04_1_Pro Forma'!N$4,'03_3_Amortizations'!$V$13:$V$492)))","v":0},{"$f":"IF(MIN(O$37*'02_3_SOURCES'!$I11,SUMIF('03_3_Amortizations'!$A$13:$A$492,'04_1_Pro Forma'!O$4,'03_3_Amortizations'!$V$13:$V$492))<0, 0, MIN(O$37*'02_3_SOURCES'!$I11,SUMIF('03_3_Amortizations'!$A$13:$A$492,'04_1_Pro Forma'!O$4,'03_3_Amortizations'!$V$13:$V$492)))","v":0},{"$f":"IF(MIN(P$37*'02_3_SOURCES'!$I11,SUMIF('03_3_Amortizations'!$A$13:$A$492,'04_1_Pro Forma'!P$4,'03_3_Amortizations'!$V$13:$V$492))<0, 0, MIN(P$37*'02_3_SOURCES'!$I11,SUMIF('03_3_Amortizations'!$A$13:$A$492,'04_1_Pro Forma'!P$4,'03_3_Amortizations'!$V$13:$V$492)))","v":0},{"$f":"IF(MIN(Q$37*'02_3_SOURCES'!$I11,SUMIF('03_3_Amortizations'!$A$13:$A$492,'04_1_Pro Forma'!Q$4,'03_3_Amortizations'!$V$13:$V$492))<0, 0, MIN(Q$37*'02_3_SOURCES'!$I11,SUMIF('03_3_Amortizations'!$A$13:$A$492,'04_1_Pro Forma'!Q$4,'03_3_Amortizations'!$V$13:$V$492)))","v":0},{"$f":"IF(MIN(R$37*'02_3_SOURCES'!$I11,SUMIF('03_3_Amortizations'!$A$13:$A$492,'04_1_Pro Forma'!R$4,'03_3_Amortizations'!$V$13:$V$492))<0, 0, MIN(R$37*'02_3_SOURCES'!$I11,SUMIF('03_3_Amortizations'!$A$13:$A$492,'04_1_Pro Forma'!R$4,'03_3_Amortizations'!$V$13:$V$492)))","v":0},{"$f":"IF(MIN(S$37*'02_3_SOURCES'!$I11,SUMIF('03_3_Amortizations'!$A$13:$A$492,'04_1_Pro Forma'!S$4,'03_3_Amortizations'!$V$13:$V$492))<0, 0, MIN(S$37*'02_3_SOURCES'!$I11,SUMIF('03_3_Amortizations'!$A$13:$A$492,'04_1_Pro Forma'!S$4,'03_3_Amortizations'!$V$13:$V$492)))","v":0},{"$f":"IF(MIN(T$37*'02_3_SOURCES'!$I11,SUMIF('03_3_Amortizations'!$A$13:$A$492,'04_1_Pro Forma'!T$4,'03_3_Amortizations'!$V$13:$V$492))<0, 0, MIN(T$37*'02_3_SOURCES'!$I11,SUMIF('03_3_Amortizations'!$A$13:$A$492,'04_1_Pro Forma'!T$4,'03_3_Amortizations'!$V$13:$V$492)))","v":0},{"$f":"IF(MIN(U$37*'02_3_SOURCES'!$I11,SUMIF('03_3_Amortizations'!$A$13:$A$492,'04_1_Pro Forma'!U$4,'03_3_Amortizations'!$V$13:$V$492))<0, 0, MIN(U$37*'02_3_SOURCES'!$I11,SUMIF('03_3_Amortizations'!$A$13:$A$492,'04_1_Pro Forma'!U$4,'03_3_Amortizations'!$V$13:$V$492)))","v":0},{"$f":"IF(MIN(V$37*'02_3_SOURCES'!$I11,SUMIF('03_3_Amortizations'!$A$13:$A$492,'04_1_Pro Forma'!V$4,'03_3_Amortizations'!$V$13:$V$492))<0, 0, MIN(V$37*'02_3_SOURCES'!$I11,SUMIF('03_3_Amortizations'!$A$13:$A$492,'04_1_Pro Forma'!V$4,'03_3_Amortizations'!$V$13:$V$492)))","v":0},{"$f":"IF(MIN(W$37*'02_3_SOURCES'!$I11,SUMIF('03_3_Amortizations'!$A$13:$A$492,'04_1_Pro Forma'!W$4,'03_3_Amortizations'!$V$13:$V$492))<0, 0, MIN(W$37*'02_3_SOURCES'!$I11,SUMIF('03_3_Amortizations'!$A$13:$A$492,'04_1_Pro Forma'!W$4,'03_3_Amortizations'!$V$13:$V$492)))","v":0},{"$f":"IF(MIN(X$37*'02_3_SOURCES'!$I11,SUMIF('03_3_Amortizations'!$A$13:$A$492,'04_1_Pro Forma'!X$4,'03_3_Amortizations'!$V$13:$V$492))<0, 0, MIN(X$37*'02_3_SOURCES'!$I11,SUMIF('03_3_Amortizations'!$A$13:$A$492,'04_1_Pro Forma'!X$4,'03_3_Amortizations'!$V$13:$V$492)))","v":0},{"$f":"IF(MIN(Y$37*'02_3_SOURCES'!$I11,SUMIF('03_3_Amortizations'!$A$13:$A$492,'04_1_Pro Forma'!Y$4,'03_3_Amortizations'!$V$13:$V$492))<0, 0, MIN(Y$37*'02_3_SOURCES'!$I11,SUMIF('03_3_Amortizations'!$A$13:$A$492,'04_1_Pro Forma'!Y$4,'03_3_Amortizations'!$V$13:$V$492)))","v":0},{"$f":"IF(MIN(Z$37*'02_3_SOURCES'!$I11,SUMIF('03_3_Amortizations'!$A$13:$A$492,'04_1_Pro Forma'!Z$4,'03_3_Amortizations'!$V$13:$V$492))<0, 0, MIN(Z$37*'02_3_SOURCES'!$I11,SUMIF('03_3_Amortizations'!$A$13:$A$492,'04_1_Pro Forma'!Z$4,'03_3_Amortizations'!$V$13:$V$492)))","v":0},{"$f":"IF(MIN(AA$37*'02_3_SOURCES'!$I11,SUMIF('03_3_Amortizations'!$A$13:$A$492,'04_1_Pro Forma'!AA$4,'03_3_Amortizations'!$V$13:$V$492))<0, 0, MIN(AA$37*'02_3_SOURCES'!$I11,SUMIF('03_3_Amortizations'!$A$13:$A$492,'04_1_Pro Forma'!AA$4,'03_3_Amortizations'!$V$13:$V$492)))","v":0},{"$f":"IF(MIN(AB$37*'02_3_SOURCES'!$I11,SUMIF('03_3_Amortizations'!$A$13:$A$492,'04_1_Pro Forma'!AB$4,'03_3_Amortizations'!$V$13:$V$492))<0, 0, MIN(AB$37*'02_3_SOURCES'!$I11,SUMIF('03_3_Amortizations'!$A$13:$A$492,'04_1_Pro Forma'!AB$4,'03_3_Amortizations'!$V$13:$V$492)))","v":0},{"$f":"IF(MIN(AC$37*'02_3_SOURCES'!$I11,SUMIF('03_3_Amortizations'!$A$13:$A$492,'04_1_Pro Forma'!AC$4,'03_3_Amortizations'!$V$13:$V$492))<0, 0, MIN(AC$37*'02_3_SOURCES'!$I11,SUMIF('03_3_Amortizations'!$A$13:$A$492,'04_1_Pro Forma'!AC$4,'03_3_Amortizations'!$V$13:$V$492)))","v":0},{"$f":"IF(MIN(AD$37*'02_3_SOURCES'!$I11,SUMIF('03_3_Amortizations'!$A$13:$A$492,'04_1_Pro Forma'!AD$4,'03_3_Amortizations'!$V$13:$V$492))<0, 0, MIN(AD$37*'02_3_SOURCES'!$I11,SUMIF('03_3_Amortizations'!$A$13:$A$492,'04_1_Pro Forma'!AD$4,'03_3_Amortizations'!$V$13:$V$492)))","v":0},{"$f":"IF(MIN(AE$37*'02_3_SOURCES'!$I11,SUMIF('03_3_Amortizations'!$A$13:$A$492,'04_1_Pro Forma'!AE$4,'03_3_Amortizations'!$V$13:$V$492))<0, 0, MIN(AE$37*'02_3_SOURCES'!$I11,SUMIF('03_3_Amortizations'!$A$13:$A$492,'04_1_Pro Forma'!AE$4,'03_3_Amortizations'!$V$13:$V$492)))","v":0},{"$f":"IF(MIN(AF$37*'02_3_SOURCES'!$I11,SUMIF('03_3_Amortizations'!$A$13:$A$492,'04_1_Pro Forma'!AF$4,'03_3_Amortizations'!$V$13:$V$492))<0, 0, MIN(AF$37*'02_3_SOURCES'!$I11,SUMIF('03_3_Amortizations'!$A$13:$A$492,'04_1_Pro Forma'!AF$4,'03_3_Amortizations'!$V$13:$V$492)))","v":0},{"$f":"IF(MIN(AG$37*'02_3_SOURCES'!$I11,SUMIF('03_3_Amortizations'!$A$13:$A$492,'04_1_Pro Forma'!AG$4,'03_3_Amortizations'!$V$13:$V$492))<0, 0, MIN(AG$37*'02_3_SOURCES'!$I11,SUMIF('03_3_Amortizations'!$A$13:$A$492,'04_1_Pro Forma'!AG$4,'03_3_Amortizations'!$V$13:$V$492)))","v":0},{"$f":"IF(MIN(AH$37*'02_3_SOURCES'!$I11,SUMIF('03_3_Amortizations'!$A$13:$A$492,'04_1_Pro Forma'!AH$4,'03_3_Amortizations'!$V$13:$V$492))<0, 0, MIN(AH$37*'02_3_SOURCES'!$I11,SUMIF('03_3_Amortizations'!$A$13:$A$492,'04_1_Pro Forma'!AH$4,'03_3_Amortizations'!$V$13:$V$492)))","v":0},{"$f":"IF(MIN(AI$37*'02_3_SOURCES'!$I11,SUMIF('03_3_Amortizations'!$A$13:$A$492,'04_1_Pro Forma'!AI$4,'03_3_Amortizations'!$V$13:$V$492))<0, 0, MIN(AI$37*'02_3_SOURCES'!$I11,SUMIF('03_3_Amortizations'!$A$13:$A$492,'04_1_Pro Forma'!AI$4,'03_3_Amortizations'!$V$13:$V$492)))","v":0},{"$f":"IF(MIN(AJ$37*'02_3_SOURCES'!$I11,SUMIF('03_3_Amortizations'!$A$13:$A$492,'04_1_Pro Forma'!AJ$4,'03_3_Amortizations'!$V$13:$V$492))<0, 0, MIN(AJ$37*'02_3_SOURCES'!$I11,SUMIF('03_3_Amortizations'!$A$13:$A$492,'04_1_Pro Forma'!AJ$4,'03_3_Amortizations'!$V$13:$V$492)))","v":0},{"$f":"IF(MIN(AK$37*'02_3_SOURCES'!$I11,SUMIF('03_3_Amortizations'!$A$13:$A$492,'04_1_Pro Forma'!AK$4,'03_3_Amortizations'!$V$13:$V$492))<0, 0, MIN(AK$37*'02_3_SOURCES'!$I11,SUMIF('03_3_Amortizations'!$A$13:$A$492,'04_1_Pro Forma'!AK$4,'03_3_Amortizations'!$V$13:$V$492)))","v":0},{"$f":"IF(MIN(AL$37*'02_3_SOURCES'!$I11,SUMIF('03_3_Amortizations'!$A$13:$A$492,'04_1_Pro Forma'!AL$4,'03_3_Amortizations'!$V$13:$V$492))<0, 0, MIN(AL$37*'02_3_SOURCES'!$I11,SUMIF('03_3_Amortizations'!$A$13:$A$492,'04_1_Pro Forma'!AL$4,'03_3_Amortizations'!$V$13:$V$492)))","v":0},{"$f":"IF(MIN(AM$37*'02_3_SOURCES'!$I11,SUMIF('03_3_Amortizations'!$A$13:$A$492,'04_1_Pro Forma'!AM$4,'03_3_Amortizations'!$V$13:$V$492))<0, 0, MIN(AM$37*'02_3_SOURCES'!$I11,SUMIF('03_3_Amortizations'!$A$13:$A$492,'04_1_Pro Forma'!AM$4,'03_3_Amortizations'!$V$13:$V$492)))","v":0},{"$f":"IF(MIN(AN$37*'02_3_SOURCES'!$I11,SUMIF('03_3_Amortizations'!$A$13:$A$492,'04_1_Pro Forma'!AN$4,'03_3_Amortizations'!$V$13:$V$492))<0, 0, MIN(AN$37*'02_3_SOURCES'!$I11,SUMIF('03_3_Amortizations'!$A$13:$A$492,'04_1_Pro Forma'!AN$4,'03_3_Amortizations'!$V$13:$V$492)))","v":0},{"$f":"IF(MIN(AO$37*'02_3_SOURCES'!$I11,SUMIF('03_3_Amortizations'!$A$13:$A$492,'04_1_Pro Forma'!AO$4,'03_3_Amortizations'!$V$13:$V$492))<0, 0, MIN(AO$37*'02_3_SOURCES'!$I11,SUMIF('03_3_Amortizations'!$A$13:$A$492,'04_1_Pro Forma'!AO$4,'03_3_Amortizations'!$V$13:$V$492)))","v":0},{"$f":"IF(MIN(AP$37*'02_3_SOURCES'!$I11,SUMIF('03_3_Amortizations'!$A$13:$A$492,'04_1_Pro Forma'!AP$4,'03_3_Amortizations'!$V$13:$V$492))<0, 0, MIN(AP$37*'02_3_SOURCES'!$I11,SUMIF('03_3_Amortizations'!$A$13:$A$492,'04_1_Pro Forma'!AP$4,'03_3_Amortizations'!$V$13:$V$492)))","v":0}]
[{"$f":"'02_3_SOURCES'!B12","v":0},null,{"$f":"IF(MIN(C$37*'02_3_SOURCES'!$I12,SUMIF('03_3_Amortizations'!$A$13:$A$492,'04_1_Pro Forma'!C$4,'03_3_Amortizations'!$AD$13:$AD$492))<0, 0, MIN(C$37*'02_3_SOURCES'!$I12,SUMIF('03_3_Amortizations'!$A$13:$A$492,'04_1_Pro Forma'!C$4,'03_3_Amortizations'!$AD$13:$AD$492)))","v":0},{"$f":"IF(MIN(D$37*'02_3_SOURCES'!$I12,SUMIF('03_3_Amortizations'!$A$13:$A$492,'04_1_Pro Forma'!D$4,'03_3_Amortizations'!$AD$13:$AD$492))<0, 0, MIN(D$37*'02_3_SOURCES'!$I12,SUMIF('03_3_Amortizations'!$A$13:$A$492,'04_1_Pro Forma'!D$4,'03_3_Amortizations'!$AD$13:$AD$492)))","v":0},{"$f":"IF(MIN(E$37*'02_3_SOURCES'!$I12,SUMIF('03_3_Amortizations'!$A$13:$A$492,'04_1_Pro Forma'!E$4,'03_3_Amortizations'!$AD$13:$AD$492))<0, 0, MIN(E$37*'02_3_SOURCES'!$I12,SUMIF('03_3_Amortizations'!$A$13:$A$492,'04_1_Pro Forma'!E$4,'03_3_Amortizations'!$AD$13:$AD$492)))","v":0},{"$f":"IF(MIN(F$37*'02_3_SOURCES'!$I12,SUMIF('03_3_Amortizations'!$A$13:$A$492,'04_1_Pro Forma'!F$4,'03_3_Amortizations'!$AD$13:$AD$492))<0, 0, MIN(F$37*'02_3_SOURCES'!$I12,SUMIF('03_3_Amortizations'!$A$13:$A$492,'04_1_Pro Forma'!F$4,'03_3_Amortizations'!$AD$13:$AD$492)))","v":0},{"$f":"IF(MIN(G$37*'02_3_SOURCES'!$I12,SUMIF('03_3_Amortizations'!$A$13:$A$492,'04_1_Pro Forma'!G$4,'03_3_Amortizations'!$AD$13:$AD$492))<0, 0, MIN(G$37*'02_3_SOURCES'!$I12,SUMIF('03_3_Amortizations'!$A$13:$A$492,'04_1_Pro Forma'!G$4,'03_3_Amortizations'!$AD$13:$AD$492)))","v":0},{"$f":"IF(MIN(H$37*'02_3_SOURCES'!$I12,SUMIF('03_3_Amortizations'!$A$13:$A$492,'04_1_Pro Forma'!H$4,'03_3_Amortizations'!$AD$13:$AD$492))<0, 0, MIN(H$37*'02_3_SOURCES'!$I12,SUMIF('03_3_Amortizations'!$A$13:$A$492,'04_1_Pro Forma'!H$4,'03_3_Amortizations'!$AD$13:$AD$492)))","v":0},{"$f":"IF(MIN(I$37*'02_3_SOURCES'!$I12,SUMIF('03_3_Amortizations'!$A$13:$A$492,'04_1_Pro Forma'!I$4,'03_3_Amortizations'!$AD$13:$AD$492))<0, 0, MIN(I$37*'02_3_SOURCES'!$I12,SUMIF('03_3_Amortizations'!$A$13:$A$492,'04_1_Pro Forma'!I$4,'03_3_Amortizations'!$AD$13:$AD$492)))","v":0},{"$f":"IF(MIN(J$37*'02_3_SOURCES'!$I12,SUMIF('03_3_Amortizations'!$A$13:$A$492,'04_1_Pro Forma'!J$4,'03_3_Amortizations'!$AD$13:$AD$492))<0, 0, MIN(J$37*'02_3_SOURCES'!$I12,SUMIF('03_3_Amortizations'!$A$13:$A$492,'04_1_Pro Forma'!J$4,'03_3_Amortizations'!$AD$13:$AD$492)))","v":0},{"$f":"IF(MIN(K$37*'02_3_SOURCES'!$I12,SUMIF('03_3_Amortizations'!$A$13:$A$492,'04_1_Pro Forma'!K$4,'03_3_Amortizations'!$AD$13:$AD$492))<0, 0, MIN(K$37*'02_3_SOURCES'!$I12,SUMIF('03_3_Amortizations'!$A$13:$A$492,'04_1_Pro Forma'!K$4,'03_3_Amortizations'!$AD$13:$AD$492)))","v":0},{"$f":"IF(MIN(L$37*'02_3_SOURCES'!$I12,SUMIF('03_3_Amortizations'!$A$13:$A$492,'04_1_Pro Forma'!L$4,'03_3_Amortizations'!$AD$13:$AD$492))<0, 0, MIN(L$37*'02_3_SOURCES'!$I12,SUMIF('03_3_Amortizations'!$A$13:$A$492,'04_1_Pro Forma'!L$4,'03_3_Amortizations'!$AD$13:$AD$492)))","v":0},{"$f":"IF(MIN(M$37*'02_3_SOURCES'!$I12,SUMIF('03_3_Amortizations'!$A$13:$A$492,'04_1_Pro Forma'!M$4,'03_3_Amortizations'!$AD$13:$AD$492))<0, 0, MIN(M$37*'02_3_SOURCES'!$I12,SUMIF('03_3_Amortizations'!$A$13:$A$492,'04_1_Pro Forma'!M$4,'03_3_Amortizations'!$AD$13:$AD$492)))","v":0},{"$f":"IF(MIN(N$37*'02_3_SOURCES'!$I12,SUMIF('03_3_Amortizations'!$A$13:$A$492,'04_1_Pro Forma'!N$4,'03_3_Amortizations'!$AD$13:$AD$492))<0, 0, MIN(N$37*'02_3_SOURCES'!$I12,SUMIF('03_3_Amortizations'!$A$13:$A$492,'04_1_Pro Forma'!N$4,'03_3_Amortizations'!$AD$13:$AD$492)))","v":0},{"$f":"IF(MIN(O$37*'02_3_SOURCES'!$I12,SUMIF('03_3_Amortizations'!$A$13:$A$492,'04_1_Pro Forma'!O$4,'03_3_Amortizations'!$AD$13:$AD$492))<0, 0, MIN(O$37*'02_3_SOURCES'!$I12,SUMIF('03_3_Amortizations'!$A$13:$A$492,'04_1_Pro Forma'!O$4,'03_3_Amortizations'!$AD$13:$AD$492)))","v":0},{"$f":"IF(MIN(P$37*'02_3_SOURCES'!$I12,SUMIF('03_3_Amortizations'!$A$13:$A$492,'04_1_Pro Forma'!P$4,'03_3_Amortizations'!$AD$13:$AD$492))<0, 0, MIN(P$37*'02_3_SOURCES'!$I12,SUMIF('03_3_Amortizations'!$A$13:$A$492,'04_1_Pro Forma'!P$4,'03_3_Amortizations'!$AD$13:$AD$492)))","v":0},{"$f":"IF(MIN(Q$37*'02_3_SOURCES'!$I12,SUMIF('03_3_Amortizations'!$A$13:$A$492,'04_1_Pro Forma'!Q$4,'03_3_Amortizations'!$AD$13:$AD$492))<0, 0, MIN(Q$37*'02_3_SOURCES'!$I12,SUMIF('03_3_Amortizations'!$A$13:$A$492,'04_1_Pro Forma'!Q$4,'03_3_Amortizations'!$AD$13:$AD$492)))","v":0},{"$f":"IF(MIN(R$37*'02_3_SOURCES'!$I12,SUMIF('03_3_Amortizations'!$A$13:$A$492,'04_1_Pro Forma'!R$4,'03_3_Amortizations'!$AD$13:$AD$492))<0, 0, MIN(R$37*'02_3_SOURCES'!$I12,SUMIF('03_3_Amortizations'!$A$13:$A$492,'04_1_Pro Forma'!R$4,'03_3_Amortizations'!$AD$13:$AD$492)))","v":0},{"$f":"IF(MIN(S$37*'02_3_SOURCES'!$I12,SUMIF('03_3_Amortizations'!$A$13:$A$492,'04_1_Pro Forma'!S$4,'03_3_Amortizations'!$AD$13:$AD$492))<0, 0, MIN(S$37*'02_3_SOURCES'!$I12,SUMIF('03_3_Amortizations'!$A$13:$A$492,'04_1_Pro Forma'!S$4,'03_3_Amortizations'!$AD$13:$AD$492)))","v":0},{"$f":"IF(MIN(T$37*'02_3_SOURCES'!$I12,SUMIF('03_3_Amortizations'!$A$13:$A$492,'04_1_Pro Forma'!T$4,'03_3_Amortizations'!$AD$13:$AD$492))<0, 0, MIN(T$37*'02_3_SOURCES'!$I12,SUMIF('03_3_Amortizations'!$A$13:$A$492,'04_1_Pro Forma'!T$4,'03_3_Amortizations'!$AD$13:$AD$492)))","v":0},{"$f":"IF(MIN(U$37*'02_3_SOURCES'!$I12,SUMIF('03_3_Amortizations'!$A$13:$A$492,'04_1_Pro Forma'!U$4,'03_3_Amortizations'!$AD$13:$AD$492))<0, 0, MIN(U$37*'02_3_SOURCES'!$I12,SUMIF('03_3_Amortizations'!$A$13:$A$492,'04_1_Pro Forma'!U$4,'03_3_Amortizations'!$AD$13:$AD$492)))","v":0},{"$f":"IF(MIN(V$37*'02_3_SOURCES'!$I12,SUMIF('03_3_Amortizations'!$A$13:$A$492,'04_1_Pro Forma'!V$4,'03_3_Amortizations'!$AD$13:$AD$492))<0, 0, MIN(V$37*'02_3_SOURCES'!$I12,SUMIF('03_3_Amortizations'!$A$13:$A$492,'04_1_Pro Forma'!V$4,'03_3_Amortizations'!$AD$13:$AD$492)))","v":0},{"$f":"IF(MIN(W$37*'02_3_SOURCES'!$I12,SUMIF('03_3_Amortizations'!$A$13:$A$492,'04_1_Pro Forma'!W$4,'03_3_Amortizations'!$AD$13:$AD$492))<0, 0, MIN(W$37*'02_3_SOURCES'!$I12,SUMIF('03_3_Amortizations'!$A$13:$A$492,'04_1_Pro Forma'!W$4,'03_3_Amortizations'!$AD$13:$AD$492)))","v":0},{"$f":"IF(MIN(X$37*'02_3_SOURCES'!$I12,SUMIF('03_3_Amortizations'!$A$13:$A$492,'04_1_Pro Forma'!X$4,'03_3_Amortizations'!$AD$13:$AD$492))<0, 0, MIN(X$37*'02_3_SOURCES'!$I12,SUMIF('03_3_Amortizations'!$A$13:$A$492,'04_1_Pro Forma'!X$4,'03_3_Amortizations'!$AD$13:$AD$492)))","v":0},{"$f":"IF(MIN(Y$37*'02_3_SOURCES'!$I12,SUMIF('03_3_Amortizations'!$A$13:$A$492,'04_1_Pro Forma'!Y$4,'03_3_Amortizations'!$AD$13:$AD$492))<0, 0, MIN(Y$37*'02_3_SOURCES'!$I12,SUMIF('03_3_Amortizations'!$A$13:$A$492,'04_1_Pro Forma'!Y$4,'03_3_Amortizations'!$AD$13:$AD$492)))","v":0},{"$f":"IF(MIN(Z$37*'02_3_SOURCES'!$I12,SUMIF('03_3_Amortizations'!$A$13:$A$492,'04_1_Pro Forma'!Z$4,'03_3_Amortizations'!$AD$13:$AD$492))<0, 0, MIN(Z$37*'02_3_SOURCES'!$I12,SUMIF('03_3_Amortizations'!$A$13:$A$492,'04_1_Pro Forma'!Z$4,'03_3_Amortizations'!$AD$13:$AD$492)))","v":0},{"$f":"IF(MIN(AA$37*'02_3_SOURCES'!$I12,SUMIF('03_3_Amortizations'!$A$13:$A$492,'04_1_Pro Forma'!AA$4,'03_3_Amortizations'!$AD$13:$AD$492))<0, 0, MIN(AA$37*'02_3_SOURCES'!$I12,SUMIF('03_3_Amortizations'!$A$13:$A$492,'04_1_Pro Forma'!AA$4,'03_3_Amortizations'!$AD$13:$AD$492)))","v":0},{"$f":"IF(MIN(AB$37*'02_3_SOURCES'!$I12,SUMIF('03_3_Amortizations'!$A$13:$A$492,'04_1_Pro Forma'!AB$4,'03_3_Amortizations'!$AD$13:$AD$492))<0, 0, MIN(AB$37*'02_3_SOURCES'!$I12,SUMIF('03_3_Amortizations'!$A$13:$A$492,'04_1_Pro Forma'!AB$4,'03_3_Amortizations'!$AD$13:$AD$492)))","v":0},{"$f":"IF(MIN(AC$37*'02_3_SOURCES'!$I12,SUMIF('03_3_Amortizations'!$A$13:$A$492,'04_1_Pro Forma'!AC$4,'03_3_Amortizations'!$AD$13:$AD$492))<0, 0, MIN(AC$37*'02_3_SOURCES'!$I12,SUMIF('03_3_Amortizations'!$A$13:$A$492,'04_1_Pro Forma'!AC$4,'03_3_Amortizations'!$AD$13:$AD$492)))","v":0},{"$f":"IF(MIN(AD$37*'02_3_SOURCES'!$I12,SUMIF('03_3_Amortizations'!$A$13:$A$492,'04_1_Pro Forma'!AD$4,'03_3_Amortizations'!$AD$13:$AD$492))<0, 0, MIN(AD$37*'02_3_SOURCES'!$I12,SUMIF('03_3_Amortizations'!$A$13:$A$492,'04_1_Pro Forma'!AD$4,'03_3_Amortizations'!$AD$13:$AD$492)))","v":0},{"$f":"IF(MIN(AE$37*'02_3_SOURCES'!$I12,SUMIF('03_3_Amortizations'!$A$13:$A$492,'04_1_Pro Forma'!AE$4,'03_3_Amortizations'!$AD$13:$AD$492))<0, 0, MIN(AE$37*'02_3_SOURCES'!$I12,SUMIF('03_3_Amortizations'!$A$13:$A$492,'04_1_Pro Forma'!AE$4,'03_3_Amortizations'!$AD$13:$AD$492)))","v":0},{"$f":"IF(MIN(AF$37*'02_3_SOURCES'!$I12,SUMIF('03_3_Amortizations'!$A$13:$A$492,'04_1_Pro Forma'!AF$4,'03_3_Amortizations'!$AD$13:$AD$492))<0, 0, MIN(AF$37*'02_3_SOURCES'!$I12,SUMIF('03_3_Amortizations'!$A$13:$A$492,'04_1_Pro Forma'!AF$4,'03_3_Amortizations'!$AD$13:$AD$492)))","v":0},{"$f":"IF(MIN(AG$37*'02_3_SOURCES'!$I12,SUMIF('03_3_Amortizations'!$A$13:$A$492,'04_1_Pro Forma'!AG$4,'03_3_Amortizations'!$AD$13:$AD$492))<0, 0, MIN(AG$37*'02_3_SOURCES'!$I12,SUMIF('03_3_Amortizations'!$A$13:$A$492,'04_1_Pro Forma'!AG$4,'03_3_Amortizations'!$AD$13:$AD$492)))","v":0},{"$f":"IF(MIN(AH$37*'02_3_SOURCES'!$I12,SUMIF('03_3_Amortizations'!$A$13:$A$492,'04_1_Pro Forma'!AH$4,'03_3_Amortizations'!$AD$13:$AD$492))<0, 0, MIN(AH$37*'02_3_SOURCES'!$I12,SUMIF('03_3_Amortizations'!$A$13:$A$492,'04_1_Pro Forma'!AH$4,'03_3_Amortizations'!$AD$13:$AD$492)))","v":0},{"$f":"IF(MIN(AI$37*'02_3_SOURCES'!$I12,SUMIF('03_3_Amortizations'!$A$13:$A$492,'04_1_Pro Forma'!AI$4,'03_3_Amortizations'!$AD$13:$AD$492))<0, 0, MIN(AI$37*'02_3_SOURCES'!$I12,SUMIF('03_3_Amortizations'!$A$13:$A$492,'04_1_Pro Forma'!AI$4,'03_3_Amortizations'!$AD$13:$AD$492)))","v":0},{"$f":"IF(MIN(AJ$37*'02_3_SOURCES'!$I12,SUMIF('03_3_Amortizations'!$A$13:$A$492,'04_1_Pro Forma'!AJ$4,'03_3_Amortizations'!$AD$13:$AD$492))<0, 0, MIN(AJ$37*'02_3_SOURCES'!$I12,SUMIF('03_3_Amortizations'!$A$13:$A$492,'04_1_Pro Forma'!AJ$4,'03_3_Amortizations'!$AD$13:$AD$492)))","v":0},{"$f":"IF(MIN(AK$37*'02_3_SOURCES'!$I12,SUMIF('03_3_Amortizations'!$A$13:$A$492,'04_1_Pro Forma'!AK$4,'03_3_Amortizations'!$AD$13:$AD$492))<0, 0, MIN(AK$37*'02_3_SOURCES'!$I12,SUMIF('03_3_Amortizations'!$A$13:$A$492,'04_1_Pro Forma'!AK$4,'03_3_Amortizations'!$AD$13:$AD$492)))","v":0},{"$f":"IF(MIN(AL$37*'02_3_SOURCES'!$I12,SUMIF('03_3_Amortizations'!$A$13:$A$492,'04_1_Pro Forma'!AL$4,'03_3_Amortizations'!$AD$13:$AD$492))<0, 0, MIN(AL$37*'02_3_SOURCES'!$I12,SUMIF('03_3_Amortizations'!$A$13:$A$492,'04_1_Pro Forma'!AL$4,'03_3_Amortizations'!$AD$13:$AD$492)))","v":0},{"$f":"IF(MIN(AM$37*'02_3_SOURCES'!$I12,SUMIF('03_3_Amortizations'!$A$13:$A$492,'04_1_Pro Forma'!AM$4,'03_3_Amortizations'!$AD$13:$AD$492))<0, 0, MIN(AM$37*'02_3_SOURCES'!$I12,SUMIF('03_3_Amortizations'!$A$13:$A$492,'04_1_Pro Forma'!AM$4,'03_3_Amortizations'!$AD$13:$AD$492)))","v":0},{"$f":"IF(MIN(AN$37*'02_3_SOURCES'!$I12,SUMIF('03_3_Amortizations'!$A$13:$A$492,'04_1_Pro Forma'!AN$4,'03_3_Amortizations'!$AD$13:$AD$492))<0, 0, MIN(AN$37*'02_3_SOURCES'!$I12,SUMIF('03_3_Amortizations'!$A$13:$A$492,'04_1_Pro Forma'!AN$4,'03_3_Amortizations'!$AD$13:$AD$492)))","v":0},{"$f":"IF(MIN(AO$37*'02_3_SOURCES'!$I12,SUMIF('03_3_Amortizations'!$A$13:$A$492,'04_1_Pro Forma'!AO$4,'03_3_Amortizations'!$AD$13:$AD$492))<0, 0, MIN(AO$37*'02_3_SOURCES'!$I12,SUMIF('03_3_Amortizations'!$A$13:$A$492,'04_1_Pro Forma'!AO$4,'03_3_Amortizations'!$AD$13:$AD$492)))","v":0},{"$f":"IF(MIN(AP$37*'02_3_SOURCES'!$I12,SUMIF('03_3_Amortizations'!$A$13:$A$492,'04_1_Pro Forma'!AP$4,'03_3_Amortizations'!$AD$13:$AD$492))<0, 0, MIN(AP$37*'02_3_SOURCES'!$I12,SUMIF('03_3_Amortizations'!$A$13:$A$492,'04_1_Pro Forma'!AP$4,'03_3_Amortizations'!$AD$13:$AD$492)))","v":0}]
[{"$f":"'02_3_SOURCES'!B13","v":0},null,{"$f":"IF(MIN(C$37*'02_3_SOURCES'!$I13,SUMIF('03_3_Amortizations'!$A$13:$A$492,'04_1_Pro Forma'!C$4,'03_3_Amortizations'!$AL$13:$AL$492))<0, 0, MIN(C$37*'02_3_SOURCES'!$I13,SUMIF('03_3_Amortizations'!$A$13:$A$492,'04_1_Pro Forma'!C$4,'03_3_Amortizations'!$AL$13:$AL$492)))","v":0},{"$f":"IF(MIN(D$37*'02_3_SOURCES'!$I13,SUMIF('03_3_Amortizations'!$A$13:$A$492,'04_1_Pro Forma'!D$4,'03_3_Amortizations'!$AL$13:$AL$492))<0, 0, MIN(D$37*'02_3_SOURCES'!$I13,SUMIF('03_3_Amortizations'!$A$13:$A$492,'04_1_Pro Forma'!D$4,'03_3_Amortizations'!$AL$13:$AL$492)))","v":0},{"$f":"IF(MIN(E$37*'02_3_SOURCES'!$I13,SUMIF('03_3_Amortizations'!$A$13:$A$492,'04_1_Pro Forma'!E$4,'03_3_Amortizations'!$AL$13:$AL$492))<0, 0, MIN(E$37*'02_3_SOURCES'!$I13,SUMIF('03_3_Amortizations'!$A$13:$A$492,'04_1_Pro Forma'!E$4,'03_3_Amortizations'!$AL$13:$AL$492)))","v":0},{"$f":"IF(MIN(F$37*'02_3_SOURCES'!$I13,SUMIF('03_3_Amortizations'!$A$13:$A$492,'04_1_Pro Forma'!F$4,'03_3_Amortizations'!$AL$13:$AL$492))<0, 0, MIN(F$37*'02_3_SOURCES'!$I13,SUMIF('03_3_Amortizations'!$A$13:$A$492,'04_1_Pro Forma'!F$4,'03_3_Amortizations'!$AL$13:$AL$492)))","v":0},{"$f":"IF(MIN(G$37*'02_3_SOURCES'!$I13,SUMIF('03_3_Amortizations'!$A$13:$A$492,'04_1_Pro Forma'!G$4,'03_3_Amortizations'!$AL$13:$AL$492))<0, 0, MIN(G$37*'02_3_SOURCES'!$I13,SUMIF('03_3_Amortizations'!$A$13:$A$492,'04_1_Pro Forma'!G$4,'03_3_Amortizations'!$AL$13:$AL$492)))","v":0},{"$f":"IF(MIN(H$37*'02_3_SOURCES'!$I13,SUMIF('03_3_Amortizations'!$A$13:$A$492,'04_1_Pro Forma'!H$4,'03_3_Amortizations'!$AL$13:$AL$492))<0, 0, MIN(H$37*'02_3_SOURCES'!$I13,SUMIF('03_3_Amortizations'!$A$13:$A$492,'04_1_Pro Forma'!H$4,'03_3_Amortizations'!$AL$13:$AL$492)))","v":0},{"$f":"IF(MIN(I$37*'02_3_SOURCES'!$I13,SUMIF('03_3_Amortizations'!$A$13:$A$492,'04_1_Pro Forma'!I$4,'03_3_Amortizations'!$AL$13:$AL$492))<0, 0, MIN(I$37*'02_3_SOURCES'!$I13,SUMIF('03_3_Amortizations'!$A$13:$A$492,'04_1_Pro Forma'!I$4,'03_3_Amortizations'!$AL$13:$AL$492)))","v":0},{"$f":"IF(MIN(J$37*'02_3_SOURCES'!$I13,SUMIF('03_3_Amortizations'!$A$13:$A$492,'04_1_Pro Forma'!J$4,'03_3_Amortizations'!$AL$13:$AL$492))<0, 0, MIN(J$37*'02_3_SOURCES'!$I13,SUMIF('03_3_Amortizations'!$A$13:$A$492,'04_1_Pro Forma'!J$4,'03_3_Amortizations'!$AL$13:$AL$492)))","v":0},{"$f":"IF(MIN(K$37*'02_3_SOURCES'!$I13,SUMIF('03_3_Amortizations'!$A$13:$A$492,'04_1_Pro Forma'!K$4,'03_3_Amortizations'!$AL$13:$AL$492))<0, 0, MIN(K$37*'02_3_SOURCES'!$I13,SUMIF('03_3_Amortizations'!$A$13:$A$492,'04_1_Pro Forma'!K$4,'03_3_Amortizations'!$AL$13:$AL$492)))","v":0},{"$f":"IF(MIN(L$37*'02_3_SOURCES'!$I13,SUMIF('03_3_Amortizations'!$A$13:$A$492,'04_1_Pro Forma'!L$4,'03_3_Amortizations'!$AL$13:$AL$492))<0, 0, MIN(L$37*'02_3_SOURCES'!$I13,SUMIF('03_3_Amortizations'!$A$13:$A$492,'04_1_Pro Forma'!L$4,'03_3_Amortizations'!$AL$13:$AL$492)))","v":0},{"$f":"IF(MIN(M$37*'02_3_SOURCES'!$I13,SUMIF('03_3_Amortizations'!$A$13:$A$492,'04_1_Pro Forma'!M$4,'03_3_Amortizations'!$AL$13:$AL$492))<0, 0, MIN(M$37*'02_3_SOURCES'!$I13,SUMIF('03_3_Amortizations'!$A$13:$A$492,'04_1_Pro Forma'!M$4,'03_3_Amortizations'!$AL$13:$AL$492)))","v":0},{"$f":"IF(MIN(N$37*'02_3_SOURCES'!$I13,SUMIF('03_3_Amortizations'!$A$13:$A$492,'04_1_Pro Forma'!N$4,'03_3_Amortizations'!$AL$13:$AL$492))<0, 0, MIN(N$37*'02_3_SOURCES'!$I13,SUMIF('03_3_Amortizations'!$A$13:$A$492,'04_1_Pro Forma'!N$4,'03_3_Amortizations'!$AL$13:$AL$492)))","v":0},{"$f":"IF(MIN(O$37*'02_3_SOURCES'!$I13,SUMIF('03_3_Amortizations'!$A$13:$A$492,'04_1_Pro Forma'!O$4,'03_3_Amortizations'!$AL$13:$AL$492))<0, 0, MIN(O$37*'02_3_SOURCES'!$I13,SUMIF('03_3_Amortizations'!$A$13:$A$492,'04_1_Pro Forma'!O$4,'03_3_Amortizations'!$AL$13:$AL$492)))","v":0},{"$f":"IF(MIN(P$37*'02_3_SOURCES'!$I13,SUMIF('03_3_Amortizations'!$A$13:$A$492,'04_1_Pro Forma'!P$4,'03_3_Amortizations'!$AL$13:$AL$492))<0, 0, MIN(P$37*'02_3_SOURCES'!$I13,SUMIF('03_3_Amortizations'!$A$13:$A$492,'04_1_Pro Forma'!P$4,'03_3_Amortizations'!$AL$13:$AL$492)))","v":0},{"$f":"IF(MIN(Q$37*'02_3_SOURCES'!$I13,SUMIF('03_3_Amortizations'!$A$13:$A$492,'04_1_Pro Forma'!Q$4,'03_3_Amortizations'!$AL$13:$AL$492))<0, 0, MIN(Q$37*'02_3_SOURCES'!$I13,SUMIF('03_3_Amortizations'!$A$13:$A$492,'04_1_Pro Forma'!Q$4,'03_3_Amortizations'!$AL$13:$AL$492)))","v":0},{"$f":"IF(MIN(R$37*'02_3_SOURCES'!$I13,SUMIF('03_3_Amortizations'!$A$13:$A$492,'04_1_Pro Forma'!R$4,'03_3_Amortizations'!$AL$13:$AL$492))<0, 0, MIN(R$37*'02_3_SOURCES'!$I13,SUMIF('03_3_Amortizations'!$A$13:$A$492,'04_1_Pro Forma'!R$4,'03_3_Amortizations'!$AL$13:$AL$492)))","v":0},{"$f":"IF(MIN(S$37*'02_3_SOURCES'!$I13,SUMIF('03_3_Amortizations'!$A$13:$A$492,'04_1_Pro Forma'!S$4,'03_3_Amortizations'!$AL$13:$AL$492))<0, 0, MIN(S$37*'02_3_SOURCES'!$I13,SUMIF('03_3_Amortizations'!$A$13:$A$492,'04_1_Pro Forma'!S$4,'03_3_Amortizations'!$AL$13:$AL$492)))","v":0},{"$f":"IF(MIN(T$37*'02_3_SOURCES'!$I13,SUMIF('03_3_Amortizations'!$A$13:$A$492,'04_1_Pro Forma'!T$4,'03_3_Amortizations'!$AL$13:$AL$492))<0, 0, MIN(T$37*'02_3_SOURCES'!$I13,SUMIF('03_3_Amortizations'!$A$13:$A$492,'04_1_Pro Forma'!T$4,'03_3_Amortizations'!$AL$13:$AL$492)))","v":0},{"$f":"IF(MIN(U$37*'02_3_SOURCES'!$I13,SUMIF('03_3_Amortizations'!$A$13:$A$492,'04_1_Pro Forma'!U$4,'03_3_Amortizations'!$AL$13:$AL$492))<0, 0, MIN(U$37*'02_3_SOURCES'!$I13,SUMIF('03_3_Amortizations'!$A$13:$A$492,'04_1_Pro Forma'!U$4,'03_3_Amortizations'!$AL$13:$AL$492)))","v":0},{"$f":"IF(MIN(V$37*'02_3_SOURCES'!$I13,SUMIF('03_3_Amortizations'!$A$13:$A$492,'04_1_Pro Forma'!V$4,'03_3_Amortizations'!$AL$13:$AL$492))<0, 0, MIN(V$37*'02_3_SOURCES'!$I13,SUMIF('03_3_Amortizations'!$A$13:$A$492,'04_1_Pro Forma'!V$4,'03_3_Amortizations'!$AL$13:$AL$492)))","v":0},{"$f":"IF(MIN(W$37*'02_3_SOURCES'!$I13,SUMIF('03_3_Amortizations'!$A$13:$A$492,'04_1_Pro Forma'!W$4,'03_3_Amortizations'!$AL$13:$AL$492))<0, 0, MIN(W$37*'02_3_SOURCES'!$I13,SUMIF('03_3_Amortizations'!$A$13:$A$492,'04_1_Pro Forma'!W$4,'03_3_Amortizations'!$AL$13:$AL$492)))","v":0},{"$f":"IF(MIN(X$37*'02_3_SOURCES'!$I13,SUMIF('03_3_Amortizations'!$A$13:$A$492,'04_1_Pro Forma'!X$4,'03_3_Amortizations'!$AL$13:$AL$492))<0, 0, MIN(X$37*'02_3_SOURCES'!$I13,SUMIF('03_3_Amortizations'!$A$13:$A$492,'04_1_Pro Forma'!X$4,'03_3_Amortizations'!$AL$13:$AL$492)))","v":0},{"$f":"IF(MIN(Y$37*'02_3_SOURCES'!$I13,SUMIF('03_3_Amortizations'!$A$13:$A$492,'04_1_Pro Forma'!Y$4,'03_3_Amortizations'!$AL$13:$AL$492))<0, 0, MIN(Y$37*'02_3_SOURCES'!$I13,SUMIF('03_3_Amortizations'!$A$13:$A$492,'04_1_Pro Forma'!Y$4,'03_3_Amortizations'!$AL$13:$AL$492)))","v":0},{"$f":"IF(MIN(Z$37*'02_3_SOURCES'!$I13,SUMIF('03_3_Amortizations'!$A$13:$A$492,'04_1_Pro Forma'!Z$4,'03_3_Amortizations'!$AL$13:$AL$492))<0, 0, MIN(Z$37*'02_3_SOURCES'!$I13,SUMIF('03_3_Amortizations'!$A$13:$A$492,'04_1_Pro Forma'!Z$4,'03_3_Amortizations'!$AL$13:$AL$492)))","v":0},{"$f":"IF(MIN(AA$37*'02_3_SOURCES'!$I13,SUMIF('03_3_Amortizations'!$A$13:$A$492,'04_1_Pro Forma'!AA$4,'03_3_Amortizations'!$AL$13:$AL$492))<0, 0, MIN(AA$37*'02_3_SOURCES'!$I13,SUMIF('03_3_Amortizations'!$A$13:$A$492,'04_1_Pro Forma'!AA$4,'03_3_Amortizations'!$AL$13:$AL$492)))","v":0},{"$f":"IF(MIN(AB$37*'02_3_SOURCES'!$I13,SUMIF('03_3_Amortizations'!$A$13:$A$492,'04_1_Pro Forma'!AB$4,'03_3_Amortizations'!$AL$13:$AL$492))<0, 0, MIN(AB$37*'02_3_SOURCES'!$I13,SUMIF('03_3_Amortizations'!$A$13:$A$492,'04_1_Pro Forma'!AB$4,'03_3_Amortizations'!$AL$13:$AL$492)))","v":0},{"$f":"IF(MIN(AC$37*'02_3_SOURCES'!$I13,SUMIF('03_3_Amortizations'!$A$13:$A$492,'04_1_Pro Forma'!AC$4,'03_3_Amortizations'!$AL$13:$AL$492))<0, 0, MIN(AC$37*'02_3_SOURCES'!$I13,SUMIF('03_3_Amortizations'!$A$13:$A$492,'04_1_Pro Forma'!AC$4,'03_3_Amortizations'!$AL$13:$AL$492)))","v":0},{"$f":"IF(MIN(AD$37*'02_3_SOURCES'!$I13,SUMIF('03_3_Amortizations'!$A$13:$A$492,'04_1_Pro Forma'!AD$4,'03_3_Amortizations'!$AL$13:$AL$492))<0, 0, MIN(AD$37*'02_3_SOURCES'!$I13,SUMIF('03_3_Amortizations'!$A$13:$A$492,'04_1_Pro Forma'!AD$4,'03_3_Amortizations'!$AL$13:$AL$492)))","v":0},{"$f":"IF(MIN(AE$37*'02_3_SOURCES'!$I13,SUMIF('03_3_Amortizations'!$A$13:$A$492,'04_1_Pro Forma'!AE$4,'03_3_Amortizations'!$AL$13:$AL$492))<0, 0, MIN(AE$37*'02_3_SOURCES'!$I13,SUMIF('03_3_Amortizations'!$A$13:$A$492,'04_1_Pro Forma'!AE$4,'03_3_Amortizations'!$AL$13:$AL$492)))","v":0},{"$f":"IF(MIN(AF$37*'02_3_SOURCES'!$I13,SUMIF('03_3_Amortizations'!$A$13:$A$492,'04_1_Pro Forma'!AF$4,'03_3_Amortizations'!$AL$13:$AL$492))<0, 0, MIN(AF$37*'02_3_SOURCES'!$I13,SUMIF('03_3_Amortizations'!$A$13:$A$492,'04_1_Pro Forma'!AF$4,'03_3_Amortizations'!$AL$13:$AL$492)))","v":0},{"$f":"IF(MIN(AG$37*'02_3_SOURCES'!$I13,SUMIF('03_3_Amortizations'!$A$13:$A$492,'04_1_Pro Forma'!AG$4,'03_3_Amortizations'!$AL$13:$AL$492))<0, 0, MIN(AG$37*'02_3_SOURCES'!$I13,SUMIF('03_3_Amortizations'!$A$13:$A$492,'04_1_Pro Forma'!AG$4,'03_3_Amortizations'!$AL$13:$AL$492)))","v":0},{"$f":"IF(MIN(AH$37*'02_3_SOURCES'!$I13,SUMIF('03_3_Amortizations'!$A$13:$A$492,'04_1_Pro Forma'!AH$4,'03_3_Amortizations'!$AL$13:$AL$492))<0, 0, MIN(AH$37*'02_3_SOURCES'!$I13,SUMIF('03_3_Amortizations'!$A$13:$A$492,'04_1_Pro Forma'!AH$4,'03_3_Amortizations'!$AL$13:$AL$492)))","v":0},{"$f":"IF(MIN(AI$37*'02_3_SOURCES'!$I13,SUMIF('03_3_Amortizations'!$A$13:$A$492,'04_1_Pro Forma'!AI$4,'03_3_Amortizations'!$AL$13:$AL$492))<0, 0, MIN(AI$37*'02_3_SOURCES'!$I13,SUMIF('03_3_Amortizations'!$A$13:$A$492,'04_1_Pro Forma'!AI$4,'03_3_Amortizations'!$AL$13:$AL$492)))","v":0},{"$f":"IF(MIN(AJ$37*'02_3_SOURCES'!$I13,SUMIF('03_3_Amortizations'!$A$13:$A$492,'04_1_Pro Forma'!AJ$4,'03_3_Amortizations'!$AL$13:$AL$492))<0, 0, MIN(AJ$37*'02_3_SOURCES'!$I13,SUMIF('03_3_Amortizations'!$A$13:$A$492,'04_1_Pro Forma'!AJ$4,'03_3_Amortizations'!$AL$13:$AL$492)))","v":0},{"$f":"IF(MIN(AK$37*'02_3_SOURCES'!$I13,SUMIF('03_3_Amortizations'!$A$13:$A$492,'04_1_Pro Forma'!AK$4,'03_3_Amortizations'!$AL$13:$AL$492))<0, 0, MIN(AK$37*'02_3_SOURCES'!$I13,SUMIF('03_3_Amortizations'!$A$13:$A$492,'04_1_Pro Forma'!AK$4,'03_3_Amortizations'!$AL$13:$AL$492)))","v":0},{"$f":"IF(MIN(AL$37*'02_3_SOURCES'!$I13,SUMIF('03_3_Amortizations'!$A$13:$A$492,'04_1_Pro Forma'!AL$4,'03_3_Amortizations'!$AL$13:$AL$492))<0, 0, MIN(AL$37*'02_3_SOURCES'!$I13,SUMIF('03_3_Amortizations'!$A$13:$A$492,'04_1_Pro Forma'!AL$4,'03_3_Amortizations'!$AL$13:$AL$492)))","v":0},{"$f":"IF(MIN(AM$37*'02_3_SOURCES'!$I13,SUMIF('03_3_Amortizations'!$A$13:$A$492,'04_1_Pro Forma'!AM$4,'03_3_Amortizations'!$AL$13:$AL$492))<0, 0, MIN(AM$37*'02_3_SOURCES'!$I13,SUMIF('03_3_Amortizations'!$A$13:$A$492,'04_1_Pro Forma'!AM$4,'03_3_Amortizations'!$AL$13:$AL$492)))","v":0},{"$f":"IF(MIN(AN$37*'02_3_SOURCES'!$I13,SUMIF('03_3_Amortizations'!$A$13:$A$492,'04_1_Pro Forma'!AN$4,'03_3_Amortizations'!$AL$13:$AL$492))<0, 0, MIN(AN$37*'02_3_SOURCES'!$I13,SUMIF('03_3_Amortizations'!$A$13:$A$492,'04_1_Pro Forma'!AN$4,'03_3_Amortizations'!$AL$13:$AL$492)))","v":0},{"$f":"IF(MIN(AO$37*'02_3_SOURCES'!$I13,SUMIF('03_3_Amortizations'!$A$13:$A$492,'04_1_Pro Forma'!AO$4,'03_3_Amortizations'!$AL$13:$AL$492))<0, 0, MIN(AO$37*'02_3_SOURCES'!$I13,SUMIF('03_3_Amortizations'!$A$13:$A$492,'04_1_Pro Forma'!AO$4,'03_3_Amortizations'!$AL$13:$AL$492)))","v":0},{"$f":"IF(MIN(AP$37*'02_3_SOURCES'!$I13,SUMIF('03_3_Amortizations'!$A$13:$A$492,'04_1_Pro Forma'!AP$4,'03_3_Amortizations'!$AL$13:$AL$492))<0, 0, MIN(AP$37*'02_3_SOURCES'!$I13,SUMIF('03_3_Amortizations'!$A$13:$A$492,'04_1_Pro Forma'!AP$4,'03_3_Amortizations'!$AL$13:$AL$492)))","v":0}]
[{"$f":"'02_3_SOURCES'!B14","v":0},null,{"$f":"IF(MIN(C$37*'02_3_SOURCES'!$I14,SUMIF('03_3_Amortizations'!$A$13:$A$492,'04_1_Pro Forma'!C$4,'03_3_Amortizations'!$AT$13:$AT$492))<0, 0, MIN(C$37*'02_3_SOURCES'!$I14,SUMIF('03_3_Amortizations'!$A$13:$A$492,'04_1_Pro Forma'!C$4,'03_3_Amortizations'!$AT$13:$AT$492)))","v":0},{"$f":"IF(MIN(D$37*'02_3_SOURCES'!$I14,SUMIF('03_3_Amortizations'!$A$13:$A$492,'04_1_Pro Forma'!D$4,'03_3_Amortizations'!$AT$13:$AT$492))<0, 0, MIN(D$37*'02_3_SOURCES'!$I14,SUMIF('03_3_Amortizations'!$A$13:$A$492,'04_1_Pro Forma'!D$4,'03_3_Amortizations'!$AT$13:$AT$492)))","v":0},{"$f":"IF(MIN(E$37*'02_3_SOURCES'!$I14,SUMIF('03_3_Amortizations'!$A$13:$A$492,'04_1_Pro Forma'!E$4,'03_3_Amortizations'!$AT$13:$AT$492))<0, 0, MIN(E$37*'02_3_SOURCES'!$I14,SUMIF('03_3_Amortizations'!$A$13:$A$492,'04_1_Pro Forma'!E$4,'03_3_Amortizations'!$AT$13:$AT$492)))","v":0},{"$f":"IF(MIN(F$37*'02_3_SOURCES'!$I14,SUMIF('03_3_Amortizations'!$A$13:$A$492,'04_1_Pro Forma'!F$4,'03_3_Amortizations'!$AT$13:$AT$492))<0, 0, MIN(F$37*'02_3_SOURCES'!$I14,SUMIF('03_3_Amortizations'!$A$13:$A$492,'04_1_Pro Forma'!F$4,'03_3_Amortizations'!$AT$13:$AT$492)))","v":0},{"$f":"IF(MIN(G$37*'02_3_SOURCES'!$I14,SUMIF('03_3_Amortizations'!$A$13:$A$492,'04_1_Pro Forma'!G$4,'03_3_Amortizations'!$AT$13:$AT$492))<0, 0, MIN(G$37*'02_3_SOURCES'!$I14,SUMIF('03_3_Amortizations'!$A$13:$A$492,'04_1_Pro Forma'!G$4,'03_3_Amortizations'!$AT$13:$AT$492)))","v":0},{"$f":"IF(MIN(H$37*'02_3_SOURCES'!$I14,SUMIF('03_3_Amortizations'!$A$13:$A$492,'04_1_Pro Forma'!H$4,'03_3_Amortizations'!$AT$13:$AT$492))<0, 0, MIN(H$37*'02_3_SOURCES'!$I14,SUMIF('03_3_Amortizations'!$A$13:$A$492,'04_1_Pro Forma'!H$4,'03_3_Amortizations'!$AT$13:$AT$492)))","v":0},{"$f":"IF(MIN(I$37*'02_3_SOURCES'!$I14,SUMIF('03_3_Amortizations'!$A$13:$A$492,'04_1_Pro Forma'!I$4,'03_3_Amortizations'!$AT$13:$AT$492))<0, 0, MIN(I$37*'02_3_SOURCES'!$I14,SUMIF('03_3_Amortizations'!$A$13:$A$492,'04_1_Pro Forma'!I$4,'03_3_Amortizations'!$AT$13:$AT$492)))","v":0},{"$f":"IF(MIN(J$37*'02_3_SOURCES'!$I14,SUMIF('03_3_Amortizations'!$A$13:$A$492,'04_1_Pro Forma'!J$4,'03_3_Amortizations'!$AT$13:$AT$492))<0, 0, MIN(J$37*'02_3_SOURCES'!$I14,SUMIF('03_3_Amortizations'!$A$13:$A$492,'04_1_Pro Forma'!J$4,'03_3_Amortizations'!$AT$13:$AT$492)))","v":0},{"$f":"IF(MIN(K$37*'02_3_SOURCES'!$I14,SUMIF('03_3_Amortizations'!$A$13:$A$492,'04_1_Pro Forma'!K$4,'03_3_Amortizations'!$AT$13:$AT$492))<0, 0, MIN(K$37*'02_3_SOURCES'!$I14,SUMIF('03_3_Amortizations'!$A$13:$A$492,'04_1_Pro Forma'!K$4,'03_3_Amortizations'!$AT$13:$AT$492)))","v":0},{"$f":"IF(MIN(L$37*'02_3_SOURCES'!$I14,SUMIF('03_3_Amortizations'!$A$13:$A$492,'04_1_Pro Forma'!L$4,'03_3_Amortizations'!$AT$13:$AT$492))<0, 0, MIN(L$37*'02_3_SOURCES'!$I14,SUMIF('03_3_Amortizations'!$A$13:$A$492,'04_1_Pro Forma'!L$4,'03_3_Amortizations'!$AT$13:$AT$492)))","v":0},{"$f":"IF(MIN(M$37*'02_3_SOURCES'!$I14,SUMIF('03_3_Amortizations'!$A$13:$A$492,'04_1_Pro Forma'!M$4,'03_3_Amortizations'!$AT$13:$AT$492))<0, 0, MIN(M$37*'02_3_SOURCES'!$I14,SUMIF('03_3_Amortizations'!$A$13:$A$492,'04_1_Pro Forma'!M$4,'03_3_Amortizations'!$AT$13:$AT$492)))","v":0},{"$f":"IF(MIN(N$37*'02_3_SOURCES'!$I14,SUMIF('03_3_Amortizations'!$A$13:$A$492,'04_1_Pro Forma'!N$4,'03_3_Amortizations'!$AT$13:$AT$492))<0, 0, MIN(N$37*'02_3_SOURCES'!$I14,SUMIF('03_3_Amortizations'!$A$13:$A$492,'04_1_Pro Forma'!N$4,'03_3_Amortizations'!$AT$13:$AT$492)))","v":0},{"$f":"IF(MIN(O$37*'02_3_SOURCES'!$I14,SUMIF('03_3_Amortizations'!$A$13:$A$492,'04_1_Pro Forma'!O$4,'03_3_Amortizations'!$AT$13:$AT$492))<0, 0, MIN(O$37*'02_3_SOURCES'!$I14,SUMIF('03_3_Amortizations'!$A$13:$A$492,'04_1_Pro Forma'!O$4,'03_3_Amortizations'!$AT$13:$AT$492)))","v":0},{"$f":"IF(MIN(P$37*'02_3_SOURCES'!$I14,SUMIF('03_3_Amortizations'!$A$13:$A$492,'04_1_Pro Forma'!P$4,'03_3_Amortizations'!$AT$13:$AT$492))<0, 0, MIN(P$37*'02_3_SOURCES'!$I14,SUMIF('03_3_Amortizations'!$A$13:$A$492,'04_1_Pro Forma'!P$4,'03_3_Amortizations'!$AT$13:$AT$492)))","v":0},{"$f":"IF(MIN(Q$37*'02_3_SOURCES'!$I14,SUMIF('03_3_Amortizations'!$A$13:$A$492,'04_1_Pro Forma'!Q$4,'03_3_Amortizations'!$AT$13:$AT$492))<0, 0, MIN(Q$37*'02_3_SOURCES'!$I14,SUMIF('03_3_Amortizations'!$A$13:$A$492,'04_1_Pro Forma'!Q$4,'03_3_Amortizations'!$AT$13:$AT$492)))","v":0},{"$f":"IF(MIN(R$37*'02_3_SOURCES'!$I14,SUMIF('03_3_Amortizations'!$A$13:$A$492,'04_1_Pro Forma'!R$4,'03_3_Amortizations'!$AT$13:$AT$492))<0, 0, MIN(R$37*'02_3_SOURCES'!$I14,SUMIF('03_3_Amortizations'!$A$13:$A$492,'04_1_Pro Forma'!R$4,'03_3_Amortizations'!$AT$13:$AT$492)))","v":0},{"$f":"IF(MIN(S$37*'02_3_SOURCES'!$I14,SUMIF('03_3_Amortizations'!$A$13:$A$492,'04_1_Pro Forma'!S$4,'03_3_Amortizations'!$AT$13:$AT$492))<0, 0, MIN(S$37*'02_3_SOURCES'!$I14,SUMIF('03_3_Amortizations'!$A$13:$A$492,'04_1_Pro Forma'!S$4,'03_3_Amortizations'!$AT$13:$AT$492)))","v":0},{"$f":"IF(MIN(T$37*'02_3_SOURCES'!$I14,SUMIF('03_3_Amortizations'!$A$13:$A$492,'04_1_Pro Forma'!T$4,'03_3_Amortizations'!$AT$13:$AT$492))<0, 0, MIN(T$37*'02_3_SOURCES'!$I14,SUMIF('03_3_Amortizations'!$A$13:$A$492,'04_1_Pro Forma'!T$4,'03_3_Amortizations'!$AT$13:$AT$492)))","v":0},{"$f":"IF(MIN(U$37*'02_3_SOURCES'!$I14,SUMIF('03_3_Amortizations'!$A$13:$A$492,'04_1_Pro Forma'!U$4,'03_3_Amortizations'!$AT$13:$AT$492))<0, 0, MIN(U$37*'02_3_SOURCES'!$I14,SUMIF('03_3_Amortizations'!$A$13:$A$492,'04_1_Pro Forma'!U$4,'03_3_Amortizations'!$AT$13:$AT$492)))","v":0},{"$f":"IF(MIN(V$37*'02_3_SOURCES'!$I14,SUMIF('03_3_Amortizations'!$A$13:$A$492,'04_1_Pro Forma'!V$4,'03_3_Amortizations'!$AT$13:$AT$492))<0, 0, MIN(V$37*'02_3_SOURCES'!$I14,SUMIF('03_3_Amortizations'!$A$13:$A$492,'04_1_Pro Forma'!V$4,'03_3_Amortizations'!$AT$13:$AT$492)))","v":0},{"$f":"IF(MIN(W$37*'02_3_SOURCES'!$I14,SUMIF('03_3_Amortizations'!$A$13:$A$492,'04_1_Pro Forma'!W$4,'03_3_Amortizations'!$AT$13:$AT$492))<0, 0, MIN(W$37*'02_3_SOURCES'!$I14,SUMIF('03_3_Amortizations'!$A$13:$A$492,'04_1_Pro Forma'!W$4,'03_3_Amortizations'!$AT$13:$AT$492)))","v":0},{"$f":"IF(MIN(X$37*'02_3_SOURCES'!$I14,SUMIF('03_3_Amortizations'!$A$13:$A$492,'04_1_Pro Forma'!X$4,'03_3_Amortizations'!$AT$13:$AT$492))<0, 0, MIN(X$37*'02_3_SOURCES'!$I14,SUMIF('03_3_Amortizations'!$A$13:$A$492,'04_1_Pro Forma'!X$4,'03_3_Amortizations'!$AT$13:$AT$492)))","v":0},{"$f":"IF(MIN(Y$37*'02_3_SOURCES'!$I14,SUMIF('03_3_Amortizations'!$A$13:$A$492,'04_1_Pro Forma'!Y$4,'03_3_Amortizations'!$AT$13:$AT$492))<0, 0, MIN(Y$37*'02_3_SOURCES'!$I14,SUMIF('03_3_Amortizations'!$A$13:$A$492,'04_1_Pro Forma'!Y$4,'03_3_Amortizations'!$AT$13:$AT$492)))","v":0},{"$f":"IF(MIN(Z$37*'02_3_SOURCES'!$I14,SUMIF('03_3_Amortizations'!$A$13:$A$492,'04_1_Pro Forma'!Z$4,'03_3_Amortizations'!$AT$13:$AT$492))<0, 0, MIN(Z$37*'02_3_SOURCES'!$I14,SUMIF('03_3_Amortizations'!$A$13:$A$492,'04_1_Pro Forma'!Z$4,'03_3_Amortizations'!$AT$13:$AT$492)))","v":0},{"$f":"IF(MIN(AA$37*'02_3_SOURCES'!$I14,SUMIF('03_3_Amortizations'!$A$13:$A$492,'04_1_Pro Forma'!AA$4,'03_3_Amortizations'!$AT$13:$AT$492))<0, 0, MIN(AA$37*'02_3_SOURCES'!$I14,SUMIF('03_3_Amortizations'!$A$13:$A$492,'04_1_Pro Forma'!AA$4,'03_3_Amortizations'!$AT$13:$AT$492)))","v":0},{"$f":"IF(MIN(AB$37*'02_3_SOURCES'!$I14,SUMIF('03_3_Amortizations'!$A$13:$A$492,'04_1_Pro Forma'!AB$4,'03_3_Amortizations'!$AT$13:$AT$492))<0, 0, MIN(AB$37*'02_3_SOURCES'!$I14,SUMIF('03_3_Amortizations'!$A$13:$A$492,'04_1_Pro Forma'!AB$4,'03_3_Amortizations'!$AT$13:$AT$492)))","v":0},{"$f":"IF(MIN(AC$37*'02_3_SOURCES'!$I14,SUMIF('03_3_Amortizations'!$A$13:$A$492,'04_1_Pro Forma'!AC$4,'03_3_Amortizations'!$AT$13:$AT$492))<0, 0, MIN(AC$37*'02_3_SOURCES'!$I14,SUMIF('03_3_Amortizations'!$A$13:$A$492,'04_1_Pro Forma'!AC$4,'03_3_Amortizations'!$AT$13:$AT$492)))","v":0},{"$f":"IF(MIN(AD$37*'02_3_SOURCES'!$I14,SUMIF('03_3_Amortizations'!$A$13:$A$492,'04_1_Pro Forma'!AD$4,'03_3_Amortizations'!$AT$13:$AT$492))<0, 0, MIN(AD$37*'02_3_SOURCES'!$I14,SUMIF('03_3_Amortizations'!$A$13:$A$492,'04_1_Pro Forma'!AD$4,'03_3_Amortizations'!$AT$13:$AT$492)))","v":0},{"$f":"IF(MIN(AE$37*'02_3_SOURCES'!$I14,SUMIF('03_3_Amortizations'!$A$13:$A$492,'04_1_Pro Forma'!AE$4,'03_3_Amortizations'!$AT$13:$AT$492))<0, 0, MIN(AE$37*'02_3_SOURCES'!$I14,SUMIF('03_3_Amortizations'!$A$13:$A$492,'04_1_Pro Forma'!AE$4,'03_3_Amortizations'!$AT$13:$AT$492)))","v":0},{"$f":"IF(MIN(AF$37*'02_3_SOURCES'!$I14,SUMIF('03_3_Amortizations'!$A$13:$A$492,'04_1_Pro Forma'!AF$4,'03_3_Amortizations'!$AT$13:$AT$492))<0, 0, MIN(AF$37*'02_3_SOURCES'!$I14,SUMIF('03_3_Amortizations'!$A$13:$A$492,'04_1_Pro Forma'!AF$4,'03_3_Amortizations'!$AT$13:$AT$492)))","v":0},{"$f":"IF(MIN(AG$37*'02_3_SOURCES'!$I14,SUMIF('03_3_Amortizations'!$A$13:$A$492,'04_1_Pro Forma'!AG$4,'03_3_Amortizations'!$AT$13:$AT$492))<0, 0, MIN(AG$37*'02_3_SOURCES'!$I14,SUMIF('03_3_Amortizations'!$A$13:$A$492,'04_1_Pro Forma'!AG$4,'03_3_Amortizations'!$AT$13:$AT$492)))","v":0},{"$f":"IF(MIN(AH$37*'02_3_SOURCES'!$I14,SUMIF('03_3_Amortizations'!$A$13:$A$492,'04_1_Pro Forma'!AH$4,'03_3_Amortizations'!$AT$13:$AT$492))<0, 0, MIN(AH$37*'02_3_SOURCES'!$I14,SUMIF('03_3_Amortizations'!$A$13:$A$492,'04_1_Pro Forma'!AH$4,'03_3_Amortizations'!$AT$13:$AT$492)))","v":0},{"$f":"IF(MIN(AI$37*'02_3_SOURCES'!$I14,SUMIF('03_3_Amortizations'!$A$13:$A$492,'04_1_Pro Forma'!AI$4,'03_3_Amortizations'!$AT$13:$AT$492))<0, 0, MIN(AI$37*'02_3_SOURCES'!$I14,SUMIF('03_3_Amortizations'!$A$13:$A$492,'04_1_Pro Forma'!AI$4,'03_3_Amortizations'!$AT$13:$AT$492)))","v":0},{"$f":"IF(MIN(AJ$37*'02_3_SOURCES'!$I14,SUMIF('03_3_Amortizations'!$A$13:$A$492,'04_1_Pro Forma'!AJ$4,'03_3_Amortizations'!$AT$13:$AT$492))<0, 0, MIN(AJ$37*'02_3_SOURCES'!$I14,SUMIF('03_3_Amortizations'!$A$13:$A$492,'04_1_Pro Forma'!AJ$4,'03_3_Amortizations'!$AT$13:$AT$492)))","v":0},{"$f":"IF(MIN(AK$37*'02_3_SOURCES'!$I14,SUMIF('03_3_Amortizations'!$A$13:$A$492,'04_1_Pro Forma'!AK$4,'03_3_Amortizations'!$AT$13:$AT$492))<0, 0, MIN(AK$37*'02_3_SOURCES'!$I14,SUMIF('03_3_Amortizations'!$A$13:$A$492,'04_1_Pro Forma'!AK$4,'03_3_Amortizations'!$AT$13:$AT$492)))","v":0},{"$f":"IF(MIN(AL$37*'02_3_SOURCES'!$I14,SUMIF('03_3_Amortizations'!$A$13:$A$492,'04_1_Pro Forma'!AL$4,'03_3_Amortizations'!$AT$13:$AT$492))<0, 0, MIN(AL$37*'02_3_SOURCES'!$I14,SUMIF('03_3_Amortizations'!$A$13:$A$492,'04_1_Pro Forma'!AL$4,'03_3_Amortizations'!$AT$13:$AT$492)))","v":0},{"$f":"IF(MIN(AM$37*'02_3_SOURCES'!$I14,SUMIF('03_3_Amortizations'!$A$13:$A$492,'04_1_Pro Forma'!AM$4,'03_3_Amortizations'!$AT$13:$AT$492))<0, 0, MIN(AM$37*'02_3_SOURCES'!$I14,SUMIF('03_3_Amortizations'!$A$13:$A$492,'04_1_Pro Forma'!AM$4,'03_3_Amortizations'!$AT$13:$AT$492)))","v":0},{"$f":"IF(MIN(AN$37*'02_3_SOURCES'!$I14,SUMIF('03_3_Amortizations'!$A$13:$A$492,'04_1_Pro Forma'!AN$4,'03_3_Amortizations'!$AT$13:$AT$492))<0, 0, MIN(AN$37*'02_3_SOURCES'!$I14,SUMIF('03_3_Amortizations'!$A$13:$A$492,'04_1_Pro Forma'!AN$4,'03_3_Amortizations'!$AT$13:$AT$492)))","v":0},{"$f":"IF(MIN(AO$37*'02_3_SOURCES'!$I14,SUMIF('03_3_Amortizations'!$A$13:$A$492,'04_1_Pro Forma'!AO$4,'03_3_Amortizations'!$AT$13:$AT$492))<0, 0, MIN(AO$37*'02_3_SOURCES'!$I14,SUMIF('03_3_Amortizations'!$A$13:$A$492,'04_1_Pro Forma'!AO$4,'03_3_Amortizations'!$AT$13:$AT$492)))","v":0},{"$f":"IF(MIN(AP$37*'02_3_SOURCES'!$I14,SUMIF('03_3_Amortizations'!$A$13:$A$492,'04_1_Pro Forma'!AP$4,'03_3_Amortizations'!$AT$13:$AT$492))<0, 0, MIN(AP$37*'02_3_SOURCES'!$I14,SUMIF('03_3_Amortizations'!$A$13:$A$492,'04_1_Pro Forma'!AP$4,'03_3_Amortizations'!$AT$13:$AT$492)))","v":0}]
[{"$f":"'02_3_SOURCES'!B15","v":0},null,{"$f":"IF(MIN(C$37*'02_3_SOURCES'!$I15,SUMIF('03_3_Amortizations'!$A$13:$A$492,'04_1_Pro Forma'!C$4,'03_3_Amortizations'!$BB$13:$BB$492))<0, 0, MIN(C$37*'02_3_SOURCES'!$I15,SUMIF('03_3_Amortizations'!$A$13:$A$492,'04_1_Pro Forma'!C$4,'03_3_Amortizations'!$BB$13:$BB$492)))","v":0},{"$f":"IF(MIN(D$37*'02_3_SOURCES'!$I15,SUMIF('03_3_Amortizations'!$A$13:$A$492,'04_1_Pro Forma'!D$4,'03_3_Amortizations'!$BB$13:$BB$492))<0, 0, MIN(D$37*'02_3_SOURCES'!$I15,SUMIF('03_3_Amortizations'!$A$13:$A$492,'04_1_Pro Forma'!D$4,'03_3_Amortizations'!$BB$13:$BB$492)))","v":0},{"$f":"IF(MIN(E$37*'02_3_SOURCES'!$I15,SUMIF('03_3_Amortizations'!$A$13:$A$492,'04_1_Pro Forma'!E$4,'03_3_Amortizations'!$BB$13:$BB$492))<0, 0, MIN(E$37*'02_3_SOURCES'!$I15,SUMIF('03_3_Amortizations'!$A$13:$A$492,'04_1_Pro Forma'!E$4,'03_3_Amortizations'!$BB$13:$BB$492)))","v":0},{"$f":"IF(MIN(F$37*'02_3_SOURCES'!$I15,SUMIF('03_3_Amortizations'!$A$13:$A$492,'04_1_Pro Forma'!F$4,'03_3_Amortizations'!$BB$13:$BB$492))<0, 0, MIN(F$37*'02_3_SOURCES'!$I15,SUMIF('03_3_Amortizations'!$A$13:$A$492,'04_1_Pro Forma'!F$4,'03_3_Amortizations'!$BB$13:$BB$492)))","v":0},{"$f":"IF(MIN(G$37*'02_3_SOURCES'!$I15,SUMIF('03_3_Amortizations'!$A$13:$A$492,'04_1_Pro Forma'!G$4,'03_3_Amortizations'!$BB$13:$BB$492))<0, 0, MIN(G$37*'02_3_SOURCES'!$I15,SUMIF('03_3_Amortizations'!$A$13:$A$492,'04_1_Pro Forma'!G$4,'03_3_Amortizations'!$BB$13:$BB$492)))","v":0},{"$f":"IF(MIN(H$37*'02_3_SOURCES'!$I15,SUMIF('03_3_Amortizations'!$A$13:$A$492,'04_1_Pro Forma'!H$4,'03_3_Amortizations'!$BB$13:$BB$492))<0, 0, MIN(H$37*'02_3_SOURCES'!$I15,SUMIF('03_3_Amortizations'!$A$13:$A$492,'04_1_Pro Forma'!H$4,'03_3_Amortizations'!$BB$13:$BB$492)))","v":0},{"$f":"IF(MIN(I$37*'02_3_SOURCES'!$I15,SUMIF('03_3_Amortizations'!$A$13:$A$492,'04_1_Pro Forma'!I$4,'03_3_Amortizations'!$BB$13:$BB$492))<0, 0, MIN(I$37*'02_3_SOURCES'!$I15,SUMIF('03_3_Amortizations'!$A$13:$A$492,'04_1_Pro Forma'!I$4,'03_3_Amortizations'!$BB$13:$BB$492)))","v":0},{"$f":"IF(MIN(J$37*'02_3_SOURCES'!$I15,SUMIF('03_3_Amortizations'!$A$13:$A$492,'04_1_Pro Forma'!J$4,'03_3_Amortizations'!$BB$13:$BB$492))<0, 0, MIN(J$37*'02_3_SOURCES'!$I15,SUMIF('03_3_Amortizations'!$A$13:$A$492,'04_1_Pro Forma'!J$4,'03_3_Amortizations'!$BB$13:$BB$492)))","v":0},{"$f":"IF(MIN(K$37*'02_3_SOURCES'!$I15,SUMIF('03_3_Amortizations'!$A$13:$A$492,'04_1_Pro Forma'!K$4,'03_3_Amortizations'!$BB$13:$BB$492))<0, 0, MIN(K$37*'02_3_SOURCES'!$I15,SUMIF('03_3_Amortizations'!$A$13:$A$492,'04_1_Pro Forma'!K$4,'03_3_Amortizations'!$BB$13:$BB$492)))","v":0},{"$f":"IF(MIN(L$37*'02_3_SOURCES'!$I15,SUMIF('03_3_Amortizations'!$A$13:$A$492,'04_1_Pro Forma'!L$4,'03_3_Amortizations'!$BB$13:$BB$492))<0, 0, MIN(L$37*'02_3_SOURCES'!$I15,SUMIF('03_3_Amortizations'!$A$13:$A$492,'04_1_Pro Forma'!L$4,'03_3_Amortizations'!$BB$13:$BB$492)))","v":0},{"$f":"IF(MIN(M$37*'02_3_SOURCES'!$I15,SUMIF('03_3_Amortizations'!$A$13:$A$492,'04_1_Pro Forma'!M$4,'03_3_Amortizations'!$BB$13:$BB$492))<0, 0, MIN(M$37*'02_3_SOURCES'!$I15,SUMIF('03_3_Amortizations'!$A$13:$A$492,'04_1_Pro Forma'!M$4,'03_3_Amortizations'!$BB$13:$BB$492)))","v":0},{"$f":"IF(MIN(N$37*'02_3_SOURCES'!$I15,SUMIF('03_3_Amortizations'!$A$13:$A$492,'04_1_Pro Forma'!N$4,'03_3_Amortizations'!$BB$13:$BB$492))<0, 0, MIN(N$37*'02_3_SOURCES'!$I15,SUMIF('03_3_Amortizations'!$A$13:$A$492,'04_1_Pro Forma'!N$4,'03_3_Amortizations'!$BB$13:$BB$492)))","v":0},{"$f":"IF(MIN(O$37*'02_3_SOURCES'!$I15,SUMIF('03_3_Amortizations'!$A$13:$A$492,'04_1_Pro Forma'!O$4,'03_3_Amortizations'!$BB$13:$BB$492))<0, 0, MIN(O$37*'02_3_SOURCES'!$I15,SUMIF('03_3_Amortizations'!$A$13:$A$492,'04_1_Pro Forma'!O$4,'03_3_Amortizations'!$BB$13:$BB$492)))","v":0},{"$f":"IF(MIN(P$37*'02_3_SOURCES'!$I15,SUMIF('03_3_Amortizations'!$A$13:$A$492,'04_1_Pro Forma'!P$4,'03_3_Amortizations'!$BB$13:$BB$492))<0, 0, MIN(P$37*'02_3_SOURCES'!$I15,SUMIF('03_3_Amortizations'!$A$13:$A$492,'04_1_Pro Forma'!P$4,'03_3_Amortizations'!$BB$13:$BB$492)))","v":0},{"$f":"IF(MIN(Q$37*'02_3_SOURCES'!$I15,SUMIF('03_3_Amortizations'!$A$13:$A$492,'04_1_Pro Forma'!Q$4,'03_3_Amortizations'!$BB$13:$BB$492))<0, 0, MIN(Q$37*'02_3_SOURCES'!$I15,SUMIF('03_3_Amortizations'!$A$13:$A$492,'04_1_Pro Forma'!Q$4,'03_3_Amortizations'!$BB$13:$BB$492)))","v":0},{"$f":"IF(MIN(R$37*'02_3_SOURCES'!$I15,SUMIF('03_3_Amortizations'!$A$13:$A$492,'04_1_Pro Forma'!R$4,'03_3_Amortizations'!$BB$13:$BB$492))<0, 0, MIN(R$37*'02_3_SOURCES'!$I15,SUMIF('03_3_Amortizations'!$A$13:$A$492,'04_1_Pro Forma'!R$4,'03_3_Amortizations'!$BB$13:$BB$492)))","v":0},{"$f":"IF(MIN(S$37*'02_3_SOURCES'!$I15,SUMIF('03_3_Amortizations'!$A$13:$A$492,'04_1_Pro Forma'!S$4,'03_3_Amortizations'!$BB$13:$BB$492))<0, 0, MIN(S$37*'02_3_SOURCES'!$I15,SUMIF('03_3_Amortizations'!$A$13:$A$492,'04_1_Pro Forma'!S$4,'03_3_Amortizations'!$BB$13:$BB$492)))","v":0},{"$f":"IF(MIN(T$37*'02_3_SOURCES'!$I15,SUMIF('03_3_Amortizations'!$A$13:$A$492,'04_1_Pro Forma'!T$4,'03_3_Amortizations'!$BB$13:$BB$492))<0, 0, MIN(T$37*'02_3_SOURCES'!$I15,SUMIF('03_3_Amortizations'!$A$13:$A$492,'04_1_Pro Forma'!T$4,'03_3_Amortizations'!$BB$13:$BB$492)))","v":0},{"$f":"IF(MIN(U$37*'02_3_SOURCES'!$I15,SUMIF('03_3_Amortizations'!$A$13:$A$492,'04_1_Pro Forma'!U$4,'03_3_Amortizations'!$BB$13:$BB$492))<0, 0, MIN(U$37*'02_3_SOURCES'!$I15,SUMIF('03_3_Amortizations'!$A$13:$A$492,'04_1_Pro Forma'!U$4,'03_3_Amortizations'!$BB$13:$BB$492)))","v":0},{"$f":"IF(MIN(V$37*'02_3_SOURCES'!$I15,SUMIF('03_3_Amortizations'!$A$13:$A$492,'04_1_Pro Forma'!V$4,'03_3_Amortizations'!$BB$13:$BB$492))<0, 0, MIN(V$37*'02_3_SOURCES'!$I15,SUMIF('03_3_Amortizations'!$A$13:$A$492,'04_1_Pro Forma'!V$4,'03_3_Amortizations'!$BB$13:$BB$492)))","v":0},{"$f":"IF(MIN(W$37*'02_3_SOURCES'!$I15,SUMIF('03_3_Amortizations'!$A$13:$A$492,'04_1_Pro Forma'!W$4,'03_3_Amortizations'!$BB$13:$BB$492))<0, 0, MIN(W$37*'02_3_SOURCES'!$I15,SUMIF('03_3_Amortizations'!$A$13:$A$492,'04_1_Pro Forma'!W$4,'03_3_Amortizations'!$BB$13:$BB$492)))","v":0},{"$f":"IF(MIN(X$37*'02_3_SOURCES'!$I15,SUMIF('03_3_Amortizations'!$A$13:$A$492,'04_1_Pro Forma'!X$4,'03_3_Amortizations'!$BB$13:$BB$492))<0, 0, MIN(X$37*'02_3_SOURCES'!$I15,SUMIF('03_3_Amortizations'!$A$13:$A$492,'04_1_Pro Forma'!X$4,'03_3_Amortizations'!$BB$13:$BB$492)))","v":0},{"$f":"IF(MIN(Y$37*'02_3_SOURCES'!$I15,SUMIF('03_3_Amortizations'!$A$13:$A$492,'04_1_Pro Forma'!Y$4,'03_3_Amortizations'!$BB$13:$BB$492))<0, 0, MIN(Y$37*'02_3_SOURCES'!$I15,SUMIF('03_3_Amortizations'!$A$13:$A$492,'04_1_Pro Forma'!Y$4,'03_3_Amortizations'!$BB$13:$BB$492)))","v":0},{"$f":"IF(MIN(Z$37*'02_3_SOURCES'!$I15,SUMIF('03_3_Amortizations'!$A$13:$A$492,'04_1_Pro Forma'!Z$4,'03_3_Amortizations'!$BB$13:$BB$492))<0, 0, MIN(Z$37*'02_3_SOURCES'!$I15,SUMIF('03_3_Amortizations'!$A$13:$A$492,'04_1_Pro Forma'!Z$4,'03_3_Amortizations'!$BB$13:$BB$492)))","v":0},{"$f":"IF(MIN(AA$37*'02_3_SOURCES'!$I15,SUMIF('03_3_Amortizations'!$A$13:$A$492,'04_1_Pro Forma'!AA$4,'03_3_Amortizations'!$BB$13:$BB$492))<0, 0, MIN(AA$37*'02_3_SOURCES'!$I15,SUMIF('03_3_Amortizations'!$A$13:$A$492,'04_1_Pro Forma'!AA$4,'03_3_Amortizations'!$BB$13:$BB$492)))","v":0},{"$f":"IF(MIN(AB$37*'02_3_SOURCES'!$I15,SUMIF('03_3_Amortizations'!$A$13:$A$492,'04_1_Pro Forma'!AB$4,'03_3_Amortizations'!$BB$13:$BB$492))<0, 0, MIN(AB$37*'02_3_SOURCES'!$I15,SUMIF('03_3_Amortizations'!$A$13:$A$492,'04_1_Pro Forma'!AB$4,'03_3_Amortizations'!$BB$13:$BB$492)))","v":0},{"$f":"IF(MIN(AC$37*'02_3_SOURCES'!$I15,SUMIF('03_3_Amortizations'!$A$13:$A$492,'04_1_Pro Forma'!AC$4,'03_3_Amortizations'!$BB$13:$BB$492))<0, 0, MIN(AC$37*'02_3_SOURCES'!$I15,SUMIF('03_3_Amortizations'!$A$13:$A$492,'04_1_Pro Forma'!AC$4,'03_3_Amortizations'!$BB$13:$BB$492)))","v":0},{"$f":"IF(MIN(AD$37*'02_3_SOURCES'!$I15,SUMIF('03_3_Amortizations'!$A$13:$A$492,'04_1_Pro Forma'!AD$4,'03_3_Amortizations'!$BB$13:$BB$492))<0, 0, MIN(AD$37*'02_3_SOURCES'!$I15,SUMIF('03_3_Amortizations'!$A$13:$A$492,'04_1_Pro Forma'!AD$4,'03_3_Amortizations'!$BB$13:$BB$492)))","v":0},{"$f":"IF(MIN(AE$37*'02_3_SOURCES'!$I15,SUMIF('03_3_Amortizations'!$A$13:$A$492,'04_1_Pro Forma'!AE$4,'03_3_Amortizations'!$BB$13:$BB$492))<0, 0, MIN(AE$37*'02_3_SOURCES'!$I15,SUMIF('03_3_Amortizations'!$A$13:$A$492,'04_1_Pro Forma'!AE$4,'03_3_Amortizations'!$BB$13:$BB$492)))","v":0},{"$f":"IF(MIN(AF$37*'02_3_SOURCES'!$I15,SUMIF('03_3_Amortizations'!$A$13:$A$492,'04_1_Pro Forma'!AF$4,'03_3_Amortizations'!$BB$13:$BB$492))<0, 0, MIN(AF$37*'02_3_SOURCES'!$I15,SUMIF('03_3_Amortizations'!$A$13:$A$492,'04_1_Pro Forma'!AF$4,'03_3_Amortizations'!$BB$13:$BB$492)))","v":0},{"$f":"IF(MIN(AG$37*'02_3_SOURCES'!$I15,SUMIF('03_3_Amortizations'!$A$13:$A$492,'04_1_Pro Forma'!AG$4,'03_3_Amortizations'!$BB$13:$BB$492))<0, 0, MIN(AG$37*'02_3_SOURCES'!$I15,SUMIF('03_3_Amortizations'!$A$13:$A$492,'04_1_Pro Forma'!AG$4,'03_3_Amortizations'!$BB$13:$BB$492)))","v":0},{"$f":"IF(MIN(AH$37*'02_3_SOURCES'!$I15,SUMIF('03_3_Amortizations'!$A$13:$A$492,'04_1_Pro Forma'!AH$4,'03_3_Amortizations'!$BB$13:$BB$492))<0, 0, MIN(AH$37*'02_3_SOURCES'!$I15,SUMIF('03_3_Amortizations'!$A$13:$A$492,'04_1_Pro Forma'!AH$4,'03_3_Amortizations'!$BB$13:$BB$492)))","v":0},{"$f":"IF(MIN(AI$37*'02_3_SOURCES'!$I15,SUMIF('03_3_Amortizations'!$A$13:$A$492,'04_1_Pro Forma'!AI$4,'03_3_Amortizations'!$BB$13:$BB$492))<0, 0, MIN(AI$37*'02_3_SOURCES'!$I15,SUMIF('03_3_Amortizations'!$A$13:$A$492,'04_1_Pro Forma'!AI$4,'03_3_Amortizations'!$BB$13:$BB$492)))","v":0},{"$f":"IF(MIN(AJ$37*'02_3_SOURCES'!$I15,SUMIF('03_3_Amortizations'!$A$13:$A$492,'04_1_Pro Forma'!AJ$4,'03_3_Amortizations'!$BB$13:$BB$492))<0, 0, MIN(AJ$37*'02_3_SOURCES'!$I15,SUMIF('03_3_Amortizations'!$A$13:$A$492,'04_1_Pro Forma'!AJ$4,'03_3_Amortizations'!$BB$13:$BB$492)))","v":0},{"$f":"IF(MIN(AK$37*'02_3_SOURCES'!$I15,SUMIF('03_3_Amortizations'!$A$13:$A$492,'04_1_Pro Forma'!AK$4,'03_3_Amortizations'!$BB$13:$BB$492))<0, 0, MIN(AK$37*'02_3_SOURCES'!$I15,SUMIF('03_3_Amortizations'!$A$13:$A$492,'04_1_Pro Forma'!AK$4,'03_3_Amortizations'!$BB$13:$BB$492)))","v":0},{"$f":"IF(MIN(AL$37*'02_3_SOURCES'!$I15,SUMIF('03_3_Amortizations'!$A$13:$A$492,'04_1_Pro Forma'!AL$4,'03_3_Amortizations'!$BB$13:$BB$492))<0, 0, MIN(AL$37*'02_3_SOURCES'!$I15,SUMIF('03_3_Amortizations'!$A$13:$A$492,'04_1_Pro Forma'!AL$4,'03_3_Amortizations'!$BB$13:$BB$492)))","v":0},{"$f":"IF(MIN(AM$37*'02_3_SOURCES'!$I15,SUMIF('03_3_Amortizations'!$A$13:$A$492,'04_1_Pro Forma'!AM$4,'03_3_Amortizations'!$BB$13:$BB$492))<0, 0, MIN(AM$37*'02_3_SOURCES'!$I15,SUMIF('03_3_Amortizations'!$A$13:$A$492,'04_1_Pro Forma'!AM$4,'03_3_Amortizations'!$BB$13:$BB$492)))","v":0},{"$f":"IF(MIN(AN$37*'02_3_SOURCES'!$I15,SUMIF('03_3_Amortizations'!$A$13:$A$492,'04_1_Pro Forma'!AN$4,'03_3_Amortizations'!$BB$13:$BB$492))<0, 0, MIN(AN$37*'02_3_SOURCES'!$I15,SUMIF('03_3_Amortizations'!$A$13:$A$492,'04_1_Pro Forma'!AN$4,'03_3_Amortizations'!$BB$13:$BB$492)))","v":0},{"$f":"IF(MIN(AO$37*'02_3_SOURCES'!$I15,SUMIF('03_3_Amortizations'!$A$13:$A$492,'04_1_Pro Forma'!AO$4,'03_3_Amortizations'!$BB$13:$BB$492))<0, 0, MIN(AO$37*'02_3_SOURCES'!$I15,SUMIF('03_3_Amortizations'!$A$13:$A$492,'04_1_Pro Forma'!AO$4,'03_3_Amortizations'!$BB$13:$BB$492)))","v":0},{"$f":"IF(MIN(AP$37*'02_3_SOURCES'!$I15,SUMIF('03_3_Amortizations'!$A$13:$A$492,'04_1_Pro Forma'!AP$4,'03_3_Amortizations'!$BB$13:$BB$492))<0, 0, MIN(AP$37*'02_3_SOURCES'!$I15,SUMIF('03_3_Amortizations'!$A$13:$A$492,'04_1_Pro Forma'!AP$4,'03_3_Amortizations'!$BB$13:$BB$492)))","v":0}]
[{"$f":"'02_3_SOURCES'!B16","v":0},null,{"$f":"IF(MIN(C$37*'02_3_SOURCES'!$I16,SUMIF('03_3_Amortizations'!$A$13:$A$492,'04_1_Pro Forma'!C$4,'03_3_Amortizations'!$BJ$13:$BJ$492))<0, 0, MIN(C$37*'02_3_SOURCES'!$I16,SUMIF('03_3_Amortizations'!$A$13:$A$492,'04_1_Pro Forma'!C$4,'03_3_Amortizations'!$BJ$13:$BJ$492)))","v":0},{"$f":"IF(MIN(D$37*'02_3_SOURCES'!$I16,SUMIF('03_3_Amortizations'!$A$13:$A$492,'04_1_Pro Forma'!D$4,'03_3_Amortizations'!$BJ$13:$BJ$492))<0, 0, MIN(D$37*'02_3_SOURCES'!$I16,SUMIF('03_3_Amortizations'!$A$13:$A$492,'04_1_Pro Forma'!D$4,'03_3_Amortizations'!$BJ$13:$BJ$492)))","v":0},{"$f":"IF(MIN(E$37*'02_3_SOURCES'!$I16,SUMIF('03_3_Amortizations'!$A$13:$A$492,'04_1_Pro Forma'!E$4,'03_3_Amortizations'!$BJ$13:$BJ$492))<0, 0, MIN(E$37*'02_3_SOURCES'!$I16,SUMIF('03_3_Amortizations'!$A$13:$A$492,'04_1_Pro Forma'!E$4,'03_3_Amortizations'!$BJ$13:$BJ$492)))","v":0},{"$f":"IF(MIN(F$37*'02_3_SOURCES'!$I16,SUMIF('03_3_Amortizations'!$A$13:$A$492,'04_1_Pro Forma'!F$4,'03_3_Amortizations'!$BJ$13:$BJ$492))<0, 0, MIN(F$37*'02_3_SOURCES'!$I16,SUMIF('03_3_Amortizations'!$A$13:$A$492,'04_1_Pro Forma'!F$4,'03_3_Amortizations'!$BJ$13:$BJ$492)))","v":0},{"$f":"IF(MIN(G$37*'02_3_SOURCES'!$I16,SUMIF('03_3_Amortizations'!$A$13:$A$492,'04_1_Pro Forma'!G$4,'03_3_Amortizations'!$BJ$13:$BJ$492))<0, 0, MIN(G$37*'02_3_SOURCES'!$I16,SUMIF('03_3_Amortizations'!$A$13:$A$492,'04_1_Pro Forma'!G$4,'03_3_Amortizations'!$BJ$13:$BJ$492)))","v":0},{"$f":"IF(MIN(H$37*'02_3_SOURCES'!$I16,SUMIF('03_3_Amortizations'!$A$13:$A$492,'04_1_Pro Forma'!H$4,'03_3_Amortizations'!$BJ$13:$BJ$492))<0, 0, MIN(H$37*'02_3_SOURCES'!$I16,SUMIF('03_3_Amortizations'!$A$13:$A$492,'04_1_Pro Forma'!H$4,'03_3_Amortizations'!$BJ$13:$BJ$492)))","v":0},{"$f":"IF(MIN(I$37*'02_3_SOURCES'!$I16,SUMIF('03_3_Amortizations'!$A$13:$A$492,'04_1_Pro Forma'!I$4,'03_3_Amortizations'!$BJ$13:$BJ$492))<0, 0, MIN(I$37*'02_3_SOURCES'!$I16,SUMIF('03_3_Amortizations'!$A$13:$A$492,'04_1_Pro Forma'!I$4,'03_3_Amortizations'!$BJ$13:$BJ$492)))","v":0},{"$f":"IF(MIN(J$37*'02_3_SOURCES'!$I16,SUMIF('03_3_Amortizations'!$A$13:$A$492,'04_1_Pro Forma'!J$4,'03_3_Amortizations'!$BJ$13:$BJ$492))<0, 0, MIN(J$37*'02_3_SOURCES'!$I16,SUMIF('03_3_Amortizations'!$A$13:$A$492,'04_1_Pro Forma'!J$4,'03_3_Amortizations'!$BJ$13:$BJ$492)))","v":0},{"$f":"IF(MIN(K$37*'02_3_SOURCES'!$I16,SUMIF('03_3_Amortizations'!$A$13:$A$492,'04_1_Pro Forma'!K$4,'03_3_Amortizations'!$BJ$13:$BJ$492))<0, 0, MIN(K$37*'02_3_SOURCES'!$I16,SUMIF('03_3_Amortizations'!$A$13:$A$492,'04_1_Pro Forma'!K$4,'03_3_Amortizations'!$BJ$13:$BJ$492)))","v":0},{"$f":"IF(MIN(L$37*'02_3_SOURCES'!$I16,SUMIF('03_3_Amortizations'!$A$13:$A$492,'04_1_Pro Forma'!L$4,'03_3_Amortizations'!$BJ$13:$BJ$492))<0, 0, MIN(L$37*'02_3_SOURCES'!$I16,SUMIF('03_3_Amortizations'!$A$13:$A$492,'04_1_Pro Forma'!L$4,'03_3_Amortizations'!$BJ$13:$BJ$492)))","v":0},{"$f":"IF(MIN(M$37*'02_3_SOURCES'!$I16,SUMIF('03_3_Amortizations'!$A$13:$A$492,'04_1_Pro Forma'!M$4,'03_3_Amortizations'!$BJ$13:$BJ$492))<0, 0, MIN(M$37*'02_3_SOURCES'!$I16,SUMIF('03_3_Amortizations'!$A$13:$A$492,'04_1_Pro Forma'!M$4,'03_3_Amortizations'!$BJ$13:$BJ$492)))","v":0},{"$f":"IF(MIN(N$37*'02_3_SOURCES'!$I16,SUMIF('03_3_Amortizations'!$A$13:$A$492,'04_1_Pro Forma'!N$4,'03_3_Amortizations'!$BJ$13:$BJ$492))<0, 0, MIN(N$37*'02_3_SOURCES'!$I16,SUMIF('03_3_Amortizations'!$A$13:$A$492,'04_1_Pro Forma'!N$4,'03_3_Amortizations'!$BJ$13:$BJ$492)))","v":0},{"$f":"IF(MIN(O$37*'02_3_SOURCES'!$I16,SUMIF('03_3_Amortizations'!$A$13:$A$492,'04_1_Pro Forma'!O$4,'03_3_Amortizations'!$BJ$13:$BJ$492))<0, 0, MIN(O$37*'02_3_SOURCES'!$I16,SUMIF('03_3_Amortizations'!$A$13:$A$492,'04_1_Pro Forma'!O$4,'03_3_Amortizations'!$BJ$13:$BJ$492)))","v":0},{"$f":"IF(MIN(P$37*'02_3_SOURCES'!$I16,SUMIF('03_3_Amortizations'!$A$13:$A$492,'04_1_Pro Forma'!P$4,'03_3_Amortizations'!$BJ$13:$BJ$492))<0, 0, MIN(P$37*'02_3_SOURCES'!$I16,SUMIF('03_3_Amortizations'!$A$13:$A$492,'04_1_Pro Forma'!P$4,'03_3_Amortizations'!$BJ$13:$BJ$492)))","v":0},{"$f":"IF(MIN(Q$37*'02_3_SOURCES'!$I16,SUMIF('03_3_Amortizations'!$A$13:$A$492,'04_1_Pro Forma'!Q$4,'03_3_Amortizations'!$BJ$13:$BJ$492))<0, 0, MIN(Q$37*'02_3_SOURCES'!$I16,SUMIF('03_3_Amortizations'!$A$13:$A$492,'04_1_Pro Forma'!Q$4,'03_3_Amortizations'!$BJ$13:$BJ$492)))","v":0},{"$f":"IF(MIN(R$37*'02_3_SOURCES'!$I16,SUMIF('03_3_Amortizations'!$A$13:$A$492,'04_1_Pro Forma'!R$4,'03_3_Amortizations'!$BJ$13:$BJ$492))<0, 0, MIN(R$37*'02_3_SOURCES'!$I16,SUMIF('03_3_Amortizations'!$A$13:$A$492,'04_1_Pro Forma'!R$4,'03_3_Amortizations'!$BJ$13:$BJ$492)))","v":0},{"$f":"IF(MIN(S$37*'02_3_SOURCES'!$I16,SUMIF('03_3_Amortizations'!$A$13:$A$492,'04_1_Pro Forma'!S$4,'03_3_Amortizations'!$BJ$13:$BJ$492))<0, 0, MIN(S$37*'02_3_SOURCES'!$I16,SUMIF('03_3_Amortizations'!$A$13:$A$492,'04_1_Pro Forma'!S$4,'03_3_Amortizations'!$BJ$13:$BJ$492)))","v":0},{"$f":"IF(MIN(T$37*'02_3_SOURCES'!$I16,SUMIF('03_3_Amortizations'!$A$13:$A$492,'04_1_Pro Forma'!T$4,'03_3_Amortizations'!$BJ$13:$BJ$492))<0, 0, MIN(T$37*'02_3_SOURCES'!$I16,SUMIF('03_3_Amortizations'!$A$13:$A$492,'04_1_Pro Forma'!T$4,'03_3_Amortizations'!$BJ$13:$BJ$492)))","v":0},{"$f":"IF(MIN(U$37*'02_3_SOURCES'!$I16,SUMIF('03_3_Amortizations'!$A$13:$A$492,'04_1_Pro Forma'!U$4,'03_3_Amortizations'!$BJ$13:$BJ$492))<0, 0, MIN(U$37*'02_3_SOURCES'!$I16,SUMIF('03_3_Amortizations'!$A$13:$A$492,'04_1_Pro Forma'!U$4,'03_3_Amortizations'!$BJ$13:$BJ$492)))","v":0},{"$f":"IF(MIN(V$37*'02_3_SOURCES'!$I16,SUMIF('03_3_Amortizations'!$A$13:$A$492,'04_1_Pro Forma'!V$4,'03_3_Amortizations'!$BJ$13:$BJ$492))<0, 0, MIN(V$37*'02_3_SOURCES'!$I16,SUMIF('03_3_Amortizations'!$A$13:$A$492,'04_1_Pro Forma'!V$4,'03_3_Amortizations'!$BJ$13:$BJ$492)))","v":0},{"$f":"IF(MIN(W$37*'02_3_SOURCES'!$I16,SUMIF('03_3_Amortizations'!$A$13:$A$492,'04_1_Pro Forma'!W$4,'03_3_Amortizations'!$BJ$13:$BJ$492))<0, 0, MIN(W$37*'02_3_SOURCES'!$I16,SUMIF('03_3_Amortizations'!$A$13:$A$492,'04_1_Pro Forma'!W$4,'03_3_Amortizations'!$BJ$13:$BJ$492)))","v":0},{"$f":"IF(MIN(X$37*'02_3_SOURCES'!$I16,SUMIF('03_3_Amortizations'!$A$13:$A$492,'04_1_Pro Forma'!X$4,'03_3_Amortizations'!$BJ$13:$BJ$492))<0, 0, MIN(X$37*'02_3_SOURCES'!$I16,SUMIF('03_3_Amortizations'!$A$13:$A$492,'04_1_Pro Forma'!X$4,'03_3_Amortizations'!$BJ$13:$BJ$492)))","v":0},{"$f":"IF(MIN(Y$37*'02_3_SOURCES'!$I16,SUMIF('03_3_Amortizations'!$A$13:$A$492,'04_1_Pro Forma'!Y$4,'03_3_Amortizations'!$BJ$13:$BJ$492))<0, 0, MIN(Y$37*'02_3_SOURCES'!$I16,SUMIF('03_3_Amortizations'!$A$13:$A$492,'04_1_Pro Forma'!Y$4,'03_3_Amortizations'!$BJ$13:$BJ$492)))","v":0},{"$f":"IF(MIN(Z$37*'02_3_SOURCES'!$I16,SUMIF('03_3_Amortizations'!$A$13:$A$492,'04_1_Pro Forma'!Z$4,'03_3_Amortizations'!$BJ$13:$BJ$492))<0, 0, MIN(Z$37*'02_3_SOURCES'!$I16,SUMIF('03_3_Amortizations'!$A$13:$A$492,'04_1_Pro Forma'!Z$4,'03_3_Amortizations'!$BJ$13:$BJ$492)))","v":0},{"$f":"IF(MIN(AA$37*'02_3_SOURCES'!$I16,SUMIF('03_3_Amortizations'!$A$13:$A$492,'04_1_Pro Forma'!AA$4,'03_3_Amortizations'!$BJ$13:$BJ$492))<0, 0, MIN(AA$37*'02_3_SOURCES'!$I16,SUMIF('03_3_Amortizations'!$A$13:$A$492,'04_1_Pro Forma'!AA$4,'03_3_Amortizations'!$BJ$13:$BJ$492)))","v":0},{"$f":"IF(MIN(AB$37*'02_3_SOURCES'!$I16,SUMIF('03_3_Amortizations'!$A$13:$A$492,'04_1_Pro Forma'!AB$4,'03_3_Amortizations'!$BJ$13:$BJ$492))<0, 0, MIN(AB$37*'02_3_SOURCES'!$I16,SUMIF('03_3_Amortizations'!$A$13:$A$492,'04_1_Pro Forma'!AB$4,'03_3_Amortizations'!$BJ$13:$BJ$492)))","v":0},{"$f":"IF(MIN(AC$37*'02_3_SOURCES'!$I16,SUMIF('03_3_Amortizations'!$A$13:$A$492,'04_1_Pro Forma'!AC$4,'03_3_Amortizations'!$BJ$13:$BJ$492))<0, 0, MIN(AC$37*'02_3_SOURCES'!$I16,SUMIF('03_3_Amortizations'!$A$13:$A$492,'04_1_Pro Forma'!AC$4,'03_3_Amortizations'!$BJ$13:$BJ$492)))","v":0},{"$f":"IF(MIN(AD$37*'02_3_SOURCES'!$I16,SUMIF('03_3_Amortizations'!$A$13:$A$492,'04_1_Pro Forma'!AD$4,'03_3_Amortizations'!$BJ$13:$BJ$492))<0, 0, MIN(AD$37*'02_3_SOURCES'!$I16,SUMIF('03_3_Amortizations'!$A$13:$A$492,'04_1_Pro Forma'!AD$4,'03_3_Amortizations'!$BJ$13:$BJ$492)))","v":0},{"$f":"IF(MIN(AE$37*'02_3_SOURCES'!$I16,SUMIF('03_3_Amortizations'!$A$13:$A$492,'04_1_Pro Forma'!AE$4,'03_3_Amortizations'!$BJ$13:$BJ$492))<0, 0, MIN(AE$37*'02_3_SOURCES'!$I16,SUMIF('03_3_Amortizations'!$A$13:$A$492,'04_1_Pro Forma'!AE$4,'03_3_Amortizations'!$BJ$13:$BJ$492)))","v":0},{"$f":"IF(MIN(AF$37*'02_3_SOURCES'!$I16,SUMIF('03_3_Amortizations'!$A$13:$A$492,'04_1_Pro Forma'!AF$4,'03_3_Amortizations'!$BJ$13:$BJ$492))<0, 0, MIN(AF$37*'02_3_SOURCES'!$I16,SUMIF('03_3_Amortizations'!$A$13:$A$492,'04_1_Pro Forma'!AF$4,'03_3_Amortizations'!$BJ$13:$BJ$492)))","v":0},{"$f":"IF(MIN(AG$37*'02_3_SOURCES'!$I16,SUMIF('03_3_Amortizations'!$A$13:$A$492,'04_1_Pro Forma'!AG$4,'03_3_Amortizations'!$BJ$13:$BJ$492))<0, 0, MIN(AG$37*'02_3_SOURCES'!$I16,SUMIF('03_3_Amortizations'!$A$13:$A$492,'04_1_Pro Forma'!AG$4,'03_3_Amortizations'!$BJ$13:$BJ$492)))","v":0},{"$f":"IF(MIN(AH$37*'02_3_SOURCES'!$I16,SUMIF('03_3_Amortizations'!$A$13:$A$492,'04_1_Pro Forma'!AH$4,'03_3_Amortizations'!$BJ$13:$BJ$492))<0, 0, MIN(AH$37*'02_3_SOURCES'!$I16,SUMIF('03_3_Amortizations'!$A$13:$A$492,'04_1_Pro Forma'!AH$4,'03_3_Amortizations'!$BJ$13:$BJ$492)))","v":0},{"$f":"IF(MIN(AI$37*'02_3_SOURCES'!$I16,SUMIF('03_3_Amortizations'!$A$13:$A$492,'04_1_Pro Forma'!AI$4,'03_3_Amortizations'!$BJ$13:$BJ$492))<0, 0, MIN(AI$37*'02_3_SOURCES'!$I16,SUMIF('03_3_Amortizations'!$A$13:$A$492,'04_1_Pro Forma'!AI$4,'03_3_Amortizations'!$BJ$13:$BJ$492)))","v":0},{"$f":"IF(MIN(AJ$37*'02_3_SOURCES'!$I16,SUMIF('03_3_Amortizations'!$A$13:$A$492,'04_1_Pro Forma'!AJ$4,'03_3_Amortizations'!$BJ$13:$BJ$492))<0, 0, MIN(AJ$37*'02_3_SOURCES'!$I16,SUMIF('03_3_Amortizations'!$A$13:$A$492,'04_1_Pro Forma'!AJ$4,'03_3_Amortizations'!$BJ$13:$BJ$492)))","v":0},{"$f":"IF(MIN(AK$37*'02_3_SOURCES'!$I16,SUMIF('03_3_Amortizations'!$A$13:$A$492,'04_1_Pro Forma'!AK$4,'03_3_Amortizations'!$BJ$13:$BJ$492))<0, 0, MIN(AK$37*'02_3_SOURCES'!$I16,SUMIF('03_3_Amortizations'!$A$13:$A$492,'04_1_Pro Forma'!AK$4,'03_3_Amortizations'!$BJ$13:$BJ$492)))","v":0},{"$f":"IF(MIN(AL$37*'02_3_SOURCES'!$I16,SUMIF('03_3_Amortizations'!$A$13:$A$492,'04_1_Pro Forma'!AL$4,'03_3_Amortizations'!$BJ$13:$BJ$492))<0, 0, MIN(AL$37*'02_3_SOURCES'!$I16,SUMIF('03_3_Amortizations'!$A$13:$A$492,'04_1_Pro Forma'!AL$4,'03_3_Amortizations'!$BJ$13:$BJ$492)))","v":0},{"$f":"IF(MIN(AM$37*'02_3_SOURCES'!$I16,SUMIF('03_3_Amortizations'!$A$13:$A$492,'04_1_Pro Forma'!AM$4,'03_3_Amortizations'!$BJ$13:$BJ$492))<0, 0, MIN(AM$37*'02_3_SOURCES'!$I16,SUMIF('03_3_Amortizations'!$A$13:$A$492,'04_1_Pro Forma'!AM$4,'03_3_Amortizations'!$BJ$13:$BJ$492)))","v":0},{"$f":"IF(MIN(AN$37*'02_3_SOURCES'!$I16,SUMIF('03_3_Amortizations'!$A$13:$A$492,'04_1_Pro Forma'!AN$4,'03_3_Amortizations'!$BJ$13:$BJ$492))<0, 0, MIN(AN$37*'02_3_SOURCES'!$I16,SUMIF('03_3_Amortizations'!$A$13:$A$492,'04_1_Pro Forma'!AN$4,'03_3_Amortizations'!$BJ$13:$BJ$492)))","v":0},{"$f":"IF(MIN(AO$37*'02_3_SOURCES'!$I16,SUMIF('03_3_Amortizations'!$A$13:$A$492,'04_1_Pro Forma'!AO$4,'03_3_Amortizations'!$BJ$13:$BJ$492))<0, 0, MIN(AO$37*'02_3_SOURCES'!$I16,SUMIF('03_3_Amortizations'!$A$13:$A$492,'04_1_Pro Forma'!AO$4,'03_3_Amortizations'!$BJ$13:$BJ$492)))","v":0},{"$f":"IF(MIN(AP$37*'02_3_SOURCES'!$I16,SUMIF('03_3_Amortizations'!$A$13:$A$492,'04_1_Pro Forma'!AP$4,'03_3_Amortizations'!$BJ$13:$BJ$492))<0, 0, MIN(AP$37*'02_3_SOURCES'!$I16,SUMIF('03_3_Amortizations'!$A$13:$A$492,'04_1_Pro Forma'!AP$4,'03_3_Amortizations'!$BJ$13:$BJ$492)))","v":0}]
[]
["Total Cash Flow Debt",null,{"$f":"SUM(C41:C46)","v":0},0,0,0,0,0,0,0,0,0,0,0,0,0,0,0,0,0,0,0,0,0,0,0,0,0,0,0,0,0,0,0,0,0,0,0,0,0,0,0]
["Remaining Cash Flow",null,{"$f":"C37-C48","v":0},0,0,0,0,0,0,0,0,0,0,0,0,0,0,0,0,0,0,0,0,0,0,0,0,0,0,0,0,0,0,0,0,0,0,0,0,0,0,0]

{"sheet":"04_2_Pre-Stabilization","index":22,"n_rows":54,"n_cols":40,"rows_kept":54,"cut":false,"hidden":true,"merged":[]}
["Proforma (Pre-Stabilization)"]
[{"$f":"IF(rng01_ProjectName=\"\",\"[Project Name]\", rng01_ProjectName)","v":"[Project Name]"}]
[null,"Year",null,{"$f":"YEAR('01_1_General Data'!C135)","v":1900},{"$f":"D3","v":1900},{"$f":"E3","v":1900},1900,1900,1900,1900,1900,1900,1900,1900,1900,{"$f":"O3+1","v":1901},{"$f":"P3","v":1901},{"$f":"Q3","v":1901},1901,1901,1901,1901,1901,1901,1901,1901,1901,{"$f":"AA3+1","v":1902},{"$f":"AB3","v":1902},{"$f":"AC3","v":1902},1902,1902,1902,1902,1902,1902,1902,1902,1902]
[null,"Month",null,1,2,3,4,5,6,7,8,9,10,11,12,1,2,3,4,5,6,7,8,9,10,11,12,1,2,3,4,5,6,7,8,9,10,11,12]
["Income","Trend",null,null,null,null,null,null,null,null,null,null,null,null,null,null,null,null,null,null,null,null,null,null,null,null,null,null,null,null,null,null,null,null,null,null,null,null,null,"Line item comments"]
["Residential Affordable Income ",{"$f":"rng01_RentalIncomeRate","v":0},null,{"$f":"'01_1_General Data'!C141*'02_1_INCOME'!$H$111/12/(1+$B$6)","v":{"$error":"#DIV/0!"}},{"$f":"'01_1_General Data'!D141*'02_1_INCOME'!$H$111/12/(1+$B$6)","v":{"$error":"#DIV/0!"}},{"$f":"'01_1_General Data'!E141*'02_1_INCOME'!$H$111/12/(1+$B$6)","v":{"$error":"#DIV/0!"}},{"$f":"'01_1_General Data'!F141*'02_1_INCOME'!$H$111/12/(1+$B$6)","v":{"$error":"#DIV/0!"}},{"$f":"'01_1_General Data'!G141*'02_1_INCOME'!$H$111/12/(1+$B$6)","v":{"$error":"#DIV/0!"}},{"$f":"'01_1_General Data'!H141*'02_1_INCOME'!$H$111/12/(1+$B$6)","v":{"$error":"#DIV/0!"}},{"$f":"'01_1_General Data'!I141*'02_1_INCOME'!$H$111/12/(1+$B$6)","v":{"$error":"#DIV/0!"}},{"$f":"'01_1_General Data'!J141*'02_1_INCOME'!$H$111/12/(1+$B$6)","v":{"$error":"#DIV/0!"}},{"$f":"'01_1_General Data'!K141*'02_1_INCOME'!$H$111/12/(1+$B$6)","v":{"$error":"#DIV/0!"}},{"$f":"'01_1_General Data'!L141*'02_1_INCOME'!$H$111/12/(1+$B$6)","v":{"$error":"#DIV/0!"}},{"$f":"'01_1_General Data'!M141*'02_1_INCOME'!$H$111/12/(1+$B$6)","v":{"$error":"#DIV/0!"}},{"$f":"'01_1_General Data'!N141*'02_1_INCOME'!$H$111/12/(1+$B$6)","v":{"$error":"#DIV/0!"}},{"$f":"'01_1_General Data'!C149*'02_1_INCOME'!$H$111/12","v":{"$error":"#DIV/0!"}},{"$f":"'01_1_General Data'!D149*'02_1_INCOME'!$H$111/12","v":{"$error":"#DIV/0!"}},{"$f":"'01_1_General Data'!E149*'02_1_INCOME'!$H$111/12","v":{"$error":"#DIV/0!"}},{"$f":"'01_1_General Data'!F149*'02_1_INCOME'!$H$111/12","v":{"$error":"#DIV/0!"}},{"$f":"'01_1_General Data'!G149*'02_1_INCOME'!$H$111/12","v":{"$error":"#DIV/0!"}},{"$f":"'01_1_General Data'!H149*'02_1_INCOME'!$H$111/12","v":{"$error":"#DIV/0!"}},{"$f":"'01_1_General Data'!I149*'02_1_INCOME'!$H$111/12","v":{"$error":"#DIV/0!"}},{"$f":"'01_1_General Data'!J149*'02_1_INCOME'!$H$111/12","v":{"$error":"#DIV/0!"}},{"$f":"'01_1_General Data'!K149*'02_1_INCOME'!$H$111/12","v":{"$error":"#DIV/0!"}},{"$f":"'01_1_General Data'!L149*'02_1_INCOME'!$H$111/12","v":{"$error":"#DIV/0!"}},{"$f":"'01_1_General Data'!M149*'02_1_INCOME'!$H$111/12","v":{"$error":"#DIV/0!"}},{"$f":"'01_1_General Data'!N149*'02_1_INCOME'!$H$111/12","v":{"$error":"#DIV/0!"}},{"$f":"'01_1_General Data'!C157*'02_1_INCOME'!$H$111/12*(1+$B$6)","v":{"$error":"#DIV/0!"}},{"$f":"'01_1_General Data'!D157*'02_1_INCOME'!$H$111/12*(1+$B$6)","v":{"$error":"#DIV/0!"}},{"$f":"'01_1_General Data'!E157*'02_1_INCOME'!$H$111/12*(1+$B$6)","v":{"$error":"#DIV/0!"}},{"$f":"'01_1_General Data'!F157*'02_1_INCOME'!$H$111/12*(1+$B$6)","v":{"$error":"#DIV/0!"}},{"$f":"'01_1_General Data'!G157*'02_1_INCOME'!$H$111/12*(1+$B$6)","v":{"$error":"#DIV/0!"}},{"$f":"'01_1_General Data'!H157*'02_1_INCOME'!$H$111/12*(1+$B$6)","v":{"$error":"#DIV/0!"}},{"$f":"'01_1_General Data'!I157*'02_1_INCOME'!$H$111/12*(1+$B$6)","v":{"$error":"#DIV/0!"}},{"$f":"'01_1_General Data'!J157*'02_1_INCOME'!$H$111/12*(1+$B$6)","v":{"$error":"#DIV/0!"}},{"$f":"'01_1_General Data'!K157*'02_1_INCOME'!$H$111/12*(1+$B$6)","v":{"$error":"#DIV/0!"}},{"$f":"'01_1_General Data'!L157*'02_1_INCOME'!$H$111/12*(1+$B$6)","v":{"$error":"#DIV/0!"}},{"$f":"'01_1_General Data'!M157*'02_1_INCOME'!$H$111/12*(1+$B$6)","v":{"$error":"#DIV/0!"}},{"$f":"'01_1_General Data'!N157*'02_1_INCOME'!$H$111/12*(1+$B$6)","v":{"$error":"#DIV/0!"}}]
["Residential Market Rate Income ",{"$f":"rng01_RentalIncomeRate","v":0},null,{"$f":"'01_1_General Data'!C142*'02_1_INCOME'!$I$111/12/(1+$B$7)","v":0},{"$f":"'01_1_General Data'!D142*'02_1_INCOME'!$I$111/12/(1+$B$7)","v":0},{"$f":"'01_1_General Data'!E142*'02_1_INCOME'!$I$111/12/(1+$B$7)","v":0},{"$f":"'01_1_General Data'!F142*'02_1_INCOME'!$I$111/12/(1+$B$7)","v":0},{"$f":"'01_1_General Data'!G142*'02_1_INCOME'!$I$111/12/(1+$B$7)","v":0},{"$f":"'01_1_General Data'!H142*'02_1_INCOME'!$I$111/12/(1+$B$7)","v":0},{"$f":"'01_1_General Data'!I142*'02_1_INCOME'!$I$111/12/(1+$B$7)","v":0},{"$f":"'01_1_General Data'!J142*'02_1_INCOME'!$I$111/12/(1+$B$7)","v":0},{"$f":"'01_1_General Data'!K142*'02_1_INCOME'!$I$111/12/(1+$B$7)","v":0},{"$f":"'01_1_General Data'!L142*'02_1_INCOME'!$I$111/12/(1+$B$7)","v":0},{"$f":"'01_1_General Data'!M142*'02_1_INCOME'!$I$111/12/(1+$B$7)","v":0},{"$f":"'01_1_General Data'!N142*'02_1_INCOME'!$I$111/12/(1+$B$7)","v":0},{"$f":"'01_1_General Data'!C150*'02_1_INCOME'!$I$111/12","v":0},{"$f":"'01_1_General Data'!D150*'02_1_INCOME'!$I$111/12","v":0},{"$f":"'01_1_General Data'!E150*'02_1_INCOME'!$I$111/12","v":0},{"$f":"'01_1_General Data'!F150*'02_1_INCOME'!$I$111/12","v":0},{"$f":"'01_1_General Data'!G150*'02_1_INCOME'!$I$111/12","v":0},{"$f":"'01_1_General Data'!H150*'02_1_INCOME'!$I$111/12","v":0},{"$f":"'01_1_General Data'!I150*'02_1_INCOME'!$I$111/12","v":0},{"$f":"'01_1_General Data'!J150*'02_1_INCOME'!$I$111/12","v":0},{"$f":"'01_1_General Data'!K150*'02_1_INCOME'!$I$111/12","v":0},{"$f":"'01_1_General Data'!L150*'02_1_INCOME'!$I$111/12","v":0},{"$f":"'01_1_General Data'!M150*'02_1_INCOME'!$I$111/12","v":0},{"$f":"'01_1_General Data'!N150*'02_1_INCOME'!$I$111/12","v":0},{"$f":"'01_1_General Data'!C158*'02_1_INCOME'!$I$111/12*(1+$B$7)","v":0},{"$f":"'01_1_General Data'!D158*'02_1_INCOME'!$I$111/12*(1+$B$7)","v":0},{"$f":"'01_1_General Data'!E158*'02_1_INCOME'!$I$111/12*(1+$B$7)","v":0},{"$f":"'01_1_General Data'!F158*'02_1_INCOME'!$I$111/12*(1+$B$7)","v":0},{"$f":"'01_1_General Data'!G158*'02_1_INCOME'!$I$111/12*(1+$B$7)","v":0},{"$f":"'01_1_General Data'!H158*'02_1_INCOME'!$I$111/12*(1+$B$7)","v":0},{"$f":"'01_1_General Data'!I158*'02_1_INCOME'!$I$111/12*(1+$B$7)","v":0},{"$f":"'01_1_General Data'!J158*'02_1_INCOME'!$I$111/12*(1+$B$7)","v":0},{"$f":"'01_1_General Data'!K158*'02_1_INCOME'!$I$111/12*(1+$B$7)","v":0},{"$f":"'01_1_General Data'!L158*'02_1_INCOME'!$I$111/12*(1+$B$7)","v":0},{"$f":"'01_1_General Data'!M158*'02_1_INCOME'!$I$111/12*(1+$B$7)","v":0},{"$f":"'01_1_General Data'!N158*'02_1_INCOME'!$I$111/12*(1+$B$7)","v":0}]
["Commercial Income",{"$f":"'01_1_General Data'!D113","v":0},null,{"$f":"'01_1_General Data'!C143*'02_1_INCOME'!$H$60/12/(1+$B$8)","v":0},{"$f":"'01_1_General Data'!D143*'02_1_INCOME'!$H$60/12/(1+$B$8)","v":0},{"$f":"'01_1_General Data'!E143*'02_1_INCOME'!$H$60/12/(1+$B$8)","v":0},{"$f":"'01_1_General Data'!F143*'02_1_INCOME'!$H$60/12/(1+$B$8)","v":0},{"$f":"'01_1_General Data'!G143*'02_1_INCOME'!$H$60/12/(1+$B$8)","v":0},{"$f":"'01_1_General Data'!H143*'02_1_INCOME'!$H$60/12/(1+$B$8)","v":0},{"$f":"'01_1_General Data'!I143*'02_1_INCOME'!$H$60/12/(1+$B$8)","v":0},{"$f":"'01_1_General Data'!J143*'02_1_INCOME'!$H$60/12/(1+$B$8)","v":0},{"$f":"'01_1_General Data'!K143*'02_1_INCOME'!$H$60/12/(1+$B$8)","v":0},{"$f":"'01_1_General Data'!L143*'02_1_INCOME'!$H$60/12/(1+$B$8)","v":0},{"$f":"'01_1_General Data'!M143*'02_1_INCOME'!$H$60/12/(1+$B$8)","v":0},{"$f":"'01_1_General Data'!N143*'02_1_INCOME'!$H$60/12/(1+$B$8)","v":0},{"$f":"'01_1_General Data'!C151*'02_1_INCOME'!$H$60/12","v":0},{"$f":"'01_1_General Data'!D151*'02_1_INCOME'!$H$60/12","v":0},{"$f":"'01_1_General Data'!E151*'02_1_INCOME'!$H$60/12","v":0},{"$f":"'01_1_General Data'!F151*'02_1_INCOME'!$H$60/12","v":0},{"$f":"'01_1_General Data'!G151*'02_1_INCOME'!$H$60/12","v":0},{"$f":"'01_1_General Data'!H151*'02_1_INCOME'!$H$60/12","v":0},{"$f":"'01_1_General Data'!I151*'02_1_INCOME'!$H$60/12","v":0},{"$f":"'01_1_General Data'!J151*'02_1_INCOME'!$H$60/12","v":0},{"$f":"'01_1_General Data'!K151*'02_1_INCOME'!$H$60/12","v":0},{"$f":"'01_1_General Data'!L151*'02_1_INCOME'!$H$60/12","v":0},{"$f":"'01_1_General Data'!M151*'02_1_INCOME'!$H$60/12","v":0},{"$f":"'01_1_General Data'!N151*'02_1_INCOME'!$H$60/12","v":0},{"$f":"'01_1_General Data'!C159*'02_1_INCOME'!$H$60/12*(1+$B$8)","v":0},{"$f":"'01_1_General Data'!D159*'02_1_INCOME'!$H$60/12*(1+$B$8)","v":0},{"$f":"'01_1_General Data'!E159*'02_1_INCOME'!$H$60/12*(1+$B$8)","v":0},{"$f":"'01_1_General Data'!F159*'02_1_INCOME'!$H$60/12*(1+$B$8)","v":0},{"$f":"'01_1_General Data'!G159*'02_1_INCOME'!$H$60/12*(1+$B$8)","v":0},{"$f":"'01_1_General Data'!H159*'02_1_INCOME'!$H$60/12*(1+$B$8)","v":0},{"$f":"'01_1_General Data'!I159*'02_1_INCOME'!$H$60/12*(1+$B$8)","v":0},{"$f":"'01_1_General Data'!J159*'02_1_INCOME'!$H$60/12*(1+$B$8)","v":0},{"$f":"'01_1_General Data'!K159*'02_1_INCOME'!$H$60/12*(1+$B$8)","v":0},{"$f":"'01_1_General Data'!L159*'02_1_INCOME'!$H$60/12*(1+$B$8)","v":0},{"$f":"'01_1_General Data'!M159*'02_1_INCOME'!$H$60/12*(1+$B$8)","v":0},{"$f":"'01_1_General Data'!N159*'02_1_INCOME'!$H$60/12*(1+$B$8)","v":0}]
["Other Income",{"$f":"'01_1_General Data'!$D$114","v":0},null,{"$f":"'01_1_General Data'!C144*'02_1_INCOME'!$H$81/12/(1+$B$9)","v":0},{"$f":"'01_1_General Data'!D144*'02_1_INCOME'!$H$81/12/(1+$B$9)","v":0},{"$f":"'01_1_General Data'!E144*'02_1_INCOME'!$H$81/12/(1+$B$9)","v":0},{"$f":"'01_1_General Data'!F144*'02_1_INCOME'!$H$81/12/(1+$B$9)","v":0},{"$f":"'01_1_General Data'!G144*'02_1_INCOME'!$H$81/12/(1+$B$9)","v":0},{"$f":"'01_1_General Data'!H144*'02_1_INCOME'!$H$81/12/(1+$B$9)","v":0},{"$f":"'01_1_General Data'!I144*'02_1_INCOME'!$H$81/12/(1+$B$9)","v":0},{"$f":"'01_1_General Data'!J144*'02_1_INCOME'!$H$81/12/(1+$B$9)","v":0},{"$f":"'01_1_General Data'!K144*'02_1_INCOME'!$H$81/12/(1+$B$9)","v":0},{"$f":"'01_1_General Data'!L144*'02_1_INCOME'!$H$81/12/(1+$B$9)","v":0},{"$f":"'01_1_General Data'!M144*'02_1_INCOME'!$H$81/12/(1+$B$9)","v":0},{"$f":"'01_1_General Data'!N144*'02_1_INCOME'!$H$81/12/(1+$B$9)","v":0},{"$f":"'01_1_General Data'!C152*'02_1_INCOME'!$H$81/12","v":0},{"$f":"'01_1_General Data'!D152*'02_1_INCOME'!$H$81/12","v":0},{"$f":"'01_1_General Data'!E152*'02_1_INCOME'!$H$81/12","v":0},{"$f":"'01_1_General Data'!F152*'02_1_INCOME'!$H$81/12","v":0},{"$f":"'01_1_General Data'!G152*'02_1_INCOME'!$H$81/12","v":0},{"$f":"'01_1_General Data'!H152*'02_1_INCOME'!$H$81/12","v":0},{"$f":"'01_1_General Data'!I152*'02_1_INCOME'!$H$81/12","v":0},{"$f":"'01_1_General Data'!J152*'02_1_INCOME'!$H$81/12","v":0},{"$f":"'01_1_General Data'!K152*'02_1_INCOME'!$H$81/12","v":0},{"$f":"'01_1_General Data'!L152*'02_1_INCOME'!$H$81/12","v":0},{"$f":"'01_1_General Data'!M152*'02_1_INCOME'!$H$81/12","v":0},{"$f":"'01_1_General Data'!N152*'02_1_INCOME'!$H$81/12","v":0},{"$f":"'01_1_General Data'!C160*'02_1_INCOME'!$H$81/12*(1+$B$9)","v":0},{"$f":"'01_1_General Data'!D160*'02_1_INCOME'!$H$81/12*(1+$B$9)","v":0},{"$f":"'01_1_General Data'!E160*'02_1_INCOME'!$H$81/12*(1+$B$9)","v":0},{"$f":"'01_1_General Data'!F160*'02_1_INCOME'!$H$81/12*(1+$B$9)","v":0},{"$f":"'01_1_General Data'!G160*'02_1_INCOME'!$H$81/12*(1+$B$9)","v":0},{"$f":"'01_1_General Data'!H160*'02_1_INCOME'!$H$81/12*(1+$B$9)","v":0},{"$f":"'01_1_General Data'!I160*'02_1_INCOME'!$H$81/12*(1+$B$9)","v":0},{"$f":"'01_1_General Data'!J160*'02_1_INCOME'!$H$81/12*(1+$B$9)","v":0},{"$f":"'01_1_General Data'!K160*'02_1_INCOME'!$H$81/12*(1+$B$9)","v":0},{"$f":"'01_1_General Data'!L160*'02_1_INCOME'!$H$81/12*(1+$B$9)","v":0},{"$f":"'01_1_General Data'!M160*'02_1_INCOME'!$H$81/12*(1+$B$9)","v":0},{"$f":"'01_1_General Data'!N160*'02_1_INCOME'!$H$81/12*(1+$B$9)","v":0}]
["Gross Project Income",null,null,{"$f":"SUM(D6:D9)","v":{"$error":"#DIV/0!"}},{"$f":"SUM(E6:E9)","v":{"$error":"#DIV/0!"}},{"$error":"#DIV/0!"},{"$error":"#DIV/0!"},{"$error":"#DIV/0!"},{"$error":"#DIV/0!"},{"$error":"#DIV/0!"},{"$error":"#DIV/0!"},{"$error":"#DIV/0!"},{"$error":"#DIV/0!"},{"$error":"#DIV/0!"},{"$error":"#DIV/0!"},{"$error":"#DIV/0!"},{"$error":"#DIV/0!"},{"$error":"#DIV/0!"},{"$error":"#DIV/0!"},{"$error":"#DIV/0!"},{"$error":"#DIV/0!"},{"$error":"#DIV/0!"},{"$error":"#DIV/0!"},{"$error":"#DIV/0!"},{"$error":"#DIV/0!"},{"$error":"#DIV/0!"},{"$error":"#DIV/0!"},{"$error":"#DIV/0!"},{"$error":"#DIV/0!"},{"$error":"#DIV/0!"},{"$error":"#DIV/0!"},{"$error":"#DIV/0!"},{"$error":"#DIV/0!"},{"$error":"#DIV/0!"},{"$error":"#DIV/0!"},{"$error":"#DIV/0!"},{"$error":"#DIV/0!"},{"$error":"#DIV/0!"},{"$error":"#DIV/0!"}]
["Vacancy Allowance Residential Affordable",{"$f":"'01_1_General Data'!D123","v":0},null,{"$f":"-$B11*D6","v":{"$error":"#DIV/0!"}},{"$f":"-$B11*E6","v":{"$error":"#DIV/0!"}},{"$error":"#DIV/0!"},{"$error":"#DIV/0!"},{"$error":"#DIV/0!"},{"$error":"#DIV/0!"},{"$error":"#DIV/0!"},{"$error":"#DIV/0!"},{"$error":"#DIV/0!"},{"$error":"#DIV/0!"},{"$error":"#DIV/0!"},{"$error":"#DIV/0!"},{"$error":"#DIV/0!"},{"$error":"#DIV/0!"},{"$error":"#DIV/0!"},{"$error":"#DIV/0!"},{"$error":"#DIV/0!"},{"$error":"#DIV/0!"},{"$error":"#DIV/0!"},{"$error":"#DIV/0!"},{"$error":"#DIV/0!"},{"$error":"#DIV/0!"},{"$error":"#DIV/0!"},{"$error":"#DIV/0!"},{"$error":"#DIV/0!"},{"$error":"#DIV/0!"},{"$error":"#DIV/0!"},{"$error":"#DIV/0!"},{"$error":"#DIV/0!"},{"$error":"#DIV/0!"},{"$error":"#DIV/0!"},{"$error":"#DIV/0!"},{"$error":"#DIV/0!"},{"$error":"#DIV/0!"},{"$error":"#DIV/0!"},{"$error":"#DIV/0!"}]
["Vacancy Allowance Residential Market",{"$f":"'01_1_General Data'!D122","v":0},null,{"$f":"-$B12*D7","v":0},{"$f":"-$B12*E7","v":0},0,0,0,0,0,0,0,0,0,0,0,0,0,0,0,0,0,0,0,0,0,0,0,0,0,0,0,0,0,0,0,0,0,0]
["Vacancy Allowance Commercial",{"$f":"'01_1_General Data'!D124","v":0},null,{"$f":"-$B13*D8","v":0},0,0,0,0,0,0,0,0,0,0,0,0,0,0,0,0,0,0,0,0,0,0,0,0,0,0,0,0,0,0,0,0,0,0,0]
["Vacancy Allowance Other",{"$f":"'01_1_General Data'!D126","v":0},null,{"$f":"-$B14*D9","v":0},0,0,0,0,0,0,0,0,0,0,0,0,0,0,0,0,0,0,0,0,0,0,0,0,0,0,0,0,0,0,0,0,0,0,0]
["Effective Gross Income",null,null,{"$f":"SUM(D10:D14)","v":{"$error":"#DIV/0!"}},{"$error":"#DIV/0!"},{"$error":"#DIV/0!"},{"$error":"#DIV/0!"},{"$error":"#DIV/0!"},{"$error":"#DIV/0!"},{"$error":"#DIV/0!"},{"$error":"#DIV/0!"},{"$error":"#DIV/0!"},{"$error":"#DIV/0!"},{"$error":"#DIV/0!"},{"$error":"#DIV/0!"},{"$error":"#DIV/0!"},{"$error":"#DIV/0!"},{"$error":"#DIV/0!"},{"$error":"#DIV/0!"},{"$error":"#DIV/0!"},{"$error":"#DIV/0!"},{"$error":"#DIV/0!"},{"$error":"#DIV/0!"},{"$error":"#DIV/0!"},{"$error":"#DIV/0!"},{"$error":"#DIV/0!"},{"$error":"#DIV/0!"},{"$error":"#DIV/0!"},{"$error":"#DIV/0!"},{"$error":"#DIV/0!"},{"$error":"#DIV/0!"},{"$error":"#DIV/0!"},{"$error":"#DIV/0!"},{"$error":"#DIV/0!"},{"$error":"#DIV/0!"},{"$error":"#DIV/0!"},{"$error":"#DIV/0!"},{"$error":"#DIV/0!"},{"$error":"#DIV/0!"}]
[]
["Expenses",null,"Monthly PAR"]
["Administrative",{"$f":"rng01_OpExRate","v":0},{"$f":"'04_1_Pro Forma'!$C18/12/((1+$B18)^('04_1_Pro Forma'!$C$4-'04_2_Pre-Stabilization'!$D$3))","v":0},{"$f":"'04_1_Pro Forma'!$C18/12/((1+$B18)^('04_1_Pro Forma'!$C$4-'04_2_Pre-Stabilization'!$D$3))","v":0},{"$f":"D18","v":0},{"$f":"E18","v":0},0,0,0,0,0,0,0,0,0,{"$f":"O18*(1+B18)","v":0},{"$f":"P18","v":0},0,0,0,0,0,0,0,0,0,0,{"$f":"AA18*(1+$B18)","v":0},{"$f":"AB18","v":0},0,0,0,0,0,0,0,0,0,0]
["Management Fee",{"$f":"rng01_ManagementFee","v":0},{"$f":"'04_1_Pro Forma'!$C19/12/((1+$B19)^('04_1_Pro Forma'!$C$4-'04_2_Pre-Stabilization'!$D$3))","v":0},{"$f":"D15*$B$19","v":{"$error":"#DIV/0!"}},{"$error":"#DIV/0!"},{"$error":"#DIV/0!"},{"$error":"#DIV/0!"},{"$error":"#DIV/0!"},{"$error":"#DIV/0!"},{"$error":"#DIV/0!"},{"$error":"#DIV/0!"},{"$error":"#DIV/0!"},{"$error":"#DIV/0!"},{"$error":"#DIV/0!"},{"$f":"O15*$B$19","v":{"$error":"#DIV/0!"}},{"$f":"'04_1_Pro Forma'!$C19/12","v":0},{"$error":"#DIV/0!"},{"$error":"#DIV/0!"},{"$error":"#DIV/0!"},{"$error":"#DIV/0!"},{"$error":"#DIV/0!"},{"$error":"#DIV/0!"},{"$error":"#DIV/0!"},{"$error":"#DIV/0!"},{"$error":"#DIV/0!"},{"$error":"#DIV/0!"},{"$error":"#DIV/0!"},{"$error":"#DIV/0!"},{"$error":"#DIV/0!"},{"$error":"#DIV/0!"},{"$error":"#DIV/0!"},{"$error":"#DIV/0!"},{"$error":"#DIV/0!"},{"$error":"#DIV/0!"},{"$error":"#DIV/0!"},{"$error":"#DIV/0!"},{"$error":"#DIV/0!"},{"$error":"#DIV/0!"},{"$error":"#DIV/0!"}]
["Utilities",{"$f":"rng01_OpExRate","v":0},{"$f":"'04_1_Pro Forma'!$C20/12/((1+$B20)^('04_1_Pro Forma'!$C$4-'04_2_Pre-Stabilization'!$D$3))","v":0},{"$f":"'04_1_Pro Forma'!$C20/12/((1+$B20)^('04_1_Pro Forma'!$C$4-'04_2_Pre-Stabilization'!$D$3))","v":0},{"$f":"D20","v":0},0,0,0,0,0,0,0,0,0,0,{"$f":"O20*(1+B20)","v":0},{"$f":"P20","v":0},{"$f":"Q20","v":0},{"$f":"R20","v":0},{"$f":"S20","v":0},{"$f":"T20","v":0},{"$f":"U20","v":0},{"$f":"V20","v":0},{"$f":"W20","v":0},{"$f":"X20","v":0},{"$f":"Y20","v":0},{"$f":"Z20","v":0},{"$f":"AA20*(1+$B20)","v":0},{"$f":"AB20","v":0},{"$f":"AC20","v":0},{"$f":"AD20","v":0},{"$f":"AE20","v":0},{"$f":"AF20","v":0},{"$f":"AG20","v":0},{"$f":"AH20","v":0},{"$f":"AI20","v":0},{"$f":"AJ20","v":0},{"$f":"AK20","v":0},{"$f":"AL20","v":0}]
["Operations & Maintenance",{"$f":"rng01_OpExRate","v":0},{"$f":"'04_1_Pro Forma'!$C21/12/((1+$B21)^('04_1_Pro Forma'!$C$4-'04_2_Pre-Stabilization'!$D$3))","v":0},{"$f":"'04_1_Pro Forma'!$C21/12/((1+$B21)^('04_1_Pro Forma'!$C$4-'04_2_Pre-Stabilization'!$D$3))","v":0},{"$f":"D21","v":0},0,0,0,0,0,0,0,0,0,0,0,0,0,0,0,0,0,0,0,0,0,0,0,0,0,0,0,0,0,0,0,0,0,0]
["Real Estate Taxes",{"$f":"'01_1_General Data'!D116","v":0},{"$f":"'04_1_Pro Forma'!$C22/12/((1+$B22)^('04_1_Pro Forma'!$C$4-'04_2_Pre-Stabilization'!$D$3))","v":0},{"$f":"'04_1_Pro Forma'!$C22/12/((1+$B22)^('04_1_Pro Forma'!$C$4-'04_2_Pre-Stabilization'!$D$3))","v":0},{"$f":"D22","v":0},0,0,0,0,0,0,0,0,0,0,0,0,0,0,0,0,0,0,0,0,0,0,0,0,0,0,0,0,0,0,0,0,0,0]
["Property & Liability Insurance",{"$f":"'01_1_General Data'!D117","v":0},{"$f":"'04_1_Pro Forma'!$C23/12/((1+$B23)^('04_1_Pro Forma'!$C$4-'04_2_Pre-Stabilization'!$D$3))","v":0},{"$f":"'04_1_Pro Forma'!$C23/12/((1+$B23)^('04_1_Pro Forma'!$C$4-'04_2_Pre-Stabilization'!$D$3))","v":0},{"$f":"D23","v":0},0,0,0,0,0,0,0,0,0,0,0,0,0,0,0,0,0,0,0,0,0,0,0,0,0,0,0,0,0,0,0,0,0,0]
["Other Taxes & Insurance",{"$f":"rng01_OpExRate","v":0},{"$f":"'04_1_Pro Forma'!$C24/12/((1+$B24)^('04_1_Pro Forma'!$C$4-'04_2_Pre-Stabilization'!$D$3))","v":0},{"$f":"'04_1_Pro Forma'!$C24/12/((1+$B24)^('04_1_Pro Forma'!$C$4-'04_2_Pre-Stabilization'!$D$3))","v":0},{"$f":"D24","v":0},0,0,0,0,0,0,0,0,0,0,0,0,0,0,0,0,0,0,0,0,0,0,0,0,0,0,0,0,0,0,0,0,0,0]
["NH / Assisted Living /Elderly Care",{"$f":"rng01_OpExRate","v":0},{"$f":"'04_1_Pro Forma'!$C25/12/((1+$B25)^('04_1_Pro Forma'!$C$4-'04_2_Pre-Stabilization'!$D$3))","v":0},{"$f":"'04_1_Pro Forma'!$C25/12/((1+$B25)^('04_1_Pro Forma'!$C$4-'04_2_Pre-Stabilization'!$D$3))","v":0},{"$f":"D25","v":0},0,0,0,0,0,0,0,0,0,0,0,0,0,0,0,0,0,0,0,0,0,0,0,0,0,0,0,0,0,0,0,0,0,0]
["Replacement Reserve",{"$f":"rng01_OpExRate","v":0},{"$f":"'04_1_Pro Forma'!$C26/12/((1+$B26)^('04_1_Pro Forma'!$C$4-'04_2_Pre-Stabilization'!$D$3))","v":0},{"$f":"'04_1_Pro Forma'!$C26/12/((1+$B26)^('04_1_Pro Forma'!$C$4-'04_2_Pre-Stabilization'!$D$3))","v":0},{"$f":"D26","v":0},0,0,0,0,0,0,0,0,0,0,0,0,0,0,0,0,0,0,0,0,0,0,0,0,0,0,0,0,0,0,0,0,0,0]
["Total Expenses",null,{"$f":"SUM(C18:C26)","v":0},{"$f":"SUM(D18:D26)","v":{"$error":"#DIV/0!"}},{"$f":"SUM(E18:E26)","v":{"$error":"#DIV/0!"}},{"$error":"#DIV/0!"},{"$error":"#DIV/0!"},{"$error":"#DIV/0!"},{"$error":"#DIV/0!"},{"$error":"#DIV/0!"},{"$error":"#DIV/0!"},{"$error":"#DIV/0!"},{"$error":"#DIV/0!"},{"$error":"#DIV/0!"},{"$error":"#DIV/0!"},0,{"$error":"#DIV/0!"},{"$error":"#DIV/0!"},{"$error":"#DIV/0!"},{"$error":"#DIV/0!"},{"$error":"#DIV/0!"},{"$error":"#DIV/0!"},{"$error":"#DIV/0!"},{"$error":"#DIV/0!"},{"$error":"#DIV/0!"},{"$error":"#DIV/0!"},{"$error":"#DIV/0!"},{"$error":"#DIV/0!"},{"$error":"#DIV/0!"},{"$error":"#DIV/0!"},{"$error":"#DIV/0!"},{"$error":"#DIV/0!"},{"$error":"#DIV/0!"},{"$error":"#DIV/0!"},{"$error":"#DIV/0!"},{"$error":"#DIV/0!"},{"$error":"#DIV/0!"},{"$error":"#DIV/0!"},{"$error":"#DIV/0!"}]
["Management Fee is calculated as a percentage of EGI"]
[]
["Net Operating Income",null,null,{"$f":"D15-D27","v":{"$error":"#DIV/0!"}},{"$f":"E15-E27","v":{"$error":"#DIV/0!"}},{"$f":"F15-F27","v":{"$error":"#DIV/0!"}},{"$error":"#DIV/0!"},{"$error":"#DIV/0!"},{"$error":"#DIV/0!"},{"$error":"#DIV/0!"},{"$error":"#DIV/0!"},{"$error":"#DIV/0!"},{"$error":"#DIV/0!"},{"$error":"#DIV/0!"},{"$error":"#DIV/0!"},{"$error":"#DIV/0!"},{"$error":"#DIV/0!"},{"$error":"#DIV/0!"},{"$error":"#DIV/0!"},{"$error":"#DIV/0!"},{"$error":"#DIV/0!"},{"$error":"#DIV/0!"},{"$error":"#DIV/0!"},{"$error":"#DIV/0!"},{"$error":"#DIV/0!"},{"$error":"#DIV/0!"},{"$error":"#DIV/0!"},{"$error":"#DIV/0!"},{"$error":"#DIV/0!"},{"$error":"#DIV/0!"},{"$error":"#DIV/0!"},{"$error":"#DIV/0!"},{"$error":"#DIV/0!"},{"$error":"#DIV/0!"},{"$error":"#DIV/0!"},{"$error":"#DIV/0!"},{"$error":"#DIV/0!"},{"$error":"#DIV/0!"},{"$error":"#DIV/0!"}]
[]
["Debt Service Financing"]
[{"$f":"'02_3_SOURCES'!B9","v":""},null,null,{"$f":"VLOOKUP(D$3,'03_3_Amortizations'!$A$13:$E$492,5,FALSE)","v":0},{"$f":"VLOOKUP(E$3,'03_3_Amortizations'!$A$13:$E$492,5,FALSE)","v":0},{"$f":"VLOOKUP(F$3,'03_3_Amortizations'!$A$13:$E$492,5,FALSE)","v":0},{"$f":"VLOOKUP(G$3,'03_3_Amortizations'!$A$13:$E$492,5,FALSE)","v":0},{"$f":"VLOOKUP(H$3,'03_3_Amortizations'!$A$13:$E$492,5,FALSE)","v":0},{"$f":"VLOOKUP(I$3,'03_3_Amortizations'!$A$13:$E$492,5,FALSE)","v":0},{"$f":"VLOOKUP(J$3,'03_3_Amortizations'!$A$13:$E$492,5,FALSE)","v":0},{"$f":"VLOOKUP(K$3,'03_3_Amortizations'!$A$13:$E$492,5,FALSE)","v":0},{"$f":"VLOOKUP(L$3,'03_3_Amortizations'!$A$13:$E$492,5,FALSE)","v":0},{"$f":"VLOOKUP(M$3,'03_3_Amortizations'!$A$13:$E$492,5,FALSE)","v":0},{"$f":"VLOOKUP(N$3,'03_3_Amortizations'!$A$13:$E$492,5,FALSE)","v":0},{"$f":"VLOOKUP(O$3,'03_3_Amortizations'!$A$13:$E$492,5,FALSE)","v":0},{"$f":"VLOOKUP(P$3,'03_3_Amortizations'!$A$13:$E$492,5,FALSE)","v":0},{"$f":"VLOOKUP(Q$3,'03_3_Amortizations'!$A$13:$E$492,5,FALSE)","v":0},{"$f":"VLOOKUP(R$3,'03_3_Amortizations'!$A$13:$E$492,5,FALSE)","v":0},{"$f":"VLOOKUP(S$3,'03_3_Amortizations'!$A$13:$E$492,5,FALSE)","v":0},{"$f":"VLOOKUP(T$3,'03_3_Amortizations'!$A$13:$E$492,5,FALSE)","v":0},{"$f":"VLOOKUP(U$3,'03_3_Amortizations'!$A$13:$E$492,5,FALSE)","v":0},{"$f":"VLOOKUP(V$3,'03_3_Amortizations'!$A$13:$E$492,5,FALSE)","v":0},{"$f":"VLOOKUP(W$3,'03_3_Amortizations'!$A$13:$E$492,5,FALSE)","v":0},{"$f":"VLOOKUP(X$3,'03_3_Amortizations'!$A$13:$E$492,5,FALSE)","v":0},{"$f":"VLOOKUP(Y$3,'03_3_Amortizations'!$A$13:$E$492,5,FALSE)","v":0},{"$f":"VLOOKUP(Z$3,'03_3_Amortizations'!$A$13:$E$492,5,FALSE)","v":0},{"$f":"VLOOKUP(AA$3,'03_3_Amortizations'!$A$13:$E$492,5,FALSE)","v":0},{"$f":"VLOOKUP(AB$3,'03_3_Amortizations'!$A$13:$E$492,5,FALSE)","v":0},{"$f":"VLOOKUP(AC$3,'03_3_Amortizations'!$A$13:$E$492,5,FALSE)","v":0},{"$f":"VLOOKUP(AD$3,'03_3_Amortizations'!$A$13:$E$492,5,FALSE)","v":0},{"$f":"VLOOKUP(AE$3,'03_3_Amortizations'!$A$13:$E$492,5,FALSE)","v":0},{"$f":"VLOOKUP(AF$3,'03_3_Amortizations'!$A$13:$E$492,5,FALSE)","v":0},{"$f":"VLOOKUP(AG$3,'03_3_Amortizations'!$A$13:$E$492,5,FALSE)","v":0},{"$f":"VLOOKUP(AH$3,'03_3_Amortizations'!$A$13:$E$492,5,FALSE)","v":0},{"$f":"VLOOKUP(AI$3,'03_3_Amortizations'!$A$13:$E$492,5,FALSE)","v":0},{"$f":"VLOOKUP(AJ$3,'03_3_Amortizations'!$A$13:$E$492,5,FALSE)","v":0},{"$f":"VLOOKUP(AK$3,'03_3_Amortizations'!$A$13:$E$492,5,FALSE)","v":0},{"$f":"VLOOKUP(AL$3,'03_3_Amortizations'!$A$13:$E$492,5,FALSE)","v":0},{"$f":"VLOOKUP(AM$3,'03_3_Amortizations'!$A$13:$E$492,5,FALSE)","v":0}]
["Mortgage Insurance Premium",null,null,{"$f":"VLOOKUP(D$3,'03_3_Amortizations'!$A$13:$I$492,9,FALSE)","v":0},{"$f":"VLOOKUP(E$3,'03_3_Amortizations'!$A$13:$I$492,9,FALSE)","v":0},{"$f":"VLOOKUP(F$3,'03_3_Amortizations'!$A$13:$I$492,9,FALSE)","v":0},{"$f":"VLOOKUP(G$3,'03_3_Amortizations'!$A$13:$I$492,9,FALSE)","v":0},{"$f":"VLOOKUP(H$3,'03_3_Amortizations'!$A$13:$I$492,9,FALSE)","v":0},{"$f":"VLOOKUP(I$3,'03_3_Amortizations'!$A$13:$I$492,9,FALSE)","v":0},{"$f":"VLOOKUP(J$3,'03_3_Amortizations'!$A$13:$I$492,9,FALSE)","v":0},{"$f":"VLOOKUP(K$3,'03_3_Amortizations'!$A$13:$I$492,9,FALSE)","v":0},{"$f":"VLOOKUP(L$3,'03_3_Amortizations'!$A$13:$I$492,9,FALSE)","v":0},{"$f":"VLOOKUP(M$3,'03_3_Amortizations'!$A$13:$I$492,9,FALSE)","v":0},{"$f":"VLOOKUP(N$3,'03_3_Amortizations'!$A$13:$I$492,9,FALSE)","v":0},{"$f":"VLOOKUP(O$3,'03_3_Amortizations'!$A$13:$I$492,9,FALSE)","v":0},{"$f":"VLOOKUP(P$3,'03_3_Amortizations'!$A$13:$I$492,9,FALSE)","v":0},{"$f":"VLOOKUP(Q$3,'03_3_Amortizations'!$A$13:$I$492,9,FALSE)","v":0},{"$f":"VLOOKUP(R$3,'03_3_Amortizations'!$A$13:$I$492,9,FALSE)","v":0},{"$f":"VLOOKUP(S$3,'03_3_Amortizations'!$A$13:$I$492,9,FALSE)","v":0},{"$f":"VLOOKUP(T$3,'03_3_Amortizations'!$A$13:$I$492,9,FALSE)","v":0},{"$f":"VLOOKUP(U$3,'03_3_Amortizations'!$A$13:$I$492,9,FALSE)","v":0},{"$f":"VLOOKUP(V$3,'03_3_Amortizations'!$A$13:$I$492,9,FALSE)","v":0},{"$f":"VLOOKUP(W$3,'03_3_Amortizations'!$A$13:$I$492,9,FALSE)","v":0},{"$f":"VLOOKUP(X$3,'03_3_Amortizations'!$A$13:$I$492,9,FALSE)","v":0},{"$f":"VLOOKUP(Y$3,'03_3_Amortizations'!$A$13:$I$492,9,FALSE)","v":0},{"$f":"VLOOKUP(Z$3,'03_3_Amortizations'!$A$13:$I$492,9,FALSE)","v":0},{"$f":"VLOOKUP(AA$3,'03_3_Amortizations'!$A$13:$I$492,9,FALSE)","v":0},{"$f":"VLOOKUP(AB$3,'03_3_Amortizations'!$A$13:$I$492,9,FALSE)","v":0},{"$f":"VLOOKUP(AC$3,'03_3_Amortizations'!$A$13:$I$492,9,FALSE)","v":0},{"$f":"VLOOKUP(AD$3,'03_3_Amortizations'!$A$13:$I$492,9,FALSE)","v":0},{"$f":"VLOOKUP(AE$3,'03_3_Amortizations'!$A$13:$I$492,9,FALSE)","v":0},{"$f":"VLOOKUP(AF$3,'03_3_Amortizations'!$A$13:$I$492,9,FALSE)","v":0},{"$f":"VLOOKUP(AG$3,'03_3_Amortizations'!$A$13:$I$492,9,FALSE)","v":0},{"$f":"VLOOKUP(AH$3,'03_3_Amortizations'!$A$13:$I$492,9,FALSE)","v":0},{"$f":"VLOOKUP(AI$3,'03_3_Amortizations'!$A$13:$I$492,9,FALSE)","v":0},{"$f":"VLOOKUP(AJ$3,'03_3_Amortizations'!$A$13:$I$492,9,FALSE)","v":0},{"$f":"VLOOKUP(AK$3,'03_3_Amortizations'!$A$13:$I$492,9,FALSE)","v":0},{"$f":"VLOOKUP(AL$3,'03_3_Amortizations'!$A$13:$I$492,9,FALSE)","v":0},{"$f":"VLOOKUP(AM$3,'03_3_Amortizations'!$A$13:$I$492,9,FALSE)","v":0}]
["Total Debt Service",null,null,{"$f":"SUM(D33:D34)","v":0},{"$f":"SUM(E33:E34)","v":0},0,0,0,0,0,0,0,0,0,0,0,0,0,0,0,0,0,0,0,0,0,0,0,0,0,0,0,0,0,0,0,0,0,0]
["Cash Flow",null,null,{"$f":"D30-D35","v":{"$error":"#DIV/0!"}},{"$f":"E30-E35","v":{"$error":"#DIV/0!"}},{"$error":"#DIV/0!"},{"$error":"#DIV/0!"},{"$error":"#DIV/0!"},{"$error":"#DIV/0!"},{"$error":"#DIV/0!"},{"$error":"#DIV/0!"},{"$error":"#DIV/0!"},{"$error":"#DIV/0!"},{"$error":"#DIV/0!"},{"$error":"#DIV/0!"},{"$error":"#DIV/0!"},{"$error":"#DIV/0!"},{"$error":"#DIV/0!"},{"$error":"#DIV/0!"},{"$error":"#DIV/0!"},{"$error":"#DIV/0!"},{"$error":"#DIV/0!"},{"$error":"#DIV/0!"},{"$error":"#DIV/0!"},{"$error":"#DIV/0!"},{"$error":"#DIV/0!"},{"$error":"#DIV/0!"},{"$error":"#DIV/0!"},{"$error":"#DIV/0!"},{"$error":"#DIV/0!"},{"$error":"#DIV/0!"},{"$error":"#DIV/0!"},{"$error":"#DIV/0!"},{"$error":"#DIV/0!"},{"$error":"#DIV/0!"},{"$error":"#DIV/0!"},{"$error":"#DIV/0!"},{"$error":"#DIV/0!"},{"$error":"#DIV/0!"}]
["Debt Coverage Ratio",null,null,{"$f":"IF(D33<>0, D30/D33, 0)","v":0},{"$f":"IF(E33<>0, E30/E33, 0)","v":0},0,0,0,0,0,0,0,0,0,0,0,0,0,0,0,0,0,0,0,0,0,0,0,0,0,0,0,0,0,0,0,0,0,0]
[]
["Cash Flow Financing"]
[{"$f":"'02_3_SOURCES'!B10","v":"RIH Second Mortgage"},null,null,{"$f":"'02_3_SOURCES'!$L10/12","v":0},{"$f":"'02_3_SOURCES'!$L10/12","v":0},{"$f":"'02_3_SOURCES'!$L10/12","v":0},{"$f":"'02_3_SOURCES'!$L10/12","v":0},{"$f":"'02_3_SOURCES'!$L10/12","v":0},{"$f":"'02_3_SOURCES'!$L10/12","v":0},{"$f":"'02_3_SOURCES'!$L10/12","v":0},{"$f":"'02_3_SOURCES'!$L10/12","v":0},{"$f":"'02_3_SOURCES'!$L10/12","v":0},{"$f":"'02_3_SOURCES'!$L10/12","v":0},{"$f":"'02_3_SOURCES'!$L10/12","v":0},{"$f":"'02_3_SOURCES'!$L10/12","v":0},{"$f":"'02_3_SOURCES'!$L10/12","v":0},{"$f":"'02_3_SOURCES'!$L10/12","v":0},{"$f":"'02_3_SOURCES'!$L10/12","v":0},{"$f":"'02_3_SOURCES'!$L10/12","v":0},{"$f":"'02_3_SOURCES'!$L10/12","v":0},{"$f":"'02_3_SOURCES'!$L10/12","v":0},{"$f":"'02_3_SOURCES'!$L10/12","v":0},{"$f":"'02_3_SOURCES'!$L10/12","v":0},{"$f":"'02_3_SOURCES'!$L10/12","v":0},{"$f":"'02_3_SOURCES'!$L10/12","v":0},{"$f":"'02_3_SOURCES'!$L10/12","v":0},{"$f":"'02_3_SOURCES'!$L10/12","v":0},{"$f":"'02_3_SOURCES'!$L10/12","v":0},{"$f":"'02_3_SOURCES'!$L10/12","v":0},{"$f":"'02_3_SOURCES'!$L10/12","v":0},{"$f":"'02_3_SOURCES'!$L10/12","v":0},{"$f":"'02_3_SOURCES'!$L10/12","v":0},{"$f":"'02_3_SOURCES'!$L10/12","v":0},{"$f":"'02_3_SOURCES'!$L10/12","v":0},{"$f":"'02_3_SOURCES'!$L10/12","v":0},{"$f":"'02_3_SOURCES'!$L10/12","v":0},{"$f":"'02_3_SOURCES'!$L10/12","v":0},{"$f":"'02_3_SOURCES'!$L10/12","v":0},{"$f":"'02_3_SOURCES'!$L10/12","v":0}]
[{"$f":"'02_3_SOURCES'!B11","v":0},null,null,{"$f":"'02_3_SOURCES'!$L11/12","v":0},{"$f":"'02_3_SOURCES'!$L11/12","v":0},{"$f":"'02_3_SOURCES'!$L11/12","v":0},{"$f":"'02_3_SOURCES'!$L11/12","v":0},{"$f":"'02_3_SOURCES'!$L11/12","v":0},{"$f":"'02_3_SOURCES'!$L11/12","v":0},{"$f":"'02_3_SOURCES'!$L11/12","v":0},{"$f":"'02_3_SOURCES'!$L11/12","v":0},{"$f":"'02_3_SOURCES'!$L11/12","v":0},{"$f":"'02_3_SOURCES'!$L11/12","v":0},{"$f":"'02_3_SOURCES'!$L11/12","v":0},{"$f":"'02_3_SOURCES'!$L11/12","v":0},{"$f":"'02_3_SOURCES'!$L11/12","v":0},{"$f":"'02_3_SOURCES'!$L11/12","v":0},{"$f":"'02_3_SOURCES'!$L11/12","v":0},{"$f":"'02_3_SOURCES'!$L11/12","v":0},{"$f":"'02_3_SOURCES'!$L11/12","v":0},{"$f":"'02_3_SOURCES'!$L11/12","v":0},{"$f":"'02_3_SOURCES'!$L11/12","v":0},{"$f":"'02_3_SOURCES'!$L11/12","v":0},{"$f":"'02_3_SOURCES'!$L11/12","v":0},{"$f":"'02_3_SOURCES'!$L11/12","v":0},{"$f":"'02_3_SOURCES'!$L11/12","v":0},{"$f":"'02_3_SOURCES'!$L11/12","v":0},{"$f":"'02_3_SOURCES'!$L11/12","v":0},{"$f":"'02_3_SOURCES'!$L11/12","v":0},{"$f":"'02_3_SOURCES'!$L11/12","v":0},{"$f":"'02_3_SOURCES'!$L11/12","v":0},{"$f":"'02_3_SOURCES'!$L11/12","v":0},{"$f":"'02_3_SOURCES'!$L11/12","v":0},{"$f":"'02_3_SOURCES'!$L11/12","v":0},{"$f":"'02_3_SOURCES'!$L11/12","v":0},{"$f":"'02_3_SOURCES'!$L11/12","v":0},{"$f":"'02_3_SOURCES'!$L11/12","v":0},{"$f":"'02_3_SOURCES'!$L11/12","v":0},{"$f":"'02_3_SOURCES'!$L11/12","v":0}]
[{"$f":"'02_3_SOURCES'!B12","v":0},null,null,{"$f":"'02_3_SOURCES'!$L12/12","v":0},{"$f":"'02_3_SOURCES'!$L12/12","v":0},{"$f":"'02_3_SOURCES'!$L12/12","v":0},{"$f":"'02_3_SOURCES'!$L12/12","v":0},{"$f":"'02_3_SOURCES'!$L12/12","v":0},{"$f":"'02_3_SOURCES'!$L12/12","v":0},{"$f":"'02_3_SOURCES'!$L12/12","v":0},{"$f":"'02_3_SOURCES'!$L12/12","v":0},{"$f":"'02_3_SOURCES'!$L12/12","v":0},{"$f":"'02_3_SOURCES'!$L12/12","v":0},{"$f":"'02_3_SOURCES'!$L12/12","v":0},{"$f":"'02_3_SOURCES'!$L12/12","v":0},{"$f":"'02_3_SOURCES'!$L12/12","v":0},{"$f":"'02_3_SOURCES'!$L12/12","v":0},{"$f":"'02_3_SOURCES'!$L12/12","v":0},{"$f":"'02_3_SOURCES'!$L12/12","v":0},{"$f":"'02_3_SOURCES'!$L12/12","v":0},{"$f":"'02_3_SOURCES'!$L12/12","v":0},{"$f":"'02_3_SOURCES'!$L12/12","v":0},{"$f":"'02_3_SOURCES'!$L12/12","v":0},{"$f":"'02_3_SOURCES'!$L12/12","v":0},{"$f":"'02_3_SOURCES'!$L12/12","v":0},{"$f":"'02_3_SOURCES'!$L12/12","v":0},{"$f":"'02_3_SOURCES'!$L12/12","v":0},{"$f":"'02_3_SOURCES'!$L12/12","v":0},{"$f":"'02_3_SOURCES'!$L12/12","v":0},{"$f":"'02_3_SOURCES'!$L12/12","v":0},{"$f":"'02_3_SOURCES'!$L12/12","v":0},{"$f":"'02_3_SOURCES'!$L12/12","v":0},{"$f":"'02_3_SOURCES'!$L12/12","v":0},{"$f":"'02_3_SOURCES'!$L12/12","v":0},{"$f":"'02_3_SOURCES'!$L12/12","v":0},{"$f":"'02_3_SOURCES'!$L12/12","v":0},{"$f":"'02_3_SOURCES'!$L12/12","v":0},{"$f":"'02_3_SOURCES'!$L12/12","v":0},{"$f":"'02_3_SOURCES'!$L12/12","v":0}]
[{"$f":"'02_3_SOURCES'!B13","v":0},null,null,{"$f":"'02_3_SOURCES'!$L13/12","v":0},{"$f":"'02_3_SOURCES'!$L13/12","v":0},{"$f":"'02_3_SOURCES'!$L13/12","v":0},{"$f":"'02_3_SOURCES'!$L13/12","v":0},{"$f":"'02_3_SOURCES'!$L13/12","v":0},{"$f":"'02_3_SOURCES'!$L13/12","v":0},{"$f":"'02_3_SOURCES'!$L13/12","v":0},{"$f":"'02_3_SOURCES'!$L13/12","v":0},{"$f":"'02_3_SOURCES'!$L13/12","v":0},{"$f":"'02_3_SOURCES'!$L13/12","v":0},{"$f":"'02_3_SOURCES'!$L13/12","v":0},{"$f":"'02_3_SOURCES'!$L13/12","v":0},{"$f":"'02_3_SOURCES'!$L13/12","v":0},{"$f":"'02_3_SOURCES'!$L13/12","v":0},{"$f":"'02_3_SOURCES'!$L13/12","v":0},{"$f":"'02_3_SOURCES'!$L13/12","v":0},{"$f":"'02_3_SOURCES'!$L13/12","v":0},{"$f":"'02_3_SOURCES'!$L13/12","v":0},{"$f":"'02_3_SOURCES'!$L13/12","v":0},{"$f":"'02_3_SOURCES'!$L13/12","v":0},{"$f":"'02_3_SOURCES'!$L13/12","v":0},{"$f":"'02_3_SOURCES'!$L13/12","v":0},{"$f":"'02_3_SOURCES'!$L13/12","v":0},{"$f":"'02_3_SOURCES'!$L13/12","v":0},{"$f":"'02_3_SOURCES'!$L13/12","v":0},{"$f":"'02_3_SOURCES'!$L13/12","v":0},{"$f":"'02_3_SOURCES'!$L13/12","v":0},{"$f":"'02_3_SOURCES'!$L13/12","v":0},{"$f":"'02_3_SOURCES'!$L13/12","v":0},{"$f":"'02_3_SOURCES'!$L13/12","v":0},{"$f":"'02_3_SOURCES'!$L13/12","v":0},{"$f":"'02_3_SOURCES'!$L13/12","v":0},{"$f":"'02_3_SOURCES'!$L13/12","v":0},{"$f":"'02_3_SOURCES'!$L13/12","v":0},{"$f":"'02_3_SOURCES'!$L13/12","v":0},{"$f":"'02_3_SOURCES'!$L13/12","v":0}]
[{"$f":"'02_3_SOURCES'!B14","v":0},null,null,{"$f":"'02_3_SOURCES'!$L14/12","v":0},{"$f":"'02_3_SOURCES'!$L14/12","v":0},{"$f":"'02_3_SOURCES'!$L14/12","v":0},{"$f":"'02_3_SOURCES'!$L14/12","v":0},{"$f":"'02_3_SOURCES'!$L14/12","v":0},{"$f":"'02_3_SOURCES'!$L14/12","v":0},{"$f":"'02_3_SOURCES'!$L14/12","v":0},{"$f":"'02_3_SOURCES'!$L14/12","v":0},{"$f":"'02_3_SOURCES'!$L14/12","v":0},{"$f":"'02_3_SOURCES'!$L14/12","v":0},{"$f":"'02_3_SOURCES'!$L14/12","v":0},{"$f":"'02_3_SOURCES'!$L14/12","v":0},{"$f":"'02_3_SOURCES'!$L14/12","v":0},{"$f":"'02_3_SOURCES'!$L14/12","v":0},{"$f":"'02_3_SOURCES'!$L14/12","v":0},{"$f":"'02_3_SOURCES'!$L14/12","v":0},{"$f":"'02_3_SOURCES'!$L14/12","v":0},{"$f":"'02_3_SOURCES'!$L14/12","v":0},{"$f":"'02_3_SOURCES'!$L14/12","v":0},{"$f":"'02_3_SOURCES'!$L14/12","v":0},{"$f":"'02_3_SOURCES'!$L14/12","v":0},{"$f":"'02_3_SOURCES'!$L14/12","v":0},{"$f":"'02_3_SOURCES'!$L14/12","v":0},{"$f":"'02_3_SOURCES'!$L14/12","v":0},{"$f":"'02_3_SOURCES'!$L14/12","v":0},{"$f":"'02_3_SOURCES'!$L14/12","v":0},{"$f":"'02_3_SOURCES'!$L14/12","v":0},{"$f":"'02_3_SOURCES'!$L14/12","v":0},{"$f":"'02_3_SOURCES'!$L14/12","v":0},{"$f":"'02_3_SOURCES'!$L14/12","v":0},{"$f":"'02_3_SOURCES'!$L14/12","v":0},{"$f":"'02_3_SOURCES'!$L14/12","v":0},{"$f":"'02_3_SOURCES'!$L14/12","v":0},{"$f":"'02_3_SOURCES'!$L14/12","v":0},{"$f":"'02_3_SOURCES'!$L14/12","v":0},{"$f":"'02_3_SOURCES'!$L14/12","v":0}]
[{"$f":"'02_3_SOURCES'!B15","v":0},null,null,{"$f":"'02_3_SOURCES'!$L15/12","v":0},{"$f":"'02_3_SOURCES'!$L15/12","v":0},{"$f":"'02_3_SOURCES'!$L15/12","v":0},{"$f":"'02_3_SOURCES'!$L15/12","v":0},{"$f":"'02_3_SOURCES'!$L15/12","v":0},{"$f":"'02_3_SOURCES'!$L15/12","v":0},{"$f":"'02_3_SOURCES'!$L15/12","v":0},{"$f":"'02_3_SOURCES'!$L15/12","v":0},{"$f":"'02_3_SOURCES'!$L15/12","v":0},{"$f":"'02_3_SOURCES'!$L15/12","v":0},{"$f":"'02_3_SOURCES'!$L15/12","v":0},{"$f":"'02_3_SOURCES'!$L15/12","v":0},{"$f":"'02_3_SOURCES'!$L15/12","v":0},{"$f":"'02_3_SOURCES'!$L15/12","v":0},{"$f":"'02_3_SOURCES'!$L15/12","v":0},{"$f":"'02_3_SOURCES'!$L15/12","v":0},{"$f":"'02_3_SOURCES'!$L15/12","v":0},{"$f":"'02_3_SOURCES'!$L15/12","v":0},{"$f":"'02_3_SOURCES'!$L15/12","v":0},{"$f":"'02_3_SOURCES'!$L15/12","v":0},{"$f":"'02_3_SOURCES'!$L15/12","v":0},{"$f":"'02_3_SOURCES'!$L15/12","v":0},{"$f":"'02_3_SOURCES'!$L15/12","v":0},{"$f":"'02_3_SOURCES'!$L15/12","v":0},{"$f":"'02_3_SOURCES'!$L15/12","v":0},{"$f":"'02_3_SOURCES'!$L15/12","v":0},{"$f":"'02_3_SOURCES'!$L15/12","v":0},{"$f":"'02_3_SOURCES'!$L15/12","v":0},{"$f":"'02_3_SOURCES'!$L15/12","v":0},{"$f":"'02_3_SOURCES'!$L15/12","v":0},{"$f":"'02_3_SOURCES'!$L15/12","v":0},{"$f":"'02_3_SOURCES'!$L15/12","v":0},{"$f":"'02_3_SOURCES'!$L15/12","v":0},{"$f":"'02_3_SOURCES'!$L15/12","v":0},{"$f":"'02_3_SOURCES'!$L15/12","v":0},{"$f":"'02_3_SOURCES'!$L15/12","v":0}]
[{"$f":"'02_3_SOURCES'!B16","v":0},null,null,{"$f":"'02_3_SOURCES'!$L16/12","v":0},{"$f":"'02_3_SOURCES'!$L16/12","v":0},{"$f":"'02_3_SOURCES'!$L16/12","v":0},{"$f":"'02_3_SOURCES'!$L16/12","v":0},{"$f":"'02_3_SOURCES'!$L16/12","v":0},{"$f":"'02_3_SOURCES'!$L16/12","v":0},{"$f":"'02_3_SOURCES'!$L16/12","v":0},{"$f":"'02_3_SOURCES'!$L16/12","v":0},{"$f":"'02_3_SOURCES'!$L16/12","v":0},{"$f":"'02_3_SOURCES'!$L16/12","v":0},{"$f":"'02_3_SOURCES'!$L16/12","v":0},{"$f":"'02_3_SOURCES'!$L16/12","v":0},{"$f":"'02_3_SOURCES'!$L16/12","v":0},{"$f":"'02_3_SOURCES'!$L16/12","v":0},{"$f":"'02_3_SOURCES'!$L16/12","v":0},{"$f":"'02_3_SOURCES'!$L16/12","v":0},{"$f":"'02_3_SOURCES'!$L16/12","v":0},{"$f":"'02_3_SOURCES'!$L16/12","v":0},{"$f":"'02_3_SOURCES'!$L16/12","v":0},{"$f":"'02_3_SOURCES'!$L16/12","v":0},{"$f":"'02_3_SOURCES'!$L16/12","v":0},{"$f":"'02_3_SOURCES'!$L16/12","v":0},{"$f":"'02_3_SOURCES'!$L16/12","v":0},{"$f":"'02_3_SOURCES'!$L16/12","v":0},{"$f":"'02_3_SOURCES'!$L16/12","v":0},{"$f":"'02_3_SOURCES'!$L16/12","v":0},{"$f":"'02_3_SOURCES'!$L16/12","v":0},{"$f":"'02_3_SOURCES'!$L16/12","v":0},{"$f":"'02_3_SOURCES'!$L16/12","v":0},{"$f":"'02_3_SOURCES'!$L16/12","v":0},{"$f":"'02_3_SOURCES'!$L16/12","v":0},{"$f":"'02_3_SOURCES'!$L16/12","v":0},{"$f":"'02_3_SOURCES'!$L16/12","v":0},{"$f":"'02_3_SOURCES'!$L16/12","v":0},{"$f":"'02_3_SOURCES'!$L16/12","v":0},{"$f":"'02_3_SOURCES'!$L16/12","v":0}]
[]
["Total Cash Flow Debt",null,null,{"$f":"SUM(D40:D46)","v":0},{"$f":"SUM(E40:E46)","v":0},0,0,0,0,0,0,0,0,0,0,0,0,0,0,0,0,0,0,0,0,0,0,0,0,0,0,0,0,0,0,0,0,0,0]
["Remaining Cash Flow",null,null,{"$f":"D36-D48","v":{"$error":"#DIV/0!"}},{"$f":"E36-E48","v":{"$error":"#DIV/0!"}},{"$error":"#DIV/0!"},{"$error":"#DIV/0!"},{"$error":"#DIV/0!"},{"$error":"#DIV/0!"},{"$error":"#DIV/0!"},{"$error":"#DIV/0!"},{"$error":"#DIV/0!"},{"$error":"#DIV/0!"},{"$error":"#DIV/0!"},{"$error":"#DIV/0!"},{"$error":"#DIV/0!"},{"$error":"#DIV/0!"},{"$error":"#DIV/0!"},{"$error":"#DIV/0!"},{"$error":"#DIV/0!"},{"$error":"#DIV/0!"},{"$error":"#DIV/0!"},{"$error":"#DIV/0!"},{"$error":"#DIV/0!"},{"$error":"#DIV/0!"},{"$error":"#DIV/0!"},{"$error":"#DIV/0!"},{"$error":"#DIV/0!"},{"$error":"#DIV/0!"},{"$error":"#DIV/0!"},{"$error":"#DIV/0!"},{"$error":"#DIV/0!"},{"$error":"#DIV/0!"},{"$error":"#DIV/0!"},{"$error":"#DIV/0!"},{"$error":"#DIV/0!"},{"$error":"#DIV/0!"},{"$error":"#DIV/0!"},{"$error":"#DIV/0!"}]
["Debt Coverage Ratio",null,null,{"$f":"IF(D48<>0, D49/D48,0)","v":0},{"$f":"IF(E48<>0, E49/E48,0)","v":0},0,0,0,0,0,0,0,0,0,0,0,0,0,0,0,0,0,0,0,0,0,0,0,0,0,0,0,0,0,0,0,0,0,0]
[]
[null,null,null,"Yearly NOI"]
[null,null,null,{"$f":"D3","v":1900},{"$f":"D53+1","v":1901},{"$f":"E53+1","v":1902}]
[null,null,null,{"$f":"SUM(D30:O30)","v":{"$error":"#DIV/0!"}},{"$f":"SUM(P30:AA30)","v":{"$error":"#DIV/0!"}},{"$f":"SUM(AB30:AM30)","v":{"$error":"#DIV/0!"}}]

{"sheet":"04_3_Reserves","index":23,"n_rows":48,"n_cols":11,"rows_kept":48,"cut":false,"hidden":true,"merged":[]}
["Rep. Reserve Sch"]
[{"$f":"IF(rng01_ProjectName=\"\",\"[Project Name]\", rng01_ProjectName)","v":"[Project Name]"}]
[null,{"$f":"'04_1_Pro Forma'!C3","v":"Year 1"},{"$f":"'04_1_Pro Forma'!D3","v":"Year 2"},{"$f":"'04_1_Pro Forma'!E3","v":"Year 3"},{"$f":"'04_1_Pro Forma'!F3","v":"Year 4"},{"$f":"'04_1_Pro Forma'!G3","v":"Year 5"},{"$f":"'04_1_Pro Forma'!H3","v":"Year 6"},{"$f":"'04_1_Pro Forma'!I3","v":"Year 7"},{"$f":"'04_1_Pro Forma'!J3","v":"Year 8"},{"$f":"'04_1_Pro Forma'!K3","v":"Year 9"},{"$f":"'04_1_Pro Forma'!L3","v":"Year 10"}]
[null,{"$f":"'04_1_Pro Forma'!C4","v":1901},{"$f":"'04_1_Pro Forma'!D4","v":1902},{"$f":"'04_1_Pro Forma'!E4","v":1903},{"$f":"'04_1_Pro Forma'!F4","v":1904},{"$f":"'04_1_Pro Forma'!G4","v":1905},{"$f":"'04_1_Pro Forma'!H4","v":1906},{"$f":"'04_1_Pro Forma'!I4","v":1907},{"$f":"'04_1_Pro Forma'!J4","v":1908},{"$f":"'04_1_Pro Forma'!K4","v":1909},{"$f":"'04_1_Pro Forma'!L4","v":1910}]
["Inflated Annual Needs from Capital Needs Assessment"]
["Starting Balance",{"$f":"'02_4_USES'!F80","v":0},{"$f":"B11","v":0},{"$f":"C11","v":0},0,0,0,0,0,0,0]
["Annual Reserve Deposit from Property Cash Flow",{"$f":"'04_1_Pro Forma'!C26","v":0},{"$f":"'04_1_Pro Forma'!D26","v":0},{"$f":"'04_1_Pro Forma'!E26","v":0},{"$f":"'04_1_Pro Forma'!F26","v":0},{"$f":"'04_1_Pro Forma'!G26","v":0},{"$f":"'04_1_Pro Forma'!H26","v":0},{"$f":"'04_1_Pro Forma'!I26","v":0},{"$f":"'04_1_Pro Forma'!J26","v":0},{"$f":"'04_1_Pro Forma'!K26","v":0},{"$f":"'04_1_Pro Forma'!L26","v":0}]
["Balance After Reserve Deposit",{"$f":"B6+B7","v":0},{"$f":"C6+C7","v":0},0,0,0,0,0,0,0,0]
["Withdrawals (Equal to Inflated Annual Needs)",{"$f":"-B5","v":0},{"$f":"-C5","v":0},0,0,0,0,0,0,0,0]
["Interest Income",{"$f":"B6*rng01_ReserveInterest","v":0},0,0,0,0,0,0,0,0,0]
["Ending Balance",{"$f":"SUM(B8:B10)","v":0},{"$f":"SUM(C8:C10)","v":0},0,0,0,0,0,0,0,0]
["Indicators of Reserve Inadequacy",{"$f":"IF(B11<1, \"DEFICIT\",\"\")","v":"DEFICIT"},{"$f":"IF(C11<1, \"DEFICIT\",\"\")","v":"DEFICIT"},"DEFICIT","DEFICIT","DEFICIT","DEFICIT","DEFICIT","DEFICIT","DEFICIT","DEFICIT"]
[]
[]
[null,{"$f":"'04_1_Pro Forma'!M3","v":"Year 11"},{"$f":"'04_1_Pro Forma'!N3","v":"Year 12"},{"$f":"'04_1_Pro Forma'!O3","v":"Year 13"},{"$f":"'04_1_Pro Forma'!P3","v":"Year 14"},{"$f":"'04_1_Pro Forma'!Q3","v":"Year 15"},{"$f":"'04_1_Pro Forma'!R3","v":"Year 16"},{"$f":"'04_1_Pro Forma'!S3","v":"Year 17"},{"$f":"'04_1_Pro Forma'!T3","v":"Year 18"},{"$f":"'04_1_Pro Forma'!U3","v":"Year 19"},{"$f":"'04_1_Pro Forma'!V3","v":"Year 20"}]
[null,{"$f":"'04_1_Pro Forma'!M4","v":1911},{"$f":"'04_1_Pro Forma'!N4","v":1912},{"$f":"'04_1_Pro Forma'!O4","v":1913},{"$f":"'04_1_Pro Forma'!P4","v":1914},{"$f":"'04_1_Pro Forma'!Q4","v":1915},{"$f":"'04_1_Pro Forma'!R4","v":1916},{"$f":"'04_1_Pro Forma'!S4","v":1917},{"$f":"'04_1_Pro Forma'!T4","v":1918},{"$f":"'04_1_Pro Forma'!U4","v":1919},{"$f":"'04_1_Pro Forma'!V4","v":1920}]
["Inflated Annual Needs from Capital Needs Assessment"]
["Starting Balance",{"$f":"K11","v":0},{"$f":"B23","v":0},0,0,0,0,0,0,0,0]
["Annual Reserve Deposit from Property Cash Flow",{"$f":"'04_1_Pro Forma'!M26","v":0},{"$f":"'04_1_Pro Forma'!N26","v":0},{"$f":"'04_1_Pro Forma'!O26","v":0},{"$f":"'04_1_Pro Forma'!P26","v":0},{"$f":"'04_1_Pro Forma'!Q26","v":0},{"$f":"'04_1_Pro Forma'!R26","v":0},{"$f":"'04_1_Pro Forma'!S26","v":0},{"$f":"'04_1_Pro Forma'!T26","v":0},{"$f":"'04_1_Pro Forma'!U26","v":0},{"$f":"'04_1_Pro Forma'!V26","v":0}]
["Balance After Reserve Deposit",{"$f":"B18+B19","v":0},0,0,0,0,0,0,0,0,0]
["Withdrawals (Equal to Inflated Annual Needs)",{"$f":"-B17","v":0},0,0,0,0,0,0,0,0,0]
["Interest Income",{"$f":"B18*rng01_ReserveInterest","v":0},0,0,0,0,0,0,0,0,0]
["Ending Balance",{"$f":"SUM(B20:B22)","v":0},0,0,0,0,0,0,0,0,0]
["Indicators of Reserve Inadequacy",{"$f":"IF(B23<1, \"DEFICIT\",\"\")","v":"DEFICIT"},"DEFICIT","DEFICIT","DEFICIT","DEFICIT","DEFICIT","DEFICIT","DEFICIT","DEFICIT","DEFICIT"]
[]
[]
[null,{"$f":"'04_1_Pro Forma'!W3","v":"Year 21"},{"$f":"'04_1_Pro Forma'!X3","v":"Year 22"},{"$f":"'04_1_Pro Forma'!Y3","v":"Year 23"},{"$f":"'04_1_Pro Forma'!Z3","v":"Year 24"},{"$f":"'04_1_Pro Forma'!AA3","v":"Year 25"},{"$f":"'04_1_Pro Forma'!AB3","v":"Year 26"},{"$f":"'04_1_Pro Forma'!AC3","v":"Year 27"},{"$f":"'04_1_Pro Forma'!AD3","v":"Year 28"},{"$f":"'04_1_Pro Forma'!AE3","v":"Year 29"},{"$f":"'04_1_Pro Forma'!AF3","v":"Year 30"}]
[null,{"$f":"'04_1_Pro Forma'!W4","v":1921},{"$f":"'04_1_Pro Forma'!X4","v":1922},{"$f":"'04_1_Pro Forma'!Y4","v":1923},{"$f":"'04_1_Pro Forma'!Z4","v":1924},{"$f":"'04_1_Pro Forma'!AA4","v":1925},{"$f":"'04_1_Pro Forma'!AB4","v":1926},{"$f":"'04_1_Pro Forma'!AC4","v":1927},{"$f":"'04_1_Pro Forma'!AD4","v":1928},{"$f":"'04_1_Pro Forma'!AE4","v":1929},{"$f":"'04_1_Pro Forma'!AF4","v":1930}]
["Inflated Annual Needs from Capital Needs Assessment"]
["Starting Balance",{"$f":"K23","v":0},{"$f":"B35","v":0},0,0,0,0,0,0,0,0]
["Annual Reserve Deposit from Property Cash Flow",{"$f":"'04_1_Pro Forma'!W26","v":0},{"$f":"'04_1_Pro Forma'!X26","v":0},{"$f":"'04_1_Pro Forma'!Y26","v":0},{"$f":"'04_1_Pro Forma'!Z26","v":0},{"$f":"'04_1_Pro Forma'!AA26","v":0},{"$f":"'04_1_Pro Forma'!AB26","v":0},{"$f":"'04_1_Pro Forma'!AC26","v":0},{"$f":"'04_1_Pro Forma'!AD26","v":0},{"$f":"'04_1_Pro Forma'!AE26","v":0},{"$f":"'04_1_Pro Forma'!AF26","v":0}]
["Balance After Reserve Deposit",{"$f":"B30+B31","v":0},0,0,0,0,0,0,0,0,0]
["Withdrawals (Equal to Inflated Annual Needs)",{"$f":"-B29","v":0},0,0,0,0,0,0,0,0,0]
["Interest Income",{"$f":"B30*rng01_ReserveInterest","v":0},0,0,0,0,0,0,0,0,0]
["Ending Balance",{"$f":"SUM(B32:B34)","v":0},0,0,0,0,0,0,0,0,0]
["Indicators of Reserve Inadequacy",{"$f":"IF(B35<1, \"DEFICIT\",\"\")","v":"DEFICIT"},"DEFICIT","DEFICIT","DEFICIT","DEFICIT","DEFICIT","DEFICIT","DEFICIT","DEFICIT","DEFICIT"]
[]
[]
[null,{"$f":"'04_1_Pro Forma'!AG3","v":"Year 31"},{"$f":"'04_1_Pro Forma'!AH3","v":"Year 32"},{"$f":"'04_1_Pro Forma'!AI3","v":"Year 33"},{"$f":"'04_1_Pro Forma'!AJ3","v":"Year 34"},{"$f":"'04_1_Pro Forma'!AK3","v":"Year 35"},{"$f":"'04_1_Pro Forma'!AL3","v":"Year 36"},{"$f":"'04_1_Pro Forma'!AM3","v":"Year 37"},{"$f":"'04_1_Pro Forma'!AN3","v":"Year 38"},{"$f":"'04_1_Pro Forma'!AO3","v":"Year 39"},{"$f":"'04_1_Pro Forma'!AP3","v":"Year 40"}]
[null,{"$f":"'04_1_Pro Forma'!AG4","v":1931},{"$f":"'04_1_Pro Forma'!AH4","v":1932},{"$f":"'04_1_Pro Forma'!AI4","v":1933},{"$f":"'04_1_Pro Forma'!AJ4","v":1934},{"$f":"'04_1_Pro Forma'!AK4","v":1935},{"$f":"'04_1_Pro Forma'!AL4","v":1936},{"$f":"'04_1_Pro Forma'!AM4","v":1937},{"$f":"'04_1_Pro Forma'!AN4","v":1938},{"$f":"'04_1_Pro Forma'!AO4","v":1939},{"$f":"'04_1_Pro Forma'!AP4","v":1940}]
["Inflated Annual Needs from Capital Needs Assessment"]
["Starting Balance",{"$f":"K35","v":0},{"$f":"B47","v":0},0,0,0,0,0,0,0,0]
["Annual Reserve Deposit from Property Cash Flow",{"$f":"'04_1_Pro Forma'!AG26","v":0},{"$f":"'04_1_Pro Forma'!AH26","v":0},{"$f":"'04_1_Pro Forma'!AI26","v":0},{"$f":"'04_1_Pro Forma'!AJ26","v":0},{"$f":"'04_1_Pro Forma'!AK26","v":0},{"$f":"'04_1_Pro Forma'!AL26","v":0},{"$f":"'04_1_Pro Forma'!AM26","v":0},{"$f":"'04_1_Pro Forma'!AN26","v":0},{"$f":"'04_1_Pro Forma'!AO26","v":0},{"$f":"'04_1_Pro Forma'!AP26","v":0}]
["Balance After Reserve Deposit",{"$f":"B42+B43","v":0},0,0,0,0,0,0,0,0,0]
["Withdrawals (Equal to Inflated Annual Needs)",{"$f":"-B41","v":0},0,0,0,0,0,0,0,0,0]
["Interest Income",{"$f":"B42*rng01_ReserveInterest","v":0},0,0,0,0,0,0,0,0,0]
["Ending Balance",{"$f":"SUM(B44:B46)","v":0},0,0,0,0,0,0,0,0,0]
["Indicators of Reserve Inadequacy",{"$f":"IF(B47<1, \"DEFICIT\",\"\")","v":"DEFICIT"},"DEFICIT","DEFICIT","DEFICIT","DEFICIT","DEFICIT","DEFICIT","DEFICIT","DEFICIT","DEFICIT"]

{"sheet":"06_1_Summary Printout","index":24,"n_rows":104,"n_cols":12,"rows_kept":104,"cut":false,"hidden":true,"merged":[[3,9,3,11],[44,3,44,5]]}
[]
[null,"Project Summary",null,null,null,null,null,{"$f":"IF(J39<0,\"NOTE: USES CURRENTLY EXCEED SOURCES\",\"\")","v":""}]
[null,{"$f":"rng01_ProjectName","v":0}]
[null,"Current Model Progress Date:",null,{"$f":"tbl00ModelProgress[[#Totals],[Date of Progress /\nLast Edit]]","v":"00:00:00"},null,null,null,null,"RIH Program Type:",{"$f":"'01_1_General Data'!C47","v":0}]
[]
[null,"SOURCES",null,"Total","Per Unit","Per NRSF",null,"USES",null,"Total","Per Unit","Per NRSF"]
[null,"Permanent Loans",null,null,null,null,null,null,"Acquisition",{"$f":"'02_4_USES'!F15","v":0},{"$f":"J7/'02_1_INCOME'!$F$38","v":{"$error":"#DIV/0!"}},{"$f":"J7/SUM('01_1_General Data'!$G$65:$G$66)","v":{"$error":"#DIV/0!"}}]
[null,null,{"$f":"IF('01_1_General Data'!K11=\"No\", '02_3_SOURCES'!C9, '02_3_SOURCES'!B9)","v":""},{"$f":"'02_3_SOURCES'!K9","v":0},{"$f":"D8/'02_1_INCOME'!$F$38","v":{"$error":"#DIV/0!"}},{"$f":"D8/SUM('01_1_General Data'!$G$65:$G$66)","v":{"$error":"#DIV/0!"}},null,null,{"$f":"IF(AA2=0,\"Construction\",\"First Mortgage Payoff\")","v":"Construction"},{"$f":"'02_4_USES'!F26","v":0},{"$f":"J8/'02_1_INCOME'!$F$38","v":{"$error":"#DIV/0!"}},{"$f":"J8/SUM('01_1_General Data'!$G$65:$G$66)","v":{"$error":"#DIV/0!"}}]
[null,null,{"$f":"IF('02_3_SOURCES'!B10=\"Other\", '02_3_SOURCES'!C10, '02_3_SOURCES'!B10)","v":"RIH Second Mortgage"},{"$f":"'02_3_SOURCES'!K10","v":0},{"$f":"D9/'02_1_INCOME'!$F$38","v":{"$error":"#DIV/0!"}},{"$f":"D9/SUM('01_1_General Data'!$G$65:$G$66)","v":{"$error":"#DIV/0!"}},null,null,{"$f":"IF(AA2=0,\"Contingency\",\"Sale Proceeds/Equity Purchase\")","v":"Contingency"},{"$f":"'02_4_USES'!F27","v":0},{"$f":"J9/'02_1_INCOME'!$F$38","v":{"$error":"#DIV/0!"}},{"$f":"J9/SUM('01_1_General Data'!$G$65:$G$66)","v":{"$error":"#DIV/0!"}}]
[null,null,{"$f":"IF('02_3_SOURCES'!B11=\"Other\", '02_3_SOURCES'!C11, '02_3_SOURCES'!B11)","v":0},{"$f":"'02_3_SOURCES'!K11","v":0},{"$f":"D10/'02_1_INCOME'!$F$38","v":{"$error":"#DIV/0!"}},{"$f":"D10/SUM('01_1_General Data'!$G$65:$G$66)","v":{"$error":"#DIV/0!"}},null,null,"Soft Costs",{"$f":"'02_4_USES'!F59","v":0},{"$f":"J10/'02_1_INCOME'!$F$38","v":{"$error":"#DIV/0!"}},{"$f":"J10/SUM('01_1_General Data'!$G$65:$G$66)","v":{"$error":"#DIV/0!"}}]
[null,null,{"$f":"IF('02_3_SOURCES'!B12=\"Other\", '02_3_SOURCES'!C12, '02_3_SOURCES'!B12)","v":0},{"$f":"'02_3_SOURCES'!K12","v":0},{"$f":"D11/'02_1_INCOME'!$F$38","v":{"$error":"#DIV/0!"}},{"$f":"D11/SUM('01_1_General Data'!$G$65:$G$66)","v":{"$error":"#DIV/0!"}},null,null,"Financing",{"$f":"'02_4_USES'!F74","v":0},{"$f":"J11/'02_1_INCOME'!$F$38","v":{"$error":"#DIV/0!"}},{"$f":"J11/SUM('01_1_General Data'!$G$65:$G$66)","v":{"$error":"#DIV/0!"}}]
[null,null,{"$f":"IF('02_3_SOURCES'!B13=\"Other\", '02_3_SOURCES'!C13, '02_3_SOURCES'!B13)","v":0},{"$f":"'02_3_SOURCES'!K13","v":0},{"$f":"D12/'02_1_INCOME'!$F$38","v":{"$error":"#DIV/0!"}},{"$f":"D12/SUM('01_1_General Data'!$G$65:$G$66)","v":{"$error":"#DIV/0!"}},null,{"$f":"IF(AA2=0,\"Replacement Cost\",\"\")","v":"Replacement Cost"},null,{"$f":"SUM(J7:J11)","v":0},{"$f":"J12/'02_1_INCOME'!$F$38","v":{"$error":"#DIV/0!"}},{"$f":"J12/SUM('01_1_General Data'!$G$65:$G$66)","v":{"$error":"#DIV/0!"}}]
[null,null,{"$f":"IF('02_3_SOURCES'!B14=\"Other\", '02_3_SOURCES'!C14, '02_3_SOURCES'!B14)","v":0},{"$f":"'02_3_SOURCES'!K14","v":0},{"$f":"D13/'02_1_INCOME'!$F$38","v":{"$error":"#DIV/0!"}},{"$f":"D13/SUM('01_1_General Data'!$G$65:$G$66)","v":{"$error":"#DIV/0!"}},null,null,{"$f":"IF(AA2=0,\"Base Developer Fee\",\"Transaction Costs\")","v":"Base Developer Fee"},{"$f":"'02_4_USES'!F86","v":0},{"$f":"J13/'02_1_INCOME'!$F$38","v":{"$error":"#DIV/0!"}},{"$f":"J13/SUM('01_1_General Data'!$G$65:$G$66)","v":{"$error":"#DIV/0!"}}]
[null,null,{"$f":"IF('02_3_SOURCES'!B15=\"Other\", '02_3_SOURCES'!C15, '02_3_SOURCES'!B15)","v":0},{"$f":"'02_3_SOURCES'!K15","v":0},{"$f":"D14/'02_1_INCOME'!$F$38","v":{"$error":"#DIV/0!"}},{"$f":"D14/SUM('01_1_General Data'!$G$65:$G$66)","v":{"$error":"#DIV/0!"}},null,{"$f":"IF(AA2=0,\"Approved Cost\",\"\")","v":"Approved Cost"},null,{"$f":"IF(AA2=0,J12+J13,0)","v":0},{"$f":"J14/'02_1_INCOME'!$F$38","v":{"$error":"#DIV/0!"}},{"$f":"J14/SUM('01_1_General Data'!$G$65:$G$66)","v":{"$error":"#DIV/0!"}}]
[null,null,{"$f":"IF('02_3_SOURCES'!B16=\"Other\", '02_3_SOURCES'!C16, '02_3_SOURCES'!B16)","v":0},{"$f":"'02_3_SOURCES'!K16","v":0},{"$f":"D15/'02_1_INCOME'!$F$38","v":{"$error":"#DIV/0!"}},{"$f":"D15/SUM('01_1_General Data'!$G$65:$G$66)","v":{"$error":"#DIV/0!"}},null,null,{"$f":"IF(AA2=0,\"Incentive Developer Fee\",\"Developer's Fee\")","v":"Incentive Developer Fee"},{"$f":"'02_4_USES'!F87","v":0},{"$f":"J15/'02_1_INCOME'!$F$38","v":{"$error":"#DIV/0!"}},{"$f":"J15/SUM('01_1_General Data'!$G$65:$G$66)","v":{"$error":"#DIV/0!"}}]
[null,null,{"$f":"IF('02_3_SOURCES'!B17=\"Other\", '02_3_SOURCES'!C17, '02_3_SOURCES'!B17)","v":0},{"$f":"'02_3_SOURCES'!K17","v":0},{"$f":"D16/'02_1_INCOME'!$F$38","v":{"$error":"#DIV/0!"}},{"$f":"D16/SUM('01_1_General Data'!$G$65:$G$66)","v":{"$error":"#DIV/0!"}},null,{"$f":"IF(AA2=0,\"TDC Net of Reserves\",\"\")","v":"TDC Net of Reserves"},null,{"$f":"IF(AA2=0,J14+J15,0)","v":0},{"$f":"J16/'02_1_INCOME'!$F$38","v":{"$error":"#DIV/0!"}},{"$f":"J16/SUM('01_1_General Data'!$G$65:$G$66)","v":{"$error":"#DIV/0!"}}]
[null,null,{"$f":"IF('02_3_SOURCES'!B18=\"Other\", '02_3_SOURCES'!C18, '02_3_SOURCES'!B18)","v":0},{"$f":"'02_3_SOURCES'!K18","v":0},{"$f":"D17/'02_1_INCOME'!$F$38","v":{"$error":"#DIV/0!"}},{"$f":"D17/SUM('01_1_General Data'!$G$65:$G$66)","v":{"$error":"#DIV/0!"}},null,null,{"$f":"IF(AA2=0,\"Operating Reserve\",\"Rehabiliation\")","v":"Operating Reserve"},{"$f":"rng02_Uses_DevRehabCosts_Reserves_OperatingReserve","v":0},{"$f":"J17/'02_1_INCOME'!$F$38","v":{"$error":"#DIV/0!"}},{"$f":"J17/SUM('01_1_General Data'!$G$65:$G$66)","v":{"$error":"#DIV/0!"}}]
[null,null,{"$f":"IF('02_3_SOURCES'!B19=\"Other\", '02_3_SOURCES'!C19, '02_3_SOURCES'!B19)","v":0},{"$f":"'02_3_SOURCES'!K19","v":0},{"$f":"D18/'02_1_INCOME'!$F$38","v":{"$error":"#DIV/0!"}},{"$f":"D18/SUM('01_1_General Data'!$G$65:$G$66)","v":{"$error":"#DIV/0!"}},null,null,"Replacement Reserve",{"$f":"rng02_Uses_DevRehabCosts_Reserves_ReplacementReserve","v":0},{"$f":"J18/'02_1_INCOME'!$F$38","v":{"$error":"#DIV/0!"}},{"$f":"J18/SUM('01_1_General Data'!$G$65:$G$66)","v":{"$error":"#DIV/0!"}}]
[null,null,{"$f":"IF('02_3_SOURCES'!B20=\"Other\", '02_3_SOURCES'!C20, '02_3_SOURCES'!B20)","v":0},{"$f":"'02_3_SOURCES'!K20","v":0},{"$f":"D19/'02_1_INCOME'!$F$38","v":{"$error":"#DIV/0!"}},{"$f":"D19/SUM('01_1_General Data'!$G$65:$G$66)","v":{"$error":"#DIV/0!"}},null,null,"Tax + Insurance",{"$f":"rng02_Uses_DevRehabCosts_Reserves_1YrPropTaxEscrow+rng02_Uses_DevRehabCosts_Reserves_1YrInsEscrow","v":0},{"$f":"J19/'02_1_INCOME'!$F$38","v":{"$error":"#DIV/0!"}},{"$f":"J19/SUM('01_1_General Data'!$G$65:$G$66)","v":{"$error":"#DIV/0!"}}]
[null,null,{"$f":"IF('02_3_SOURCES'!B21=\"Other\", '02_3_SOURCES'!C21, '02_3_SOURCES'!B21)","v":0},{"$f":"'02_3_SOURCES'!K21","v":0},{"$f":"D20/'02_1_INCOME'!$F$38","v":{"$error":"#DIV/0!"}},{"$f":"D20/SUM('01_1_General Data'!$G$65:$G$66)","v":{"$error":"#DIV/0!"}},null,null,"Lease-up Reserve",{"$f":"rng02_Uses_DevRehabCosts_Reserves_LeaseUpReserve","v":0},{"$f":"J20/'02_1_INCOME'!$F$38","v":{"$error":"#DIV/0!"}},{"$f":"J20/SUM('01_1_General Data'!$G$65:$G$66)","v":{"$error":"#DIV/0!"}}]
[null,null,{"$f":"IF('02_3_SOURCES'!B22=\"Other\", '02_3_SOURCES'!C22, '02_3_SOURCES'!B22)","v":0},{"$f":"'02_3_SOURCES'!K22","v":0},{"$f":"D21/'02_1_INCOME'!$F$38","v":{"$error":"#DIV/0!"}},{"$f":"D21/SUM('01_1_General Data'!$G$65:$G$66)","v":{"$error":"#DIV/0!"}},null,null,"Other",{"$f":"rng02_Uses_DevRehabCosts_Reserves_Other1","v":0},{"$f":"J21/'02_1_INCOME'!$F$38","v":{"$error":"#DIV/0!"}},{"$f":"J21/SUM('01_1_General Data'!$G$65:$G$66)","v":{"$error":"#DIV/0!"}}]
[null,{"$f":"IF(AA2=0,\"Total Loans\",\"Total Loans & GAP Funds\")","v":"Total Loans"},null,{"$f":"SUM(D8:D21)","v":0},{"$f":"SUM(E8:E21)","v":{"$error":"#DIV/0!"}},{"$f":"SUM(F8:F21)","v":{"$error":"#DIV/0!"}},null,{"$f":"IF(AA2=0,\"TDC Including Reserves\",\"\")","v":"TDC Including Reserves"},null,{"$f":"SUM(J16:J21)","v":0},{"$f":"J22/'02_1_INCOME'!$F$38","v":{"$error":"#DIV/0!"}},{"$f":"J22/SUM('01_1_General Data'!$G$65:$G$66)","v":{"$error":"#DIV/0!"}}]
[null,"Equity"]
[null,null,{"$f":"'02_3_SOURCES'!B27","v":"LIHTC Proceeds"},{"$f":"'02_3_SOURCES'!F27","v":0},{"$f":"D24/'02_1_INCOME'!$F$38","v":{"$error":"#DIV/0!"}},{"$f":"D24/SUM('01_1_General Data'!$G$65:$G$66)","v":{"$error":"#DIV/0!"}}]
[null,null,{"$f":"'02_3_SOURCES'!B28","v":"Fed. Historic Tax Credit Proceeds"},{"$f":"'02_3_SOURCES'!F28","v":0},{"$f":"D25/'02_1_INCOME'!$F$38","v":{"$error":"#DIV/0!"}},{"$f":"D25/SUM('01_1_General Data'!$G$65:$G$66)","v":{"$error":"#DIV/0!"}}]
[null,null,{"$f":"'02_3_SOURCES'!B29","v":"General Partner Capital"},{"$f":"'02_3_SOURCES'!F29","v":0},{"$f":"D26/'02_1_INCOME'!$F$38","v":{"$error":"#DIV/0!"}},{"$f":"D26/SUM('01_1_General Data'!$G$65:$G$66)","v":{"$error":"#DIV/0!"}}]
[null,null,{"$f":"'02_3_SOURCES'!B30","v":"State Historic TC Proceeds"},{"$f":"'02_3_SOURCES'!F30","v":0},{"$f":"D27/'02_1_INCOME'!$F$38","v":{"$error":"#DIV/0!"}},{"$f":"D27/SUM('01_1_General Data'!$G$65:$G$66)","v":{"$error":"#DIV/0!"}}]
[null,null,{"$f":"'02_3_SOURCES'!B31","v":"State LIHTC"},{"$f":"'02_3_SOURCES'!F31","v":0},{"$f":"D28/'02_1_INCOME'!$F$38","v":{"$error":"#DIV/0!"}},{"$f":"D28/SUM('01_1_General Data'!$G$65:$G$66)","v":{"$error":"#DIV/0!"}}]
[null,null,{"$f":"'02_3_SOURCES'!B32","v":"Other Equity"},{"$f":"'02_3_SOURCES'!F32","v":0},{"$f":"D29/'02_1_INCOME'!$F$38","v":{"$error":"#DIV/0!"}},{"$f":"D29/SUM('01_1_General Data'!$G$65:$G$66)","v":{"$error":"#DIV/0!"}}]
[null,"Total Equity",null,{"$f":"SUM(D24:D29)","v":0},{"$f":"SUM(E24:E29)","v":{"$error":"#DIV/0!"}},{"$f":"SUM(F24:F29)","v":{"$error":"#DIV/0!"}}]
[null,"Grants"]
[null,null,{"$f":"IF('02_3_SOURCES'!F37=0,\"None\",'02_3_SOURCES'!B37)","v":"None"},{"$f":"'02_3_SOURCES'!F37","v":0},{"$f":"D32/'02_1_INCOME'!$F$38","v":{"$error":"#DIV/0!"}},{"$f":"D32/SUM('01_1_General Data'!$G$65:$G$66)","v":{"$error":"#DIV/0!"}},null,"TOTAL USES",null,{"$f":"J22","v":0},{"$f":"J32/'02_1_INCOME'!$F$38","v":{"$error":"#DIV/0!"}},{"$f":"J32/SUM('01_1_General Data'!$G$65:$G$66)","v":{"$error":"#DIV/0!"}}]
[null,null,{"$f":"IF('02_3_SOURCES'!F38=0,\"None\",'02_3_SOURCES'!B38)","v":"None"},{"$f":"'02_3_SOURCES'!F38","v":0},{"$f":"D33/'02_1_INCOME'!$F$38","v":{"$error":"#DIV/0!"}},{"$f":"D33/SUM('01_1_General Data'!$G$65:$G$66)","v":{"$error":"#DIV/0!"}}]
[null,null,{"$f":"IF('02_3_SOURCES'!F39=0,\"None\",'02_3_SOURCES'!B39)","v":"None"},{"$f":"'02_3_SOURCES'!F39","v":0},{"$f":"D34/'02_1_INCOME'!$F$38","v":{"$error":"#DIV/0!"}},{"$f":"D34/SUM('01_1_General Data'!$G$65:$G$66)","v":{"$error":"#DIV/0!"}},null,null,"Total Hard Costs incl. Contingency",{"$f":"'02_4_USES'!F28","v":0},{"$f":"IF(J34=\"N/A\",\"N/A\",J34/'02_1_INCOME'!$F$38)","v":{"$error":"#DIV/0!"}},{"$f":"IF(J34=\"N/A\",\"N/A\",J34/SUM('01_1_General Data'!$G$65:$G$66))","v":{"$error":"#DIV/0!"}}]
[null,null,{"$f":"IF('02_3_SOURCES'!F40=0,\"None\",'02_3_SOURCES'!B40)","v":"None"},{"$f":"'02_3_SOURCES'!F40","v":0},{"$f":"D35/'02_1_INCOME'!$F$38","v":{"$error":"#DIV/0!"}},{"$f":"D35/SUM('01_1_General Data'!$G$65:$G$66)","v":{"$error":"#DIV/0!"}},null,null,"Year 1 Operating Expenses",{"$f":"'04_1_Pro Forma'!C27","v":0},{"$f":"J35/'02_1_INCOME'!$F$38","v":{"$error":"#DIV/0!"}},{"$f":"J35/SUM('01_1_General Data'!$G$65:$G$66)","v":{"$error":"#DIV/0!"}}]
[null,null,{"$f":"IF('02_3_SOURCES'!F41=0,\"None\",'02_3_SOURCES'!B41)","v":"None"},{"$f":"'02_3_SOURCES'!F41","v":0},{"$f":"D36/'02_1_INCOME'!$F$38","v":{"$error":"#DIV/0!"}},{"$f":"D36/SUM('01_1_General Data'!$G$65:$G$66)","v":{"$error":"#DIV/0!"}}]
[null,"Total Grants",null,{"$f":"SUM(D32:D36)","v":0},{"$f":"SUM(E32:E36)","v":{"$error":"#DIV/0!"}},{"$f":"SUM(F32:F36)","v":{"$error":"#DIV/0!"}}]
[null,null,null,null,null,null,null,null,null,"Total","Per Unit","per NRSF"]
[null,"TOTAL SOURCES",null,{"$f":"D22+D30+D37","v":0},{"$f":"D39/'02_1_INCOME'!$F$38","v":{"$error":"#DIV/0!"}},{"$f":"D39/SUM('01_1_General Data'!$G$65:$G$66)","v":{"$error":"#DIV/0!"}},null,{"$f":"IF(J39<0,\"PROJECT GAP\",\"PROJECT SURPLUS\")","v":"PROJECT SURPLUS"},null,{"$f":"D39-J32","v":0},{"$f":"J39/'02_1_INCOME'!$F$38","v":{"$error":"#DIV/0!"}},{"$f":"J39/SUM('01_1_General Data'!$G$65:$G$66)","v":{"$error":"#DIV/0!"}}]
[]
[]
[null,"UNDERWRITER ASSUMPTIONS"]
[]
[null,"Debt Service Coverage Ratio",null,null,null,{"$f":"'01_1_General Data'!$K$14","v":0},null,null,"Mortgage (Yes or No)?",null,null,{"$f":"'01_1_General Data'!K11","v":0}]
[null,"Syndication Credit Detail:",null,{"$f":"'02_3_SOURCES'!C27","v":"$000 per year at $0.000 per Credit"},null,null,null,null,"Risk Sharing (Yes or No)?",null,null,{"$f":"'01_1_General Data'!K12","v":0}]
[null,null,null,null,null,null,null,null,"Historic Credits (Yes or No)?",null,null,{"$f":"'01_1_General Data'!C34","v":0}]
[null,"First Year of Operations/Pro Forma Yr. 1",null,null,null,{"$f":"rng01_FirstYearProforma","v":1901},null,null,"Mortgage Interest Rate",null,null,{"$f":"IF($L$44=\"Yes\",'01_1_General Data'!K13,\"Not RIH\")","v":"Not RIH"}]
[null,"Number of Units (Total)",null,null,null,{"$f":"SUM(E57:F57)","v":0},null,null,"Mortgage Term",null,null,{"$f":"IF($L$44=\"Yes\",'01_1_General Data'!K15,\"Not RIH\")","v":"Not RIH"}]
[null,"Type Detail",null,null,"Market","LIHTC",null,null,{"$f":"IF(AND('02_3_SOURCES'!G10=\"Cash Flow\",'03_3_Amortizations'!M13>0),\"Second Mortgage is a Cash Flow Mortgage\",IF(AND('02_3_SOURCES'!G10=\"Debt Service\",'03_3_Amortizations'!M13>0),\"Second Mortgage is Standard Amortizing\",\"Second Mortgage Not Applicable\"))","v":"Second Mortgage Not Applicable"}]
[null,null,"SRO",null,{"$f":"rng02_Summary_Res_Config_NoMktUnitSRO","v":0},{"$f":"rng02_Summary_Res_Config_NoUnitSRO","v":0},null,null,{"$f":"\"Financing Status is \"&'01_1_General Data'!K16","v":"Financing Status is "}]
[null,null,"EFF",null,{"$f":"rng02_Summary_Res_Config_NoMktUnitEFF","v":0},{"$f":"rng02_Summary_Res_Config_NoUnitsEfficiency","v":0},null,null,"Loan to Value",null,null,{"$f":"'06_2_Credit Committee'!D29","v":{"$error":"#DIV/0!"}}]
[null,null,"1 Bedroom",null,{"$f":"'02_1_INCOME'!D106","v":0},{"$f":"'02_1_INCOME'!C106","v":0},null,null,"Vacancy Rates"]
[null,null,"2 Bedrooms",null,{"$f":"'02_1_INCOME'!D107","v":0},{"$f":"'02_1_INCOME'!C107","v":0},null,null,"Residential Market Rate",null,null,{"$f":"'01_1_General Data'!D122","v":0}]
[null,null,"3 Bedrooms",null,{"$f":"'02_1_INCOME'!D108","v":0},{"$f":"'02_1_INCOME'!C108","v":0},null,null,"Residential Affordable Rate",null,null,{"$f":"'01_1_General Data'!D123","v":0}]
[null,null,"4 Bedrooms",null,{"$f":"'02_1_INCOME'!D109","v":0},{"$f":"'02_1_INCOME'!C109","v":0},null,null,"Commercial Market Rate",null,null,{"$f":"'01_1_General Data'!D124","v":0}]
[null,null,"5 Bedrooms",null,{"$f":"'02_1_INCOME'!D110","v":0},{"$f":"'02_1_INCOME'!C110","v":0},null,null,"NH/Assisted/Congregate Market Rate",null,null,{"$f":"'01_1_General Data'!D125","v":0}]
[null,"Totals by Type",null,null,{"$f":"SUM(E50:E56)","v":0},{"$f":"SUM(F50:F56)","v":0}]
[]
[]
[]
[]
[]
[]
[]
[]
[]
[]
[]
[]
[]
[]
[]
[]
[]
[]
[]
[]
[]
[]
[]
[]
[]
[]
[]
[]
[]
[]
[]
[]
[]
[]
[null,null,"Sources pie chart element"]
[null,null,"RIH Mortgage",{"$f":"SUM(D8:D9)","v":0}]
[null,null,"Other Permanent Financing",{"$f":"SUM(D10:D21)","v":0}]
[null,null,"Equity",{"$f":"SUM(D24:D29)","v":0}]
[null,null,"Other Loan",{"$f":"SUM(D32:D36)","v":0}]
[]
[null,null,"Uses pie chart element"]
[null,null,"Acquisition",{"$f":"J7","v":0}]
[null,null,"Construction",{"$f":"J8","v":0}]
[null,null,"Soft Costs",{"$f":"J10","v":0}]
[null,null,"Developer Fee",{"$f":"J13+J22","v":0}]
[null,null,"Reserves",{"$f":"SUM(J24:J29)","v":0}]
[null,null,"Other",{"$f":"J9+J11","v":0}]

{"sheet":"06_2_Credit Committee","index":25,"n_rows":150,"n_cols":32,"rows_kept":150,"cut":false,"hidden":true,"merged":[[35,3,35,4],[35,6,35,7]]}
["Credit Committee"]
[{"$f":"IF(rng01_ProjectName=\"\",\"[Project Name]\", rng01_ProjectName)","v":"[Project Name]"},null,null,null,null,null,null,"Current Model Progress Date:",{"$f":"tbl00ModelProgress[[#Totals],[Date of Progress /\nLast Edit]]","v":"00:00:00"}]
[]
[]
[null,"1. Summary of Changes from Preliminary Approval",null,null,null,null,null,null,null,null,null,null,null,null,null,null,null,null,"Underwriting Metrics ",null,null,null,"Development Team ",null,null,null,null,"Other Metrics"]
[]
[]
[null,null,null,"Appraisal ","Per Unit","Variance","Current UW","Per Unit",null,null,null,null,null,null,null,null,null,null,"Underwriting Metrics",null,null,null,"Development Team"]
[null,null,"Rent Revenue - Gross Potential",{"$f":"SUM('02_2_EXPENSE'!F12:F12)","v":0},{"$f":"D9/'02_1_INCOME'!$F$38","v":{"$error":"#DIV/0!"}},{"$f":"+G9-D9","v":0},{"$f":"'02_1_INCOME'!M38","v":0},{"$f":"G9/'02_1_INCOME'!$F$38","v":{"$error":"#DIV/0!"}}]
[null,null,"Rent Revenue - Commercial",{"$f":"'02_2_EXPENSE'!F13","v":0},{"$f":"D10/'02_1_INCOME'!$F$38","v":{"$error":"#DIV/0!"}},0,{"$f":"'02_1_INCOME'!H60","v":0},{"$f":"G10/'02_1_INCOME'!$F$38","v":{"$error":"#DIV/0!"}},null,null,null,null,null,null,null,null,null,null,"Metric","Amount","Comment",null,null,"Name","City/State","Risk Rating",null,"Breakeven Occupancy",null,null,"Minimum DSCR Occupancy"]
[null,null,"NH/Asst Living Total Revenues",{"$f":"'02_2_EXPENSE'!F15","v":0},{"$f":"D11/'02_1_INCOME'!$F$38","v":{"$error":"#DIV/0!"}},0,{"$f":"'03_4_NH-Assisted Living Data'!C18","v":0},{"$f":"G11/'02_1_INCOME'!$F$38","v":{"$error":"#DIV/0!"}},null,null,null,null,null,null,null,null,null,null,"Total Development Cost Per Unit",{"$error":"#DIV/0!"},null,null,"Sponsor/Developer",{"$f":"rng01_Developer","v":0},{"$f":"'01_1_General Data'!D169&\", \"&'01_1_General Data'!D170","v":", "},null,null,"Operating Expenses",{"$f":"'04_1_Pro Forma'!C27","v":0},null,"Debt Service",{"$f":"AC12","v":0}]
[null,null,"Other Rent Revenue",{"$f":"'02_2_EXPENSE'!F16","v":0},{"$f":"D12/'02_1_INCOME'!$F$38","v":{"$error":"#DIV/0!"}},0,{"$f":"'02_1_INCOME'!H81","v":0},{"$f":"G12/'02_1_INCOME'!$F$38","v":{"$error":"#DIV/0!"}},null,null,null,null,null,null,null,null,null,null,"Residential Affordable Vacancy Rate",{"$f":"'01_1_General Data'!D123","v":0},null,null,"Mortgagor",{"$f":"'01_1_General Data'!K29","v":0},{"$f":"'01_1_General Data'!K31&\", \"&'01_1_General Data'!K32","v":", "},null,null,"Debt Service",{"$f":"'04_1_Pro Forma'!C33","v":0},null,"Minimum DSCR",{"$f":"'02_3_SOURCES'!H9","v":0}]
[null,null,"Potential Gross Income",{"$f":"SUM(D9:D12)","v":0},{"$f":"D13/'02_1_INCOME'!$F$38","v":{"$error":"#DIV/0!"}},0,{"$f":"SUM(G9:G12)","v":0},{"$f":"G13/'02_1_INCOME'!$F$38","v":{"$error":"#DIV/0!"}},null,null,null,null,null,null,null,null,null,null,"DCR Year 1",{"$f":"'04_1_Pro Forma'!C38","v":0},null,null,"Architect",{"$f":"'01_1_General Data'!D196","v":0},{"$f":"'01_1_General Data'!D199&\", \"&'01_1_General Data'!D200","v":", "},null,null,"Total",{"$f":"SUM(AC11:AC12)","v":0},null,"Minimum DSCR NOI",{"$f":"AF11*AF12","v":0}]
[null,null,"Vacancy",{"$f":"'02_2_EXPENSE'!F14","v":0},{"$f":"D14/'02_1_INCOME'!$F$38","v":{"$error":"#DIV/0!"}},0,{"$f":"SUM('04_1_Pro Forma'!C11:C14)","v":0},{"$f":"G14/'02_1_INCOME'!$F$38","v":{"$error":"#DIV/0!"}},null,null,null,null,null,null,null,null,null,null,"DCR Year 15",{"$f":"'04_1_Pro Forma'!Q38","v":0},null,null,"General Contractor",{"$f":"'01_1_General Data'!I186","v":0},{"$f":"'01_1_General Data'!I189&\", \"&'01_1_General Data'!I190","v":", "},null,null,"Gross Potential Rent",{"$f":"'02_1_INCOME'!M38","v":0},null,"Minimum DSCR Vacancy",{"$f":"1-((AC14-(T15-AF13))/AC14)","v":{"$error":"#DIV/0!"}}]
[null,null,"EFFECTIVE GROSS INCOME",{"$f":"+D13+D14","v":0},{"$f":"D15/'02_1_INCOME'!$F$38","v":{"$error":"#DIV/0!"}},0,{"$f":"+G13+G14","v":0},{"$f":"G15/'02_1_INCOME'!$F$38","v":{"$error":"#DIV/0!"}},null,null,null,null,null,null,null,null,null,null,"NOI",{"$f":"'04_1_Pro Forma'!C30","v":0},null,null,"Legal",{"$f":"'01_1_General Data'!I166","v":0},{"$f":"'01_1_General Data'!I169&\", \"&'01_1_General Data'!I170","v":", "},null,null,"Breakeven Vacancy %",{"$f":"1-(AC13/AC14)","v":{"$error":"#DIV/0!"}},null,"Minimum DSCR Occupied Units",{"$f":"rng02_TotalUnit*AF14","v":{"$error":"#DIV/0!"}}]
[null,null,null,null,null,null,null,null,null,null,null,null,null,null,null,null,null,null,"Rental Income Trending",{"$f":"rng01_RentalIncomeRate","v":0},null,null,"Management Agent",{"$f":"'01_1_General Data'!D186","v":0},{"$f":"'01_1_General Data'!D189&\", \"&'01_1_General Data'!D190","v":", "},null,null,"Breakeven Occupied Units",{"$f":"rng02_TotalUnit*AC15","v":{"$error":"#DIV/0!"}}]
[null,null,"Administrative Expenses",{"$f":"'02_2_EXPENSE'!F39","v":0},{"$f":"D17/'02_1_INCOME'!$F$38","v":{"$error":"#DIV/0!"}},{"$f":"+G17-D17","v":0},{"$f":"'02_2_EXPENSE'!D39","v":0},{"$f":"G17/'02_1_INCOME'!$F$38","v":{"$error":"#DIV/0!"}},null,null,null,null,null,null,null,null,null,null,"Operating Expense Trending",{"$f":"rng01_OpExRate","v":0},null,null,"Consultant",{"$f":"'01_1_General Data'!D206","v":0},{"$f":"'01_1_General Data'!D209&\", \"&'01_1_General Data'!D210","v":", "}]
[null,null,"Utilities Expenses",{"$f":"'02_2_EXPENSE'!F47","v":0},{"$f":"D18/'02_1_INCOME'!$F$38","v":{"$error":"#DIV/0!"}},0,{"$f":"'02_2_EXPENSE'!D47","v":0},{"$f":"G18/'02_1_INCOME'!$F$38","v":{"$error":"#DIV/0!"}},null,null,null,null,null,null,null,null,null,null,"Loan to Value",{"$f":"D29","v":{"$error":"#DIV/0!"}},null,null,"Syndicator",{"$f":"'01_1_General Data'!I196","v":0},{"$f":"'01_1_General Data'!I199&\", \"&'01_1_General Data'!I200","v":", "}]
[null,null,"Ops. & Maintenance Expenses",{"$f":"'02_2_EXPENSE'!F74","v":0},{"$f":"D19/'02_1_INCOME'!$F$38","v":{"$error":"#DIV/0!"}},0,{"$f":"'02_2_EXPENSE'!D74","v":0},{"$f":"G19/'02_1_INCOME'!$F$38","v":{"$error":"#DIV/0!"}},null,null,null,null,null,null,null,null,null,null,"Initial Installment (%) of syndication proceeds",{"$f":"'01_1_General Data'!E89","v":{"$error":"#DIV/0!"}}]
[null,null,"Taxes & Insurance",{"$f":"'02_2_EXPENSE'!F85","v":0},{"$f":"D20/'02_1_INCOME'!$F$38","v":{"$error":"#DIV/0!"}},0,{"$f":"'02_2_EXPENSE'!D85","v":0},{"$f":"G20/'02_1_INCOME'!$F$38","v":{"$error":"#DIV/0!"}},null,null,null,null,null,null,null,null,null,null,"Acquisition Price equal to or less than Appraised value","Requires manual input"]
[null,null,"NH/Asst Living/Elderly Care",null,{"$f":"D21/'02_1_INCOME'!$F$38","v":{"$error":"#DIV/0!"}},0,null,{"$f":"G21/'02_1_INCOME'!$F$38","v":{"$error":"#DIV/0!"}},null,null,null,null,null,null,null,null,null,null,"Operating Reserve (Amt and confirm consistency with UW requirements)",{"$f":"'02_4_USES'!C79","v":0}]
[null,null,"Replacement Reserves",{"$f":"'02_2_EXPENSE'!F89","v":0},{"$f":"D22/'02_1_INCOME'!$F$38","v":{"$error":"#DIV/0!"}},0,{"$f":"'02_2_EXPENSE'!D89","v":0},{"$f":"G22/'02_1_INCOME'!$F$38","v":{"$error":"#DIV/0!"}},null,null,null,null,null,null,null,null,null,null,"Replacement Reserve (Amt and confirm consistency with UW requirements)",{"$f":"'02_4_USES'!C80","v":0}]
[null,null,"OPERATING EXPENSES",{"$f":"SUM(D17:D22)","v":0},{"$f":"D23/'02_1_INCOME'!$F$38","v":{"$error":"#DIV/0!"}},{"$f":"+D23-G23","v":0},{"$f":"SUM(G17:G22)","v":0},{"$f":"G23/'02_1_INCOME'!$F$38","v":{"$error":"#DIV/0!"}}]
[]
[null,null,"NET OPERATING INCOME",{"$f":"+D15-D23","v":0},{"$f":"D25/'02_1_INCOME'!$F$38","v":{"$error":"#DIV/0!"}},{"$f":"+G25-D25","v":0},{"$f":"+G15-G23","v":0},{"$f":"G25/'02_1_INCOME'!$F$38","v":{"$error":"#DIV/0!"}}]
[null,null,"Appraisal Cap Rate",0.06,null,null,{"$f":"D26","v":0.06}]
[null,null,"Valuation",{"$f":"+D25/D26","v":0},{"$f":"D27/'02_1_INCOME'!$F$38","v":{"$error":"#DIV/0!"}},{"$f":"+G27-D27","v":0},{"$f":"+G25/G26","v":0},{"$f":"G27/'02_1_INCOME'!$F$38","v":{"$error":"#DIV/0!"}}]
[null,null,"Loan Principal",{"$f":"'02_3_SOURCES'!$K$9","v":0},{"$f":"D28/'02_1_INCOME'!$F$38","v":{"$error":"#DIV/0!"}},null,{"$f":"'02_3_SOURCES'!$K$9","v":0},{"$f":"G28/'02_1_INCOME'!$F$38","v":{"$error":"#DIV/0!"}}]
[null,null,"LTV",{"$f":"D28/D27","v":{"$error":"#DIV/0!"}},null,{"$f":"+G29-D29","v":{"$error":"#DIV/0!"}},{"$f":"G28/G27","v":{"$error":"#DIV/0!"}}]
[]
[]
[null,"3. Executive Summary - Sources and Uses"]
[]
[]
[]
[null,null,null,"Preliminary",null,null,"Firm"]
[null,null,"Sources","Amount","Per Unit","Delta","Amount","Per Unit",null,null,null,"% change from Prelim to Firm"]
[null,null,{"$f":"'06_1_Summary Printout'!C8","v":""},{"$f":"rng02_Sources_Debt_Total1","v":0},{"$f":"D38/'02_1_INCOME'!$F$38","v":{"$error":"#DIV/0!"}},{"$f":"G38-D38","v":0},{"$f":"'06_1_Summary Printout'!D8","v":0},{"$f":"G38/'02_1_INCOME'!$F$38","v":{"$error":"#DIV/0!"}},null,null,null,{"$f":"(G38-D38)/D38","v":{"$error":"#DIV/0!"}}]
[null,null,{"$f":"'06_1_Summary Printout'!C9","v":"RIH Second Mortgage"},{"$f":"rng02_Sources_Debt_Total2","v":0},{"$f":"D39/'02_1_INCOME'!$F$38","v":{"$error":"#DIV/0!"}},{"$f":"G39-D39","v":0},{"$f":"'06_1_Summary Printout'!D9","v":0},{"$f":"G39/'02_1_INCOME'!$F$38","v":{"$error":"#DIV/0!"}},null,null,null,{"$f":"(G39-D39)/D39","v":{"$error":"#DIV/0!"}}]
[null,null,{"$f":"'06_1_Summary Printout'!C10","v":0},{"$f":"rng02_Sources_Debt_Total3","v":0},{"$f":"D40/'02_1_INCOME'!$F$38","v":{"$error":"#DIV/0!"}},0,{"$f":"'06_1_Summary Printout'!D10","v":0},{"$f":"G40/'02_1_INCOME'!$F$38","v":{"$error":"#DIV/0!"}},null,null,null,{"$error":"#DIV/0!"}]
[null,null,{"$f":"'06_1_Summary Printout'!C11","v":0},{"$f":"rng02_Sources_Debt_Total4","v":0},{"$f":"D41/'02_1_INCOME'!$F$38","v":{"$error":"#DIV/0!"}},0,{"$f":"'06_1_Summary Printout'!D11","v":0},{"$f":"G41/'02_1_INCOME'!$F$38","v":{"$error":"#DIV/0!"}},null,null,null,{"$error":"#DIV/0!"}]
[null,null,{"$f":"'06_1_Summary Printout'!C12","v":0},{"$f":"rng02_Sources_Debt_Total5","v":0},{"$f":"D42/'02_1_INCOME'!$F$38","v":{"$error":"#DIV/0!"}},0,{"$f":"'06_1_Summary Printout'!D12","v":0},{"$f":"G42/'02_1_INCOME'!$F$38","v":{"$error":"#DIV/0!"}},null,null,null,{"$error":"#DIV/0!"}]
[null,null,{"$f":"'06_1_Summary Printout'!C13","v":0},{"$f":"rng02_Sources_Debt_Total6","v":0},{"$f":"D43/'02_1_INCOME'!$F$38","v":{"$error":"#DIV/0!"}},0,{"$f":"'06_1_Summary Printout'!D13","v":0},{"$f":"G43/'02_1_INCOME'!$F$38","v":{"$error":"#DIV/0!"}},null,null,null,{"$error":"#DIV/0!"}]
[null,null,{"$f":"'06_1_Summary Printout'!C14","v":0},{"$f":"rng02_Sources_Debt_Total7","v":0},{"$f":"D44/'02_1_INCOME'!$F$38","v":{"$error":"#DIV/0!"}},0,{"$f":"'06_1_Summary Printout'!D14","v":0},{"$f":"G44/'02_1_INCOME'!$F$38","v":{"$error":"#DIV/0!"}},null,null,null,{"$error":"#DIV/0!"}]
[null,null,{"$f":"'06_1_Summary Printout'!C15","v":0},{"$f":"rng02_Sources_Debt_Total8","v":0},{"$f":"D45/'02_1_INCOME'!$F$38","v":{"$error":"#DIV/0!"}},0,{"$f":"'06_1_Summary Printout'!D15","v":0},{"$f":"G45/'02_1_INCOME'!$F$38","v":{"$error":"#DIV/0!"}},null,null,null,{"$error":"#DIV/0!"}]
[null,null,{"$f":"'06_1_Summary Printout'!C16","v":0},{"$f":"rng02_Sources_Debt_Total9","v":0},{"$f":"D46/'02_1_INCOME'!$F$38","v":{"$error":"#DIV/0!"}},0,{"$f":"'06_1_Summary Printout'!D16","v":0},{"$f":"G46/'02_1_INCOME'!$F$38","v":{"$error":"#DIV/0!"}},null,null,null,{"$error":"#DIV/0!"}]
[null,null,{"$f":"'06_1_Summary Printout'!C17","v":0},{"$f":"rng02_Sources_Debt_Total10","v":0},{"$f":"D47/'02_1_INCOME'!$F$38","v":{"$error":"#DIV/0!"}},0,{"$f":"'06_1_Summary Printout'!D17","v":0},{"$f":"G47/'02_1_INCOME'!$F$38","v":{"$error":"#DIV/0!"}},null,null,null,{"$error":"#DIV/0!"}]
[null,null,{"$f":"'06_1_Summary Printout'!C18","v":0},{"$f":"rng02_Sources_Debt_Total11","v":0},{"$f":"D48/'02_1_INCOME'!$F$38","v":{"$error":"#DIV/0!"}},0,{"$f":"'06_1_Summary Printout'!D18","v":0},{"$f":"G48/'02_1_INCOME'!$F$38","v":{"$error":"#DIV/0!"}},null,null,null,{"$error":"#DIV/0!"}]
[null,null,{"$f":"'06_1_Summary Printout'!C19","v":0},{"$f":"rng02_Sources_Debt_Total12","v":0},{"$f":"D49/'02_1_INCOME'!$F$38","v":{"$error":"#DIV/0!"}},0,{"$f":"'06_1_Summary Printout'!D19","v":0},{"$f":"G49/'02_1_INCOME'!$F$38","v":{"$error":"#DIV/0!"}},null,null,null,{"$error":"#DIV/0!"}]
[null,null,{"$f":"'06_1_Summary Printout'!C20","v":0},{"$f":"rng02_Sources_Debt_Total13","v":0},{"$f":"D50/'02_1_INCOME'!$F$38","v":{"$error":"#DIV/0!"}},0,{"$f":"'06_1_Summary Printout'!D20","v":0},{"$f":"G50/'02_1_INCOME'!$F$38","v":{"$error":"#DIV/0!"}},null,null,null,{"$error":"#DIV/0!"}]
[null,null,{"$f":"'06_1_Summary Printout'!C21","v":0},{"$f":"rng02_Sources_Debt_Total14","v":0},{"$f":"D51/'02_1_INCOME'!$F$38","v":{"$error":"#DIV/0!"}},0,{"$f":"'06_1_Summary Printout'!D21","v":0},{"$f":"G51/'02_1_INCOME'!$F$38","v":{"$error":"#DIV/0!"}},null,null,null,{"$error":"#DIV/0!"}]
[null,null,{"$f":"'06_1_Summary Printout'!C22","v":0},{"$f":"rng02_Sources_Debt_Total14","v":0},{"$f":"D52/'02_1_INCOME'!$F$38","v":{"$error":"#DIV/0!"}},{"$f":"G52-D52","v":0},{"$f":"'06_1_Summary Printout'!D22","v":0},{"$f":"G52/'02_1_INCOME'!$F$38","v":{"$error":"#DIV/0!"}},null,null,null,{"$error":"#DIV/0!"}]
[null,null,{"$f":"'06_1_Summary Printout'!C24","v":"LIHTC Proceeds"},{"$f":"rng02_Sources_Equity_LIHTCProceeds_Tot","v":0},{"$f":"D53/'02_1_INCOME'!$F$38","v":{"$error":"#DIV/0!"}},0,{"$f":"'06_1_Summary Printout'!D24","v":0},{"$f":"G53/'02_1_INCOME'!$F$38","v":{"$error":"#DIV/0!"}},null,null,null,{"$error":"#DIV/0!"}]
[null,null,{"$f":"'06_1_Summary Printout'!C25","v":"Fed. Historic Tax Credit Proceeds"},{"$f":"rng02_Sources_Equiy_FedHistTaxCredProceeds_Tot","v":0},{"$f":"D54/'02_1_INCOME'!$F$38","v":{"$error":"#DIV/0!"}},0,{"$f":"'06_1_Summary Printout'!D25","v":0},{"$f":"G54/'02_1_INCOME'!$F$38","v":{"$error":"#DIV/0!"}},null,null,null,{"$error":"#DIV/0!"}]
[null,null,{"$f":"'06_1_Summary Printout'!C26","v":"General Partner Capital"},{"$f":"rng02_Sources_Equity_GenPartCap_Tot","v":0},{"$f":"D55/'02_1_INCOME'!$F$38","v":{"$error":"#DIV/0!"}},0,{"$f":"'06_1_Summary Printout'!D26","v":0},{"$f":"G55/'02_1_INCOME'!$F$38","v":{"$error":"#DIV/0!"}},null,null,null,{"$error":"#DIV/0!"}]
[null,null,{"$f":"'06_1_Summary Printout'!C27","v":"State Historic TC Proceeds"},{"$f":"rng02_Sources_Equity_StateHistTCProceeds_Tot","v":0},{"$f":"D56/'02_1_INCOME'!$F$38","v":{"$error":"#DIV/0!"}},0,{"$f":"'06_1_Summary Printout'!D27","v":0},{"$f":"G56/'02_1_INCOME'!$F$38","v":{"$error":"#DIV/0!"}}]
[null,null,{"$f":"'06_1_Summary Printout'!C28","v":"State LIHTC"},{"$f":"'06_1_Summary Printout'!D28","v":0},{"$f":"D57/'02_1_INCOME'!$F$38","v":{"$error":"#DIV/0!"}},0,{"$f":"'06_1_Summary Printout'!D28","v":0},{"$f":"G57/'02_1_INCOME'!$F$38","v":{"$error":"#DIV/0!"}}]
[null,null,{"$f":"'06_1_Summary Printout'!C29","v":"Other Equity"},{"$f":"rng02_Sources_Equity_Other_Tot","v":0},{"$f":"D58/'02_1_INCOME'!$F$38","v":{"$error":"#DIV/0!"}},0,{"$f":"'06_1_Summary Printout'!D29","v":0},{"$f":"G58/'02_1_INCOME'!$F$38","v":{"$error":"#DIV/0!"}}]
[null,null,{"$f":"'06_1_Summary Printout'!C32","v":"None"},{"$f":"'06_1_Summary Printout'!D32","v":0},{"$f":"D59/'02_1_INCOME'!$F$38","v":{"$error":"#DIV/0!"}},0,{"$f":"'06_1_Summary Printout'!D32","v":0},{"$f":"G59/'02_1_INCOME'!$F$38","v":{"$error":"#DIV/0!"}}]
[null,null,{"$f":"'06_1_Summary Printout'!C33","v":"None"},{"$f":"'06_1_Summary Printout'!D33","v":0},{"$f":"D60/'02_1_INCOME'!$F$38","v":{"$error":"#DIV/0!"}},0,{"$f":"'06_1_Summary Printout'!D33","v":0},{"$f":"G60/'02_1_INCOME'!$F$38","v":{"$error":"#DIV/0!"}}]
[null,null,{"$f":"'06_1_Summary Printout'!C34","v":"None"},{"$f":"'06_1_Summary Printout'!D34","v":0},{"$f":"D61/'02_1_INCOME'!$F$38","v":{"$error":"#DIV/0!"}},0,{"$f":"'06_1_Summary Printout'!D34","v":0},{"$f":"G61/'02_1_INCOME'!$F$38","v":{"$error":"#DIV/0!"}}]
[null,null,{"$f":"'06_1_Summary Printout'!C35","v":"None"},{"$f":"'06_1_Summary Printout'!D35","v":0},{"$f":"D62/'02_1_INCOME'!$F$38","v":{"$error":"#DIV/0!"}},0,{"$f":"'06_1_Summary Printout'!D35","v":0},{"$f":"G62/'02_1_INCOME'!$F$38","v":{"$error":"#DIV/0!"}}]
[null,null,{"$f":"'06_1_Summary Printout'!C36","v":"None"},{"$f":"'06_1_Summary Printout'!D36","v":0},{"$f":"D63/'02_1_INCOME'!$F$38","v":{"$error":"#DIV/0!"}},0,{"$f":"'06_1_Summary Printout'!D36","v":0},{"$f":"G63/'02_1_INCOME'!$F$38","v":{"$error":"#DIV/0!"}},null,null,null,{"$error":"#DIV/0!"}]
[null,null,"Total Sources",{"$f":"SUM(D38:D63)","v":0},{"$f":"SUM(E38:E63)","v":{"$error":"#DIV/0!"}},0,{"$f":"SUM(G38:G63)","v":0},{"$f":"SUM(H38:H63)","v":{"$error":"#DIV/0!"}},null,null,null,{"$error":"#DIV/0!"}]
[]
[]
[null,null,"Uses","Amount","Per Unit","Delta","Amount","Per Unit"]
[null,null,"Construction",{"$f":"rng02_Uses_DevRehabCosts_ConstRehabCosts_TotalHardCosts","v":0},{"$f":"D68/'02_1_INCOME'!$F$38","v":{"$error":"#DIV/0!"}},{"$f":"G68-D68","v":0},{"$f":"'06_1_Summary Printout'!J8","v":0},{"$f":"G68/'02_1_INCOME'!$F$38","v":{"$error":"#DIV/0!"}},null,null,null,{"$f":"(G68-D68)/D68","v":{"$error":"#DIV/0!"}}]
[null,null,"Contingency",{"$f":"rng02_Uses_DevRehabCosts_ConstRehabCosts_ConstructContigency","v":0},{"$f":"D69/'02_1_INCOME'!$F$38","v":{"$error":"#DIV/0!"}},0,{"$f":"'06_1_Summary Printout'!J9","v":0},{"$f":"G69/'02_1_INCOME'!$F$38","v":{"$error":"#DIV/0!"}},null,null,null,{"$error":"#DIV/0!"}]
[null,null,"Acquisition",{"$f":"rng02_Uses_DevRehabCosts_ACQCosts_TotalAcq","v":0},{"$f":"D70/'02_1_INCOME'!$F$38","v":{"$error":"#DIV/0!"}},0,{"$f":"'06_1_Summary Printout'!J7","v":0},{"$f":"G70/'02_1_INCOME'!$F$38","v":{"$error":"#DIV/0!"}},null,null,null,{"$error":"#DIV/0!"}]
[null,null,"Soft Costs",{"$f":"rng02_Uses_DevRehabCosts_SoftCosts_TotalSC","v":0},{"$f":"D71/'02_1_INCOME'!$F$38","v":{"$error":"#DIV/0!"}},0,{"$f":"'06_1_Summary Printout'!J10","v":0},{"$f":"G71/'02_1_INCOME'!$F$38","v":{"$error":"#DIV/0!"}},null,null,null,{"$error":"#DIV/0!"}]
[null,null,"Financing",{"$f":"rng02_Uses_DevRehabCosts_Financing_TotFinCosts","v":0},{"$f":"D72/'02_1_INCOME'!$F$38","v":{"$error":"#DIV/0!"}},0,{"$f":"'06_1_Summary Printout'!J11","v":0},{"$f":"G72/'02_1_INCOME'!$F$38","v":{"$error":"#DIV/0!"}},null,null,null,{"$error":"#DIV/0!"}]
[null,null,"Developer Fee",{"$f":"rng02_Uses_DevRehabCosts_DevFee_TotDevFee","v":0},{"$f":"D73/'02_1_INCOME'!$F$38","v":{"$error":"#DIV/0!"}},0,{"$f":"'06_1_Summary Printout'!J13+'06_1_Summary Printout'!J15","v":0},{"$f":"G73/'02_1_INCOME'!$F$38","v":{"$error":"#DIV/0!"}},null,null,null,{"$error":"#DIV/0!"}]
[null,null,"Operating Reserve",{"$f":"rng02_Uses_DevRehabCosts_Reserves_OperatingReserve","v":0},{"$f":"D74/'02_1_INCOME'!$F$38","v":{"$error":"#DIV/0!"}},0,{"$f":"'06_1_Summary Printout'!J17","v":0},{"$f":"G74/'02_1_INCOME'!$F$38","v":{"$error":"#DIV/0!"}},null,null,null,{"$error":"#DIV/0!"}]
[null,null,"Lease Up Reserve",{"$f":"rng02_Uses_DevRehabCosts_Reserves_LeaseUpReserve","v":0},{"$f":"D75/'02_1_INCOME'!$F$38","v":{"$error":"#DIV/0!"}},0,{"$f":"'06_1_Summary Printout'!J20","v":0},{"$f":"G75/'02_1_INCOME'!$F$38","v":{"$error":"#DIV/0!"}},null,null,null,{"$error":"#DIV/0!"}]
[null,null,"Replacement Reserve Year 1 Deposit",{"$f":"rng02_Uses_DevRehabCosts_Reserves_ReplacementReserve","v":0},{"$f":"D76/'02_1_INCOME'!$F$38","v":{"$error":"#DIV/0!"}},0,{"$f":"'06_1_Summary Printout'!J18","v":0},{"$f":"G76/'02_1_INCOME'!$F$38","v":{"$error":"#DIV/0!"}},null,null,null,{"$error":"#DIV/0!"}]
[null,null,"Other Reserves",{"$f":"rng02_Uses_DevRehabCosts_Reserves_Other1","v":0},{"$f":"D77/'02_1_INCOME'!$F$38","v":{"$error":"#DIV/0!"}},0,{"$f":"'06_1_Summary Printout'!J19+'06_1_Summary Printout'!J21","v":0},{"$f":"G77/'02_1_INCOME'!$F$38","v":{"$error":"#DIV/0!"}},null,null,null,{"$error":"#DIV/0!"}]
[null,null,"Total Uses",{"$f":"SUM(D68:D77)","v":0},{"$f":"SUM(E68:E77)","v":{"$error":"#DIV/0!"}},0,{"$f":"SUM(G68:G77)","v":0},{"$f":"SUM(H68:H77)","v":{"$error":"#DIV/0!"}},null,null,null,{"$error":"#DIV/0!"}]
[]
[]
[null,"5. Underwriting"]
[]
[]
[null,null,null,"Unit","Rent Type","Number of Units","Gross Rent","Net Rent","LIHTC Max Rent","Discount from LIHTC Max Rent","Gross Rent as a % of LIHTC Max Rent","Gross Rent as a % of Gross MAX AMI Rent","Market Rent","Discount from Market Rent"]
[null,null,null,{"$f":"'02_1_INCOME'!B8","v":0},{"$f":"'02_1_INCOME'!D8","v":0},{"$f":"'02_1_INCOME'!F8","v":0},{"$f":"'02_1_INCOME'!L8","v":0},{"$f":"'02_1_INCOME'!M8","v":0},{"$f":"'02_1_INCOME'!S8","v":0},{"$f":"'02_1_INCOME'!T8","v":0},{"$f":"IF(J85=0,0,G85/I85)","v":0},{"$f":"IF(OR(E85=\"\", E85=\"Over 120%\"),0, IF(LEFT(E85,2)=\"80\", G85/I85*0.8, G85/I85*E85))","v":{"$error":"#DIV/0!"}},{"$f":"'02_1_INCOME'!N8","v":0},{"$f":"'02_1_INCOME'!P8","v":0}]
[null,null,null,{"$f":"'02_1_INCOME'!B9","v":0},{"$f":"'02_1_INCOME'!D9","v":0},{"$f":"'02_1_INCOME'!F9","v":0},{"$f":"'02_1_INCOME'!L9","v":0},{"$f":"'02_1_INCOME'!M9","v":0},{"$f":"'02_1_INCOME'!S9","v":0},{"$f":"'02_1_INCOME'!T9","v":0},{"$f":"IF(J86=0,0,G86/I86)","v":0},{"$f":"IF(OR(E86=\"\", E86=\"Over 120%\"),0, IF(LEFT(E86,2)=\"80\", G86/I86*0.8, G86/I86*E86))","v":{"$error":"#DIV/0!"}},{"$f":"'02_1_INCOME'!N9","v":0},{"$f":"'02_1_INCOME'!P9","v":0}]
[null,null,null,{"$f":"'02_1_INCOME'!B10","v":0},{"$f":"'02_1_INCOME'!D10","v":0},{"$f":"'02_1_INCOME'!F10","v":0},{"$f":"'02_1_INCOME'!L10","v":0},{"$f":"'02_1_INCOME'!M10","v":0},{"$f":"'02_1_INCOME'!S10","v":0},{"$f":"'02_1_INCOME'!T10","v":0},0,{"$error":"#DIV/0!"},{"$f":"'02_1_INCOME'!N10","v":0},{"$f":"'02_1_INCOME'!P10","v":0}]
[null,null,null,{"$f":"'02_1_INCOME'!B11","v":0},{"$f":"'02_1_INCOME'!D11","v":0},{"$f":"'02_1_INCOME'!F11","v":0},{"$f":"'02_1_INCOME'!L11","v":0},{"$f":"'02_1_INCOME'!M11","v":0},{"$f":"'02_1_INCOME'!S11","v":0},{"$f":"'02_1_INCOME'!T11","v":0},0,{"$error":"#DIV/0!"},{"$f":"'02_1_INCOME'!N11","v":0},{"$f":"'02_1_INCOME'!P11","v":0}]
[null,null,null,{"$f":"'02_1_INCOME'!B12","v":0},{"$f":"'02_1_INCOME'!D12","v":0},{"$f":"'02_1_INCOME'!F12","v":0},{"$f":"'02_1_INCOME'!L12","v":0},{"$f":"'02_1_INCOME'!M12","v":0},{"$f":"'02_1_INCOME'!S12","v":0},{"$f":"'02_1_INCOME'!T12","v":0},0,{"$error":"#DIV/0!"},{"$f":"'02_1_INCOME'!N12","v":0},{"$f":"'02_1_INCOME'!P12","v":0}]
[null,null,null,{"$f":"'02_1_INCOME'!B13","v":0},{"$f":"'02_1_INCOME'!D13","v":0},{"$f":"'02_1_INCOME'!F13","v":0},{"$f":"'02_1_INCOME'!L13","v":0},{"$f":"'02_1_INCOME'!M13","v":0},{"$f":"'02_1_INCOME'!S13","v":0},{"$f":"'02_1_INCOME'!T13","v":0},0,{"$error":"#DIV/0!"},{"$f":"'02_1_INCOME'!N13","v":0},{"$f":"'02_1_INCOME'!P13","v":0}]
[null,null,null,{"$f":"'02_1_INCOME'!B14","v":0},{"$f":"'02_1_INCOME'!D14","v":0},{"$f":"'02_1_INCOME'!F14","v":0},{"$f":"'02_1_INCOME'!L14","v":0},{"$f":"'02_1_INCOME'!M14","v":0},{"$f":"'02_1_INCOME'!S14","v":0},{"$f":"'02_1_INCOME'!T14","v":0},0,{"$error":"#DIV/0!"},{"$f":"'02_1_INCOME'!N14","v":0},{"$f":"'02_1_INCOME'!P14","v":0}]
[null,null,null,{"$f":"'02_1_INCOME'!B15","v":0},{"$f":"'02_1_INCOME'!D15","v":0},{"$f":"'02_1_INCOME'!F15","v":0},{"$f":"'02_1_INCOME'!L15","v":0},{"$f":"'02_1_INCOME'!M15","v":0},{"$f":"'02_1_INCOME'!S15","v":0},{"$f":"'02_1_INCOME'!T15","v":0},0,{"$error":"#DIV/0!"},{"$f":"'02_1_INCOME'!N15","v":0},{"$f":"'02_1_INCOME'!P15","v":0}]
[null,null,null,{"$f":"'02_1_INCOME'!B16","v":0},{"$f":"'02_1_INCOME'!D16","v":0},{"$f":"'02_1_INCOME'!F16","v":0},{"$f":"'02_1_INCOME'!L16","v":0},{"$f":"'02_1_INCOME'!M16","v":0},{"$f":"'02_1_INCOME'!S16","v":0},{"$f":"'02_1_INCOME'!T16","v":0},0,{"$error":"#DIV/0!"},{"$f":"'02_1_INCOME'!N16","v":0},{"$f":"'02_1_INCOME'!P16","v":0}]
[null,null,null,{"$f":"'02_1_INCOME'!B17","v":0},{"$f":"'02_1_INCOME'!D17","v":0},{"$f":"'02_1_INCOME'!F17","v":0},{"$f":"'02_1_INCOME'!L17","v":0},{"$f":"'02_1_INCOME'!M17","v":0},{"$f":"'02_1_INCOME'!S17","v":0},{"$f":"'02_1_INCOME'!T17","v":0},0,{"$error":"#DIV/0!"},{"$f":"'02_1_INCOME'!N17","v":0},{"$f":"'02_1_INCOME'!P17","v":0}]
[null,null,null,{"$f":"'02_1_INCOME'!B18","v":0},{"$f":"'02_1_INCOME'!D18","v":0},{"$f":"'02_1_INCOME'!F18","v":0},{"$f":"'02_1_INCOME'!L18","v":0},{"$f":"'02_1_INCOME'!M18","v":0},{"$f":"'02_1_INCOME'!S18","v":0},{"$f":"'02_1_INCOME'!T18","v":0},0,{"$error":"#DIV/0!"},{"$f":"'02_1_INCOME'!N18","v":0},{"$f":"'02_1_INCOME'!P18","v":0}]
[null,null,null,{"$f":"'02_1_INCOME'!B19","v":0},{"$f":"'02_1_INCOME'!D19","v":0},{"$f":"'02_1_INCOME'!F19","v":0},{"$f":"'02_1_INCOME'!L19","v":0},{"$f":"'02_1_INCOME'!M19","v":0},{"$f":"'02_1_INCOME'!S19","v":0},{"$f":"'02_1_INCOME'!T19","v":0},0,{"$error":"#DIV/0!"},{"$f":"'02_1_INCOME'!N19","v":0},{"$f":"'02_1_INCOME'!P19","v":0}]
[null,null,null,{"$f":"'02_1_INCOME'!B20","v":0},{"$f":"'02_1_INCOME'!D20","v":0},{"$f":"'02_1_INCOME'!F20","v":0},{"$f":"'02_1_INCOME'!L20","v":0},{"$f":"'02_1_INCOME'!M20","v":0},{"$f":"'02_1_INCOME'!S20","v":0},{"$f":"'02_1_INCOME'!T20","v":0},0,{"$error":"#DIV/0!"},{"$f":"'02_1_INCOME'!N20","v":0},{"$f":"'02_1_INCOME'!P20","v":0}]
[null,null,null,{"$f":"'02_1_INCOME'!B21","v":0},{"$f":"'02_1_INCOME'!D21","v":0},{"$f":"'02_1_INCOME'!F21","v":0},{"$f":"'02_1_INCOME'!L21","v":0},{"$f":"'02_1_INCOME'!M21","v":0},{"$f":"'02_1_INCOME'!S21","v":0},{"$f":"'02_1_INCOME'!T21","v":0},0,{"$error":"#DIV/0!"},{"$f":"'02_1_INCOME'!N21","v":0},{"$f":"'02_1_INCOME'!P21","v":0}]
[null,null,null,{"$f":"'02_1_INCOME'!B22","v":0},{"$f":"'02_1_INCOME'!D22","v":0},{"$f":"'02_1_INCOME'!F22","v":0},{"$f":"'02_1_INCOME'!L22","v":0},{"$f":"'02_1_INCOME'!M22","v":0},{"$f":"'02_1_INCOME'!S22","v":0},{"$f":"'02_1_INCOME'!T22","v":0},{"$f":"IF(J99=0,0,G99/I99)","v":0},{"$f":"IF(OR(E99=\"\", E99=\"Over 120%\"),0, IF(LEFT(E99,2)=\"80\", G99/I99*0.8, G99/I99*E99))","v":{"$error":"#DIV/0!"}},{"$f":"'02_1_INCOME'!N22","v":0},{"$f":"'02_1_INCOME'!P22","v":0}]
[null,null,null,{"$f":"'02_1_INCOME'!B23","v":0},{"$f":"'02_1_INCOME'!D23","v":0},{"$f":"'02_1_INCOME'!F23","v":0},{"$f":"'02_1_INCOME'!L23","v":0},{"$f":"'02_1_INCOME'!M23","v":0},{"$f":"'02_1_INCOME'!S23","v":0},{"$f":"'02_1_INCOME'!T23","v":0},0,{"$error":"#DIV/0!"},{"$f":"'02_1_INCOME'!N23","v":0},{"$f":"'02_1_INCOME'!P23","v":0}]
[null,null,null,{"$f":"'02_1_INCOME'!B24","v":0},{"$f":"'02_1_INCOME'!D24","v":0},{"$f":"'02_1_INCOME'!F24","v":0},{"$f":"'02_1_INCOME'!L24","v":0},{"$f":"'02_1_INCOME'!M24","v":0},{"$f":"'02_1_INCOME'!S24","v":0},{"$f":"'02_1_INCOME'!T24","v":0},0,{"$error":"#DIV/0!"},{"$f":"'02_1_INCOME'!N24","v":0},{"$f":"'02_1_INCOME'!P24","v":0}]
[null,null,null,{"$f":"'02_1_INCOME'!B25","v":0},{"$f":"'02_1_INCOME'!D25","v":0},{"$f":"'02_1_INCOME'!F25","v":0},{"$f":"'02_1_INCOME'!L25","v":0},{"$f":"'02_1_INCOME'!M25","v":0},{"$f":"'02_1_INCOME'!S25","v":0},{"$f":"'02_1_INCOME'!T25","v":0},0,{"$error":"#DIV/0!"},{"$f":"'02_1_INCOME'!N25","v":0},{"$f":"'02_1_INCOME'!P25","v":0}]
[null,null,null,{"$f":"'02_1_INCOME'!B26","v":0},{"$f":"'02_1_INCOME'!D26","v":0},{"$f":"'02_1_INCOME'!F26","v":0},{"$f":"'02_1_INCOME'!L26","v":0},{"$f":"'02_1_INCOME'!M26","v":0},{"$f":"'02_1_INCOME'!S26","v":0},{"$f":"'02_1_INCOME'!T26","v":0},0,{"$error":"#DIV/0!"},{"$f":"'02_1_INCOME'!N26","v":0},{"$f":"'02_1_INCOME'!P26","v":0}]
[null,null,null,{"$f":"'02_1_INCOME'!B27","v":0},{"$f":"'02_1_INCOME'!D27","v":0},{"$f":"'02_1_INCOME'!F27","v":0},{"$f":"'02_1_INCOME'!L27","v":0},{"$f":"'02_1_INCOME'!M27","v":0},{"$f":"'02_1_INCOME'!S27","v":0},{"$f":"'02_1_INCOME'!T27","v":0},0,{"$error":"#DIV/0!"},{"$f":"'02_1_INCOME'!N27","v":0},{"$f":"'02_1_INCOME'!P27","v":0}]
[null,null,null,{"$f":"'02_1_INCOME'!B28","v":0},{"$f":"'02_1_INCOME'!D28","v":0},{"$f":"'02_1_INCOME'!F28","v":0},{"$f":"'02_1_INCOME'!L28","v":0},{"$f":"'02_1_INCOME'!M28","v":0},{"$f":"'02_1_INCOME'!S28","v":0},{"$f":"'02_1_INCOME'!T28","v":0},0,{"$error":"#DIV/0!"},{"$f":"'02_1_INCOME'!N28","v":0},{"$f":"'02_1_INCOME'!P28","v":0}]
[null,null,null,{"$f":"'02_1_INCOME'!B29","v":0},{"$f":"'02_1_INCOME'!D29","v":0},{"$f":"'02_1_INCOME'!F29","v":0},{"$f":"'02_1_INCOME'!L29","v":0},{"$f":"'02_1_INCOME'!M29","v":0},{"$f":"'02_1_INCOME'!S29","v":0},{"$f":"'02_1_INCOME'!T29","v":0},0,{"$error":"#DIV/0!"},{"$f":"'02_1_INCOME'!N29","v":0},{"$f":"'02_1_INCOME'!P29","v":0}]
[null,null,null,{"$f":"'02_1_INCOME'!B30","v":0},{"$f":"'02_1_INCOME'!D30","v":0},{"$f":"'02_1_INCOME'!F30","v":0},{"$f":"'02_1_INCOME'!L30","v":0},{"$f":"'02_1_INCOME'!M30","v":0},{"$f":"'02_1_INCOME'!S30","v":0},{"$f":"'02_1_INCOME'!T30","v":0},0,{"$error":"#DIV/0!"},{"$f":"'02_1_INCOME'!N30","v":0},{"$f":"'02_1_INCOME'!P30","v":0}]
[null,null,null,{"$f":"'02_1_INCOME'!B31","v":0},{"$f":"'02_1_INCOME'!D31","v":0},{"$f":"'02_1_INCOME'!F31","v":0},{"$f":"'02_1_INCOME'!L31","v":0},{"$f":"'02_1_INCOME'!M31","v":0},{"$f":"'02_1_INCOME'!S31","v":0},{"$f":"'02_1_INCOME'!T31","v":0},0,{"$error":"#DIV/0!"},{"$f":"'02_1_INCOME'!N31","v":0},{"$f":"'02_1_INCOME'!P31","v":0}]
[null,null,null,{"$f":"'02_1_INCOME'!B32","v":0},{"$f":"'02_1_INCOME'!D32","v":0},{"$f":"'02_1_INCOME'!F32","v":0},{"$f":"'02_1_INCOME'!L32","v":0},{"$f":"'02_1_INCOME'!M32","v":0},{"$f":"'02_1_INCOME'!S32","v":0},{"$f":"'02_1_INCOME'!T32","v":0},0,{"$error":"#DIV/0!"},{"$f":"'02_1_INCOME'!N32","v":0},{"$f":"'02_1_INCOME'!P32","v":0}]
[null,null,null,{"$f":"'02_1_INCOME'!B33","v":0},{"$f":"'02_1_INCOME'!D33","v":0},{"$f":"'02_1_INCOME'!F33","v":0},{"$f":"'02_1_INCOME'!L33","v":0},{"$f":"'02_1_INCOME'!M33","v":0},{"$f":"'02_1_INCOME'!S33","v":0},{"$f":"'02_1_INCOME'!T33","v":0},0,{"$error":"#DIV/0!"},{"$f":"'02_1_INCOME'!N33","v":0},{"$f":"'02_1_INCOME'!P33","v":0}]
[null,null,null,{"$f":"'02_1_INCOME'!B34","v":0},{"$f":"'02_1_INCOME'!D34","v":0},{"$f":"'02_1_INCOME'!F34","v":0},{"$f":"'02_1_INCOME'!L34","v":0},{"$f":"'02_1_INCOME'!M34","v":0},{"$f":"'02_1_INCOME'!S34","v":0},{"$f":"'02_1_INCOME'!T34","v":0},0,{"$error":"#DIV/0!"},{"$f":"'02_1_INCOME'!N34","v":0},{"$f":"'02_1_INCOME'!P34","v":0}]
[null,null,null,{"$f":"'02_1_INCOME'!B35","v":0},{"$f":"'02_1_INCOME'!D35","v":0},{"$f":"'02_1_INCOME'!F35","v":0},{"$f":"'02_1_INCOME'!L35","v":0},{"$f":"'02_1_INCOME'!M35","v":0},{"$f":"'02_1_INCOME'!S35","v":0},{"$f":"'02_1_INCOME'!T35","v":0},0,{"$error":"#DIV/0!"},{"$f":"'02_1_INCOME'!N35","v":0},{"$f":"'02_1_INCOME'!P35","v":0}]
[null,null,null,{"$f":"'02_1_INCOME'!B36","v":0},{"$f":"'02_1_INCOME'!D36","v":0},{"$f":"'02_1_INCOME'!F36","v":0},{"$f":"'02_1_INCOME'!L36","v":0},{"$f":"'02_1_INCOME'!M36","v":0},{"$f":"'02_1_INCOME'!S36","v":0},{"$f":"'02_1_INCOME'!T36","v":0},0,{"$error":"#DIV/0!"},{"$f":"'02_1_INCOME'!N36","v":0},{"$f":"'02_1_INCOME'!P36","v":0}]
[null,null,null,{"$f":"'02_1_INCOME'!B37","v":0},{"$f":"'02_1_INCOME'!D37","v":0},{"$f":"'02_1_INCOME'!F37","v":0},{"$f":"'02_1_INCOME'!L37","v":0},{"$f":"'02_1_INCOME'!M37","v":0},{"$f":"'02_1_INCOME'!S37","v":0},{"$f":"'02_1_INCOME'!T37","v":0},0,{"$error":"#DIV/0!"},{"$f":"'02_1_INCOME'!N37","v":0},{"$f":"'02_1_INCOME'!P37","v":0}]
[null,null,null,"Total",null,{"$f":"SUM(F85:F114)","v":0},null,null,null,{"$f":"'02_1_INCOME'!T38","v":{"$error":"#DIV/0!"}},{"$f":"SUMPRODUCT(K85:K114,F85:F114)/SUM(F85:F114)","v":{"$error":"#DIV/0!"}},null,null,{"$f":"'02_1_INCOME'!P38","v":{"$error":"#DIV/0!"}}]
[]
[]
[]
[null,null,null,{"$f":"D84","v":"Unit"},{"$f":"E84","v":"Rent Type"},"Number of Units","Gross Rent",{"$f":"I84","v":"LIHTC Max Rent"},{"$f":"K84","v":"Gross Rent as a % of LIHTC Max Rent"},{"$f":"N84","v":"Discount from Market Rent"}]
[null,null,null,{"$f":"D85","v":0},{"$f":"E85","v":0},0,0,0,0,0]
[null,null,null,{"$f":"D86","v":0},0,0,0,0,0,0]
[null,null,null,{"$f":"D87","v":0},0,0,0,0,0,0]
[null,null,null,{"$f":"D88","v":0},0,0,0,0,0,0]
[null,null,null,{"$f":"D89","v":0},0,0,0,0,0,0]
[null,null,null,{"$f":"D90","v":0},0,0,0,0,0,0]
[null,null,null,{"$f":"D91","v":0},0,0,0,0,0,0]
[null,null,null,{"$f":"D92","v":0},0,0,0,0,0,0]
[null,null,null,{"$f":"D93","v":0},0,0,0,0,0,0]
[null,null,null,{"$f":"D94","v":0},0,0,0,0,0,0]
[null,null,null,{"$f":"D95","v":0},0,0,0,0,0,0]
[null,null,null,{"$f":"D96","v":0},0,0,0,0,0,0]
[null,null,null,{"$f":"D97","v":0},0,0,0,0,0,0]
[null,null,null,{"$f":"D98","v":0},0,0,0,0,0,0]
[null,null,null,{"$f":"D99","v":0},0,0,0,{"$f":"I99","v":0},{"$f":"K99","v":0},{"$f":"N99","v":0}]
[null,null,null,{"$f":"D100","v":0},0,0,0,0,0,0]
[null,null,null,{"$f":"D101","v":0},0,0,0,0,0,0]
[null,null,null,{"$f":"D102","v":0},0,0,0,0,0,0]
[null,null,null,{"$f":"D103","v":0},0,0,0,0,0,0]
[null,null,null,{"$f":"D104","v":0},0,0,0,0,0,0]
[null,null,null,{"$f":"D105","v":0},0,0,0,0,0,0]
[null,null,null,{"$f":"D106","v":0},0,0,0,0,0,0]
[null,null,null,{"$f":"D107","v":0},0,0,0,0,0,0]
[null,null,null,{"$f":"D108","v":0},0,0,0,0,0,0]
[null,null,null,{"$f":"D109","v":0},0,0,0,0,0,0]
[null,null,null,{"$f":"D110","v":0},0,0,0,0,0,0]
[null,null,null,{"$f":"D111","v":0},0,0,0,0,0,0]
[null,null,null,{"$f":"D112","v":0},0,0,0,0,0,0]
[null,null,null,{"$f":"D113","v":0},0,0,0,0,0,0]
[null,null,null,{"$f":"D114","v":0},0,0,0,0,0,0]
[null,null,null,"Total",null,{"$f":"SUM(F120:F149)","v":0},null,null,null,{"$f":"N115","v":{"$error":"#DIV/0!"}}]

{"sheet":"06_3_UWChecklist","index":26,"n_rows":52,"n_cols":22,"rows_kept":52,"cut":false,"hidden":true,"merged":[]}
["Underwriting Criteria Report"]
[{"$f":"IF(rng01_ProjectName=\"\",\"[Project Name]\", rng01_ProjectName)","v":"[Project Name]"},null,null,null,"Current Model Progress Date:",{"$f":"tbl00ModelProgress[[#Totals],[Date of Progress /\nLast Edit]]","v":"00:00:00"}]
[null,null,null,null,null,null,null,null,null,null,"All Criteria",null,null,"Program Bulletin / Underwriting Criteria Update"]
[null,null,null,null,null,null,null,null,null,null,"General Underwriting"]
["RIHousing Underwriting Guidelines",null,null,null,null,null,null,null,null,null,"Credit Committee metric"]
[null,null,null,null,null,null,null,null,null,null,null,null,null,"1st category",null,null,"2nd category",null,null,"3rd category"]
[{"$f":"M7","v":"Development Budget"},"Benchmark",null,"Current",null,"Exceptions","Exception Justification","RI Housing Description",null,null,null,null,"Development Budget","Description","a","b","Description","a","b","Description","a","b"]
[{"$f":"M8","v":"Total Development Cost Cap"},{"$f":"'06_4_Scoring'!H10","v":{"$error":"#N/A"}},null,{"$f":"'02_4_USES'!F100/rng02_TotalUnit","v":{"$error":"#DIV/0!"}},null,{"$f":"IF(D8>B8, \"Exceeds Requirements\", \"No Exceptions\")","v":{"$error":"#DIV/0!"}},null,"TDC Cap depends on Building type","CC",null,null,null,"Total Development Cost Cap","Note: Update this in \"06_4_Scoring\" tab"]
["Architectural Fees",{"$f":"IF(rng01_DevelopmentType=\"Rehabilitation\",'06_3_UWChecklist'!U9,SUMIF('01_1_General Data'!$H$57:$H$61,\"Low-rise\", '01_1_General Data'!$I$57:$I$61)*'06_3_UWChecklist'!$R$9+SUMIF('01_1_General Data'!$H$57:$H$61,\"Hi-rise\", '01_1_General Data'!$I$57:$I$61)*'06_3_UWChecklist'!$O$9)/SUM( '01_1_General Data'!$I$57:$I$61)","v":{"$error":"#DIV/0!"}},null,{"$f":"SUM('02_4_USES'!F31:F32)/'02_4_USES'!F28","v":{"$error":"#DIV/0!"}},null,{"$f":"IF(D9<=B9, \"No Exceptions\", \"Exceeds Maximum\")","v":{"$error":"#DIV/0!"}},null,"High rise: 7.5% of total allowable construction cost. Low rise: 6% of total allowable construction cost. Rehab: 7.5%","GU",null,null,null,"Architectural Fees","High Rise",7.4999999999999997E-2,null,"Low Rise",0.06,null,"Rehab",7.4999999999999997E-2]
["Clerk of the Works Contract",{"$f":"O10*'02_4_USES'!F28","v":0},null,{"$f":"'02_4_USES'!F38","v":0},null,{"$f":"IF(D10=0,\"Not Applicable\",IF(D10>B10,\"Exceeds Requirement\",\"No Exceptions\"))","v":"Not Applicable"},null,{"$f":"\"Clerk of the Works fee cannot exceed \"&TEXT(O10, $N$47)&\" of the total allowable construction contract.\"","v":"Clerk of the Works fee cannot exceed 1.0% of the total allowable construction contract."},null,null,null,null,"Clerk of the Works Contract","Percent of the total allowable Construction Contract",0.01,"N/A","N/A","N/A","N/A","N/A","N/A","N/A"]
["Developer Fee",{"$f":"IF(rng01_DevelopmentType = '00_3_Drop Down'!R14,'02_4_USES'!E117,IF(rng01_DevelopmentType=\"New Construction\", IF(rng01_ProjectType=\"Single Site\", '02_4_USES'!E111,'02_4_USES'!E114), IF(OR(rng01_ProgramType=\"Preservation\",rng01_ProgramType=\"Refinancing\"), '02_4_USES'!E108)))","v":false},null,{"$f":"'02_4_USES'!$F$88","v":0},null,{"$f":"IF(D11=0,\"Not Applicable\",IF(D11>B11,\"Exceeds Requirement\",\"No Exceptions\"))","v":"Not Applicable"},null,{"$f":"IF(OR(rng01_ProgramType=\"Preservation\",rng01_ProgramType=\"Refinancing\"),\"Preservation / Refinancing: \"&TEXT(O11,$N$47)&\" of acquisition plus \"&TEXT(P11,$N$47)&\" or rehabilitation excluding reserves\",IF(AND(rng01_ProgramType=\"Rental Production\",rng01_ProjectType=\"Single Site\"),\"Rental Production, Single Site: \"&TEXT(R11,$N$46)&\" for 0-2 bed units and \" &TEXT(S11, $N$46)&\" for 3 bed units or greater\",IF(AND(rng01_ProgramType=\"Rental Production\",rng01_ProjectType=\"Scattered Site\"),\"Rental Production, Scattered Site: \"&TEXT(U11,$N$46)&\" for 0-2 bed units and \" &TEXT(V11, $N$46)&\" for 3 bed units or greater\")))","v":false},"GU",null,null,null,"Developer Fee","Preservation: a=Acquisition , b=Rehabilitation",0.05,0.1,"Single Site: a=0 to 2 bed units, b=3 bed or greater",20790,23100,"Scattered Site: a=0 to 2 bed units, b=3 bed or greater",23650,25300]
["Legal Fees",{"$f":"IF('02_5_LIHTC Proceeds'!C29>1,R12,O12)","v":40000},null,{"$f":"'02_4_USES'!$F$39","v":0},null,{"$f":"IF(D12>B12, \"Above Max Fee\", \"No Exceptions\")","v":"No Exceptions"},null,{"$f":"\"Legal fees for developments that will use tax credits may not exceed \"&TEXT($R$12, $N$46)&\".  For those developments that are not syndicated, the maximum legal fee allowable is \"&TEXT($O$12, $N$46) & \".\"","v":"Legal fees for developments that will use tax credits may not exceed $80,000.  For those developments that are not syndicated, the maximum legal fee allowable is $40,000."},"GU",null,null,null,"Legal Fees","Development that are not syndicated",40000,null,"Developments that will use tax credits",80000]
["First Mortgage Financing Fee",{"$f":"MAX(IF('02_3_SOURCES'!K9>5000000,(O13*MIN('02_3_SOURCES'!K9,5000000)+R13*('02_3_SOURCES'!K9-5000000)),O13*'02_3_SOURCES'!K9), U13)","v":20000},null,{"$f":"'02_4_USES'!F66","v":0},null,{"$f":"IF(D13<B13, \"Below Minimum Fee\", \"No Exceptions\")","v":"Below Minimum Fee"},null,{"$f":"TEXT(O13, $N$47)&\" of the first $5,000,000; \" & TEXT(R13, $N$47) &\" thereafter upon closing. Minimum combined origination/underwriting fee of \" &TEXT(U13, $N$46)&\" will be paid if the first mortgage amount is less than $1,000,000 or there is no first mortgage.\"","v":"2.0% of the first $5,000,000; 1.0% thereafter upon closing. Minimum combined origination/underwriting fee of $20,000 will be paid if the first mortgage amount is less than $1,000,000 or there is no first mortgage."},"GU",null,null,null,"First Mortgage Financing Fee","First $5,000,000",0.02,null,"Thereafter",0.01,null,"Minimum if no first mortgage or if first mortgage is less than $1,000,000",20000]
["Tax Credit Allocation Fee",{"$f":"IF('02_5_LIHTC Proceeds'!D16=0.09,R14*'02_5_LIHTC Proceeds'!C29,O14*'02_5_LIHTC Proceeds'!C29)","v":0},null,{"$f":"'02_4_USES'!F69","v":0},null,{"$f":"IF(D14=B14,\"No Exceptions\",IF(B14-D14<0,\"Budgeted Amount Too High\",\"Budgeted Amount Too Low\"))","v":"No Exceptions"},null,{"$f":"\"4%: \" & TEXT(O14, $N$47)&\" of 10 year total \" & CHAR(10) & \"9%: \" & TEXT(R14, $N$47) & \"of 10 year total.\"","v":"4%: 1.0% of 10 year total \n9%: 0.5%of 10 year total."},"GU",null,null,null,"Tax Credit Allocation Fee","4% Deal",0.01,null,"9% Deal",5.0000000000000001E-3]
["Underwriting Fees",{"$f":"IF('02_3_SOURCES'!C9=\"RI Housing\", 0,IF(SUM('02_3_SOURCES'!K9:K10)<1000000,'06_3_UWChecklist'!O15,IF(SUM('02_3_SOURCES'!K9:K10)<3000000,'06_3_UWChecklist'!R15,'06_3_UWChecklist'!U15)))","v":20000},null,{"$f":"IF('02_3_SOURCES'!C9=\"RI Housing\",0,'02_4_USES'!F66)","v":0},null,{"$f":"IF(D15=\"0\",\"Not Applicable\",IF(B15<=D15,\"No Exceptions\",\"Below Requirement\"))","v":"Below Requirement"},null,"Only if RIHousing is not the permanent senior lender.","GU",null,null,null,"Underwriting Fees","If RIH is not permanent Lender and combined loan is up to $1,000,000",20000,null,"If RIH is not permanent Lender and combined loan is up to $3,000,000",25000,null,"If RIH is not permanent Lender and combined loan is up to $5,000,000",35000]
["Initial Deposit to Replacement Reserves",{"$f":"IF(rng01_DevelopmentType=\"New Construction\", O16*rng02_TotalUnit, R16*rng02_TotalUnit)","v":0},null,{"$f":"'02_4_USES'!F80","v":0},null,{"$f":"IF(B16<=D16, \"No Exceptions\", \"Below Requirement\")","v":"No Exceptions"},null,{"$f":"\"New Construction: One Year Annual Deposit (Minimum \"& TEXT(O16, $N$46)&\"/unit)\" &CHAR(10)& \"Preservation: Minimum \"&TEXT(R16,$N$46)& \"/unit.\"","v":"New Construction: One Year Annual Deposit (Minimum $325/unit)\nPreservation: Minimum $2,000/unit."},null,null,null,null,"Initial Deposit to Replacement Reserves","New Construction",325,null,"Rehabilitation",2000]
["Initial Deposit to Operating Reserves",{"$f":"(('02_2_EXPENSE'!D91)/12)*P17+(O17*'04_1_Pro Forma'!C36/12)-(IF(rng01_ProgramType=\"Preservation\",'02_4_USES'!$C$80,0))","v":0},null,{"$f":"'02_4_USES'!F79","v":0},null,{"$f":"IF(D17>=B17, \"No Exceptions\", \"Below Requirement\")","v":"No Exceptions"},null,"New Construction: 6 months DS & 6 Months OpEx\nPreservation: 6 months DS & 6 Months OpEx (excluding deposit to RR)",null,null,null,null,"Initial Deposit to Operating Reserves","New Construction: 6 months of DS and 6 months of OpEx",6,6]
["Initial Deposit to Tax Escrow",{"$f":"'02_2_EXPENSE'!D76/2","v":0},null,{"$f":"'02_4_USES'!F77","v":0},null,{"$f":"IF(D18>=B18, \"No Exceptions\", \"Below Requirement\")","v":"No Exceptions"},null,{"$f":"O18& \" months of estimated tax payments\"","v":"6 months of estimated tax payments"},null,null,null,null,"Initial Deposit to Tax Escrow","Months of Estimated Tax payment",6]
["Initial Deposit to Insurance Escrow ",{"$f":"'02_2_EXPENSE'!D79/2","v":0},null,{"$f":"'02_4_USES'!F78","v":0},null,{"$f":"IF(D19>=B19, \"No Exceptions\", \"Below Requirement\")","v":"No Exceptions"},null,{"$f":"O19& \" months of estimated insurance payments\"","v":"6 months of estimated insurance payments"},null,null,null,null,"Initial Deposit to Insurance Escrow ","Months of Estimated Insurance payment",6]
[{"$f":"M20","v":"Real Estate Taxes"},{"$f":"O20","v":0.08},null,{"$f":"'02_2_EXPENSE'!D76/('02_2_EXPENSE'!D12)","v":{"$error":"#DIV/0!"}},null,{"$f":"IF(ROUND(D20,4)>B20, \"Exceeds Requirement\", \"No Exceptions\")","v":{"$error":"#DIV/0!"}},null,{"$f":"\"Less than \"&TEXT(O20,\"0%\")&\" of Gross Potential Rent\"","v":"Less than 8% of Gross Potential Rent"},null,null,null,null,"Real Estate Taxes","Less than 8% of Gross Potential Rent",0.08]
[]
["Income & Expenses",null,null,null,null,null,null,null,null,null,null,null,"Income & Expenses"]
["Operating Expense PUPA Range",{"$f":"TEXT(O23, $N$46)&\"-\"&TEXT(R23,$N$46)","v":"$7,200-$8,300"},null,{"$f":"'02_2_EXPENSE'!E91-'02_2_EXPENSE'!E76-'02_2_EXPENSE'!E47","v":0},null,{"$f":"IF(D23>R23, \"Exceeds Standard Range\", IF(D23<O23,\"Less than Standard Range\",\"No Exceptions\"))","v":"Less than Standard Range"},null,{"$f":"TEXT(O23, N46)&\"-\"&TEXT(R23,$N$46) &\" net of utilities and taxes\"","v":"$7,200-$8,300 net of utilities and taxes"},"GU",null,null,null,"Operating Expense PUPA Range","Minimum",7200,null,"Maximum",8300]
["Management Fee",{"$f":"IF(rng02_TotalUnit>=61,$O$24,IF(rng02_TotalUnit>=41,$R$24,$T$24))","v":7.0000000000000007E-2},null,{"$f":"rng01_ManagementFee","v":0},null,{"$f":"IF(D24<=B24,\"No Exceptions\",\"Exceeds Standard Range\")","v":"No Exceptions"},null,null,"GU",null,null,null,"Management Fee","If total units is larger than 61",5.5E-2,null,"If total units is larger than 41",0.06,"If total units is 40 or less",7.0000000000000007E-2]
["Residential Market Vacancy:",{"$f":"TEXT(O25, $N$47)&\"-\"&TEXT(R25,$N$47)","v":"5.0%-7.0%"},null,{"$f":"'01_1_General Data'!D122","v":0},null,{"$f":"IF(rng02_TotalUnits_Market=0,\"Not Applicable\",IF(D25>R25,\"Higher than Standard Range\",IF(D25<O25,\"Lower than Standard Range\",\"No Exceptions\")))","v":"Not Applicable"},null,{"$f":"\"Residential Market Vacancy should be underwritten in the range of \" &TEXT(O25, $N$47)&\"-\"&TEXT(R25,$N$47)","v":"Residential Market Vacancy should be underwritten in the range of 5.0%-7.0%"},"GU",null,null,null,"Residential Market Vacancy:","Lower end",0.05,null,"Higher end",7.0000000000000007E-2]
["Residential Affordable Vacancy:",{"$f":"TEXT(O26, $N$47)&\"-\"&TEXT(R26,$N$47)","v":"5.0%-7.0%"},null,{"$f":"'01_1_General Data'!D123","v":0},null,{"$f":"IF(rng02_TotalUnits_LIHTC=0,\"Not Applicable\",IF(D26>R26,\"Higher than Standard Range\",IF(D26<O26,\"Lower than Standard Range\",\"No Exceptions\")))","v":"Not Applicable"},null,null,null,null,null,null,"Residential Affordable Vacancy:","Lower end",0.05,null,"Higher end",7.0000000000000007E-2]
["Commercial Market Vacancy:",{"$f":"O27","v":0.1},null,{"$f":"'01_1_General Data'!D124","v":0},null,{"$f":"IF('02_1_INCOME'!H60=0,\"Not Applicable\",IF(D27>O27,\"Higher than Standard\",IF(D27<O27,\"Lower than Standard\",\"No Exceptions\")))","v":"Not Applicable"},null,null,null,null,null,null,"Commercial Market Vacancy:","Standard",0.1]
["Reserves for Replacement PUPA",{"$f":"O28","v":325},null,{"$f":"'02_2_EXPENSE'!E89","v":0},null,{"$f":"IF(D28>=B28, \"No Exceptions\", \"Below Requirement\")","v":"Below Requirement"},null,null,"GU",null,null,null,"Reserves for Replacement PUPA","Minimum",325]
["Income Trending",{"$f":"TEXT(O29, $N$47)","v":"2.0%"},null,{"$f":"rng01_RentalIncomeRate","v":0},null,{"$f":"IF(D29>$O$29,\"Higher than Standard Range\",IF(D29<$O$29,\"Lower than Standard Range\",\"No Exceptions\"))","v":"Lower than Standard Range"},null,{"$f":"\"Income will be trended at an annual rate of  \" & TEXT(O29, $N$47)","v":"Income will be trended at an annual rate of  2.0%"},"GU",null,null,null,"Income Trending","Lower end",0.02,null,"Higher end"]
["Expense Trending",{"$f":"TEXT(O30, $N$47)","v":"3.0%"},null,{"$f":"rng01_OpExRate","v":0},null,{"$f":"IF(D30>$O$30,\"Higher than Standard Range\",IF(D30<$O$30,\"Lower than Standard Range\",\"No Exceptions\"))","v":"Lower than Standard Range"},null,{"$f":"\"Operating expenses will be trended at an annual rate of \" & TEXT(O30, $N$47)","v":"Operating expenses will be trended at an annual rate of 3.0%"},"GU",null,null,null,"Expense Trending","Lower end",0.03,null,"Higher end"]
["Trending Spread",{"$f":"TEXT(O31,$N$47)&\" Differential\"","v":"1.0% Differential"},null,{"$f":"D30-D29","v":0},null,{"$f":"IF(D31=O31, \"No Exceptions\", \"Review Trending Spread\")","v":"Review Trending Spread"},null,{"$f":"\"Typically expenses are trended \"&TEXT(O31, $N$47)& \" higher than income.\"","v":"Typically expenses are trended 1.0% higher than income."},"GU",null,null,null,"Trending Spread","Differential between Income and Expense",0.01]
[]
["Loan Sizing",null,null,null,null,null,null,null,null,null,null,null,"Loan Sizing"]
["Loan to Value",{"$f":"O34","v":0.9},null,{"$f":"'06_2_Credit Committee'!D29","v":{"$error":"#DIV/0!"}},null,{"$f":"IF(B34>=D34, \"No Exceptions\", \"Exceeds Requirement\")","v":{"$error":"#DIV/0!"}},null,{"$f":"\"Maximum allowable loan to value for all first mortgages is \" &TEXT(O34,$N$47)","v":"Maximum allowable loan to value for all first mortgages is 90.0%"},"CC",null,null,null,"Loan to Value","Maximum LTV for first mortgage",0.9]
["DSCR Year 1",{"$f":"IF(rng01_CreditType=\"9%\", '06_3_UWChecklist'!O35, '06_3_UWChecklist'!R35)","v":1.2},null,{"$f":"'04_1_Pro Forma'!C38","v":0},null,{"$f":"IF(D35>B35, \"No Exceptions\", \"Below requirement\")","v":"Below requirement"},null,"A minimum of 115% debt coverage is required on the first mortgage for 9% deals.  \nTax exempt bond financed developments will be underwritten at debt coverage of 120% with risk analysis enabling a higher or lower coverage ratio.  \nAssisted Living Developments will be underwritten at higher ratios depending upon risk.","CC",null,null,null,"DSCR Year 1","9% Deal",1.1499999999999999,null,"4% Deal and other deal types",1.2]
["DSCR Year 15",{"$f":"O36","v":1.1499999999999999},null,{"$f":"'04_1_Pro Forma'!Q38","v":0},null,{"$f":"IF(D36>B36, \"No Exceptions\", \"Below requirement\")","v":"Below requirement"},null,"A minimum of 115% debt coverage is required on year 15.","CC",null,null,null,"DSCR Year 15","Any deal type",1.1499999999999999]
["50% Test Estimate ",0.5,null,{"$f":"'01_1_General Data'!K49","v":"Not Applicable"},null,{"$f":"IF(D37<50%,\"Fails 50% Test\",IF(D37<53%,\"Within 3% of 50% Test\",\"No Exceptions\"))","v":"No Exceptions"},null,null,null,null,null,null,"50% Test Estimate "]
["Construction Loan within parameters",{"$f":"IF(rng01_ConstructionLoanLender=\"No\", 0, '06_3_UWChecklist'!O41)","v":0.15},null,{"$f":"'01_1_General Data'!E89","v":{"$error":"#DIV/0!"}},null,{"$f":"IF(D38>=B38,\"No Exceptions\",\"Below Requirement\")","v":{"$error":"#DIV/0!"}},null,null,null,null,null,null,"Construction Loan within parameters","If RIH is Construction Loan lender",0.15]
[]
["Additional Metrics",null,null,null,null,null,null,null,null,null,null,null,"Additional Metrics"]
["Initial installment of syndication",{"$f":"IF(rng01_ConstructionLoanLender=\"No\", 0, '06_3_UWChecklist'!O41)","v":0.15},null,{"$f":"'01_1_General Data'!E89","v":{"$error":"#DIV/0!"}},null,{"$f":"IF(D41>=B41,\"No Exceptions\",\"Below Requirement\")","v":{"$error":"#DIV/0!"}},null,null,"CC",null,null,null,"Initial installment of syndication","If RIH is Construction Loan lender",0.15]
["Percentage of Developer Fee paid at closing",{"$f":"O42","v":0.5},null,{"$f":"'03_2_Construction Cashflow'!E107/'02_4_USES'!F88","v":{"$error":"#DIV/0!"}},null,{"$f":"IF(D42<=B42, \"No Exceptions\", \"Exceed Typical\")","v":{"$error":"#DIV/0!"}},null,null,"GU",null,null,null,"Percentage of Developer Fee paid at closing","Allowable paid at closing",0.5]
["Acquisition Price no greater than the appraised value",{"$f":"'01_1_General Data'!C303","v":0},null,{"$f":"'01_1_General Data'!D303","v":0},null,{"$f":"IF(D43<=B43, \"No Exceptions\", \"Exceed Appraised value\")","v":"No Exceptions"},null,null,"CC",null,null,null,"Acquisition Price no greater than the appraised value"]
[]
[]
[null,null,null,null,null,null,null,null,null,null,null,null,"Text - Dollar",{"$f":"TEXT(\"$0,00\", \"\")","v":"$0,00"}]
["2022-09-09",null,null,null,null,null,null,null,null,null,null,null,"Text - Percentage","0.0%"]
["changed D23 to subtract just RE taxes (not taxes and insurance)"]
[]
["2023-06-01"]
["updated building TDC's"]
["Updated Developer Fee"]

{"sheet":"06_4_Scoring","index":27,"n_rows":100,"n_cols":12,"rows_kept":100,"cut":false,"hidden":true,"merged":[[8,8,8,10],[23,8,23,10],[15,5,18,7],[32,5,35,7]]}
["Weighted Average Scoring"]
[{"$f":"IF(rng01_ProjectName=\"\",\"[Project Name]\", rng01_ProjectName)","v":"[Project Name]"},null,null,null,null,"Current Model Progress Date:",{"$f":"tbl00ModelProgress[[#Totals],[Date of Progress /\nLast Edit]]","v":"00:00:00"}]
[]
[null,"Weighted TDC Scoring Calculation"]
[]
[null,{"$f":"IF(rng01_DevelopmentType=\"Rehabilitation\", \"New Construction Scoring - Not Applicable\", \"New Construction Scoring\")","v":"New Construction Scoring"}]
[]
[null,"Weighted TDC/Unit",null,{"$f":"rng01_ProjectName","v":0},null,"Total Development Cost Scoring:",null,{"$f":"rng01_ProjectName","v":0},"Building Type - select from dropdown to trigger scoring"]
[null,"Units",null,{"$f":"rng02_TotalUnit_New","v":0},null,"Construction Type",null,{"$f":"VLOOKUP(I9,'06_4_Scoring'!$B$94:$E$100,4,FALSE)","v":{"$error":"#N/A"}}]
[null,"Bedrooms",null,{"$f":"'02_1_INCOME'!M47","v":0},null,"Max Weighted TDC",null,{"$f":"VLOOKUP(H9,$E$94:$F$100,2)","v":{"$error":"#N/A"}}]
[null,"Total Development Cost",null,{"$f":"SUMIF('02_4_USES'!$C$6:$E$6,\"Residential - New Construction\", '02_4_USES'!$C$90:$E$90)","v":0},null,"Actual Weighted TDC",null,{"$f":"D17","v":{"$error":"#DIV/0!"}}]
[null,"minus Extraordinary Conditions",null,{"$f":"-SUMIF('02_4_USES'!$C$6:$E$6,\"Residential - New Construction\", '02_4_USES'!$C$24:$E$24)","v":0},null,"Delta",null,{"$f":"H10-H11","v":{"$error":"#N/A"}}]
[null,"Adjusted TDC for scoring",null,{"$f":"SUM(D11:D12)","v":0},null,"Basis",5000,{"$f":"H12/$G13","v":{"$error":"#N/A"}}]
[null,"Bedrooms per Unit",null,{"$f":"D10/D9","v":{"$error":"#DIV/0!"}},null,"Total Points",1,{"$f":"H13*$G14","v":{"$error":"#N/A"}}]
[null,"Cost per Unit",null,{"$f":"D13/D9","v":{"$error":"#DIV/0!"}}]
[null,"Cost per Bedroom",null,{"$f":"D13/D10","v":{"$error":"#DIV/0!"}},null,"Deals with Construction Type of New Construction and Rehabilitation (including Preservation) must indicate type of construction on the Income Page and Row 6 of the Uses Page to properly trigger scoring by type. "]
[null,"Weighted TDC/Unit",null,{"$f":"((2*(D13/D9))+(D13/D10))/3","v":{"$error":"#DIV/0!"}}]
[null,"% Reduction of TDC/Unit",null,{"$f":"(D15-D17)/D15","v":{"$error":"#DIV/0!"}}]
[]
[]
[null,{"$f":"IF(rng01_DevelopmentType=\"New Construction\", \"Rehabilitation Scoring - Not Applicable\", \"Rehabilitation Scoring\")","v":"Rehabilitation Scoring"}]
[null,null,null,null,null,null,null,null,"Note to Reviewer","Confirm that the construction type for the Rehabilitation Portion is reflected as Preservation (G) where appropriate"]
[null,"Weighted TDC/Unit",null,{"$f":"rng01_ProjectName","v":0},null,"Total Development Cost Scoring:",null,{"$f":"rng01_ProjectName","v":0},"If applicable, select for 2nd Building Type, or if second type are Preservation units - select from dropdown to trigger scoring"]
[null,"Units",null,{"$f":"rng02_TotalUnit_Rehab","v":0},null,"Construction Type",null,{"$f":"VLOOKUP(I24,'06_4_Scoring'!$B$94:$E$100, 4,FALSE)","v":{"$error":"#N/A"}}]
[null,"Bedrooms",null,{"$f":"'02_1_INCOME'!M48","v":0},null,"Max Weighted TDC",null,{"$f":"VLOOKUP(H24,$E$94:$F$100,2)","v":{"$error":"#N/A"}}]
[null,"Total Development Cost",null,{"$f":"SUMIF('02_4_USES'!$C$6:$E$6,\"Residential - Rehabilitation\", '02_4_USES'!$C$90:$E$90)","v":0},null,"Actual Weighted TDC",null,{"$f":"D32","v":{"$error":"#DIV/0!"}}]
[null,"minus Extraordinary Conditions",null,{"$f":"-SUMIF('02_4_USES'!$C$6:$E$6,\"Residential - Rehabilitation\", '02_4_USES'!$C$24:$E$24)","v":0}]
[null,"Adjusted TDC for scoring",null,{"$f":"SUM(D26:D27)","v":0}]
[null,"Bedrooms per Unit",null,{"$f":"D25/D24","v":{"$error":"#DIV/0!"}},null,"Delta",null,{"$f":"H25-H26","v":{"$error":"#N/A"}}]
[null,"Cost per Unit",null,{"$f":"D28/D24","v":{"$error":"#DIV/0!"}},null,"Basis",5000,{"$f":"H29/$G30","v":{"$error":"#N/A"}}]
[null,"Cost per Bedroom",null,{"$f":"D28/D25","v":{"$error":"#DIV/0!"}},null,"Total Points",1,{"$f":"H30*$G31","v":{"$error":"#N/A"}}]
[null,"Weighted TDC/Unit",null,{"$f":"((2*(D28/D24))+(D28/D25))/3","v":{"$error":"#DIV/0!"}}]
[null,"% Reduction of TDC/Unit",null,{"$f":"(D30-D32)/D30","v":{"$error":"#DIV/0!"}},null,"Deals with Construction Type of New Construction and Rehabilitation (including Preservation) must indicate type of construction on the Income Page and Row 6 of the Uses Page to properly trigger scoring by type. "]
[]
[]
[null,{"$f":"IF(rng01_DevelopmentType=\"New Construction and Rehab.\", \"Combined Scoring\", \"Combined Scoring - Not Applicable\")","v":"Combined Scoring - Not Applicable"}]
[]
[null,"Total Development Cost Scoring:",null,{"$f":"rng01_ProjectName","v":0}]
[null,"Average Points Awarded",null,{"$f":"AVERAGE(H14,H31)","v":{"$error":"#N/A"}}]
[]
[]
[null,"Weighted LIHTC per Unit and Bedroom Calculation"]
[]
[null,"LIHTCs per Unit Scoring:",null,{"$f":"rng01_ProjectName","v":0}]
[null,"Total Credits Per  Year",null,{"$f":"'02_5_LIHTC Proceeds'!C28","v":0}]
[null,"Units",null,{"$f":"rng02_TotalUnit","v":0},null,"Weighted Avg units:  ([2 X # bdrms] + [1 * #units]) divided by 3",null,null,null,"Delta LIHTC / Unit Scoring"]
[null,"Credits Per Unit",null,{"$f":"D45/D46","v":{"$error":"#DIV/0!"}}]
[null,"Scoring Basis",1000,{"$f":"D47/$C48","v":{"$error":"#DIV/0!"}},null,"LIHTCs per Weighted Avg Units",null,{"$f":"rng01_ProjectName","v":0},null,"LIHTCs per Weighted Avg Units",null,{"$f":"rng01_ProjectName","v":0}]
[null,"Potential Negative Points",null,{"$f":"$C49*D48","v":{"$error":"#DIV/0!"}},null,"Total Credits Per  Year",null,{"$f":"'02_5_LIHTC Proceeds'!C28","v":0},null,"Maximum Weighted LIHTC",null,30000]
[null,"Max Points",20,{"$f":"C50","v":20},null,"Bedroom",2,{"$f":"D55","v":0},null,"Actual Weighted LIHTC/unit",null,{"$f":"H53","v":{"$error":"#DIV/0!"}}]
[null,"Net Points Awarded",null,{"$f":"SUM(D49:D50)","v":{"$error":"#DIV/0!"}},null,"Units",1,{"$f":"D46","v":0},null,"Delta",null,{"$f":"L49-L50","v":{"$error":"#DIV/0!"}}]
[null,null,null,null,null,"Weighted Average Units",null,{"$f":"(($G50*H50)+($G51*H51))/SUM(G50:G51)","v":0},null,"Final LIHTC/Unit Points",null,{"$f":"L51/G54","v":{"$error":"#DIV/0!"}}]
[null,"LIHTCs per Bedroom Scoring:",null,{"$f":"rng01_ProjectName","v":0},null,"Credits Per WAU",null,{"$f":"H49/H52","v":{"$error":"#DIV/0!"}}]
[null,"Total Credits Per  Year",null,{"$f":"'02_5_LIHTC Proceeds'!C28","v":0},null,"Scoring Basis",{"$f":"C48","v":1000},{"$f":"H53/$C48","v":{"$error":"#DIV/0!"}},null,"POINTS IN LINE L52 REFLECT FINAL SCORE; MAXIMUM 20 POINTS"]
[null,"Bedrooms",null,{"$f":"SUMPRODUCT('02_1_INCOME'!$V$8:$V$37,'02_1_INCOME'!$F$8:$F$37)","v":0},null,"Potential Negative Points",{"$f":"C49","v":0},{"$f":"$G55*H54","v":{"$error":"#DIV/0!"}}]
[null,"Credits Per Bedroom",null,{"$f":"D54/D55","v":{"$error":"#DIV/0!"}},null,"Max Points",{"$f":"C50","v":20},{"$f":"G56","v":20}]
[null,"Scoring Basis",{"$f":"C48","v":1000},{"$f":"D56/$C57","v":{"$error":"#DIV/0!"}},null,"Net Points Awarded",null,{"$f":"SUM(H55:H56)","v":{"$error":"#DIV/0!"}}]
[null,"Potential Negative Points",{"$f":"C49","v":0},{"$f":"$C58*D57","v":{"$error":"#DIV/0!"}}]
[null,"Max Points",{"$f":"C50","v":20},{"$f":"C59","v":20}]
[null,"Net Points Awarded",null,{"$f":"SUM(D58:D59)","v":{"$error":"#DIV/0!"}}]
[]
[]
[null,"Weighted TDC Calculation"]
[]
[null,"Weighted Total Development Cost"]
[null,"Weighted TDC:  ([2 X TDC/unit] + [TDC/bedroom]) divided by 3"]
[]
[null,"Units",null,null,{"$f":"rng02_TotalUnit","v":0}]
[null,"Bedrooms",null,null,{"$f":"D10","v":0}]
[null,"Total Development Cost",null,null,{"$f":"'02_4_USES'!$C$100","v":0}]
[null,"Bedrooms per Unit",null,null,{"$f":"E69/E68","v":{"$error":"#DIV/0!"}}]
[null,"Cost per Unit",null,null,{"$f":"E70/E68","v":{"$error":"#DIV/0!"}}]
[null,"Cost per Bedroom",null,null,{"$f":"E70/E69","v":{"$error":"#DIV/0!"}}]
[null,"Weighted TDC:",null,null,{"$f":"((2*(E70/E68))+(E70/E69))/3","v":{"$error":"#DIV/0!"}}]
[null,"Value Ratio of Units / Bedrooms",null,null,{"$f":"D78/D79","v":2}]
[]
[]
[null,"Cost per Unit",{"$f":"E72","v":{"$error":"#DIV/0!"}},2,{"$f":"D78*C78","v":{"$error":"#DIV/0!"}}]
[null,"Cost per Bedroom",{"$f":"E73","v":{"$error":"#DIV/0!"}},1,{"$f":"D79*C79","v":{"$error":"#DIV/0!"}}]
[null,"Weighted Total",null,null,{"$f":"SUM(E78:E79)","v":{"$error":"#DIV/0!"}}]
[null,"Weighted Average",null,{"$f":"SUM(D78:D79)","v":3},{"$f":"E80/D81","v":{"$error":"#DIV/0!"}}]
[]
[null,"WTDC Delta Score"]
[]
[null,null,null,"A","B","C","D","E","F","G"]
[null,"Max Weighted TDC",null,{"$f":"VLOOKUP(D85,$E$94:$F$100, 2, FALSE)","v":440000},469000,448000,442000,470000,466500,266000]
[null,"Actual Weighted TDC",null,{"$f":"AVERAGE(H11,H26)","v":{"$error":"#DIV/0!"}},{"$f":"D87","v":{"$error":"#DIV/0!"}},{"$error":"#DIV/0!"},{"$error":"#DIV/0!"},{"$error":"#DIV/0!"},{"$error":"#DIV/0!"},{"$error":"#DIV/0!"}]
[null,"Delta",null,{"$f":"D86-D87","v":{"$error":"#DIV/0!"}},{"$error":"#DIV/0!"},{"$error":"#DIV/0!"},{"$error":"#DIV/0!"},{"$error":"#DIV/0!"},{"$error":"#DIV/0!"},{"$f":"J86-J87","v":{"$error":"#DIV/0!"}}]
[null,"Basis",1000,{"$f":"D88/$C89","v":{"$error":"#DIV/0!"}},{"$error":"#DIV/0!"},{"$error":"#DIV/0!"},{"$error":"#DIV/0!"},{"$error":"#DIV/0!"},{"$error":"#DIV/0!"},{"$error":"#DIV/0!"}]
[null,"Total Points",1,{"$f":"D89*$C90","v":{"$error":"#DIV/0!"}},{"$error":"#DIV/0!"},{"$error":"#DIV/0!"},{"$error":"#DIV/0!"},{"$error":"#DIV/0!"},{"$error":"#DIV/0!"},{"$error":"#DIV/0!"}]
[]
[null,"Max Weighted Average Total Development Cost per Unit:"]
[null,"Description",null,null,"Type","Amount"]
[null,{"$f":"'00_3_Drop Down'!AB12","v":"Urban (includes scattered site and urban in-fill)"},null,null,"A",440000]
[null,{"$f":"'00_3_Drop Down'!AB13","v":"Historic Mill Conversion"},null,null,"B",469000]
[null,{"$f":"'00_3_Drop Down'!AB14","v":"Suburban/Rural Cluster Subdivision (buildings contain less than 8 units per building)"},null,null,"C",448000]
[null,{"$f":"'00_3_Drop Down'!AB15","v":"Garden style apartment up to 3 stories (no elevator)"},null,null,"D",442000]
[null,{"$f":"'00_3_Drop Down'!AB16","v":"Up to 4 Story building with elevator"},null,null,"E",470000]
[null,{"$f":"'00_3_Drop Down'!AB17","v":"4 or 5 Story Stick built on Podium Parking"},null,null,"F",466500]
[null,"Preservation Units",null,null,"G",266000,"Note - the Preservation units only refer to the TDC costs related to the existing affordable units"]

{"sheet":"06_5_Subsidy Layer","index":28,"n_rows":37,"n_cols":10,"rows_kept":37,"cut":false,"hidden":true,"merged":[[26,4,26,5],[26,6,26,7],[29,3,29,5],[9,6,9,7],[12,4,12,5],[17,4,17,5],[19,4,19,5],[20,4,20,5],[25,4,25,5],[7,6,7,7],[0,0,0,7],[1,0,1,7],[2,0,2,7],[6,4,6,5],[6,6,6,7]]}
["Rhode Island Housing"]
[null,null,null,null,null,null,null,null,null,"NOTES"]
["Subsidy Layering Analysis"]
[null,null,null,null,{"$f":"rng01_ProjectName","v":0},null,null,null,null,"FILL IN PROJECT NAME"]
[]
[null,null,null,null,null,null,null,null,null,"FILL IN GREEN CELLS"]
["B. Subsidy Layering",null,null,"Actual","No Identity of Interest",null,"Identity of Interest",null,null,"Standard #1 - calculate based on construction amount and corresponding fees"]
[null,"1.","Standard #1:",null,"HUD Calculation","Alternative","HUD BSPRA"]
[null,null,"Builder's Profit",{"$f":"rng02_Uses_DevRehabCosts_ConstRehabCosts_BuildersProfit","v":0},{"$f":"F9","v":0},null,null,null,null,"HUD Calculation - this calculation is the same as the Alternative which are RIH max limits per handbook"]
[null,null,"Builder's Overhead",{"$f":"rng02_Uses_DevRehabCosts_ConstRehabCosts_BuildersGenOverhead","v":0},{"$f":"F10","v":0},null,"NA"]
[null,null,"General Requirements",{"$f":"rng02_Uses_DevRehabCosts_ConstRehabCosts_BuildersGenOverhead","v":0},{"$f":"F11","v":0},null,null,null,null,"BSPRA - NA unless there is an Identity of interest between borrower and contractor"]
[]
[null,null,null,"Actual","Safe Harbor",null,null,null,null,"SPRA - 10% of TDC"]
[null,"2.","Standard #2:",null,null,null,null,null,null,"Ceiling Standard - 15% of TDC"]
[null,null,"Sponsor's Profit",{"$f":"'02_4_USES'!F40+'02_4_USES'!F41","v":0},{"$f":"'06_6_S&U'!J30*0.1","v":0},{"$f":"'02_4_USES'!E108","v":0}]
[null,null,null,{"$f":"D15/'06_6_S&U'!J61","v":{"$error":"#DIV/0!"}},"SPRA","5% acq &"]
[null,null,null,null,null,"10% rehab/sc"]
[null,null,null,null,"Ceiling Standard"]
[]
[null,null,null,null,{"$f":"'06_6_S&U'!J30*0.15","v":0}]
[null,null,null,null,0.15]
[null,"3.","Standard #3:","Actual","Public","Private","Public","Private"]
[null,null,"Syndication Expenses",{"$f":"'02_4_USES'!F41","v":0},{"$f":"E24*'06_6_S&U'!J68","v":{"$error":"#DIV/0!"}},{"$f":"F24*'06_6_S&U'!J68","v":{"$error":"#DIV/0!"}},{"$f":"G24*'06_6_S&U'!J68","v":{"$error":"#DIV/0!"}},{"$f":"H24*'06_6_S&U'!J68","v":{"$error":"#DIV/0!"}},null,"If No LIHTC, then NA"]
[null,null,null,{"$f":"D23/'06_6_S&U'!J68","v":{"$error":"#DIV/0!"}},0.15,0.1,0.24,0.15]
[]
[null,"4.","Standard #4:","Actual"]
[null,null,"Market Rate Assumption",null,null,null,null,null,null,"If No LIHTC, then NA"]
[]
[]
[null,null,null,"General Contractor Fees per Section 9"]
[null,null,"Construction Value","Gen. Requirements","Overhead","Profit"]
[null,null,"Up to $1MM",0.08,0.02,0.09]
[null,null,"$1 - 2MM",7.0000000000000007E-2,0.02,0.08]
[null,null,"$2-3MM",7.0000000000000007E-2,0.02,0.08]
[null,null,"$3-4MM",0.06,0.02,0.06]
[null,null,"$4-4MM",0.06,0.02,5.5E-2]
[null,null,"Over $5MM",0.06,0.02,0.05]

{"sheet":"06_6_S&U","index":29,"n_rows":100,"n_cols":10,"rows_kept":100,"cut":false,"hidden":true,"merged":[[12,0,12,6],[24,0,24,6],[25,0,25,6],[62,0,62,9],[0,0,0,9],[1,0,1,9],[8,0,8,6],[9,0,9,6],[10,0,10,6],[11,0,11,6]]}
["SOURCES AND USES STATEMENT"]
[{"$f":"rng01_ProjectName","v":0}]
[]
["Project Sources"]
[]
["Debt Sources"]
["HUD Maximum Insurable Mortgage",null,null,null,null,null,null,null,{"$f":"'02_3_SOURCES'!K9+'02_3_SOURCES'!K10","v":0}]
["Other Loans (Specify)",null,null,null,null,null,null,null,{"$f":"SUM('02_3_SOURCES'!K11:K16)","v":0}]
["Existing Operating Reserve",null,null,null,null,null,null,null,0]
["Existing Replacement Reserves",null,null,null,null,null,null,null,0]
[null,null,null,null,null,null,null,null,0]
[null,null,null,null,null,null,null,null,0]
[" ",null,null,null,null,null,null,null,0]
["Any other debt-related other government assistance (specify)",null,null,null,null,null,null,null,0]
[null,null,null,null,null,null,null,null,0]
[null,null,null,null,null,null,null,null,0]
[]
["SUBTOTAL DEBT",null,null,null,null,null,null,null,null,{"$f":"SUM(I7:I16)","v":0}]
[]
["Equity Sources:"]
[]
["Grants available for project uses",null,null,null,null,null,null,null,0]
["Estimated net syndication proceeds (LIHTC Only)",null,null,null,null,null,null,null,{"$f":"'02_3_SOURCES'!F27","v":0}]
["Additional newly required sponsor equity contribution/Non LIHTC:",null,null,null,null,null,null,null,0]
["Existing Reserves",null,null,null,null,null,null,null,0]
[null,null,null,null,null,null,null,null,0]
[]
["SUBTOTAL EQUITY",null,null,null,null,null,null,null,null,{"$f":"SUM(I22:I26)","v":0}]
[]
["TOTAL PROJECT SOURCES",null,null,null,null,null,null,null,null,{"$f":"J28+J18","v":0}]
[]
[]
["Project Uses:"]
[]
["Mortgageable Replacement Cost Uses"]
[null,null,null,null,null,null,null,null," "]
["Estimated cost including builder and developers overhead & profit",null,null,null,null,null,null,null,{"$f":"J30-J59","v":0}]
["Estimated cost excluding builder and developer's overhead & profit",null,null,null,null,null,null,null,{"$f":"I37-'06_5_Subsidy Layer'!D9-'06_5_Subsidy Layer'!D10-'06_5_Subsidy Layer'!D15","v":0}]
[]
["HCA Elected FHA Mortgageable Replacement Costs Uses"]
["(Use one of the two estimates above in accordance with alternative",null,null,null,null,null,null,null,".",{"$f":"I37","v":0}]
["Funding election)"]
["Non-Mortgage Uses (Uses payable by sources other than the mortgage)"]
["RIH fees (LIHTC cases)"]
["Resident Initiative Fund",null,null,null,null,null,null,null,0]
["Working Capital Reserve (or LC costs)",null,null,null,null,null,null,null,0]
["Additional working capital req. over 2 percent",null,null,null,null,null,null,null,0]
["Operating deficit reserve (or LC costs)",null,null,null,null,null,null,null,0]
["Additional rent reserves:  Replacement Reserve",null,null,null,null,null,null,null,0]
["Alternative builders profit",null,null,null,null,null,null,null,0]
["Alternative Developer's fee",null,null,null,null,null,null,null,0]
[null,null,null,null,null,null,null,null,0]
["Off site costs (lime M17, Form HUD 92264)",null,null,null,null,null,null,null,0]
["Demolition Costs",null,null,null,null,null,null,null,0]
["Tangible personal property, furnishings and fixtures",null,null,null,null,null,null,null,0]
["Other (specify)",null,null,null,null,null,null,null,0]
[null,null,null,null,null,null,null,null,0]
[]
["SUBTOTAL NON-MORTGAGEABLE USES",null,null,null,null,null,null,null,null,{"$f":"SUM(I44:I57)","v":0}]
[]
["TOTAL PROJECT USES",null,null,null,null,null,null,null,null,{"$f":"SUM(J59+J41)","v":0}]
[]
["SYNDICATION AND ALLOCATION INFORMATION"]
[]
["A. Allocation Calculation"]
["1. Gap filler proceeds necessary (from S & U)",null,null,null,null,null,null,null,0]
["2. Market derived rate assumed",null,null,null,null,null,null,null,0]
["3. Maximum allocation (1 divided by 2)",null,null,null,null,null,null,null,null,{"$f":"I66/I67","v":{"$error":"#DIV/0!"}}]
["4. Actual allocation (e.g., may be limited by other criteria such as"]
["    actual cost calculation)"]
[]
["B. Syndication Expenses"]
["1. Account's fee"]
["2. Syndicator's fee",null,null,null,null,null,null,null,0]
["3. Attorney's fee",null,null,null,null,null,null,null,0]
["4. Organizational expenses",null,null,null,null,null,null,null,0]
["5. Syndicators required reserves",null,null,null,null,null,null,null,0]
["6. Other    (specify)",null,"Cost Certification",null,null,null,null,null,0]
["7. Other    (specify)",null,null,null,null,null,null,null,0]
["8. Syndication expenses total (sum of B1 through B7)",null,null,null,null,null,null,null,null,{"$f":"SUM(I73:I79)","v":0}]
["9. Gross proceeds (sum total of face amounts acceptable)",null,null,null,null,null,null,null,null,{"$f":"J70+J80","v":0}]
["10.Line 8 divided by line 9",null,null,null,null,null,null,null,null,{"$f":"J80/J81","v":{"$error":"#DIV/0!"}}]
[]
["C. Bridge Loan/Net Present Value Analysis"]
["1. Bridge loan costs including interest",null,null,null,null,null,null,null,0]
["1a.Bridge loan rate",null,null,null,null,null,null,null,0]
["2. Compounding rate (as required by HCA for \"early\" installments",null,null,null,null,null,null,null,0]
["3. Discounting rate (for \"late\" installments)",null,null,null,null,null,null,null,0]
["4. Net Present Value of net syndication proceeds (as of PIS date)",null,null,null,null,null,null,null,{"$f":"+I66","v":0}]
[]
["D. Reconciliation"]
["1. C4 divided by A1",null,null,null,null,null,null,null,{"$f":"I89/I66","v":{"$error":"#DIV/0!"}}]
["2. If D1 is greater than 100%, the HCA has reduced or will reduce the Reservation/Allocation of LIHTCs"]
["   as follows:"]
[]
[]
[]
[]
["3. If D1 is less than 100%, does the sponsor show sufficient working capital to fund the difference and "]
["proceed to closing, and if not, what are the HCA's intentions? (e.g., increase the allocation)"]

{"sheet":"06_7_SLR","index":30,"n_rows":52,"n_cols":7,"rows_kept":52,"cut":false,"hidden":true,"merged":[]}
["Form HUD 92664"]
[{"$f":"IF(rng01_ProjectName=\"\",\"[Project Name]\", rng01_ProjectName)","v":"[Project Name]"},null,null,null,null,"Current Model Progress Date:",{"$f":"tbl00ModelProgress[[#Totals],[Date of Progress /\nLast Edit]]","v":"00:00:00"}]
[]
[null,"Form HUD 92664"]
[null,"Estimated Replacement Costs"]
[]
["36a","Unusual Land Improvements",0]
["36b","Other Land Improvments",200000]
["36c","Total Land Improvements",0,{"$f":"C7+C8","v":200000}]
[]
[null,"STRUCTURES"]
[37,"Main Building"]
[38,"Accessory building",0]
[39,"Garages",0]
[40,"All Other buildings",0]
[41,"Total Structures",null,{"$f":"C12+C13+C15","v":0}]
[42,"General Requirements",null,{"$f":"(D9+D16)*0.06","v":12000}]
[]
[null,"FEES"]
[43,"Builders Gen. Overhead -______%",{"$f":"(D16+D9)*2%","v":4000}]
[44,"Builders Profit - _______%",{"$f":"(D16+D9)*8%","v":16000}]
[45,"Arch. Fee - Design",{"$f":"(D9+D16)*7.5%","v":15000}]
[46,"Arch Fee - Supervision",0]
[47,"Bond Premium"]
[48,"Other Fees"]
[49,"TOTAL FEES",null,{"$f":"C20+C21+C22+C23+C24+C25","v":35000}]
[50,"Total All Improvements (36c,41,42,49)",null,{"$f":"D9+D16+D17+D26","v":247000}]
[51,"Cost per Sq. Ft"]
[52,"Estimated Construction Time"]
[null,"CARRYING CHARGES & FINANCING"]
[53,"Int___Mos____@_____%"]
[null,"on $_____________"]
[54,"Taxes"]
[55,"Insurance"]
[56,"FHA Ins. Premium (.5%)"]
[57,"FHA Exam Fee",0]
[58,"FHA Insp. Fee",0]
[59,"Financing Fee",0]
[60,"AMPO",0]
[61,"FNMA/GNMA Fee",0]
[62,"Title Recording"]
[63,"TOTAL CARRYING CHGS/FINANC",null,{"$f":"C33+C34+C35+C36+C37+C38+C39+C40+C41","v":0}]
[null,"LEGAL, ORG, AUDIT FEE"]
[64,"Legal"]
[65,"Organization"]
[66,"Cost Certification/Audit Fee"]
[67,"TOTAL LEGAL/ORG/AUDIT FEES",null,{"$f":"C44+C45+C46","v":0}]
[68,"Builder and Sponsor Profit & Risk",null,{"$f":"(D27+D42+D47-C21)*0.1","v":23100}]
[69,"Consultant Fee",null,0]
[70,"Supplemental Management Fund"]
[71,"Contingency reserve (10%",null,0]
[72,"TOTAL EST. DEV'T COST",null,{"$f":"D27+D42+D47+D48+D49+D50+D51","v":270100}]

{"sheet":"06 _8_Operating Subsidy","index":31,"n_rows":27,"n_cols":6,"rows_kept":27,"cut":false,"hidden":true,"merged":[]}
["Operating Subsidy"]
[{"$f":"IF(rng01_ProjectName=\"\",\"[Project Name]\", rng01_ProjectName)","v":"[Project Name]"},null,null,null,"Current Model Progress Date:",{"$f":"tbl00ModelProgress[[#Totals],[Date of Progress /\nLast Edit]]","v":"00:00:00"}]
[]
[]
[null,"HPF-ELI"]
[]
[null,"Program Information",null,null,"HPF-ELI Unit Commitment"]
[null,"RIH Program Type","HPF-ELI",null,"Unit Size",0.3]
[null,"Program Award",null,"[DO Enters]","SRO",{"$f":"SUMIFS(Number_of_Units, ProjectBasedSubsidy,$C$8, AMI, F$8, NumberofBedrooms, $E9)","v":0}]
[null,"Total HPF-ELI 30% Units",{"$f":"SUM(HPFELI30)","v":0},null,"EFF",{"$f":"SUMIFS(Number_of_Units, ProjectBasedSubsidy,$C$8, AMI, F$8, NumberofBedrooms, $E10)","v":0}]
[null,"Total HPF-ELI Units",{"$f":"C10","v":0},null,1,0]
[null,null,null,null,2,0]
[null,null,null,null,3,0]
[null,null,null,null,4,0]
[null,null,null,null,5,0]
[]
[null,"RIH-ELI"]
[]
[null,"Program Information",null,null,"RIH-ELI Unit Commitment"]
[null,"RIH Program Type","RIH-ELI",null,"Unit Size",0.3]
[null,"Program Award",null,"[DO Enters]","SRO",{"$f":"SUMIFS(Number_of_Units, ProjectBasedSubsidy,$C$20, AMI, F$20, NumberofBedrooms, $E21)","v":0}]
[null,"Total RIH-ELI 30% Units",null,null,"EFF",0]
[null,"Total RIH-ELI Units",null,null,1,0]
[null,null,null,null,2,0]
[null,null,null,null,3,0]
[null,null,null,null,4,0]
[null,null,null,null,5,0]

{"sheet":"07_1_HOME_Standard","index":32,"n_rows":66,"n_cols":9,"rows_kept":66,"cut":false,"hidden":true,"merged":[[2,0,2,3],[8,0,8,6],[20,2,20,6],[9,2,9,6],[10,0,10,6],[11,0,11,6],[12,2,12,6],[13,0,13,6],[14,0,14,6],[15,2,15,6],[16,2,16,6],[17,2,17,6],[18,2,18,6],[19,2,19,6],[24,7,44,7],[25,2,25,3],[26,2,26,3],[27,2,27,3],[28,2,28,3],[29,2,29,3],[35,2,35,3],[31,2,31,3],[32,2,32,3],[33,2,33,3],[34,2,34,3],[21,2,21,6],[22,2,22,6],[23,0,23,6],[24,2,24,3],[30,2,30,3],[47,2,47,6],[36,2,36,3],[37,2,37,3],[38,2,38,3],[39,2,39,3],[40,2,40,3],[41,2,41,3],[42,2,42,3],[43,2,43,3],[44,2,44,3],[45,0,45,6],[46,2,46,6],[48,2,48,6],[49,0,49,6],[50,0,50,6],[51,3,51,4],[51,5,51,6],[52,7,56,7],[53,3,53,4],[53,5,53,6],[54,3,54,4],[54,5,54,6],[55,3,55,4],[55,5,55,6],[56,3,56,4],[56,5,56,6],[52,3,52,4],[52,5,52,6],[63,2,63,6],[57,2,57,6],[58,0,58,6],[59,0,59,6],[60,2,60,5],[61,2,61,5],[62,2,62,5]]}
["Standard Method, Cost Allocation Worksheet"]
[{"$f":"rng01_ProjectName","v":0}]
[]
[]
["Project Address:",null,{"$f":"rng01_Address1","v":0},null,null,null,null,null,"See instructions in several columns to the right →"]
["Date of Review:"]
[]
[]
["Step 1: Determine Comparability, Select Method of Cost Allocation"]
[1,null,"Gross Residential Sq. Ft.",null,null,null,null,{"$f":"'01_1_General Data'!$C$65","v":0}]
[]
["Step 2: Proposed HOME Investment"]
[2,null,"Proposed Home Investment"]
[]
["Step 3: Calculate Actual Cost of HOME Units"]
[3,null,"Total Development Cost",null,null,null,null,{"$f":"'02_4_USES'!$F$90","v":0}]
[4,null,"Ineligible HOME Costs"]
[5,null,"Unit-Specific Upgrades"]
[6,null,"Relocation Costs",null,null,null,null,{"$f":"'02_4_USES'!$F$51","v":0}]
[7,null,"Assign Relocation Exclusively to HOME Units?",null,null,null,null,"No",{"$f":"IF(ISBLANK(H20),\"Error, response required.\",\"\")","v":""}]
[]
[8,null,"Base Project Cost",null,null,null,null,{"$f":"IF(H20=\"No\",H16-H17-H18,IF(H20=\"Yes\",H16-H17-H18-H19,\"Error\"))","v":0}]
[9,null,"Base Cost/Sq. Ft.",null,null,null,null,{"$f":"ROUNDDOWN(H22/H10,2)","v":{"$error":"#DIV/0!"}}]
["Assign Units - Each HOME unit gets its own line below"]
[null,"Unit #","Description/Notes",null,"No. of BRs","Sq. Ft.","Ind. Unit Cost"]
[10,null,null,null,null,null,{"$f":"ROUNDDOWN($H$23*F26,0)","v":{"$error":"#DIV/0!"}}]
[11,null,null,null,null,null,{"$f":"ROUNDDOWN($H$23*F27,0)","v":{"$error":"#DIV/0!"}}]
[12,null,null,null,null,null,{"$error":"#DIV/0!"}]
[13,null,null,null,null,null,{"$error":"#DIV/0!"}]
[14,null,null,null,null,null,{"$error":"#DIV/0!"}]
[15,null,null,null,null,null,{"$error":"#DIV/0!"}]
[16,null,null,null,null,null,{"$error":"#DIV/0!"}]
[17,null,null,null,null,null,{"$error":"#DIV/0!"}]
[18,null,null,null,null,null,{"$error":"#DIV/0!"}]
[19,null,null,null,null,null,{"$error":"#DIV/0!"}]
[20,null,null,null,null,null,{"$error":"#DIV/0!"}]
[21,null,null,null,null,null,{"$error":"#DIV/0!"}]
[22,null,null,null,null,null,{"$error":"#DIV/0!"}]
[23,null,null,null,null,null,{"$error":"#DIV/0!"}]
[24,null,null,null,null,null,{"$error":"#DIV/0!"}]
[25,null,null,null,null,null,{"$error":"#DIV/0!"}]
[26,null,null,null,null,null,{"$error":"#DIV/0!"}]
[27,null,null,null,null,null,{"$error":"#DIV/0!"}]
[28,null,null,null,null,null,{"$error":"#DIV/0!"}]
[29,null,null,null,null,null,{"$error":"#DIV/0!"}]
["Right click and unhide lines 20-29 to open additional rows as needed."]
[30,null,"Subtotal of HOME Unit Costs",null,null,null,null,{"$f":"SUM(G26:G45)","v":{"$error":"#DIV/0!"}}]
[31,null,"Relocation costs allocated exclusively to HOME Units (if applicable)",null,null,null,null,{"$f":"IF(H20=\"no\",0,IF(H20=\"yes\",H19,\"Error\"))","v":0}]
[32,null,"Actual Cost of HOME Units",null,null,null,null,{"$f":"H47+H48","v":{"$error":"#DIV/0!"}}]
[]
["Step 4: Calculate Maximum Project Subsidy"]
[null,"# of Units","Unit Size","Max. Subsidy/Unit*",null,"Maximum Subsidy by Unit Size"]
[33,{"$f":"COUNTIF(E26:E45,0)","v":0},"0 Bedroom/Efficiency",null,null,{"$f":"B53*D53","v":0}]
[34,{"$f":"COUNTIF(E26:E45,1)","v":0},"1 Bedroom",null,null,{"$f":"B54*D54","v":0}]
[35,{"$f":"COUNTIF(E26:E45,2)","v":0},"2 Bedroom",null,null,{"$f":"B55*D55","v":0}]
[36,{"$f":"COUNTIF(E26:E45,3)","v":0},"3 Bedroom",null,null,{"$f":"B56*D56","v":0}]
[37,{"$f":"COUNTIF(E26:E45,4)","v":0},"4 Bedroom",null,null,{"$f":"B57*D57","v":0}]
[38,null,"Maximum Project Subsidy",null,null,null,null,{"$f":"SUM(F53:F57)","v":0}]
[]
["Step 5: Maximum HOME Investment, lesser of"]
[39,null,"Proposed Investment (Gap) (from Step 2)",null,null,null,null,{"$f":"H13","v":0}]
[40,null,"Actual Cost of HOME Units (from Step 3)",null,null,null,null,{"$f":"H49","v":{"$error":"#DIV/0!"}}]
[41,null,"Maximum Project Subsidy (from Step 4)",null,null,null,null,{"$f":"H58","v":0}]
[42,null,"Maximum HOME Investment",null,null,null,null,{"$f":"IF(ISBLANK(H13),MIN(H62:H63),MIN(H61:H63))","v":{"$error":"#DIV/0!"}}]
[]
[null,null,"*Updated effective 6/4/2018"]