
BEGIN:VCALENDAR
VERSION:2.0
PRODID:-//RIHousing - ECPv6.15.18//NONSGML v1.0//EN
CALSCALE:GREGORIAN
METHOD:PUBLISH
X-WR-CALNAME:RIHousing
X-ORIGINAL-URL:https://www.rihousing.com
X-WR-CALDESC:Events for RIHousing
REFRESH-INTERVAL;VALUE=DURATION:PT1H
X-Robots-Tag:noindex
X-PUBLISHED-TTL:PT1H
BEGIN:VTIMEZONE
TZID:UTC
BEGIN:STANDARD
TZOFFSETFROM:+0000
TZOFFSETTO:+0000
TZNAME:UTC
DTSTART:20210101T000000
END:STANDARD
END:VTIMEZONE
BEGIN:VEVENT
DTSTART;TZID=UTC:20220305T010000
DTEND;TZID=UTC:20220305T160000
DTSTAMP:20260423T164224
CREATED:20220224T184527Z
LAST-MODIFIED:20220224T184527Z
UID:10000423-1646442000-1646496000@www.rihousing.com
SUMMARY:RentReliefRI – Onsite Assistance - Warwick Public Library
DESCRIPTION:Program representatives will be onsite to help applicants complete their applications for assistance: \n\n\n\nSaturday\, March 05\, 2022  |   1 p.m.- 4 p.m. \nWarwick Public Library | 600 Sandy Lane\, Warwick \n\n\n\n\nNOTE: Appointments are required to meet with a program representative. Walk-ins without appointments can learn more information about the RentRelief program\, but no application assistance will be provided. \n  \nLearn more and schedule an appointment at: www.rihousing.com/rentreliefri-appointments/
URL:https://www.rihousing.com/event/rentreliefri-onsite-assistance-warwick-public-library/
LOCATION:Warwick Public Library\, 600 Sandy Lane\, Warwick\, United States
CATEGORIES:RIH Events
END:VEVENT
BEGIN:VEVENT
DTSTART;TZID=UTC:20220307T150000
DTEND;TZID=UTC:20220307T153000
DTSTAMP:20260423T164224
CREATED:20220208T190322Z
LAST-MODIFIED:20220208T190322Z
UID:10000400-1646665200-1646667000@www.rihousing.com
SUMMARY:Management Committee Meeting
DESCRIPTION:
URL:https://www.rihousing.com/event/management-committee-meeting-12/
CATEGORIES:Public Meetings
END:VEVENT
BEGIN:VEVENT
DTSTART;TZID=UTC:20220308T180000
DTEND;TZID=UTC:20220308T200000
DTSTAMP:20260423T164224
CREATED:20220208T191944Z
LAST-MODIFIED:20220208T191944Z
UID:10000421-1646762400-1646769600@www.rihousing.com
SUMMARY:Virtual Homebuyer Education Class
DESCRIPTION:https://www.bigmarker.com/rihousing/Virtual-Homebuyer-Education-Class-3-8-2022
URL:https://www.rihousing.com/event/virtual-homebuyer-education-class-3/
CATEGORIES:Homebuyer Education
END:VEVENT
BEGIN:VEVENT
DTSTART;TZID=UTC:20220309T093000
DTEND;TZID=UTC:20220309T100000
DTSTAMP:20260423T164224
CREATED:20220208T190751Z
LAST-MODIFIED:20220208T190751Z
UID:10000327-1646818200-1646820000@www.rihousing.com
SUMMARY:Credit Committee Meetings
DESCRIPTION:
URL:https://www.rihousing.com/event/credit-committee-meetings-2/
CATEGORIES:Public Meetings
END:VEVENT
BEGIN:VEVENT
DTSTART;TZID=UTC:20220317T093000
DTEND;TZID=UTC:20220317T093000
DTSTAMP:20260423T164224
CREATED:20220208T191151Z
LAST-MODIFIED:20220208T191151Z
UID:10000408-1647509400-1647509400@www.rihousing.com
SUMMARY:Board of Commissioners Meeting
DESCRIPTION:
URL:https://www.rihousing.com/event/board-of-commissioners-meeting-12/
CATEGORIES:Public Meetings
END:VEVENT
END:VCALENDAR