
BEGIN:VCALENDAR
VERSION:2.0
PRODID:-//RIHousing - ECPv6.15.20//NONSGML v1.0//EN
CALSCALE:GREGORIAN
METHOD:PUBLISH
X-ORIGINAL-URL:https://www.rihousing.com
X-WR-CALDESC:Events for RIHousing
REFRESH-INTERVAL;VALUE=DURATION:PT1H
X-Robots-Tag:noindex
X-PUBLISHED-TTL:PT1H
BEGIN:VTIMEZONE
TZID:Asia/Kolkata
BEGIN:STANDARD
TZOFFSETFROM:+0530
TZOFFSETTO:+0530
TZNAME:IST
DTSTART:20250101T000000
END:STANDARD
END:VTIMEZONE
BEGIN:VEVENT
DTSTART;TZID=Asia/Kolkata:20260410T100000
DTEND;TZID=Asia/Kolkata:20260410T110000
DTSTAMP:20260424T163952
CREATED:20260409T182628Z
LAST-MODIFIED:20260409T182628Z
UID:10000438-1775815200-1775818800@www.rihousing.com
SUMMARY:Omni Newark Apartments Groundbreaking
DESCRIPTION:
URL:https://www.rihousing.com/event/omni-newark-apartments-groundbreaking/
LOCATION:RI
CATEGORIES:Calendar of Groundbreakings & Ribbon Cuttings
END:VEVENT
BEGIN:VEVENT
DTSTART;TZID=Asia/Kolkata:20260414T180000
DTEND;TZID=Asia/Kolkata:20260414T200000
DTSTAMP:20260424T163952
CREATED:20260102T101845Z
LAST-MODIFIED:20260407T204851Z
UID:10000428-1776189600-1776196800@www.rihousing.com
SUMMARY:In-Person Homebuyer Education Class 4/14/26
DESCRIPTION:This free Spanish-language Homebuyer Education will be taught in person by our experienced homeownership staff and a partnered loan officer. The class is scheduled for Tuesday April 14\, 2026\, at 6:00 p.m. \nCapacity is limited. Please click here to register for the class >
URL:https://www.rihousing.com/event/in-person-homebuyer-education-class-4-14-26/
LOCATION:CCRI Knight Campus\, 400 East Avenue\, Warwick\, RI\, 02886\, United States
CATEGORIES:Homebuyer Education
END:VEVENT
BEGIN:VEVENT
DTSTART;TZID=Asia/Kolkata:20260420T180000
DTEND;TZID=Asia/Kolkata:20260420T200000
DTSTAMP:20260424T163952
CREATED:20260102T101753Z
LAST-MODIFIED:20260407T205544Z
UID:10000427-1776708000-1776715200@www.rihousing.com
SUMMARY:In-Person Homebuyer Education Class (Spanish) 4/20/26
DESCRIPTION:This free Spanish-language Homebuyer Education will be taught in person by our experienced homeownership staff and a partnered loan officer. The class is scheduled for Monday\, April 20\, 2026\, at 6:00 p.m. \nEsta educación gratuita para compradores de viviendas en español será impartida en persona por nuestro experimentado personal de propietarios y un oficial de préstamos asociado. La clase está programada para el lunes 20 de abril de 2026\, a las 6:00 p.m. \nCapacity is limited. Please click here to register for the class > /  La capacidad es limitada. Por favor\, haga clic aquí para inscribirse en la clase >
URL:https://www.rihousing.com/event/in-person-homebuyer-education-class-spanish-4-20-26/
LOCATION:CCRI Knight Campus\, 400 East Avenue\, Warwick\, RI\, 02886\, United States
CATEGORIES:Homebuyer Education
END:VEVENT
BEGIN:VEVENT
DTSTART;TZID=Asia/Kolkata:20260424T100000
DTEND;TZID=Asia/Kolkata:20260424T110000
DTSTAMP:20260424T163952
CREATED:20260409T183532Z
LAST-MODIFIED:20260416T094812Z
UID:10000439-1777024800-1777028400@www.rihousing.com
SUMMARY:321 Knight Street Groundbreaking
DESCRIPTION:Groundbreaking for 321 Knight Street in Providence\, from developer SWAP.
URL:https://www.rihousing.com/event/321-knight-street-groundbreaking/
LOCATION:321 Knight Street\, Providence\, RI\, 321 Knight Street\, Providence
CATEGORIES:Calendar of Groundbreakings & Ribbon Cuttings
END:VEVENT
BEGIN:VEVENT
DTSTART;TZID=Asia/Kolkata:20260505T180000
DTEND;TZID=Asia/Kolkata:20260505T200000
DTSTAMP:20260424T163952
CREATED:20260102T101627Z
LAST-MODIFIED:20260407T204144Z
UID:10000430-1778004000-1778011200@www.rihousing.com
SUMMARY:Virtual Homebuyer Education Class 5/5/2026
DESCRIPTION:
URL:https://www.rihousing.com/event/virtual-homebuyer-education-class-5-5-2026/
LOCATION:RI
CATEGORIES:Homebuyer Education
END:VEVENT
BEGIN:VEVENT
DTSTART;TZID=Asia/Kolkata:20260513T180000
DTEND;TZID=Asia/Kolkata:20260513T200000
DTSTAMP:20260424T163952
CREATED:20260420T195903Z
LAST-MODIFIED:20260420T195903Z
UID:10000440-1778695200-1778702400@www.rihousing.com
SUMMARY:In-Person Homebuyer Education Class 5/13/26
DESCRIPTION:This free Spanish-language Homebuyer Education will be taught in person by our experienced homeownership staff and a partnered loan officer. The class is scheduled for May 13\, 2026\, at 6:00 p.m. \nCapacity is limited. Please click here to register for the class >
URL:https://www.rihousing.com/event/in-person-homebuyer-education-class-5-13-26/
LOCATION:CCRI Knight Campus\, 400 East Avenue\, Warwick\, RI\, 02886\, United States
CATEGORIES:Homebuyer Education
END:VEVENT
BEGIN:VEVENT
DTSTART;TZID=Asia/Kolkata:20260602T180000
DTEND;TZID=Asia/Kolkata:20260602T200000
DTSTAMP:20260424T163952
CREATED:20260102T101941Z
LAST-MODIFIED:20260407T204232Z
UID:10000429-1780423200-1780430400@www.rihousing.com
SUMMARY:Virtual Homebuyer Education Class - 6/2/2026
DESCRIPTION:
URL:https://www.rihousing.com/event/virtual-homebuyer-education-class-6-2-2026/
LOCATION:RI
CATEGORIES:Homebuyer Education
END:VEVENT
END:VCALENDAR