
BEGIN:VCALENDAR
VERSION:2.0
PRODID:-//RIHousing - ECPv6.15.18//NONSGML v1.0//EN
CALSCALE:GREGORIAN
METHOD:PUBLISH
X-WR-CALNAME:RIHousing
X-ORIGINAL-URL:https://www.rihousing.com
X-WR-CALDESC:Events for RIHousing
REFRESH-INTERVAL;VALUE=DURATION:PT1H
X-Robots-Tag:noindex
X-PUBLISHED-TTL:PT1H
BEGIN:VTIMEZONE
TZID:UTC
BEGIN:STANDARD
TZOFFSETFROM:+0000
TZOFFSETTO:+0000
TZNAME:UTC
DTSTART:20180101T000000
END:STANDARD
END:VTIMEZONE
BEGIN:VEVENT
DTSTART;TZID=UTC:20190925T180000
DTEND;TZID=UTC:20190925T210000
DTSTAMP:20260420T094533
CREATED:20190813T191723Z
LAST-MODIFIED:20190815T172421Z
UID:10000264-1569434400-1569445200@www.rihousing.com
SUMMARY:Capacitación para el comprador de casa / Spanish Homebuyer Education
DESCRIPTION:Las clases de capacitación para el comprador de casa son sesiones informativas ofrecidas por RIHousing y nuestros socios comunitarios con el fin de ayudar a las personas que compran una casa por primera vez como comprar y mantener una casa. Las clases cubren una variedad de temas que van desde los requisitos previos iniciales hasta los pasos finales para obtener un préstamo. \nHomebuyer Education is an important first step on your Path to Homeownership. Our classes are open to all first-time homebuyers interested in learning to become successful homeowners. \nRIHousing borrowers who are first-time homebuyers are required to participate in our classes.
URL:https://www.rihousing.com/event/capacitacion-para-el-comprador-de-casa-spanish-homebuyer-education/
LOCATION:RI Realtors\, 100 Bignall Street\, Warwick\, RI\, 02888\, United States
CATEGORIES:Homebuyer Education
END:VEVENT
BEGIN:VEVENT
DTSTART;TZID=UTC:20190926T180000
DTEND;TZID=UTC:20190926T213000
DTSTAMP:20260420T094533
CREATED:20190725T164305Z
LAST-MODIFIED:20190815T173005Z
UID:10000257-1569520800-1569533400@www.rihousing.com
SUMMARY:Homebuyer Education
DESCRIPTION:Homebuyer Education is an important first step on your Path to Homeownership. Our classes are open to all first-time homebuyers interested in learning to become successful homeowners. Rhode Island Housing borrowers who are first-time homebuyers are required to participate in our classes.
URL:https://www.rihousing.com/event/homebuyer-education-09-26-2019/
LOCATION:DaVinci Center\, 470 Charles Street\, Providence\, RI\, United States
CATEGORIES:Homebuyer Education
END:VEVENT
END:VCALENDAR