
BEGIN:VCALENDAR
VERSION:2.0
PRODID:-//RIHousing - ECPv6.15.18//NONSGML v1.0//EN
CALSCALE:GREGORIAN
METHOD:PUBLISH
X-ORIGINAL-URL:https://www.rihousing.com
X-WR-CALDESC:Events for RIHousing
REFRESH-INTERVAL;VALUE=DURATION:PT1H
X-Robots-Tag:noindex
X-PUBLISHED-TTL:PT1H
BEGIN:VTIMEZONE
TZID:UTC
BEGIN:STANDARD
TZOFFSETFROM:+0000
TZOFFSETTO:+0000
TZNAME:UTC
DTSTART:20240101T000000
END:STANDARD
END:VTIMEZONE
BEGIN:VEVENT
DTSTART;TZID=UTC:20250130T140000
DTEND;TZID=UTC:20250130T153000
DTSTAMP:20260423T181011
CREATED:20250129T215933Z
LAST-MODIFIED:20250129T220102Z
UID:10000685-1738245600-1738251000@www.rihousing.com
SUMMARY:Proactive Development Committee Meeting
DESCRIPTION:A meeting of the Proactive Development Committee of the Rhode Island Housing Development Corporation has been scheduled for Thursday\, January 30\, 2025\, at 2 p.m. The meeting will be held at the main office of the Corporation\, 44 Washington Street\, Providence\, RI 02903. The meeting is also accessible by interested members of the public via telephone conference call. \nDial the meeting access number: 1-866-225-4944\, then press #\nEnter the conference ID number: 4011341\, then press #
URL:https://www.rihousing.com/event/proactive-development-committee-meeting-february-2025/
LOCATION:RIHousing\, 44 Washington Street\, Providence\, RI\, 02903\, United States
END:VEVENT
END:VCALENDAR